{"text_format":"1","workbook":"xlsx","n_sheets":41,"sheets":["Changes from V1","DFES Doc - Demand","DFES Doc - LCTs","DFES Doc - Generation & Storage","DFES Doc - Breakdown & Studies","DFES Doc - Constraints Charts","DFES Doc - Sensitivity","Gross Peak Demand","Electric Vehicles","E_HGVs","E_Buses","E_Buses&HGVs","Heat Pumps","Energy Consumed (Core_LCT_HGV)","Gross Peak Demand Breakdown","Energy Consumed Breakdown GWh","Domestic PV","Large I&C Solar Generation","Wind Generation","Biomass Generation","Storage","Total Renewable Generation","Total Non Renewable Generation","Total Generation","Cumul Abs Constraints CF-","Cumul Abs Constraints CF+","Annual New Constraints CF-","Annual New Constraints CF+","Energy Consumed Breakdown MWh","Energy incl large projects MWh","Constraints Chart Template","Power incl large projects MW","Customer numbers","Total Car Stock Numbers","HP & EV Penetration","Fuel consumption","Carbon emissions","DFES Parameters","Building Blocks & Policies","Charts & Tables - Core For DFES","Charts_Breakdown & Sensitivity"],"not_rendered":{"charts":139,"images":0,"macros":1,"external_links":0,"defined_names":2120,"comments":0,"pivot_tables":0},"unopened":[],"bounds":{"document_bytes":16777216,"sheet_cells":100000,"rows_first":2000,"rows_last":500,"rows_between":2000,"halvings":0,"cell_chars":16384,"cell_head_chars":4096},"cells_cut":0,"cells_raw":0,"read":"whole","date_system":"1900"}

{"sheet":"Changes from V1","index":0,"n_rows":6,"n_cols":6,"rows_kept":6,"cut":false,"hidden":false,"merged":[]}
[]
[null,"V1 locked down on 25/11/2022"]
[null,"V2 created because V1-links broken sent to Green house PR for DFES doc"]
[null,"V3 created to ensure whatever went into the final DFES was captured, though will match v2"]
[null,"Changes since 25/11/2022 to be recorded here"]
[null,"Vehicle Stock and Penetration added",null,null,null,"2022-11-28"]

{"sheet":"DFES Doc - Demand","index":1,"n_rows":136,"n_cols":43,"rows_kept":136,"cut":false,"hidden":false,"merged":[]}
[null,null,null,null,null,null,null,null,null,null,null,null,null,null,"Charts and Tables"]
[]
[null,null,null,null,null,null,"NOTE - 2022 is 2022/23. 2023 is the first forecast year (for 1 April 2023 to 31 March 2024)"]
[]
["DFES Doc 2023"]
[]
[null,null,null,null,null,null,"DFES Doc 2023"]
[null,null,null,null,null,null,{"$f":"O8","v":"Electrical Energy Consumption (GWh)"},2025,2030,2040,2050,null,null,null,"Electrical Energy Consumption (GWh)",2022,2025,2030,2040,2050,"GB rough estimate by 2050 (not UK - no NI)"]
[null,null,null,null,null,null,"DFES 2023 - Consumer Transformation",{"$f":"Q9","v":36366.462294029865},43340.510165583364,55693.978362420945,66305.9725424848,null,null,null,"DFES 2023 - Consumer Transformation",{"$f":"'Energy Consumed (Core_LCT_HGV)'!$B2/1000","v":34347.338334894164},{"$f":"'Energy Consumed (Core_LCT_HGV)'!$E2/1000","v":36366.462294029865},{"$f":"'Energy Consumed (Core_LCT_HGV)'!$L2/1000","v":43340.510165583364},{"$f":"'Energy Consumed (Core_LCT_HGV)'!$T2/1000","v":55693.978362420945},{"$f":"'Energy Consumed (Core_LCT_HGV)'!$AD2/1000","v":66305.9725424848},{"$f":"T9*7","v":464141.80779739359}]
[null,null,null,null,null,null,"DFES 2023 - System Transformation",36444.705655038852,42957.876404583098,52628.352039435878,62401.021922541666,null,null,null,"DFES 2023 - System Transformation",{"$f":"'Energy Consumed (Core_LCT_HGV)'!$B3/1000","v":34340.895590418986},{"$f":"'Energy Consumed (Core_LCT_HGV)'!$E3/1000","v":36444.705655038852},{"$f":"'Energy Consumed (Core_LCT_HGV)'!$L3/1000","v":42957.876404583098},{"$f":"'Energy Consumed (Core_LCT_HGV)'!$T3/1000","v":52628.352039435878},{"$f":"'Energy Consumed (Core_LCT_HGV)'!$AD3/1000","v":62401.021922541666},{"$f":"T10*7","v":436807.15345779166}]
[null,null,null,null,null,null,"DFES 2023 - Leading The Way",36423.131887133743,46216.385725868029,60167.247616562207,64391.68111094636,null,null,null,"DFES 2023 - Leading The Way",{"$f":"'Energy Consumed (Core_LCT_HGV)'!$B4/1000","v":34347.338334894164},{"$f":"'Energy Consumed (Core_LCT_HGV)'!$E4/1000","v":36423.131887133743},{"$f":"'Energy Consumed (Core_LCT_HGV)'!$L4/1000","v":46216.385725868029},{"$f":"'Energy Consumed (Core_LCT_HGV)'!$T4/1000","v":60167.247616562207},{"$f":"'Energy Consumed (Core_LCT_HGV)'!$AD4/1000","v":64391.68111094636},450741.76777662453]
[null,null,null,null,null,null,"DFES 2023 - NPg Best View",{"$f":"Q15","v":36356.230065940545},{"$f":"R15","v":43658.304630142273},{"$f":"S15","v":55125.680404198392},{"$f":"T15","v":64972.68752591619},null,null,null,"CCC 2020 - Balanced Net Zero",{"$f":"'Energy Consumed (Core_LCT_HGV)'!$B5/1000","v":33913.75360804006},{"$f":"'Energy Consumed (Core_LCT_HGV)'!$E5/1000","v":34692.696485218417},{"$f":"'Energy Consumed (Core_LCT_HGV)'!$L5/1000","v":44165.212695054986},{"$f":"'Energy Consumed (Core_LCT_HGV)'!$T5/1000","v":58967.903764942661},{"$f":"'Energy Consumed (Core_LCT_HGV)'!$AD5/1000","v":67270.646030894495},470894.52221626148]
[null,null,null,null,null,null,"DFES 2023 - Falling Short",{"$f":"Q17","v":36029.720175214919},{"$f":"R17","v":41073.494273524862},{"$f":"S17","v":47713.393339761584},{"$f":"T17","v":51552.910889642131},null,null,null,"CT 2023 Policy Sensitivity",{"$f":"'Energy Consumed (Core_LCT_HGV)'!$B6/1000","v":34336.942825930761},{"$f":"'Energy Consumed (Core_LCT_HGV)'!$E6/1000","v":36498.068491227357},{"$f":"'Energy Consumed (Core_LCT_HGV)'!$L6/1000","v":43177.915121361613},{"$f":"'Energy Consumed (Core_LCT_HGV)'!$T6/1000","v":57226.292827281934},{"$f":"'Energy Consumed (Core_LCT_HGV)'!$AD6/1000","v":72203.596367822567},505425.17457475798]
[null,null,null,null,null,null,null,null,null,null,null,null,null,null,"BV 2023 Policy Sensitivity",{"$f":"'Energy Consumed (Core_LCT_HGV)'!$B7/1000","v":34336.942825930761},{"$f":"'Energy Consumed (Core_LCT_HGV)'!$E7/1000","v":36553.917160167672},{"$f":"'Energy Consumed (Core_LCT_HGV)'!$L7/1000","v":43897.059926873939},{"$f":"'Energy Consumed (Core_LCT_HGV)'!$T7/1000","v":57497.526082830926},{"$f":"'Energy Consumed (Core_LCT_HGV)'!$AD7/1000","v":71966.871971043438},503768.10379730409]
[null,null,null,null,null,null,null,null,null,null,null,null,null,null,"DFES 2023 - NPg Best View",{"$f":"'Energy Consumed (Core_LCT_HGV)'!$B8/1000","v":34347.338334894164},{"$f":"'Energy Consumed (Core_LCT_HGV)'!$E8/1000","v":36356.230065940545},{"$f":"'Energy Consumed (Core_LCT_HGV)'!$L8/1000","v":43658.304630142273},{"$f":"'Energy Consumed (Core_LCT_HGV)'!$T8/1000","v":55125.680404198392},{"$f":"'Energy Consumed (Core_LCT_HGV)'!$AD8/1000","v":64972.68752591619},454808.81268141331]
[null,null,null,null,null,null,null,null,null,null,null,null,null,null,"NPg ED2 Planning Scenario - needs updating to old",{"$f":"'Energy Consumed (Core_LCT_HGV)'!$B9/1000","v":33821.645328433042},{"$f":"'Energy Consumed (Core_LCT_HGV)'!$E9/1000","v":34763.482435440943},{"$f":"'Energy Consumed (Core_LCT_HGV)'!$L9/1000","v":45188.121744419936},{"$f":"'Energy Consumed (Core_LCT_HGV)'!$T9/1000","v":61247.894254010695},{"$f":"'Energy Consumed (Core_LCT_HGV)'!$AD9/1000","v":68578.012916971667},480046.09041880164]
[null,null,null,null,null,null,null,null,null,null,null,null,null,null,"DFES 2023 - Falling Short",{"$f":"'Energy Consumed (Core_LCT_HGV)'!$B10/1000","v":34336.942825930761},{"$f":"'Energy Consumed (Core_LCT_HGV)'!$E10/1000","v":36029.720175214919},{"$f":"'Energy Consumed (Core_LCT_HGV)'!$L10/1000","v":41073.494273524862},{"$f":"'Energy Consumed (Core_LCT_HGV)'!$T10/1000","v":47713.393339761584},{"$f":"'Energy Consumed (Core_LCT_HGV)'!$AD10/1000","v":51552.910889642131},360870.37622749491]
[]
[]
[null,null,null,null,null,null,null,null,null,null,null,null,null,null,"PS using emerging thinking consumption - quite different for Evs"]
[null,null,null,null,null,null,null,null,null,null,null,null,null,null,"Different starting points due to different energy efficiency assumptions in 2020 - and these were not updated this year"]
[]
[]
[null,null,null,null,null,null,null,null,null,null,null,null,null,null,"DFES 2023 - Consumer Transformation",null,"R 255","G 191","B 34"]
[null,null,null,null,null,null,null,null,null,null,null,null,null,null,"DFES 2023 - System Transformation",null,"R 91","G 203","B 245"]
[null,null,null,null,null,null,null,null,null,null,null,null,null,null,"DFES 2023 - Leading The Way",null,"R 194","G 205","B 35"]
[null,null,null,null,null,null,null,null,null,null,null,null,null,null,"CCC 2020 - Balanced Net Zero",null,"R113","G66","B255"]
[null,null,null,null,null,null,null,null,null,null,null,null,null,null,"CT 2023 Policy Sensitivity",null,"R202","G120","B128"]
[null,null,null,null,null,null,null,null,null,null,null,null,null,null,"BV 2023 Policy Sensitivity",null,"R205","G231","B176"]
[null,null,null,null,null,null,null,null,null,null,null,null,null,null,"DFES 2023 - NPg Best View",null,"R192","G0","B0"]
[null,null,null,null,null,null,null,null,null,null,null,null,null,null,"NPg ED2 Planning Scenario - needs updating to old",null,"R 0","G 171","B 132"]
[null,null,null,null,null,null,null,null,null,null,null,null,null,null,"DFES 2023 - Falling Short",null,"R 130","G 123","B 122"]
[]
[]
[]
[]
[]
[null,null,null,null,null,null,"DFES Doc 2023"]
["DFES Doc 2023",null,null,null,null,null,{"$f":"O39","v":"Gross Peak Demand (MW)"},2025,2030,2040,2050,null,null,"GB rough estimate by 2050 (not UK - no NI)","Gross Peak Demand (MW)",2022,2025,2030,2040,2050,"End of ED2","End of ED2 with TouT","Comparative Impact ED2","Comparative Impact ED2 (TouT)",null,null,null,null,null,null,null,null,null,null,null,null,null,null,"Number of constrained sites","End of ED2","End of ED2 with TouT","Comparative Impact ED2","Comparative Impact ED2 (TouT)"]
[null,null,null,null,null,null,"DFES 2023 - Consumer Transformation",{"$f":"Q40","v":6711.5260933228374},7650.9106263674221,10482.256978896317,13024.310810297084,null,null,{"$f":"V40*7","v":0},"DFES 2023 - Consumer Transformation",{"$f":"'Gross Peak Demand'!$B2","v":5995.7125586330403},{"$f":"'Gross Peak Demand'!$E2","v":6711.5260933228374},{"$f":"'Gross Peak Demand'!$J$2","v":7650.9106263674221},{"$f":"'Gross Peak Demand'!$T$2","v":10482.256978896317},{"$f":"'Gross Peak Demand'!$AD$2","v":13024.310810297084},{"$f":"'Gross Peak Demand'!$G2","v":7130.1939041163041},{"$f":"'Gross Peak Demand'!$G38","v":0},{"$f":"U40-$U$46","v":5.9932182958673366},{"$f":"V40-$V$46","v":-7002.6388960289132},null,null,null,null,null,null,null,null,null,null,null,null,null,null,"DFES 2023 - Consumer Transformation",{"$f":"'Cumul Abs Constraints CF-'!$G2","v":17},{"$f":"'Cumul Abs Constraints CF+'!$G2","v":0},{"$f":"AN40-$AN$46","v":0},{"$f":"AO40-$AO$46","v":-15}]
[null,null,null,null,null,null,"DFES 2023 - System Transformation",6760.6469092426441,7650.8207640793971,10044.95933588703,13175.173920085526,null,null,0,"DFES 2023 - System Transformation",{"$f":"'Gross Peak Demand'!$B3","v":6021.497055276066},{"$f":"'Gross Peak Demand'!$E3","v":6760.6469092426441},{"$f":"'Gross Peak Demand'!$J$3","v":7650.8207640793971},{"$f":"'Gross Peak Demand'!$T$3","v":10044.95933588703},{"$f":"'Gross Peak Demand'!$AD$3","v":13175.173920085526},{"$f":"'Gross Peak Demand'!$G3","v":7103.8959862101465},{"$f":"'Gross Peak Demand'!$G39","v":0},{"$f":"U41-$U$46","v":-20.304699610290299},{"$f":"V41-$V$46","v":-7002.6388960289132},null,null,null,null,null,null,null,null,null,null,null,null,null,null,"DFES 2023 - System Transformation",{"$f":"'Cumul Abs Constraints CF-'!$G3","v":18},{"$f":"'Cumul Abs Constraints CF+'!$G3","v":0},1,-15]
[null,null,null,null,null,null,"DFES 2023 - Leading The Way",6720.3420497280549,7742.0130681777264,11675.731642332346,12673.99236209409,null,null,0,"DFES 2023 - Leading The Way",{"$f":"'Gross Peak Demand'!$B4","v":5995.7125586330403},{"$f":"'Gross Peak Demand'!$E4","v":6720.3420497280549},{"$f":"'Gross Peak Demand'!$J4","v":7742.0130681777264},{"$f":"'Gross Peak Demand'!$T4","v":11675.731642332346},{"$f":"'Gross Peak Demand'!$AD4","v":12673.99236209409},{"$f":"'Gross Peak Demand'!$G4","v":7169.9783525871208},{"$f":"'Gross Peak Demand'!$G40","v":0},45.777666766683978,-7002.6388960289132,null,null,null,null,null,null,null,null,null,null,null,null,null,null,"DFES 2023 - Leading The Way",{"$f":"'Cumul Abs Constraints CF-'!$G4","v":17},{"$f":"'Cumul Abs Constraints CF+'!$G4","v":0},0,-15]
[null,null,null,null,null,null,"DFES 2023 - NPg Best View",{"$f":"Q46","v":6636.2638245440976},{"$f":"R46","v":7448.6128087685302},{"$f":"S46","v":9994.4403872398216},{"$f":"T46","v":12433.636111243914},null,null,0,"CCC 2020 - Balanced Net Zero",{"$f":"'Gross Peak Demand'!$B5","v":7196.5833073898893},{"$f":"'Gross Peak Demand'!$E5","v":7365.1705673638426},{"$f":"'Gross Peak Demand'!$J5","v":8446.49356982471},{"$f":"'Gross Peak Demand'!$T5","v":11581.064173421108},{"$f":"'Gross Peak Demand'!$AD5","v":13100.985449230091},{"$f":"'Gross Peak Demand'!$G5","v":7641.3964899037928},{"$f":"'Gross Peak Demand'!$G41","v":0},517.19580408335605,-7002.6388960289132,null,null,null,null,null,null,null,null,null,null,null,null,null,null,"CCC 2020 - Balanced Net Zero",{"$f":"'Cumul Abs Constraints CF-'!$G5","v":14},{"$f":"'Cumul Abs Constraints CF+'!$G5","v":0},-3,-15]
[null,null,null,null,null,null,"DFES 2023 - Falling Short",{"$f":"Q48","v":6675.2877394649222},{"$f":"R48","v":7376.3523626835622},{"$f":"S48","v":8786.8030460815462},{"$f":"T48","v":9370.3061321558271},null,null,0,"CT 2023 Policy Sensitivity",{"$f":"'Gross Peak Demand'!$B6","v":5994.8846636485323},{"$f":"'Gross Peak Demand'!$E6","v":6734.0176168268717},{"$f":"'Gross Peak Demand'!$J6","v":7574.3611334868137},{"$f":"'Gross Peak Demand'!$T6","v":10725.731648207548},{"$f":"'Gross Peak Demand'!$AD6","v":14243.826591764431},{"$f":"'Gross Peak Demand'!$G6","v":7029.9629051093725},{"$f":"'Gross Peak Demand'!$G42","v":0},-94.237780711064261,-7002.6388960289132,null,null,null,null,null,null,null,null,null,null,null,null,null,null,"CT 2023 Policy Sensitivity",{"$f":"'Cumul Abs Constraints CF-'!$G6","v":16},{"$f":"'Cumul Abs Constraints CF+'!$G6","v":0},-1,-15]
[null,null,null,null,null,null,null,null,null,null,null,null,null,0,"BV 2023 Policy Sensitivity",{"$f":"'Gross Peak Demand'!$B7","v":5994.8846636485323},{"$f":"'Gross Peak Demand'!$E7","v":6737.7920701122966},{"$f":"'Gross Peak Demand'!$J7","v":7608.7940811098069},{"$f":"'Gross Peak Demand'!$T7","v":10746.313176448057},{"$f":"'Gross Peak Demand'!$AD7","v":14226.328654043427},{"$f":"'Gross Peak Demand'!$G7","v":7041.1530215392859},{"$f":"'Gross Peak Demand'!$G43","v":0},-83.047664281150901,-7002.6388960289132,null,null,null,null,null,null,null,null,null,null,null,null,null,null,"BV 2023 Policy Sensitivity",{"$f":"'Cumul Abs Constraints CF-'!$G7","v":15},{"$f":"'Cumul Abs Constraints CF+'!$G7","v":0},-2,-15]
[null,null,null,null,null,null,null,null,null,null,null,null,null,49018.472272202394,"DFES 2023 - NPg Best View",{"$f":"'Gross Peak Demand'!$B44","v":5986.1646371258084},{"$f":"'Gross Peak Demand'!$E44","v":6636.2638245440976},{"$f":"'Gross Peak Demand'!$J44","v":7448.6128087685302},{"$f":"'Gross Peak Demand'!$T44","v":9994.4403872398216},{"$f":"'Gross Peak Demand'!$AD44","v":12433.636111243914},{"$f":"'Gross Peak Demand'!$G8","v":7124.2006858204368},{"$f":"'Gross Peak Demand'!$G44","v":7002.6388960289132},0,0,null,null,null,null,null,null,null,null,null,null,null,null,null,null,"DFES 2023 - NPg Best View counterfactual no ToUT",{"$f":"'Cumul Abs Constraints CF-'!$G8","v":17},{"$f":"'Cumul Abs Constraints CF+'!$G8","v":15},0,0]
[null,null,null,null,null,null,null,null,null,null,null,null,null,52980.391798540091,"NPg ED2 Planning Scenario - needs updating to old",{"$f":"'Gross Peak Demand'!$B9","v":7176.7478407161207},{"$f":"'Gross Peak Demand'!$E9","v":7370.6144686816478},{"$f":"'Gross Peak Demand'!$J$9","v":8586.7119493983319},{"$f":"'Gross Peak Demand'!$T$9","v":12030.031461648756},{"$f":"'Gross Peak Demand'!$AD$9","v":13369.147739729695},{"$f":"'Gross Peak Demand'!$G9","v":7659.4663310174237},{"$f":"'Gross Peak Demand'!$G45","v":7568.6273997914413},535.26564519698695,565.98850376252813,null,null,null,null,null,null,null,null,null,null,null,null,null,null,"NPg ED2 Planning Scenario - needs updating to old",{"$f":"'Cumul Abs Constraints CF-'!$G9","v":13},{"$f":"'Cumul Abs Constraints CF+'!$G9","v":0},-4,-15]
[null,null,null,null,null,null,null,null,null,null,null,null,null,0,"DFES 2023 - Falling Short",{"$f":"'Gross Peak Demand'!$B10","v":6021.3893688991648},{"$f":"'Gross Peak Demand'!$E10","v":6675.2877394649222},{"$f":"'Gross Peak Demand'!$J$10","v":7376.3523626835622},{"$f":"'Gross Peak Demand'!$T$10","v":8786.8030460815462},{"$f":"'Gross Peak Demand'!$AD$10","v":9370.3061321558271},{"$f":"'Gross Peak Demand'!$G10","v":6913.6496603570977},{"$f":"'Gross Peak Demand'!$G46","v":0},-210.5510254633391,-7002.6388960289132,null,null,null,null,null,null,null,null,null,null,null,null,null,null,"DFES 2023 - Falling Short",{"$f":"'Cumul Abs Constraints CF-'!$G10","v":15},{"$f":"'Cumul Abs Constraints CF+'!$G10","v":0},-2,-15]
[]
[null,null,null,null,null,null,null,null,null,null,null,null,null,null,"Different starting points due to different energy efficiency assumptions in 2020 - and these were not updated this year"]
[]
[]
[]
[]
[]
[]
[]
[]
[]
[]
[]
[]
[]
[]
[]
[]
[]
[]
[]
[]
[]
[]
[]
["DFES Doc 2023"]
[]
[null,null,null,null,null,null,null,null,null,null,null,null,null,null,null,null,null,null,null,null,null,null,null,null,null,null,null,null,null,null,null,null,null,null,null,null,null,null,null,null,null,350764.7]
[null,null,null,null,null,null,null,null,null,null,null,null,null,null,null,null,null,null,null,null,null,null,null,null,null,null,null,null,null,null,null,null,null,null,null,null,null,null,null,null,null,15678.6]
[null,null,null,null,null,null,null,null,null,null,null,null,null,null,null,null,null,null,null,null,null,null,null,null,null,null,null,null,null,null,null,null,null,null,null,null,null,null,null,null,null,314668]
[null,null,null,null,null,null,null,null,null,null,null,null,null,null,null,null,null,null,null,null,null,null,null,null,null,null,null,null,null,null,null,null,null,null,null,null,null,null,null,null,null,{"$f":"SUM(AP77:AP78)","v":330346.59999999998}]
[null,null,null,null,null,null,null,null,null,null,null,null,null,null,null,null,null,null,null,null,null,null,null,null,null,null,null,null,null,null,null,null,null,null,null,null,null,null,null,null,null,{"$f":"AP76-AP79","v":20418.100000000035}]
[]
[]
[]
[]
[]
[]
[]
[]
[]
[]
[]
[null,null,null,null,null,null,{"$f":"O92","v":"Gross Peak Demand - With price driven flexibility (MW)"},2025,2030,2040,2050,null,null,null,"Gross Peak Demand - With price driven flexibility (MW)",2022,2025,2030,2040,2050]
[null,null,null,null,null,null,"DFES 2023 - Consumer Transformation",{"$f":"Q93","v":0},0,0,0,null,null,null,"DFES 2023 - Consumer Transformation",{"$f":"'Gross Peak Demand'!$B38","v":0},{"$f":"'Gross Peak Demand'!$E38","v":0},{"$f":"'Gross Peak Demand'!$J38","v":0},{"$f":"'Gross Peak Demand'!$T38","v":0},{"$f":"'Gross Peak Demand'!$AD38","v":0}]
[null,null,null,null,null,null,"DFES 2023 - System Transformation",0,0,0,0,null,null,null,"DFES 2023 - System Transformation",{"$f":"'Gross Peak Demand'!$B39","v":0},{"$f":"'Gross Peak Demand'!$E39","v":0},{"$f":"'Gross Peak Demand'!$J39","v":0},{"$f":"'Gross Peak Demand'!$T39","v":0},{"$f":"'Gross Peak Demand'!$AD39","v":0}]
[null,null,null,null,null,null,"DFES 2023 - Leading The Way",0,0,0,0,null,null,null,"DFES 2023 - Leading The Way",{"$f":"'Gross Peak Demand'!$B40","v":0},{"$f":"'Gross Peak Demand'!$E40","v":0},{"$f":"'Gross Peak Demand'!$J40","v":0},{"$f":"'Gross Peak Demand'!$T40","v":0},{"$f":"'Gross Peak Demand'!$AD40","v":0}]
[null,null,null,null,null,null,"DFES 2023 - NPg Best View",{"$f":"Q99","v":6636.2638245440976},{"$f":"R99","v":7448.6128087685302},{"$f":"S99","v":9994.4403872398216},{"$f":"T99","v":12433.636111243914},null,null,null,"CCC 2020 - Balanced Net Zero"]
[null,null,null,null,null,null,"DFES 2023 - Falling Short",{"$f":"Q101","v":0},{"$f":"R101","v":0},{"$f":"S101","v":0},{"$f":"T101","v":0},null,null,null,"CT 2023 Policy Sensitivity"]
[null,null,null,null,null,null,null,null,null,null,null,null,null,null,"BV 2023 Policy Sensitivity"]
[null,null,null,null,null,null,null,null,null,null,null,null,null,null,"DFES 2023 - NPg Best View",{"$f":"'Gross Peak Demand'!$B44","v":5986.1646371258084},{"$f":"'Gross Peak Demand'!$E44","v":6636.2638245440976},{"$f":"'Gross Peak Demand'!$J44","v":7448.6128087685302},{"$f":"'Gross Peak Demand'!$T44","v":9994.4403872398216},{"$f":"'Gross Peak Demand'!$AD44","v":12433.636111243914}]
[null,null,null,null,null,null,null,null,null,null,null,null,null,null,"NPg ED2 Planning Scenario - needs updating to old",{"$f":"'Gross Peak Demand'!$B45","v":7166.3027410022787},{"$f":"'Gross Peak Demand'!$E45","v":7324.948432136749},{"$f":"'Gross Peak Demand'!$J45","v":8372.4062508309726},{"$f":"'Gross Peak Demand'!$T45","v":11499.414897589013},{"$f":"'Gross Peak Demand'!$AD45","v":12822.718465633538}]
[null,null,null,null,null,null,null,null,null,null,null,null,null,null,"DFES 2023 - Falling Short",{"$f":"'Gross Peak Demand'!$B46","v":0},{"$f":"'Gross Peak Demand'!$E46","v":0},{"$f":"'Gross Peak Demand'!$J46","v":0},{"$f":"'Gross Peak Demand'!$T46","v":0},{"$f":"'Gross Peak Demand'!$AD46","v":0}]
[]
[null,null,null,null,null,null,null,null,null,null,null,null,null,null,"NOTE - Planning Scenario is a single line - including TouT"]
[]
[]
[]
[]
[]
[]
[]
[]
[]
[]
[]
[]
[]
[]
[]
[]
[]
[]
[]
[]
[]
[]
[]
[]
[]
[]
[]
[null,null,null,null,null,null,null,null,null,null,null,null,null,null,"Generation MIX 2050","CR","CR","TD","SP","CE",null,"TO DO"]
[null,null,null,null,null,null,null,null,null,null,null,null,null,null,"PV"]
[null,null,null,null,null,null,null,null,null,null,null,null,null,null,"Large Solar"]
[null,null,null,null,null,null,null,null,null,null,null,null,null,null,"Wind"]
[null,null,null,null,null,null,null,null,null,null,null,null,null,null,"CHP/Other"]
[null,null,null,null,null,null,null,null,null,null,null,null,null,null,"Total"]

{"sheet":"DFES Doc - LCTs","index":2,"n_rows":166,"n_cols":66,"rows_kept":166,"cut":false,"hidden":false,"merged":[]}
["DFES Doc 2023",null,null,null,null,null,null,null,null,null,null,null,null,null,"Charts and Tables"]
[null,null,null,null,null,null,"DFES Doc 2023"]
[null,null,null,null,null,null,{"$f":"O3","v":"Electric Vehicles (No. Cars & Vans)"},2025,2030,2040,2050,null,null,"2027 m","Electric Vehicles (No. Cars & Vans)",2022,2025,2030,2040,2050,2027,"2027 % change to PS","GB rough estimate by 2050 (not UK - no NI)"]
[null,null,null,null,null,null,"DFES 2023 - Consumer Transformation",{"$f":"Q4","v":472997},1938473,4318289,4734509,null,null,{"$f":"U4/1000000","v":1.000837},"DFES 2023 - Consumer Transformation",{"$f":"'Electric Vehicles'!$B2","v":86795},{"$f":"'Electric Vehicles'!$E$2","v":472997},{"$f":"'Electric Vehicles'!$J$2","v":1938473},{"$f":"'Electric Vehicles'!$T$2","v":4318289},{"$f":"'Electric Vehicles'!$AD$2","v":4734509},{"$f":"'Electric Vehicles'!$G2","v":1000837},{"$f":"(U4-U$10)/U$10","v":5.6563319141479031E-2},{"$f":"T4*7","v":33141563}]
[null,null,null,null,null,null,"DFES 2023 - System Transformation",483066,1847688,3941590,4363521,null,null,{"$f":"U5/1000000","v":0.98714999999999997},"DFES 2023 - System Transformation",{"$f":"'Electric Vehicles'!$B3","v":86795},{"$f":"'Electric Vehicles'!$E$3","v":483066},{"$f":"'Electric Vehicles'!$J$3","v":1847688},{"$f":"'Electric Vehicles'!$T$3","v":3941590},{"$f":"'Electric Vehicles'!$AD$3","v":4363521},{"$f":"'Electric Vehicles'!$G3","v":987150},{"$f":"(U5-U$10)/U$10","v":4.211423087926508E-2},{"$f":"T5*7","v":30544647}]
[null,null,null,null,null,null,"DFES 2023 - Leading The Way",455591,1817732,3935422,4252384,null,null,0.94725700000000002,"DFES 2023 - Leading The Way",{"$f":"'Electric Vehicles'!$B4","v":86795},{"$f":"'Electric Vehicles'!$E$4","v":455591},{"$f":"'Electric Vehicles'!$J$4","v":1817732},{"$f":"'Electric Vehicles'!$T$4","v":3935422},{"$f":"'Electric Vehicles'!$AD$4","v":4252384},{"$f":"'Electric Vehicles'!$G4","v":947257},0,29766688]
[null,null,null,null,null,null,"DFES 2023 - NPg Best View",{"$f":"Q10","v":455591},{"$f":"R10","v":1817732},{"$f":"S10","v":3935422},{"$f":"T10","v":4252384},null,null,1.053328,"CCC 2020 - Balanced Net Zero",{"$f":"'Electric Vehicles'!$B5","v":123396},{"$f":"'Electric Vehicles'!$E$5","v":590162},{"$f":"'Electric Vehicles'!$J$5","v":1879593},{"$f":"'Electric Vehicles'!$T$5","v":4553775},{"$f":"'Electric Vehicles'!$AD$5","v":5462205},{"$f":"'Electric Vehicles'!$G5","v":1053328},0.11197700307308366,38235435]
[null,null,null,null,null,null,"DFES 2023 - Falling Short",{"$f":"Q12","v":302845},{"$f":"R12","v":1214726},{"$f":"S12","v":2804867},{"$f":"T12","v":3188191},null,null,0.74185999999999996,"CT 2023 Policy Sensitivity",{"$f":"'Electric Vehicles'!$B6","v":86795},{"$f":"'Electric Vehicles'!$E$6","v":367733},{"$f":"'Electric Vehicles'!$J$6","v":1576075},{"$f":"'Electric Vehicles'!$T$6","v":4016511},{"$f":"'Electric Vehicles'!$AD$6","v":4726348},{"$f":"'Electric Vehicles'!$G6","v":741860},-0.21683344646700947,33084436]
[null,null,null,null,null,null,null,null,null,null,null,null,null,0.74185999999999996,"BV 2023 Policy Sensitivity",{"$f":"'Electric Vehicles'!$B7","v":86795},{"$f":"'Electric Vehicles'!$E$7","v":367733},{"$f":"'Electric Vehicles'!$J$7","v":1576075},{"$f":"'Electric Vehicles'!$T$7","v":4016511},{"$f":"'Electric Vehicles'!$AD$7","v":4726348},{"$f":"'Electric Vehicles'!$G7","v":741860},-0.21683344646700947,33084436,null,null,null,null,null,null,null,null,null,null,null,"OUT OF DATE"]
[null,null,null,null,null,null,null,null,null,null,null,null,null,0.94725700000000002,"DFES 2023 - NPg Best View",{"$f":"'Electric Vehicles'!$B8","v":86795},{"$f":"'Electric Vehicles'!$E$8","v":455591},{"$f":"'Electric Vehicles'!$J$8","v":1817732},{"$f":"'Electric Vehicles'!$T$8","v":3935422},{"$f":"'Electric Vehicles'!$AD$8","v":4252384},{"$f":"'Electric Vehicles'!$G8","v":947257},0,29766688,null,null,null,null,null,null,null,null,null,null,null,2019,2020,2021,2022,2023,2024,2025,2026,2027,2028,2029,2030,2031,2032,2033,2034,2035,2036,2037,2038,2039,2040,2041,2042,2043,2044,2045,2046,2047,2048,2049,2050]
[null,null,null,null,null,null,null,null,null,null,null,null,null,0.93948100000000001,"NPg ED2 Planning Scenario - needs updating to old",{"$f":"'Electric Vehicles'!$B9","v":108640},{"$f":"'Electric Vehicles'!$E$9","v":523703},{"$f":"'Electric Vehicles'!$J$9","v":1843408},{"$f":"'Electric Vehicles'!$T$9","v":4589052},{"$f":"'Electric Vehicles'!$AD$9","v":5013445},{"$f":"'Electric Vehicles'!$G9","v":939481},-8.2089654655494761E-3,35094115,null,null,null,null,null,null,null,null,null,null,null,"2019/20","2020/21","2021/22","2022/23","2023/24","2024/25","2025/26","2026/27","2027/28","2028/29","2029/30","2030/31","2031/32","2032/33","2033/34","2034/35","2035/36","2036/37","2037/38","2038/39","2039/40","2040/41","2041/42","2042/43","2043/44","2044/45","2045/46","2046/47","2047/48","2048/49","2049/50","2050/51"]
[null,null,null,null,null,null,null,null,null,null,null,null,null,0.57858399999999999,"DFES 2023 - Falling Short",{"$f":"'Electric Vehicles'!$B10","v":86795},{"$f":"'Electric Vehicles'!$E$10","v":302845},{"$f":"'Electric Vehicles'!$J$10","v":1214726},{"$f":"'Electric Vehicles'!$T$10","v":2804867},{"$f":"'Electric Vehicles'!$AD$10","v":3188191},{"$f":"'Electric Vehicles'!$G10","v":578584},-0.38920060764924408,22317337,null,null,null,null,null,null,null,null,null,null,null,6.0000000000000001E-3,7.3419876646994174E-3,1.335198210529347E-2,2.5229924869967675E-2,4.8627071023637287E-2,7.8393664367760713E-2,0.11538899362662385,0.15601295069316701,0.20249967952278333,0.25475497958800797,0.3115165812537129,0.38518669419452056,0.45480571202148479,0.52085966532021533,0.58281528432719809,0.6401046893650395,0.69235953326783761,0.73956245685579436,0.78140042972906376,0.8178061800473384,0.84899302717164704,0.87506387911496852,0.89587832316403393,0.91260868171460841,0.9255898783709321,0.93543247676668861,0.94272283148733216,0.94779872547350796,0.95132390601603278,0.95358888169365563,0.95505972434039332,0.95596270277709594]
[]
[null,null,null,null,null,null,null,null,null,null,null,null,null,null,"0.36 to 1.14","top","top",{"$f":"$U$9","v":741860},{"$f":"U9-$U$10","v":-205397},{"$f":"S14/$R$16","v":-1.2579742276880865}]
[null,null,null,null,null,null,null,null,null,null,null,null,null,null,"0.42 to 1.14","bottom","bottom",{"$f":"$U$12","v":578584},{"$f":"$U$10-U12","v":368673},{"$f":"S15/$R$16","v":2.2579742276880865}]
[null,null,null,null,null,null,null,null,null,null,null,null,null,null,null,"range","range",{"$f":"R14-R15","v":163276}]
[null,null,null,null,null,null,null,null,null,null,null,null,null,null,null,null,null,null,null,null,null,null,null,null,null,null,null,null,null,"DFES 2023 - Consumer Transformation",null,"R 255","G 191","B 34"]
[null,null,null,null,null,null,null,null,null,null,null,null,null,null,null,null,null,null,null,null,null,null,null,null,null,null,null,null,null,"DFES 2023 - System Transformation",null,"R 91","G 203","B 245"]
[null,null,null,null,null,null,null,null,null,null,null,null,null,null,null,null,null,null,null,null,null,null,null,null,null,null,null,null,null,"DFES 2023 - Leading The Way",null,"R 194","G 205","B 35"]
[null,null,null,null,null,null,null,null,null,null,null,null,null,null,null,null,null,null,null,null,null,null,null,null,null,null,null,null,null,"CCC 2020 - Balanced Net Zero",null,"R113","G66","B255"]
[null,null,null,null,null,null,null,null,null,null,null,null,null,null,null,null,null,null,null,null,null,null,null,null,null,null,null,null,null,"CT 2023 Policy Sensitivity",null,"R202","G120","B128"]
[null,null,null,null,null,null,null,null,null,null,null,null,null,null,null,null,null,null,null,null,null,null,null,null,null,null,null,null,null,"BV 2023 Policy Sensitivity",null,"R205","G231","B176"]
[null,null,null,null,null,null,null,null,null,null,null,null,null,null,null,null,null,null,null,null,null,null,null,null,null,null,null,null,null,"DFES 2023 - NPg Best View",null,"R192","G0","B0"]
[null,null,null,null,null,null,null,null,null,null,null,null,null,null,null,null,null,null,null,null,null,null,null,null,null,null,null,null,null,"NPg ED2 Planning Scenario - needs updating to old",null,"R 0","G 171","B 132"]
[null,null,null,null,null,null,null,null,null,null,null,null,null,null,null,null,null,null,null,null,null,null,null,null,null,null,null,null,null,"DFES 2023 - Falling Short",null,"R 130","G 123","B 122"]
[]
[]
[]
[]
[]
[]
[]
[null,null,null,null,null,null,"DFES Doc 2023"]
[null,null,null,null,null,null,{"$f":"O34","v":"Residential Heat Pumps (No.)"},2025,2030,2040,2050,null,null,null,"Residential Heat Pumps (No.)",2022,2025,2030,2040,2050,2027,"GB rough estimate by 2050 (not UK - no NI)"]
[null,null,null,null,null,null,"DFES 2023 - Consumer Transformation",{"$f":"Q35","v":122193},331198,1327214,2885461,null,null,null,"DFES 2023 - Consumer Transformation",{"$f":"'Heat Pumps'!$B42","v":42082},{"$f":"'Heat Pumps'!$E42","v":122193},{"$f":"'Heat Pumps'!$J42","v":331198},{"$f":"'Heat Pumps'!$T42","v":1327214},{"$f":"'Heat Pumps'!$AD42","v":2885461},{"$f":"'Heat Pumps'!$G42","v":256245},{"$f":"T35*7","v":20198227}]
[null,null,null,null,null,null,"DFES 2023 - System Transformation",83517,184981,569308,1929217,null,null,null,"DFES 2023 - System Transformation",{"$f":"'Heat Pumps'!$B43","v":42082},{"$f":"'Heat Pumps'!$E43","v":83517},{"$f":"'Heat Pumps'!$J43","v":184981},{"$f":"'Heat Pumps'!$T43","v":569308},{"$f":"'Heat Pumps'!$AD43","v":1929217},{"$f":"'Heat Pumps'!$G43","v":120077},13504519]
[null,null,null,null,null,null,"DFES 2023 - Leading The Way",142089,434967,2239117,2999426,null,null,null,"DFES 2023 - Leading The Way",{"$f":"'Heat Pumps'!$B44","v":42082},{"$f":"'Heat Pumps'!$E44","v":142089},{"$f":"'Heat Pumps'!$J44","v":434967},{"$f":"'Heat Pumps'!$T44","v":2239117},{"$f":"'Heat Pumps'!$AD44","v":2999426},{"$f":"'Heat Pumps'!$G44","v":308046},20995982]
[null,null,null,null,null,null,"DFES 2023 - NPg Best View",{"$f":"Q41","v":122193},{"$f":"R41","v":331198},{"$f":"S41","v":1327214},{"$f":"T41","v":2885461},null,null,null,"CCC 2020 - Balanced Net Zero",{"$f":"'Heat Pumps'!$B45","v":46497},{"$f":"'Heat Pumps'!$E45","v":134329},{"$f":"'Heat Pumps'!$J45","v":667995},{"$f":"'Heat Pumps'!$T45","v":2324055},{"$f":"'Heat Pumps'!$AD45","v":3395550},{"$f":"'Heat Pumps'!$G45","v":290242},23768850,null,null,null,null,null,null,null,null,null,null,null,null,"OUT OF DATE"]
[null,null,null,null,null,null,"DFES 2023 - Falling Short",{"$f":"Q43","v":71543},{"$f":"R43","v":167693},{"$f":"S43","v":343921},{"$f":"T43","v":462356},null,null,null,"CT 2023 Policy Sensitivity",{"$f":"'Heat Pumps'!$B46","v":42082},{"$f":"'Heat Pumps'!$E46","v":122920},{"$f":"'Heat Pumps'!$J46","v":225752},{"$f":"'Heat Pumps'!$T46","v":1176787},{"$f":"'Heat Pumps'!$AD46","v":2885461},{"$f":"'Heat Pumps'!$G46","v":159347},20198227,null,null,null,null,null,null,null,null,null,null,null,null,2019,2020,2021,2022,2023,2024,2025,2026,2027,2028,2029,2030,2031,2032,2033,2034,2035,2036,2037,2038,2039,2040,2041,2042,2043,2044,2045,2046,2047,2048,2049,2050]
[null,null,null,null,null,null,null,null,null,null,null,null,null,null,"BV 2023 Policy Sensitivity",{"$f":"'Heat Pumps'!$B47","v":42082},{"$f":"'Heat Pumps'!$E47","v":122920},{"$f":"'Heat Pumps'!$J47","v":225752},{"$f":"'Heat Pumps'!$T47","v":1176787},{"$f":"'Heat Pumps'!$AD47","v":2885461},{"$f":"'Heat Pumps'!$G47","v":159347},20198227,null,null,null,null,null,null,null,null,null,null,null,null,"2019/20","2020/21","2021/22","2022/23","2023/24","2024/25","2025/26","2026/27","2027/28","2028/29","2029/30","2030/31","2031/32","2032/33","2033/34","2034/35","2035/36","2036/37","2037/38","2038/39","2039/40","2040/41","2041/42","2042/43","2043/44","2044/45","2045/46","2046/47","2047/48","2048/49","2049/50","2050/51"]
[null,null,null,null,null,null,null,null,null,null,null,null,null,null,"DFES 2023 - NPg Best View",{"$f":"'Heat Pumps'!$B48","v":42082},{"$f":"'Heat Pumps'!$E48","v":122193},{"$f":"'Heat Pumps'!$J48","v":331198},{"$f":"'Heat Pumps'!$T48","v":1327214},{"$f":"'Heat Pumps'!$AD48","v":2885461},{"$f":"'Heat Pumps'!$G48","v":256245},20198227,null,null,null,null,null,null,null,null,null,null,null,null,6.0000000000000001E-3,7.3743932488224808E-3,9.22984100250397E-3,1.3383167042451037E-2,1.8183723126156112E-2,2.3216123437258675E-2,3.6399345015937473E-2,5.4328198364027087E-2,7.6764248745728333E-2,0.10554330365725817,0.13678731732608668,0.17278343064634014,0.20512564696607963,0.23947381954895713,0.27805482791909786,0.3200033977471074,0.36508224928921401,0.40745132175227566,0.44875615518404049,0.49050126610269335,0.53355838552412205,0.57351589925689705,0.61532803309147466,0.65272197298299117,0.68527366861531624,0.71275783627994882,0.73731999125926118,0.75925734132913092,0.78138158522316503,0.80346488405621586,0.80544873979356857,0.80540713271260678]
[null,null,null,null,null,null,null,null,null,null,null,null,null,null,"NPg ED2 Planning Scenario - needs updating to old",{"$f":"'Heat Pumps'!$B49","v":42082},{"$f":"'Heat Pumps'!$E49","v":122193},{"$f":"'Heat Pumps'!$J49","v":331198},{"$f":"'Heat Pumps'!$T49","v":1327214},{"$f":"'Heat Pumps'!$AD49","v":2885461},{"$f":"'Heat Pumps'!$G49","v":256245},20198227]
[null,null,null,null,null,null,null,null,null,null,null,null,null,null,"DFES 2023 - Falling Short",{"$f":"'Heat Pumps'!$B50","v":42082},{"$f":"'Heat Pumps'!$E50","v":71543},{"$f":"'Heat Pumps'!$J50","v":167693},{"$f":"'Heat Pumps'!$T50","v":343921},{"$f":"'Heat Pumps'!$AD50","v":462356},{"$f":"'Heat Pumps'!$G50","v":107751},3236492]
[]
[]
[]
[]
[]
[]
[null,null,null,null,null,null,{"$f":"O50","v":"I&C  Heat Pumps (No.)"},2025,2030,2040,2050,null,null,null,"I&C  Heat Pumps (No.)",2022,2025,2030,2040,2050,"GB rough estimate by 2050 (not UK - no NI)"]
[null,null,null,null,null,null,"DFES 2023 - Consumer Transformation",{"$f":"Q51","v":9542},18744,102871,240675,null,null,null,"DFES 2023 - Consumer Transformation",{"$f":"'Heat Pumps'!$B145","v":7064},{"$f":"'Heat Pumps'!$E145","v":9542},{"$f":"'Heat Pumps'!$J145","v":18744},{"$f":"'Heat Pumps'!$T145","v":102871},{"$f":"'Heat Pumps'!$AD145","v":240675},{"$f":"T51*7","v":1684725}]
[null,null,null,null,null,null,"DFES 2023 - System Transformation",9276,15323,92973,224332,null,null,null,"DFES 2023 - System Transformation",{"$f":"'Heat Pumps'!$B146","v":7064},{"$f":"'Heat Pumps'!$E146","v":9276},{"$f":"'Heat Pumps'!$J146","v":15323},{"$f":"'Heat Pumps'!$T146","v":92973},{"$f":"'Heat Pumps'!$AD146","v":224332},{"$f":"T52*7","v":1570324}]
[null,null,null,null,null,null,"DFES 2023 - Leading The Way",10151,19939,171675,240675,null,null,null,"DFES 2023 - Leading The Way",{"$f":"'Heat Pumps'!$B147","v":7064},{"$f":"'Heat Pumps'!$E147","v":10151},{"$f":"'Heat Pumps'!$J147","v":19939},{"$f":"'Heat Pumps'!$T147","v":171675},{"$f":"'Heat Pumps'!$AD147","v":240675},1684725]
[null,null,null,null,null,null,"DFES 2023 - NPg Best View",{"$f":"Q57","v":9542},{"$f":"R57","v":18744},{"$f":"S57","v":102871},{"$f":"T57","v":240675},null,null,null,"CCC 2020 - Balanced Net Zero",{"$f":"'Heat Pumps'!$B148","v":7759},{"$f":"'Heat Pumps'!$E148","v":11651},{"$f":"'Heat Pumps'!$J148","v":23759},{"$f":"'Heat Pumps'!$T148","v":85896},{"$f":"'Heat Pumps'!$AD148","v":173421},1213947]
[null,null,null,null,null,null,"DFES 2023 - Falling Short",{"$f":"Q59","v":9326},{"$f":"R59","v":14660},{"$f":"S59","v":27382},{"$f":"T59","v":35304},null,null,null,"CT 2023 Policy Sensitivity",{"$f":"'Heat Pumps'!$B149","v":7064},{"$f":"'Heat Pumps'!$E149","v":9513},{"$f":"'Heat Pumps'!$J149","v":14363},{"$f":"'Heat Pumps'!$T149","v":94000},{"$f":"'Heat Pumps'!$AD149","v":239615},1677305]
["DFES Doc 2023",null,null,null,null,null,null,null,null,null,null,null,null,null,"BV 2023 Policy Sensitivity",{"$f":"'Heat Pumps'!$B150","v":7064},{"$f":"'Heat Pumps'!$E150","v":9513},{"$f":"'Heat Pumps'!$J150","v":14363},{"$f":"'Heat Pumps'!$T150","v":94000},{"$f":"'Heat Pumps'!$AD150","v":239615},1677305]
[null,null,null,null,null,null,null,null,null,null,null,null,null,null,"DFES 2023 - NPg Best View",{"$f":"'Heat Pumps'!$B151","v":7064},{"$f":"'Heat Pumps'!$E151","v":9542},{"$f":"'Heat Pumps'!$J151","v":18744},{"$f":"'Heat Pumps'!$T151","v":102871},{"$f":"'Heat Pumps'!$AD151","v":240675},1684725]
[null,null,null,null,null,null,null,null,null,null,null,null,null,null,"NPg ED2 Planning Scenario - needs updating to old",{"$f":"'Heat Pumps'!$B152","v":7064},{"$f":"'Heat Pumps'!$E152","v":9542},{"$f":"'Heat Pumps'!$J152","v":18744},{"$f":"'Heat Pumps'!$T152","v":102871},{"$f":"'Heat Pumps'!$AD152","v":240675},1684725]
[null,null,null,null,null,null,null,null,null,null,null,null,null,null,"DFES 2023 - Falling Short",{"$f":"'Heat Pumps'!$B153","v":7064},{"$f":"'Heat Pumps'!$E153","v":9326},{"$f":"'Heat Pumps'!$J153","v":14660},{"$f":"'Heat Pumps'!$T153","v":27382},{"$f":"'Heat Pumps'!$AD153","v":35304},247128]
[]
[]
[]
[]
[]
[]
[]
[]
[null,null,null,null,null,null,"DFES Doc 2023"]
[null,null,null,null,null,null,{"$f":"O69","v":"Total Heat Pumps (No.)"},2025,2030,2040,2050,null,null,"2027 m","Total Heat Pumps (No.)",2022,2025,2030,2040,2050,2027,"2027 % change to PS","GB rough estimate by 2050 (not UK - no NI)",null,null,null,null,null,null,null,null,null,null,null,"DFES 2023 - Consumer Transformation",null,"R 255","G 191","B 34"]
[null,null,null,null,null,null,"DFES 2023 - Consumer Transformation",{"$f":"Q70","v":131735},349942,1430085,3126136,null,null,{"$f":"U70/1000000","v":0.26884000000000002},"DFES 2023 - Consumer Transformation",{"$f":"'Heat Pumps'!$B2","v":49147},{"$f":"'Heat Pumps'!$E$2","v":131735},{"$f":"'Heat Pumps'!$J$2","v":349942},{"$f":"'Heat Pumps'!$T$2","v":1430085},{"$f":"'Heat Pumps'!$AD$2","v":3126136},{"$f":"'Heat Pumps'!$G2","v":268840},{"$f":"(U70-U$76)/U$76","v":0},{"$f":"T70*7","v":21882952},null,null,null,null,null,null,null,null,null,null,null,"DFES 2023 - System Transformation",null,"R 91","G 203","B 245"]
[null,null,null,null,null,null,"DFES 2023 - System Transformation",92793,200303,662282,2153549,null,null,{"$f":"U71/1000000","v":0.13117400000000001},"DFES 2023 - System Transformation",{"$f":"'Heat Pumps'!$B3","v":49147},{"$f":"'Heat Pumps'!$E$3","v":92793},{"$f":"'Heat Pumps'!$J$3","v":200303},{"$f":"'Heat Pumps'!$T$3","v":662282},{"$f":"'Heat Pumps'!$AD$3","v":2153549},{"$f":"'Heat Pumps'!$G3","v":131174},{"$f":"(U71-U$76)/U$76","v":-0.51207409611664934},{"$f":"T71*7","v":15074843},null,null,null,null,null,null,null,null,null,null,null,"DFES 2023 - Leading The Way",null,"R 194","G 205","B 35"]
[null,null,null,null,null,null,"DFES 2023 - Leading The Way",152241,454906,2410792,3240100,null,null,0.32183499999999998,"DFES 2023 - Leading The Way",{"$f":"'Heat Pumps'!$B4","v":49147},{"$f":"'Heat Pumps'!$E$4","v":152241},{"$f":"'Heat Pumps'!$J$4","v":454906},{"$f":"'Heat Pumps'!$T$4","v":2410792},{"$f":"'Heat Pumps'!$AD$4","v":3240100},{"$f":"'Heat Pumps'!$G4","v":321835},0.19712468382681148,22680700,null,null,null,null,null,null,null,null,null,null,null,"CCC 2020 - Balanced Net Zero",null,"R113","G66","B255"]
[null,null,null,null,null,null,"DFES 2023 - NPg Best View",{"$f":"Q76","v":131735},{"$f":"R76","v":349942},{"$f":"S76","v":1430085},{"$f":"T76","v":3126136},null,null,0.30533500000000002,"CCC 2020 - Balanced Net Zero",{"$f":"'Heat Pumps'!$B5","v":54255},{"$f":"'Heat Pumps'!$E$5","v":145981},{"$f":"'Heat Pumps'!$J$5","v":691754},{"$f":"'Heat Pumps'!$T$5","v":2409952},{"$f":"'Heat Pumps'!$AD$5","v":3568971},{"$f":"'Heat Pumps'!$G5","v":305335},0.13574988840946287,24982797,null,null,null,null,null,null,null,null,null,null,null,"CT 2023 Policy Sensitivity",null,"R202","G120","B128"]
[null,null,null,null,null,null,"DFES 2023 - Falling Short",{"$f":"Q78","v":80868},{"$f":"R78","v":182353},{"$f":"S78","v":371302},{"$f":"T78","v":497660},null,null,0.170463,"CT 2023 Policy Sensitivity",{"$f":"'Heat Pumps'!$B6","v":49147},{"$f":"'Heat Pumps'!$E$6","v":132433},{"$f":"'Heat Pumps'!$J$6","v":240115},{"$f":"'Heat Pumps'!$T$6","v":1270786},{"$f":"'Heat Pumps'!$AD$6","v":3125076},{"$f":"'Heat Pumps'!$G6","v":170463},-0.36593140901651539,21875532,null,null,null,null,null,null,null,null,null,null,null,"BV 2023 Policy Sensitivity",null,"R205","G231","B176"]
[null,null,null,null,null,null,null,null,null,null,null,null,null,0.170463,"BV 2023 Policy Sensitivity",{"$f":"'Heat Pumps'!$B7","v":49147},{"$f":"'Heat Pumps'!$E$7","v":132433},{"$f":"'Heat Pumps'!$J$7","v":240115},{"$f":"'Heat Pumps'!$T$7","v":1270786},{"$f":"'Heat Pumps'!$AD$7","v":3125076},{"$f":"'Heat Pumps'!$G7","v":170463},-0.36593140901651539,21875532,null,null,null,null,null,null,null,null,null,null,null,"DFES 2023 - NPg Best View",null,"R192","G0","B0"]
[null,null,null,null,null,null,null,null,null,null,null,null,null,0.26884000000000002,"DFES 2023 - NPg Best View",{"$f":"'Heat Pumps'!$B8","v":49147},{"$f":"'Heat Pumps'!$E$8","v":131735},{"$f":"'Heat Pumps'!$J$8","v":349942},{"$f":"'Heat Pumps'!$T$8","v":1430085},{"$f":"'Heat Pumps'!$AD$8","v":3126136},{"$f":"'Heat Pumps'!$G8","v":268840},0,21882952,null,null,null,null,null,null,null,null,null,null,null,"NPg ED2 Planning Scenario - needs updating to old",null,"R 0","G 171","B 132"]
[null,null,null,null,null,null,null,null,null,null,null,null,null,0.30533500000000002,"NPg ED2 Planning Scenario - needs updating to old",{"$f":"'Heat Pumps'!$B9","v":54255},{"$f":"'Heat Pumps'!$E$9","v":145981},{"$f":"'Heat Pumps'!$J$9","v":691754},{"$f":"'Heat Pumps'!$T$9","v":2409952},{"$f":"'Heat Pumps'!$AD$9","v":3568971},{"$f":"'Heat Pumps'!$G9","v":305335},0.13574988840946287,24982797,null,null,null,null,null,null,null,null,null,null,null,"DFES 2023 - Falling Short",null,"R 130","G 123","B 122"]
[null,null,null,null,null,null,null,null,null,null,null,null,null,0.118823,"DFES 2023 - Falling Short",{"$f":"'Heat Pumps'!$B10","v":49147},{"$f":"'Heat Pumps'!$E$10","v":80868},{"$f":"'Heat Pumps'!$J$10","v":182353},{"$f":"'Heat Pumps'!$T$10","v":371302},{"$f":"'Heat Pumps'!$AD$10","v":497660},{"$f":"'Heat Pumps'!$G10","v":118823},-0.55801592024996283,3483620]
[]
[null,null,null,null,null,null,null,null,null,null,null,null,null,null,"0.05 to 0.57","top","top",{"$f":"$U$72","v":321835},{"$f":"U72-$U$76","v":52995},{"$f":"S80/$R$82","v":0.26104368214686818}]
[null,null,null,null,null,null,null,null,null,null,null,null,null,null,"0.17 to 0.57","bottom","bottom",{"$f":"$U$78","v":118823},{"$f":"$U$76-U78","v":150017},{"$f":"S81/$R$82","v":0.73895631785313187}]
[null,null,null,null,null,null,null,null,null,null,null,null,null,null,null,"range","range",{"$f":"R80-R81","v":203012}]
[]
[]
[]
[]
[]
[]
[]
[]
[]
[]
[]
[]
[]
[]
[]
[]
[]
[]
[null,null,null,null,null,null,"DFES Doc 2023"]
[null,null,null,null,null,null,{"$f":"O102","v":"E_Buses&HGVs (No.)"},2025,2030,2040,2050,null,null,null,"E_Buses&HGVs (No.)",2022,2025,2030,2040,2050,2027,"2027 % change to PS"]
[null,null,null,null,null,null,"DFES 2023 - Consumer Transformation",{"$f":"Q103","v":2927.2388929146855},16536.529968754487,70861.08737196718,86438.416485091468,null,null,null,"DFES 2023 - Consumer Transformation",{"$f":"'E_Buses&HGVs'!$B2","v":673.71065672075372},{"$f":"'E_Buses&HGVs'!$E$2","v":2927.2388929146855},{"$f":"'E_Buses&HGVs'!$J$2","v":16536.529968754487},{"$f":"'E_Buses&HGVs'!$T$2","v":70861.08737196718},{"$f":"'E_Buses&HGVs'!$AD$2","v":86438.416485091468},{"$f":"'E_Buses&HGVs'!$G2","v":6482.3687328032165},{"$f":"(U103-U$109)/U$109","v":-0.21312445802186558}]
[null,null,null,null,null,null,"DFES 2023 - System Transformation",2910.3237821294333,16264.310243709466,67685.071433703226,82044.215930907667,null,null,null,"DFES 2023 - System Transformation",{"$f":"'E_Buses&HGVs'!$B3","v":673.71065672075372},{"$f":"'E_Buses&HGVs'!$E$3","v":2910.3237821294333},{"$f":"'E_Buses&HGVs'!$J$3","v":16264.310243709466},{"$f":"'E_Buses&HGVs'!$T$3","v":67685.071433703226},{"$f":"'E_Buses&HGVs'!$AD$3","v":82044.215930907667},{"$f":"'E_Buses&HGVs'!$G3","v":6406.5409015102487},-0.22232897388714531]
[null,null,null,null,null,null,"DFES 2023 - Leading The Way",3635.5669834125811,20912.988963931704,74155.640625332249,84316.432203060453,null,null,null,"DFES 2023 - Leading The Way",{"$f":"'E_Buses&HGVs'!$B4","v":673.71065672075372},{"$f":"'E_Buses&HGVs'!$E$4","v":3635.5669834125811},{"$f":"'E_Buses&HGVs'!$J$4","v":20912.988963931704},{"$f":"'E_Buses&HGVs'!$T$4","v":74155.640625332249},{"$f":"'E_Buses&HGVs'!$AD$4","v":84316.432203060453},{"$f":"'E_Buses&HGVs'!$G4","v":8238.1118575716864},0]
[null,null,null,null,null,null,"DFES 2023 - NPg Best View",{"$f":"Q109","v":3635.5669834125811},{"$f":"R109","v":20912.988963931704},{"$f":"S109","v":74155.640625332249},{"$f":"T109","v":84316.432203060453},null,null,null,"CCC 2020 - Balanced Net Zero",{"$f":"'E_Buses&HGVs'!$B5","v":0},{"$f":"'E_Buses&HGVs'!$E$5","v":0},{"$f":"'E_Buses&HGVs'!$J$5","v":0},{"$f":"'E_Buses&HGVs'!$T$5","v":0},{"$f":"'E_Buses&HGVs'!$AD$5","v":0},{"$f":"'E_Buses&HGVs'!$G5","v":0},-1]
[null,null,null,null,null,null,"DFES 2023 - Falling Short",{"$f":"Q111","v":2450.7088381662179},{"$f":"R111","v":13560.936904566275},{"$f":"S111","v":62214.208335929688},{"$f":"T111","v":84004.080492529727},null,null,null,"CT 2023 Policy Sensitivity",{"$f":"'E_Buses&HGVs'!$B6","v":0},{"$f":"'E_Buses&HGVs'!$E$6","v":0},{"$f":"'E_Buses&HGVs'!$J$6","v":0},{"$f":"'E_Buses&HGVs'!$T$6","v":0},{"$f":"'E_Buses&HGVs'!$AD$6","v":0},{"$f":"'E_Buses&HGVs'!$G6","v":0},-1]
[null,null,null,null,null,null,null,null,null,null,null,null,null,null,"BV 2023 Policy Sensitivity",{"$f":"'E_Buses&HGVs'!$B7","v":0},{"$f":"'E_Buses&HGVs'!$E$7","v":0},{"$f":"'E_Buses&HGVs'!$J$7","v":0},{"$f":"'E_Buses&HGVs'!$T$7","v":0},{"$f":"'E_Buses&HGVs'!$AD$7","v":0},{"$f":"'E_Buses&HGVs'!$G7","v":0},-1]
[null,null,null,null,null,null,null,null,null,null,null,null,null,null,"DFES 2023 - NPg Best View",{"$f":"'E_Buses&HGVs'!$B8","v":673.71065672075372},{"$f":"'E_Buses&HGVs'!$E$8","v":3635.5669834125811},{"$f":"'E_Buses&HGVs'!$J$8","v":20912.988963931704},{"$f":"'E_Buses&HGVs'!$T$8","v":74155.640625332249},{"$f":"'E_Buses&HGVs'!$AD$8","v":84316.432203060453},{"$f":"'E_Buses&HGVs'!$G8","v":8238.1118575716864},0]
[null,null,null,null,null,null,null,null,null,null,null,null,null,null,"NPg ED2 Planning Scenario - needs updating to old",{"$f":"'E_Buses&HGVs'!$B9","v":0},{"$f":"'E_Buses&HGVs'!$E$9","v":0},{"$f":"'E_Buses&HGVs'!$J$9","v":0},{"$f":"'E_Buses&HGVs'!$T$9","v":0},{"$f":"'E_Buses&HGVs'!$AD$9","v":0},{"$f":"'E_Buses&HGVs'!$G9","v":0},-1]
[null,null,null,null,null,null,null,null,null,null,null,null,null,null,"DFES 2023 - Falling Short",{"$f":"'E_Buses&HGVs'!$B10","v":673.71065672075372},{"$f":"'E_Buses&HGVs'!$E$10","v":2450.7088381662179},{"$f":"'E_Buses&HGVs'!$J$10","v":13560.936904566275},{"$f":"'E_Buses&HGVs'!$T$10","v":62214.208335929688},{"$f":"'E_Buses&HGVs'!$AD$10","v":84004.080492529727},{"$f":"'E_Buses&HGVs'!$G10","v":5285.5694725820122},-0.35840037572152883]
[]
[]
[null,null,null,null,null,null,null,null,null,null,null,null,null,null,"In PS the large vehicles are from the early net zero count of HGV depots which we think are more correct than FES"]
[]
[]
[]
[]
[]
[]
[]
[]
[]
[]
[]
[]
[]
[]
[]
[null,null,null,null,null,null,{"$f":"O130","v":"E_Buses"},2025,2030,2040,2050,null,null,null,"E_Buses",2022,2025,2030,2040,2050,2027,"2027 % change to PS"]
[null,null,null,null,null,null,"DFES 2023 - Consumer Transformation",{"$f":"Q131","v":1302.4568065777821},4260.2402428946616,12391.189681846859,15210.629264218149,null,null,null,"DFES 2023 - Consumer Transformation",{"$f":"E_Buses!$B2","v":485.2382770070642},{"$f":"E_Buses!$E$2","v":1302.4568065777821},{"$f":"E_Buses!$J$2","v":4260.2402428946616},{"$f":"E_Buses!$T$2","v":12391.189681846859},{"$f":"E_Buses!$AD$2","v":15210.629264218149},{"$f":"E_Buses!$G2","v":2264.9680498706884},{"$f":"(U131-U$137)/U$137","v":-0.16716855172198813}]
[null,null,null,null,null,null,"DFES 2023 - System Transformation",1285.5416957925299,4010.1256571995132,11327.552643060322,13854.923512503967,null,null,null,"DFES 2023 - System Transformation",{"$f":"E_Buses!$B3","v":485.2382770070642},{"$f":"E_Buses!$E$3","v":1285.5416957925299},{"$f":"E_Buses!$J$3","v":4010.1256571995132},{"$f":"E_Buses!$T$3","v":11327.552643060322},{"$f":"E_Buses!$AD$3","v":13854.923512503967},{"$f":"E_Buses!$G3","v":2189.140218577721},-0.19505053555796684]
[null,null,null,null,null,null,"DFES 2023 - Leading The Way",1566.4847398845741,4995.292477624771,12668.728838714251,14591.853591372326,null,null,null,"DFES 2023 - Leading The Way",{"$f":"E_Buses!$B4","v":485.2382770070642},{"$f":"E_Buses!$E$4","v":1566.4847398845741},{"$f":"E_Buses!$J$4","v":4995.292477624771},{"$f":"E_Buses!$T$4","v":12668.728838714251},{"$f":"E_Buses!$AD$4","v":14591.853591372326},{"$f":"E_Buses!$G4","v":2719.599571502501},0]
[null,null,null,null,null,null,"DFES 2023 - NPg Best View",{"$f":"Q137","v":1566.4847398845741},{"$f":"R137","v":4995.292477624771},{"$f":"S137","v":12668.728838714251},{"$f":"T137","v":14591.853591372326},null,null,null,"CCC 2020 - Balanced Net Zero",{"$f":"E_Buses!$B5","v":0},{"$f":"E_Buses!$E$5","v":0},{"$f":"E_Buses!$J$5","v":0},{"$f":"E_Buses!$T$5","v":0},{"$f":"E_Buses!$AD$5","v":0},{"$f":"E_Buses!$G5","v":0},-1]
[null,null,null,null,null,null,"DFES 2023 - Falling Short",{"$f":"Q139","v":1071.3034674656913},{"$f":"R139","v":3443.0537713723734},{"$f":"S139","v":10940.603006188301},{"$f":"T139","v":14404.597868758981},null,null,null,"CT 2023 Policy Sensitivity",{"$f":"E_Buses!$B6","v":0},{"$f":"E_Buses!$E$6","v":0},{"$f":"E_Buses!$J$6","v":0},{"$f":"E_Buses!$T$6","v":0},{"$f":"E_Buses!$AD$6","v":0},{"$f":"E_Buses!$G6","v":0},-1]
[null,null,null,null,null,null,null,null,null,null,null,null,null,null,"BV 2023 Policy Sensitivity",{"$f":"E_Buses!$B7","v":0},{"$f":"E_Buses!$E$7","v":0},{"$f":"E_Buses!$J$7","v":0},{"$f":"E_Buses!$T$7","v":0},{"$f":"E_Buses!$AD$7","v":0},{"$f":"E_Buses!$G7","v":0},-1]
[null,null,null,null,null,null,null,null,null,null,null,null,null,null,"DFES 2023 - NPg Best View",{"$f":"E_Buses!$B8","v":485.2382770070642},{"$f":"E_Buses!$E$8","v":1566.4847398845741},{"$f":"E_Buses!$J$8","v":4995.292477624771},{"$f":"E_Buses!$T$8","v":12668.728838714251},{"$f":"E_Buses!$AD$8","v":14591.853591372326},{"$f":"E_Buses!$G8","v":2719.599571502501},0]
[null,null,null,null,null,null,null,null,null,null,null,null,null,null,"NPg ED2 Planning Scenario - needs updating to old",{"$f":"E_Buses!$B9","v":0},{"$f":"E_Buses!$E$9","v":0},{"$f":"E_Buses!$J$9","v":0},{"$f":"E_Buses!$T$9","v":0},{"$f":"E_Buses!$AD$9","v":0},{"$f":"E_Buses!$G9","v":0},-1]
[null,null,null,null,null,null,null,null,null,null,null,null,null,null,"DFES 2023 - Falling Short",{"$f":"E_Buses!$B10","v":485.2382770070642},{"$f":"E_Buses!$E$10","v":1071.3034674656913},{"$f":"E_Buses!$J$10","v":3443.0537713723734},{"$f":"E_Buses!$T$10","v":10940.603006188301},{"$f":"E_Buses!$AD$10","v":14404.597868758981},{"$f":"E_Buses!$G10","v":1817.3086427169219},-0.33177344865041625]
[]
[]
[]
[]
[]
[]
[]
[]
[]
[]
[]
[]
[]
[]
[]
[]
[]
[null,null,null,null,null,null,{"$f":"O157","v":"E_HGVs (No.)"},2025,2030,2040,2050,null,null,null,"E_HGVs (No.)",2022,2025,2030,2040,2050,2027,"2027 % change to PS"]
[null,null,null,null,null,null,"DFES 2023 - Consumer Transformation",{"$f":"Q158","v":1624.7820863369034},12276.289725859826,58469.897690120328,71227.787220873317,null,null,null,"DFES 2023 - Consumer Transformation",{"$f":"E_HGVs!$B2","v":188.47237971368949},{"$f":"E_HGVs!$E$2","v":1624.7820863369034},{"$f":"E_HGVs!$J$2","v":12276.289725859826},{"$f":"E_HGVs!$T$2","v":58469.897690120328},{"$f":"E_HGVs!$AD$2","v":71227.787220873317},{"$f":"E_HGVs!$G2","v":4217.4006829325281},{"$f":"(U158-U$164)/U$164","v":-0.23577216751354449}]
[null,null,null,null,null,null,"DFES 2023 - System Transformation",1624.7820863369034,12254.184586509953,56357.518790642906,68189.292418403697,null,null,null,"DFES 2023 - System Transformation",{"$f":"E_HGVs!$B3","v":188.47237971368949},{"$f":"E_HGVs!$E$3","v":1624.7820863369034},{"$f":"E_HGVs!$J$3","v":12254.184586509953},{"$f":"E_HGVs!$T$3","v":56357.518790642906},{"$f":"E_HGVs!$AD$3","v":68189.292418403697},{"$f":"E_HGVs!$G3","v":4217.4006829325281},-0.23577216751354449]
[null,null,null,null,null,null,"DFES 2023 - Leading The Way",2069.082243528007,15917.696486306933,61486.911786618002,69724.578611688121,null,null,null,"DFES 2023 - Leading The Way",{"$f":"E_HGVs!$B4","v":188.47237971368949},{"$f":"E_HGVs!$E$4","v":2069.082243528007},{"$f":"E_HGVs!$J$4","v":15917.696486306933},{"$f":"E_HGVs!$T$4","v":61486.911786618002},{"$f":"E_HGVs!$AD$4","v":69724.578611688121},{"$f":"E_HGVs!$G4","v":5518.5122860691854},0]
[null,null,null,null,null,null,"DFES 2023 - NPg Best View",{"$f":"Q164","v":2069.082243528007},{"$f":"R164","v":15917.696486306933},{"$f":"S164","v":61486.911786618002},{"$f":"T164","v":69724.578611688121},null,null,null,"CCC 2020 - Balanced Net Zero",{"$f":"E_HGVs!$B5","v":0},{"$f":"E_HGVs!$E$5","v":0},{"$f":"E_HGVs!$J$5","v":0},{"$f":"E_HGVs!$T$5","v":0},{"$f":"E_HGVs!$AD$5","v":0},{"$f":"E_HGVs!$G5","v":0},-1]
[null,null,null,null,null,null,"DFES 2023 - Falling Short",{"$f":"Q166","v":1379.4053707005264},{"$f":"R166","v":10117.883133193902},{"$f":"S166","v":51273.605329741389},{"$f":"T166","v":69599.482623770746},null,null,null,"CT 2023 Policy Sensitivity",{"$f":"E_HGVs!$B6","v":0},{"$f":"E_HGVs!$E$6","v":0},{"$f":"E_HGVs!$J$6","v":0},{"$f":"E_HGVs!$T$6","v":0},{"$f":"E_HGVs!$AD$6","v":0},{"$f":"E_HGVs!$G6","v":0},-1]
[null,null,null,null,null,null,null,null,null,null,null,null,null,null,"BV 2023 Policy Sensitivity",{"$f":"E_HGVs!$B7","v":0},{"$f":"E_HGVs!$E$7","v":0},{"$f":"E_HGVs!$J$7","v":0},{"$f":"E_HGVs!$T$7","v":0},{"$f":"E_HGVs!$AD$7","v":0},{"$f":"E_HGVs!$G7","v":0},-1]
[null,null,null,null,null,null,null,null,null,null,null,null,null,null,"DFES 2023 - NPg Best View",{"$f":"E_HGVs!$B8","v":188.47237971368949},{"$f":"E_HGVs!$E$8","v":2069.082243528007},{"$f":"E_HGVs!$J$8","v":15917.696486306933},{"$f":"E_HGVs!$T$8","v":61486.911786618002},{"$f":"E_HGVs!$AD$8","v":69724.578611688121},{"$f":"E_HGVs!$G8","v":5518.5122860691854},0]
[null,null,null,null,null,null,null,null,null,null,null,null,null,null,"NPg ED2 Planning Scenario - needs updating to old",{"$f":"E_HGVs!$B9","v":0},{"$f":"E_HGVs!$E$9","v":0},{"$f":"E_HGVs!$J$9","v":0},{"$f":"E_HGVs!$T$9","v":0},{"$f":"E_HGVs!$AD$9","v":0},{"$f":"E_HGVs!$G9","v":0},-1]
[null,null,null,null,null,null,null,null,null,null,null,null,null,null,"DFES 2023 - Falling Short",{"$f":"E_HGVs!$B10","v":188.47237971368949},{"$f":"E_HGVs!$E$10","v":1379.4053707005264},{"$f":"E_HGVs!$J$10","v":10117.883133193902},{"$f":"E_HGVs!$T$10","v":51273.605329741389},{"$f":"E_HGVs!$AD$10","v":69599.482623770746},{"$f":"E_HGVs!$G10","v":3468.2608298650898},-0.37152249554281264]

{"sheet":"DFES Doc - Generation & Storage","index":3,"n_rows":362,"n_cols":23,"rows_kept":362,"cut":false,"hidden":false,"merged":[]}
[null,null,null,null,null,null,null,null,null,null,null,null,null,null,"Charts and Tables"]
[]
[]
["DFES Doc 2023",null,null,null,null,null,"DFES Doc 2023"]
[null,null,null,null,null,null,{"$f":"O5","v":"Residential PV Capacity (MW)"},2025,2030,2040,2050,null,null,null,"Residential PV Capacity (MW)",2022,2025,2030,2040,2050,"GB rough estimate by 2050 (not UK - no NI)"]
[null,null,null,null,null,null,"DFES 2023 - Consumer Transformation",{"$f":"Q6","v":618.48255876889198},991.95776661382206,2105.5954126649335,3498.0711091046596,null,null,null,"DFES 2023 - Consumer Transformation",{"$f":"'Domestic PV'!$B2","v":477.172998816252},{"$f":"'Domestic PV'!$E$2","v":618.48255876889198},{"$f":"'Domestic PV'!$J$2","v":991.95776661382206},{"$f":"'Domestic PV'!$T$2","v":2105.5954126649335},{"$f":"'Domestic PV'!$AD$2","v":3498.0711091046596},{"$f":"T6*7","v":24486.497763732616}]
[null,null,null,null,null,null,"DFES 2023 - System Transformation",533.54332479298205,674.56939964132312,1069.5265053334781,1675.1538412137129,null,null,null,"DFES 2023 - System Transformation",{"$f":"'Domestic PV'!$B3","v":477.172998816252},{"$f":"'Domestic PV'!$E$3","v":533.54332479298205},{"$f":"'Domestic PV'!$J$3","v":674.56939964132312},{"$f":"'Domestic PV'!$T$3","v":1069.5265053334781},{"$f":"'Domestic PV'!$AD$3","v":1675.1538412137129},{"$f":"T7*7","v":11726.076888495991}]
[null,null,null,null,null,null,"DFES 2023 - Leading The Way",618.48255876889198,991.95776661382206,2105.5954126649335,3498.0711091046596,null,null,null,"DFES 2023 - Leading The Way",{"$f":"'Domestic PV'!$B4","v":477.172998816252},{"$f":"'Domestic PV'!$E4","v":618.48255876889198},{"$f":"'Domestic PV'!$J4","v":991.95776661382206},{"$f":"'Domestic PV'!$T4","v":2105.5954126649335},{"$f":"'Domestic PV'!$AD4","v":3498.0711091046596},24486.497763732616]
[null,null,null,null,null,null,"DFES 2023 - NPg Best View",{"$f":"Q12","v":618.48255876889198},{"$f":"R12","v":991.95776661382206},{"$f":"S12","v":2105.5954126649335},{"$f":"T12","v":3498.0711091046596},null,null,null,"CCC 2020 - Balanced Net Zero",{"$f":"'Domestic PV'!$B5","v":483.9984241955504},{"$f":"'Domestic PV'!$E5","v":795.19796316547831},{"$f":"'Domestic PV'!$J5","v":1643.2631093487776},{"$f":"'Domestic PV'!$T5","v":3462.0510858052648},{"$f":"'Domestic PV'!$AD5","v":5362.8624689532662},37540.037282672864]
[null,null,null,null,null,null,"DFES 2023 - Falling Short",{"$f":"Q14","v":553.67720067961568},{"$f":"R14","v":584.43488113496278},{"$f":"S14","v":751.21755042246104},{"$f":"T14","v":1150.5715313109511},null,null,null,"CT 2023 Policy Sensitivity",{"$f":"'Domestic PV'!$B6","v":477.172998816252},{"$f":"'Domestic PV'!$E6","v":618.48255876889198},{"$f":"'Domestic PV'!$J6","v":991.95776661382206},{"$f":"'Domestic PV'!$T6","v":2105.5954126649335},{"$f":"'Domestic PV'!$AD6","v":3498.0711091046596},24486.497763732616]
[null,null,null,null,null,null,null,null,null,null,null,null,null,null,"BV 2023 Policy Sensitivity",{"$f":"'Domestic PV'!$B7","v":477.172998816252},{"$f":"'Domestic PV'!$E7","v":618.48255876889198},{"$f":"'Domestic PV'!$J7","v":991.95776661382206},{"$f":"'Domestic PV'!$T7","v":2105.5954126649335},{"$f":"'Domestic PV'!$AD7","v":3498.0711091046596},24486.497763732616]
[null,null,null,null,null,null,null,null,null,null,null,null,null,null,"DFES 2023 - NPg Best View",{"$f":"'Domestic PV'!$B8","v":477.172998816252},{"$f":"'Domestic PV'!$E8","v":618.48255876889198},{"$f":"'Domestic PV'!$J8","v":991.95776661382206},{"$f":"'Domestic PV'!$T8","v":2105.5954126649335},{"$f":"'Domestic PV'!$AD8","v":3498.0711091046596},24486.497763732616]
[null,null,null,null,null,null,null,null,null,null,null,null,null,null,"NPg ED2 Planning Scenario - needs updating to old",{"$f":"'Domestic PV'!$B9","v":477.172998816252},{"$f":"'Domestic PV'!$E$9","v":618.48255876889198},{"$f":"'Domestic PV'!$J$9","v":991.95776661382206},{"$f":"'Domestic PV'!$T$9","v":2105.5954126649335},{"$f":"'Domestic PV'!$AD$9","v":3498.0711091046596},24486.497763732616]
[null,null,null,null,null,null,null,null,null,null,null,null,null,null,"DFES 2023 - Falling Short",{"$f":"'Domestic PV'!$B10","v":477.172998816252},{"$f":"'Domestic PV'!$E$10","v":553.67720067961568},{"$f":"'Domestic PV'!$J$10","v":584.43488113496278},{"$f":"'Domestic PV'!$T$10","v":751.21755042246104},{"$f":"'Domestic PV'!$AD$10","v":1150.5715313109511},8054.0007191766572]
[]
[]
[]
[]
[]
[]
[]
[]
[]
[]
[]
[]
["DFES Doc 2023"]
[]
[]
[]
[]
[]
[]
[]
[null,null,null,null,null,null,"DFES Doc 2023"]
[null,null,null,null,null,null,{"$f":"O36","v":"Large Scale PV Capacity (MW)"},2025,2030,2040,2050,null,null,null,"Large Scale PV Capacity (MW)",2022,2025,2030,2040,2050,"GB rough estimate by 2050 (not UK - no NI)"]
[null,null,null,null,null,null,"DFES 2023 - Consumer Transformation",{"$f":"Q37","v":1715.6883203533712},2369.1442033869289,3846.9056271965601,5298.0461484479729,null,null,null,"DFES 2023 - Consumer Transformation",{"$f":"'Large I&C Solar Generation'!$B2","v":378.97451764963301},{"$f":"'Large I&C Solar Generation'!$E$2","v":1715.6883203533712},{"$f":"'Large I&C Solar Generation'!$J$2","v":2369.1442033869289},{"$f":"'Large I&C Solar Generation'!$T$2","v":3846.9056271965601},{"$f":"'Large I&C Solar Generation'!$AD$2","v":5298.0461484479729},{"$f":"T37*7","v":37086.323039135808}]
[null,null,null,null,null,null,"DFES 2023 - System Transformation",1687.1451543785192,2185.2242791905619,3319.359094971287,4338.7261532034936,null,null,null,"DFES 2023 - System Transformation",{"$f":"'Large I&C Solar Generation'!$B3","v":378.97451764963301},{"$f":"'Large I&C Solar Generation'!$E$3","v":1687.1451543785192},{"$f":"'Large I&C Solar Generation'!$J$3","v":2185.2242791905619},{"$f":"'Large I&C Solar Generation'!$T$3","v":3319.359094971287},{"$f":"'Large I&C Solar Generation'!$AD$3","v":4338.7261532034936},{"$f":"T38*7","v":30371.083072424455}]
[null,null,null,null,null,null,"DFES 2023 - Leading The Way",2272.617352327055,3251.6192353606129,5105.3146591702443,6398.4701804216584,null,null,null,"DFES 2023 - Leading The Way",{"$f":"'Large I&C Solar Generation'!$B4","v":378.97451764963301},{"$f":"'Large I&C Solar Generation'!$E4","v":2272.617352327055},{"$f":"'Large I&C Solar Generation'!$J4","v":3251.6192353606129},{"$f":"'Large I&C Solar Generation'!$T4","v":5105.3146591702443},{"$f":"'Large I&C Solar Generation'!$AD4","v":6398.4701804216584},44789.291262951607]
[null,null,null,null,null,null,"DFES 2023 - NPg Best View",{"$f":"Q43","v":2272.617352327055},{"$f":"R43","v":3251.6192353606129},{"$f":"S43","v":5105.3146591702443},{"$f":"T43","v":6398.4701804216584},null,null,null,"CCC 2020 - Balanced Net Zero",{"$f":"'Large I&C Solar Generation'!$B5","v":734.18266428612765},{"$f":"'Large I&C Solar Generation'!$E5","v":854.71637952415551},{"$f":"'Large I&C Solar Generation'!$J5","v":1201.887247609568},{"$f":"'Large I&C Solar Generation'!$T5","v":2000.9047007724821},{"$f":"'Large I&C Solar Generation'!$AD5","v":2585.601096195518},18099.207673368626]
[null,null,null,null,null,null,"DFES 2023 - Falling Short",{"$f":"Q45","v":1132.1616732799007},{"$f":"R45","v":1377.6918702482658},{"$f":"S45","v":2090.7083518448303},{"$f":"T45","v":3056.5696942679965},null,null,null,"CT 2023 Policy Sensitivity",{"$f":"'Large I&C Solar Generation'!$B6","v":378.97451764963301},{"$f":"'Large I&C Solar Generation'!$E6","v":1715.6883203533712},{"$f":"'Large I&C Solar Generation'!$J6","v":2369.1442033869289},{"$f":"'Large I&C Solar Generation'!$T6","v":3846.9056271965601},{"$f":"'Large I&C Solar Generation'!$AD6","v":5298.0461484479729},37086.323039135808]
[null,null,null,null,null,null,null,null,null,null,null,null,null,null,"BV 2023 Policy Sensitivity",{"$f":"'Large I&C Solar Generation'!$B7","v":378.97451764963301},{"$f":"'Large I&C Solar Generation'!$E7","v":2272.617352327055},{"$f":"'Large I&C Solar Generation'!$J7","v":3251.6192353606129},{"$f":"'Large I&C Solar Generation'!$T7","v":5105.3146591702443},{"$f":"'Large I&C Solar Generation'!$AD7","v":6398.4701804216584},44789.291262951607]
[null,null,null,null,null,null,null,null,null,null,null,null,null,null,"DFES 2023 - NPg Best View",{"$f":"'Large I&C Solar Generation'!$B8","v":378.97451764963301},{"$f":"'Large I&C Solar Generation'!$E8","v":2272.617352327055},{"$f":"'Large I&C Solar Generation'!$J8","v":3251.6192353606129},{"$f":"'Large I&C Solar Generation'!$T8","v":5105.3146591702443},{"$f":"'Large I&C Solar Generation'!$AD8","v":6398.4701804216584},44789.291262951607]
[null,null,null,null,null,null,null,null,null,null,null,null,null,null,"NPg ED2 Planning Scenario - needs updating to old",{"$f":"'Large I&C Solar Generation'!$B9","v":378.97451764963301},{"$f":"'Large I&C Solar Generation'!$E$9","v":2272.617352327055},{"$f":"'Large I&C Solar Generation'!$J$9","v":3251.6192353606129},{"$f":"'Large I&C Solar Generation'!$T$9","v":5105.3146591702443},{"$f":"'Large I&C Solar Generation'!$AD$9","v":6398.4701804216584},44789.291262951607]
[null,null,null,null,null,null,null,null,null,null,null,null,null,null,"DFES 2023 - Falling Short",{"$f":"'Large I&C Solar Generation'!$B10","v":378.97451764963301},{"$f":"'Large I&C Solar Generation'!$E$10","v":1132.1616732799007},{"$f":"'Large I&C Solar Generation'!$J$10","v":1377.6918702482658},{"$f":"'Large I&C Solar Generation'!$T$10","v":2090.7083518448303},{"$f":"'Large I&C Solar Generation'!$AD$10","v":3056.5696942679965},21395.987859875975]
[]
[]
[null,null,null,null,null,null,null,null,null,null,null,null,null,null,"DFES 2023 - Consumer Transformation",null,"R 255","G 191","B 34"]
[null,null,null,null,null,null,null,null,null,null,null,null,null,null,"DFES 2023 - System Transformation",null,"R 91","G 203","B 245"]
["DFES Doc 2023",null,null,null,null,null,null,null,null,null,null,null,null,null,"DFES 2023 - Leading The Way",null,"R 194","G 205","B 35"]
[null,null,null,null,null,null,null,null,null,null,null,null,null,null,"CCC 2020 - Balanced Net Zero",null,"R113","G66","B255"]
[null,null,null,null,null,null,null,null,null,null,null,null,null,null,"CT 2023 Policy Sensitivity",null,"R202","G120","B128"]
[null,null,null,null,null,null,null,null,null,null,null,null,null,null,"BV 2023 Policy Sensitivity",null,"R205","G231","B176"]
[null,null,null,null,null,null,null,null,null,null,null,null,null,null,"DFES 2023 - NPg Best View",null,"R192","G0","B0"]
[null,null,null,null,null,null,null,null,null,null,null,null,null,null,"NPg ED2 Planning Scenario - needs updating to old",null,"R 0","G 171","B 132"]
[null,null,null,null,null,null,null,null,null,null,null,null,null,null,"DFES 2023 - Falling Short",null,"R 130","G 123","B 122"]
[]
[]
[]
[]
[]
[]
[]
[]
[]
[null,null,null,null,null,null,"DFES Doc 2023"]
[null,null,null,null,null,null,{"$f":"O67","v":"Wind Energy Capacity (MW)"},2025,2030,2040,2050,null,null,null,"Wind Energy Capacity (MW)",2022,2025,2030,2040,2050,"GB rough estimate by 2050 (not UK - no NI)"]
[null,null,null,null,null,null,"DFES 2023 - Consumer Transformation",{"$f":"Q68","v":1337.4567047779453},1698.0656047779453,3538.3306047779447,4776.9936047779447,null,null,null,"DFES 2023 - Consumer Transformation",{"$f":"'Wind Generation'!$B2","v":1297.6827047779452},{"$f":"'Wind Generation'!$E$2","v":1337.4567047779453},{"$f":"'Wind Generation'!$J$2","v":1698.0656047779453},{"$f":"'Wind Generation'!$T$2","v":3538.3306047779447},{"$f":"'Wind Generation'!$AD$2","v":4776.9936047779447},{"$f":"T68*7","v":33438.955233445609}]
[null,null,null,null,null,null,"DFES 2023 - System Transformation",1323.2517047779452,1419.1528547779453,1886.635854777945,2416.5288547779455,null,null,null,"DFES 2023 - System Transformation",{"$f":"'Wind Generation'!$B3","v":1297.6827047779452},{"$f":"'Wind Generation'!$E$3","v":1323.2517047779452},{"$f":"'Wind Generation'!$J$3","v":1419.1528547779453},{"$f":"'Wind Generation'!$T$3","v":1886.635854777945},{"$f":"'Wind Generation'!$AD$3","v":2416.5288547779455},{"$f":"T69*7","v":16915.701983445619}]
[null,null,null,null,null,null,"DFES 2023 - Leading The Way",1323.2517047779452,1571.4928547779455,2840.3908547779452,3799.2428547779464,null,null,null,"DFES 2023 - Leading The Way",{"$f":"'Wind Generation'!$B4","v":1297.6827047779452},{"$f":"'Wind Generation'!$E4","v":1323.2517047779452},{"$f":"'Wind Generation'!$J4","v":1571.4928547779455},{"$f":"'Wind Generation'!$T4","v":2840.3908547779452},{"$f":"'Wind Generation'!$AD4","v":3799.2428547779464},{"$f":"T70*7","v":26594.699983445626}]
[null,null,null,null,null,null,"DFES 2023 - NPg Best View",{"$f":"Q74","v":1337.4567047779453},{"$f":"R74","v":1698.0656047779453},{"$f":"S74","v":3538.3306047779447},{"$f":"T74","v":4776.9936047779447},null,null,null,"CCC 2020 - Balanced Net Zero",{"$f":"'Wind Generation'!$B5","v":1388.6105277534753},{"$f":"'Wind Generation'!$E5","v":1552.6919671344103},{"$f":"'Wind Generation'!$J5","v":2090.6335449079029},{"$f":"'Wind Generation'!$T5","v":4059.1759557216292},{"$f":"'Wind Generation'!$AD5","v":5383.679718720874},37685.75803104612]
[null,null,null,null,null,null,"DFES 2023 - Falling Short",{"$f":"Q76","v":1309.0467047779453},{"$f":"R76","v":1343.2247047779454},{"$f":"S76","v":1624.7231047779455},{"$f":"T76","v":1887.107104777946},null,null,null,"CT 2023 Policy Sensitivity",{"$f":"'Wind Generation'!$B6","v":1297.6827047779452},{"$f":"'Wind Generation'!$E6","v":1337.4567047779453},{"$f":"'Wind Generation'!$J6","v":1698.0656047779453},{"$f":"'Wind Generation'!$T6","v":3538.3306047779447},{"$f":"'Wind Generation'!$AD6","v":4776.9936047779447},33438.955233445609]
[null,null,null,null,null,null,null,null,null,null,null,null,null,null,"BV 2023 Policy Sensitivity",{"$f":"'Wind Generation'!$B7","v":1297.6827047779452},{"$f":"'Wind Generation'!$E7","v":1337.4567047779453},{"$f":"'Wind Generation'!$J7","v":1698.0656047779453},{"$f":"'Wind Generation'!$T7","v":3538.3306047779447},{"$f":"'Wind Generation'!$AD7","v":4776.9936047779447},33438.955233445609]
[null,null,null,null,null,null,null,null,null,null,null,null,null,null,"DFES 2023 - NPg Best View",{"$f":"'Wind Generation'!$B8","v":1297.6827047779452},{"$f":"'Wind Generation'!$E8","v":1337.4567047779453},{"$f":"'Wind Generation'!$J8","v":1698.0656047779453},{"$f":"'Wind Generation'!$T8","v":3538.3306047779447},{"$f":"'Wind Generation'!$AD8","v":4776.9936047779447},33438.955233445609]
[null,null,null,null,null,null,null,null,null,null,null,null,null,null,"NPg ED2 Planning Scenario - needs updating to old",{"$f":"'Wind Generation'!$B9","v":1297.6827047779452},{"$f":"'Wind Generation'!$E$9","v":1337.4567047779453},{"$f":"'Wind Generation'!$J$9","v":1698.0656047779453},{"$f":"'Wind Generation'!$T$9","v":3538.3306047779447},{"$f":"'Wind Generation'!$AD$9","v":4776.9936047779447},33438.955233445609]
[null,null,null,null,null,null,null,null,null,null,null,null,null,null,"DFES 2023 - Falling Short",{"$f":"'Wind Generation'!$B10","v":1297.6827047779452},{"$f":"'Wind Generation'!$E$10","v":1309.0467047779453},{"$f":"'Wind Generation'!$J$10","v":1343.2247047779454},{"$f":"'Wind Generation'!$T$10","v":1624.7231047779455},{"$f":"'Wind Generation'!$AD$10","v":1887.107104777946},13209.749733445622]
[]
[]
[]
[]
[]
[]
[]
[]
[]
[]
[]
[]
[]
[]
[]
[]
[]
[]
[]
[]
[]
[null,null,null,null,null,null,{"$f":"O98","v":"Total Biomass DG Capacity (MW)"},2025,2030,2040,2050,null,null,null,"Total Biomass DG Capacity (MW)",2022,2025,2030,2040,2050,"GB rough estimate by 2050 (not UK - no NI)"]
[null,null,null,null,null,null,"DFES 2023 - Consumer Transformation",{"$f":"Q99","v":686.5150000000001},656.65657835425691,499.85112219683367,369.00121100567253,null,null,null,"DFES 2023 - Consumer Transformation",{"$f":"'Biomass Generation'!$B2","v":669.19900000000007},{"$f":"'Biomass Generation'!$E$2","v":686.5150000000001},{"$f":"'Biomass Generation'!$J$2","v":656.65657835425691},{"$f":"'Biomass Generation'!$T$2","v":499.85112219683367},{"$f":"'Biomass Generation'!$AD$2","v":369.00121100567253},{"$f":"T99*7","v":2583.0084770397079}]
[null,null,null,null,null,null,"DFES 2023 - System Transformation",708.15999999999985,701.87999999999977,631.52855977311197,556.55826722223708,null,null,null,"DFES 2023 - System Transformation",{"$f":"'Biomass Generation'!$B3","v":669.19900000000007},{"$f":"'Biomass Generation'!$E$3","v":708.15999999999985},{"$f":"'Biomass Generation'!$J$3","v":701.87999999999977},{"$f":"'Biomass Generation'!$T$3","v":631.52855977311197},{"$f":"'Biomass Generation'!$AD$3","v":556.55826722223708},{"$f":"T100*7","v":3895.9078705556594}]
[null,null,null,null,null,null,"DFES 2023 - Leading The Way",708.15999999999985,695.62899999999991,597.28695713325601,473.71208224952261,null,null,null,"DFES 2023 - Leading The Way",{"$f":"'Biomass Generation'!$B4","v":669.19900000000007},{"$f":"'Biomass Generation'!$E4","v":708.15999999999985},{"$f":"'Biomass Generation'!$J4","v":695.62899999999991},{"$f":"'Biomass Generation'!$T4","v":597.28695713325601},{"$f":"'Biomass Generation'!$AD4","v":473.71208224952261},3315.9845757466583]
[null,null,null,null,null,null,"DFES 2023 - NPg Best View",{"$f":"Q105","v":708.15999999999985},{"$f":"R105","v":695.62899999999991},{"$f":"S105","v":597.28695713325601},{"$f":"T105","v":473.71208224952261},null,null,null,"CCC 2020 - Balanced Net Zero",{"$f":"'Biomass Generation'!$B5","v":675.3673500000001},{"$f":"'Biomass Generation'!$E5","v":675.3673500000001},{"$f":"'Biomass Generation'!$J5","v":675.3673500000001},{"$f":"'Biomass Generation'!$T5","v":438.7471274925702},{"$f":"'Biomass Generation'!$AD5","v":211.17488004107585},1478.224160287531]
[null,null,null,null,null,null,"DFES 2023 - Falling Short",{"$f":"Q107","v":729.80500000000006},{"$f":"R107","v":770.79100000000005},{"$f":"S107","v":741.16800000000012},{"$f":"T107","v":741.16800000000012},null,null,null,"CT 2023 Policy Sensitivity",{"$f":"'Biomass Generation'!$B6","v":669.19900000000007},{"$f":"'Biomass Generation'!$E6","v":686.5150000000001},{"$f":"'Biomass Generation'!$J6","v":659.66532087959365},{"$f":"'Biomass Generation'!$T6","v":540.47518794053633},{"$f":"'Biomass Generation'!$AD6","v":441.01424638834396},3087.0997247184077]
[null,null,null,null,null,null,null,null,null,null,null,null,null,null,"BV 2023 Policy Sensitivity",{"$f":"'Biomass Generation'!$B7","v":669.19900000000007},{"$f":"'Biomass Generation'!$E7","v":708.15999999999985},{"$f":"'Biomass Generation'!$J7","v":695.62899999999991},{"$f":"'Biomass Generation'!$T7","v":614.5375988010428},{"$f":"'Biomass Generation'!$AD7","v":520.60651932041162},3644.2456352428812]
[null,null,null,null,null,null,null,null,null,null,null,null,null,null,"DFES 2023 - NPg Best View",{"$f":"'Biomass Generation'!$B8","v":669.19900000000007},{"$f":"'Biomass Generation'!$E8","v":708.15999999999985},{"$f":"'Biomass Generation'!$J8","v":695.62899999999991},{"$f":"'Biomass Generation'!$T8","v":597.28695713325601},{"$f":"'Biomass Generation'!$AD8","v":473.71208224952261},3315.9845757466583]
[null,null,null,null,null,null,null,null,null,null,null,null,null,null,"NPg ED2 Planning Scenario - needs updating to old",{"$f":"'Biomass Generation'!$B9","v":669.19900000000007},{"$f":"'Biomass Generation'!$E$9","v":708.15999999999985},{"$f":"'Biomass Generation'!$J$9","v":695.62899999999991},{"$f":"'Biomass Generation'!$T$9","v":597.28695713325601},{"$f":"'Biomass Generation'!$AD$9","v":473.71208224952261},3315.9845757466583]
[null,null,null,null,null,null,null,null,null,null,null,null,null,null,"DFES 2023 - Falling Short",{"$f":"'Biomass Generation'!$B10","v":669.19900000000007},{"$f":"'Biomass Generation'!$E$10","v":729.80500000000006},{"$f":"'Biomass Generation'!$J$10","v":770.79100000000005},{"$f":"'Biomass Generation'!$T$10","v":741.16800000000012},{"$f":"'Biomass Generation'!$AD$10","v":741.16800000000012},5188.1760000000013]
[]
[]
[]
[]
[]
[]
[]
[]
[]
[]
[]
[]
[]
[]
[]
[]
[]
[]
[]
[]
[]
[]
[]
[]
[]
[]
[]
[]
[]
[]
[]
[]
[null,null,null,null,null,null,"DFES Doc 2023 uses totals in infographics - see further below for total reneable + non-renewable"]
[null,null,null,null,null,null,{"$f":"O141","v":"Total Renewable DG Capacity (MW)"},2025,2030,2040,2050,null,null,null,"Total Renewable DG Capacity (MW)",2022,2025,2030,2040,2050,"GB rough estimate by 2050 (not UK - no NI)"]
[null,null,null,null,null,null,"DFES 2023 - Consumer Transformation",{"$f":"Q142","v":4556.5919839002081},5922.2261531329532,10214.672766836273,14173.552073336248,null,null,null,"DFES 2023 - Consumer Transformation",{"$f":"'Total Renewable Generation'!$B2","v":3017.1022212438306},{"$f":"'Total Renewable Generation'!$E$2","v":4556.5919839002081},{"$f":"'Total Renewable Generation'!$J$2","v":5922.2261531329532},{"$f":"'Total Renewable Generation'!$T$2","v":10214.672766836273},{"$f":"'Total Renewable Generation'!$AD$2","v":14173.552073336248},{"$f":"T142*7","v":99214.864513353736}]
[null,null,null,null,null,null,"DFES 2023 - System Transformation",4451.8535839494471,5187.6190336098307,7126.9955148558229,9210.173616417389,null,null,null,"DFES 2023 - System Transformation",{"$f":"'Total Renewable Generation'!$B3","v":3017.1022212438306},{"$f":"'Total Renewable Generation'!$E$3","v":4451.8535839494471},{"$f":"'Total Renewable Generation'!$J$3","v":5187.6190336098307},{"$f":"'Total Renewable Generation'!$T$3","v":7126.9955148558229},{"$f":"'Total Renewable Generation'!$AD$3","v":9210.173616417389},{"$f":"T143*7","v":64471.215314921719}]
[null,null,null,null,null,null,"DFES 2023 - Leading The Way",5122.2650158738916,6722.9098567523797,10887.69888374638,14416.723226553786,null,null,null,"DFES 2023 - Leading The Way",{"$f":"'Total Renewable Generation'!$B4","v":3017.1022212438306},{"$f":"'Total Renewable Generation'!$E4","v":5122.2650158738916},{"$f":"'Total Renewable Generation'!$J4","v":6722.9098567523797},{"$f":"'Total Renewable Generation'!$T4","v":10887.69888374638},{"$f":"'Total Renewable Generation'!$AD4","v":14416.723226553786},100917.0625858765]
[null,null,null,null,null,null,"DFES 2023 - NPg Best View",{"$f":"Q148","v":5136.4700158738924},{"$f":"R148","v":6849.48260675238},{"$f":"S148","v":11585.638633746379},{"$f":"T148","v":15394.473976553785},null,null,null,"CCC 2020 - Balanced Net Zero",{"$f":"'Total Renewable Generation'!$B5","v":3515.0460365259919},{"$f":"'Total Renewable Generation'!$E5","v":4113.2608056297213},{"$f":"'Total Renewable Generation'!$J5","v":5857.0799218000393},{"$f":"'Total Renewable Generation'!$T5","v":10225.992532508841},{"$f":"'Total Renewable Generation'!$AD5","v":13816.226862890813},96713.588040235685]
[null,null,null,null,null,null,"DFES 2023 - Falling Short",{"$f":"Q150","v":3923.9849787374615},{"$f":"R150","v":4279.6684561611746},{"$f":"S150","v":5413.9560070452371},{"$f":"T150","v":7043.3803303568939},null,null,null,"CT 2023 Policy Sensitivity",{"$f":"'Total Renewable Generation'!$B6","v":3017.1022212438306},{"$f":"'Total Renewable Generation'!$E6","v":4556.5919839002081},{"$f":"'Total Renewable Generation'!$J6","v":5925.23489565829},{"$f":"'Total Renewable Generation'!$T6","v":10255.296832579974},{"$f":"'Total Renewable Generation'!$AD6","v":14245.56510871892},99718.955761032441]
[null,null,null,null,null,null,null,null,null,null,null,null,null,null,"BV 2023 Policy Sensitivity",{"$f":"'Total Renewable Generation'!$B7","v":3017.1022212438306},{"$f":"'Total Renewable Generation'!$E7","v":5136.4700158738924},{"$f":"'Total Renewable Generation'!$J7","v":6849.48260675238},{"$f":"'Total Renewable Generation'!$T7","v":11602.889275414167},{"$f":"'Total Renewable Generation'!$AD7","v":15441.368413624674},108089.57889537272]
[null,null,null,null,null,null,null,null,null,null,null,null,null,null,"DFES 2023 - NPg Best View",{"$f":"'Total Renewable Generation'!$B8","v":3017.1022212438306},{"$f":"'Total Renewable Generation'!$E8","v":5136.4700158738924},{"$f":"'Total Renewable Generation'!$J8","v":6849.48260675238},{"$f":"'Total Renewable Generation'!$T8","v":11585.638633746379},{"$f":"'Total Renewable Generation'!$AD8","v":15394.473976553785},107761.3178358765]
[null,null,null,null,null,null,null,null,null,null,null,null,null,null,"NPg ED2 Planning Scenario - needs updating to old",{"$f":"'Total Renewable Generation'!$B9","v":3017.1022212438306},{"$f":"'Total Renewable Generation'!$E$9","v":5136.4700158738924},{"$f":"'Total Renewable Generation'!$J$9","v":6849.48260675238},{"$f":"'Total Renewable Generation'!$T$9","v":11585.638633746379},{"$f":"'Total Renewable Generation'!$AD$9","v":15394.473976553785},107761.3178358765]
[null,null,null,null,null,null,null,null,null,null,null,null,null,null,"DFES 2023 - Falling Short",{"$f":"'Total Renewable Generation'!$B10","v":3017.1022212438306},{"$f":"'Total Renewable Generation'!$E$10","v":3923.9849787374615},{"$f":"'Total Renewable Generation'!$J$10","v":4279.6684561611746},{"$f":"'Total Renewable Generation'!$T$10","v":5413.9560070452371},{"$f":"'Total Renewable Generation'!$AD$10","v":7043.3803303568939},49303.662312498258]
[]
[null,null,null,null,null,null,null,null,null,null,null,null,null,null,"DFES 2023 - Consumer Transformation",null,"R 255","G 191","B 34"]
[null,null,null,null,null,null,null,null,null,null,null,null,null,null,"DFES 2023 - System Transformation",null,"R 91","G 203","B 245"]
[null,null,null,null,null,null,null,null,null,null,null,null,null,null,"DFES 2023 - Leading The Way",null,"R 194","G 205","B 35"]
[null,null,null,null,null,null,null,null,null,null,null,null,null,null,"CCC 2020 - Balanced Net Zero",null,"R113","G66","B255"]
[null,null,null,null,null,null,null,null,null,null,null,null,null,null,"CT 2023 Policy Sensitivity",null,"R202","G120","B128"]
[null,null,null,null,null,null,null,null,null,null,null,null,null,null,"BV 2023 Policy Sensitivity",null,"R205","G231","B176"]
[null,null,null,null,null,null,null,null,null,null,null,null,null,null,"DFES 2023 - NPg Best View",null,"R192","G0","B0"]
[null,null,null,null,null,null,null,null,null,null,null,null,null,null,"NPg ED2 Planning Scenario - needs updating to old",null,"R 0","G 171","B 132"]
[null,null,null,null,null,null,null,null,null,null,null,null,null,null,"DFES 2023 - Falling Short",null,"R 130","G 123","B 122"]
[]
[]
[]
[]
[]
[]
[]
[]
[]
[]
[]
[null,null,null,null,null,null,{"$f":"O172","v":"Total Non Renewable DG Capacity (MW)"},2025,2030,2040,2050,null,null,null,"Total Non Renewable DG Capacity (MW)",2022,2025,2030,2040,2050,"GB rough estimate by 2050 (not UK - no NI)"]
[null,null,null,null,null,null,"DFES 2023 - Consumer Transformation",{"$f":"Q173","v":1749.2211299999999},2053.8289500000001,607.21153892706991,0,null,null,null,"DFES 2023 - Consumer Transformation",{"$f":"'Total Non Renewable Generation'!$B2","v":1653.2599999999998},{"$f":"'Total Non Renewable Generation'!$E2","v":1749.2211299999999},{"$f":"'Total Non Renewable Generation'!$J2","v":2053.8289500000001},{"$f":"'Total Non Renewable Generation'!$T2","v":607.21153892706991},{"$f":"'Total Non Renewable Generation'!$AD2","v":0},{"$f":"T173*7","v":0}]
[null,null,null,null,null,null,"DFES 2023 - System Transformation",1803.8254799999997,2093.4613999999992,710.62797691654896,0,null,null,null,"DFES 2023 - System Transformation",{"$f":"'Total Non Renewable Generation'!$B3","v":1653.2599999999998},{"$f":"'Total Non Renewable Generation'!$E3","v":1803.8254799999997},{"$f":"'Total Non Renewable Generation'!$J3","v":2093.4613999999992},{"$f":"'Total Non Renewable Generation'!$T3","v":710.62797691654896},{"$f":"'Total Non Renewable Generation'!$AD3","v":0},{"$f":"T174*7","v":0}]
[null,null,null,null,null,null,"DFES 2023 - Leading The Way",1803.8254799999997,1867.2423999999996,205.19954944158479,0,null,null,null,"DFES 2023 - Leading The Way",{"$f":"'Total Non Renewable Generation'!$B4","v":1653.2599999999998},{"$f":"'Total Non Renewable Generation'!$E4","v":1803.8254799999997},{"$f":"'Total Non Renewable Generation'!$J4","v":1867.2423999999996},{"$f":"'Total Non Renewable Generation'!$T4","v":205.19954944158479},{"$f":"'Total Non Renewable Generation'!$AD4","v":0},0]
[null,null,null,null,null,null,"DFES 2023 - NPg Best View",{"$f":"Q179","v":1803.8254799999997},{"$f":"R179","v":1867.2423999999996},{"$f":"S179","v":205.19954944158479},{"$f":"T179","v":0},null,null,null,"CCC 2020 - Balanced Net Zero",{"$f":"'Total Non Renewable Generation'!$B5","v":2041.0465553176023},{"$f":"'Total Non Renewable Generation'!$E5","v":2444.1220574460235},{"$f":"'Total Non Renewable Generation'!$J5","v":2805.5588351204628},{"$f":"'Total Non Renewable Generation'!$T5","v":1567.4150647753927},{"$f":"'Total Non Renewable Generation'!$AD5","v":617.98433249671859},4325.89032747703]
[null,null,null,null,null,null,"DFES 2023 - Falling Short",{"$f":"Q181","v":1962.1543799999999},{"$f":"R181","v":2625.2851000000001},{"$f":"S181","v":2696.9071000000004},{"$f":"T181","v":2231.3434928512274},null,null,null,"CT 2023 Policy Sensitivity",{"$f":"'Total Non Renewable Generation'!$B6","v":1653.2599999999998},{"$f":"'Total Non Renewable Generation'!$E6","v":1749.2211299999999},{"$f":"'Total Non Renewable Generation'!$J6","v":2053.8289500000001},{"$f":"'Total Non Renewable Generation'!$T6","v":1225.5157743541602},{"$f":"'Total Non Renewable Generation'!$AD6","v":913.952},6397.6639999999998]
[null,null,null,null,null,null,null,null,null,null,null,null,null,null,"BV 2023 Policy Sensitivity",{"$f":"'Total Non Renewable Generation'!$B7","v":1653.2599999999998},{"$f":"'Total Non Renewable Generation'!$E7","v":1803.8254799999997},{"$f":"'Total Non Renewable Generation'!$J7","v":1867.2423999999996},{"$f":"'Total Non Renewable Generation'!$T7","v":1020.1465494415849},{"$f":"'Total Non Renewable Generation'!$AD7","v":913.952},6397.6639999999998]
[null,null,null,null,null,null,null,null,null,null,null,null,null,null,"DFES 2023 - NPg Best View",{"$f":"'Total Non Renewable Generation'!$B8","v":1653.2599999999998},{"$f":"'Total Non Renewable Generation'!$E8","v":1803.8254799999997},{"$f":"'Total Non Renewable Generation'!$J8","v":1867.2423999999996},{"$f":"'Total Non Renewable Generation'!$T8","v":205.19954944158479},{"$f":"'Total Non Renewable Generation'!$AD8","v":0},0]
[null,null,null,null,null,null,null,null,null,null,null,null,null,null,"NPg ED2 Planning Scenario - needs updating to old",{"$f":"'Total Non Renewable Generation'!$B9","v":1653.2599999999998},{"$f":"'Total Non Renewable Generation'!$E9","v":1803.8254799999997},{"$f":"'Total Non Renewable Generation'!$J9","v":1867.2423999999996},{"$f":"'Total Non Renewable Generation'!$T9","v":205.19954944158479},{"$f":"'Total Non Renewable Generation'!$AD9","v":0},0]
[null,null,null,null,null,null,null,null,null,null,null,null,null,null,"DFES 2023 - Falling Short",{"$f":"'Total Non Renewable Generation'!$B10","v":1653.2599999999998},{"$f":"'Total Non Renewable Generation'!$E10","v":1962.1543799999999},{"$f":"'Total Non Renewable Generation'!$J10","v":2625.2851000000001},{"$f":"'Total Non Renewable Generation'!$T10","v":2696.9071000000004},{"$f":"'Total Non Renewable Generation'!$AD10","v":2231.3434928512274},15619.404449958593]
[]
[]
[null,null,null,null,null,null,null,null,null,null,null,null,null,null,"DFES 2023 - Consumer Transformation",null,"R 255","G 191","B 34",null,null,null,{"$f":"5*219","v":1095}]
[null,null,null,null,null,null,null,null,null,null,null,null,null,null,"DFES 2023 - System Transformation",null,"R 91","G 203","B 245"]
[null,null,null,null,null,null,null,null,null,null,null,null,null,null,"DFES 2023 - Leading The Way",null,"R 194","G 205","B 35"]
[null,null,null,null,null,null,null,null,null,null,null,null,null,null,"CCC 2020 - Balanced Net Zero",null,"R113","G66","B255"]
[null,null,null,null,null,null,null,null,null,null,null,null,null,null,"CT 2023 Policy Sensitivity",null,"R202","G120","B128"]
[null,null,null,null,null,null,null,null,null,null,null,null,null,null,"BV 2023 Policy Sensitivity",null,"R205","G231","B176"]
[null,null,null,null,null,null,null,null,null,null,null,null,null,null,"DFES 2023 - NPg Best View",null,"R192","G0","B0"]
[null,null,null,null,null,null,null,null,null,null,null,null,null,null,"NPg ED2 Planning Scenario - needs updating to old",null,"R 0","G 171","B 132"]
[null,null,null,null,null,null,null,null,null,null,null,null,null,null,"DFES 2023 - Falling Short",null,"R 130","G 123","B 122"]
["DFES Doc 2023"]
[]
[]
[]
[]
[]
[]
[]
[]
[]
[null,null,null,null,null,null,"DFES Doc 2023"]
[null,null,null,null,null,null,{"$f":"O204","v":"Storage Capacity (MW)"},2025,2030,2040,2050,null,null,null,"Storage Capacity (MW)",2022,2025,2030,2040,2050,"GB rough estimate by 2050 (not UK - no NI)"]
[null,null,null,null,null,null,"DFES 2023 - Consumer Transformation",{"$f":"Q205","v":896.29022042213421},1056.6791767434045,1653.2507829990429,2398.8136783001246,null,null,null,"DFES 2023 - Consumer Transformation",{"$f":"Storage!$B2","v":201.81894921473571},{"$f":"Storage!$E$2","v":896.29022042213421},{"$f":"Storage!$J$2","v":1056.6791767434045},{"$f":"Storage!$T$2","v":1653.2507829990429},{"$f":"Storage!$AD$2","v":2398.8136783001246},{"$f":"T205*7","v":16791.695748100872}]
[null,null,null,null,null,null,"DFES 2023 - System Transformation",798.15626488134717,826.63175151642417,1115.0165621137351,1431.1202167813005,null,null,null,"DFES 2023 - System Transformation",{"$f":"Storage!$B3","v":196.85790286968111},{"$f":"Storage!$E$3","v":798.15626488134717},{"$f":"Storage!$J$3","v":826.63175151642417},{"$f":"Storage!$T$3","v":1115.0165621137351},{"$f":"Storage!$AD$3","v":1431.1202167813005},{"$f":"T206*7","v":10017.841517469104}]
[null,null,null,null,null,null,"DFES 2023 - Leading The Way",621.19607727547714,777.43593398558698,1410.1178778843014,2232.1042003122943,null,null,null,"DFES 2023 - Leading The Way",{"$f":"Storage!$B4","v":200.97089732711277},{"$f":"Storage!$E4","v":621.19607727547714},{"$f":"Storage!$J4","v":777.43593398558698},{"$f":"Storage!$T4","v":1410.1178778843014},{"$f":"Storage!$AD4","v":2232.1042003122943},15624.72940218606]
[null,null,null,null,null,null,"DFES 2023 - NPg Best View",{"$f":"Q211","v":1076.2624150786662},{"$f":"R211","v":1333.1710086015078},{"$f":"S211","v":2054.8129064503114},{"$f":"T211","v":2830.8872883754452},null,null,null,"CCC 2020 - Balanced Net Zero",{"$f":"Storage!$B5","v":266.22984721447023},{"$f":"Storage!$E5","v":590.74231785919505},{"$f":"Storage!$J5","v":837.40893686158915},{"$f":"Storage!$T5","v":1667.2402936538106},{"$f":"Storage!$AD5","v":2466.1234742756078},17262.864319929256]
[null,null,null,null,null,null,"DFES 2023 - Falling Short",{"$f":"Q213","v":342.99351396794782},{"$f":"R213","v":546.40547325927537},{"$f":"S213","v":674.43444706487628},{"$f":"T213","v":981.04989508577478},null,null,null,"CT 2023 Policy Sensitivity",{"$f":"Storage!$B6","v":201.81894921473571},{"$f":"Storage!$E6","v":896.29022042213421},{"$f":"Storage!$J6","v":1056.6791767434045},{"$f":"Storage!$T6","v":1653.2507829990429},{"$f":"Storage!$AD6","v":2398.8136783001246},16791.695748100872]
[null,null,null,null,null,null,null,null,null,null,null,null,null,null,"BV 2023 Policy Sensitivity",{"$f":"Storage!$B7","v":201.81894921473571},{"$f":"Storage!$E7","v":1076.2624150786662},{"$f":"Storage!$J7","v":1333.1710086015078},{"$f":"Storage!$T7","v":2054.8129064503114},{"$f":"Storage!$AD7","v":2830.8872883754452},19816.211018628117]
[null,null,null,null,null,null,null,null,null,null,null,null,null,null,"DFES 2023 - NPg Best View",{"$f":"Storage!$B8","v":201.81894921473571},{"$f":"Storage!$E8","v":1076.2624150786662},{"$f":"Storage!$J8","v":1333.1710086015078},{"$f":"Storage!$T8","v":2054.8129064503114},{"$f":"Storage!$AD8","v":2830.8872883754452},19816.211018628117]
[null,null,null,null,null,null,null,null,null,null,null,null,null,null,"NPg ED2 Planning Scenario - needs updating to old",{"$f":"Storage!$B9","v":201.81894921473571},{"$f":"Storage!$E$9","v":1076.2624150786662},{"$f":"Storage!$J$9","v":1333.1710086015078},{"$f":"Storage!$T$9","v":2054.8129064503114},{"$f":"Storage!$AD$9","v":2830.8872883754452},19816.211018628117]
[null,null,null,null,null,null,null,null,null,null,null,null,null,null,"DFES 2023 - Falling Short",{"$f":"Storage!$B10","v":198.2516516238295},{"$f":"Storage!$E$10","v":342.99351396794782},{"$f":"Storage!$J$10","v":546.40547325927537},{"$f":"Storage!$T$10","v":674.43444706487628},{"$f":"Storage!$AD$10","v":981.04989508577478},6867.3492656004237]
[]
[]
[null,null,null,null,null,null,null,null,null,null,null,null,null,null,"DFES 2023 - Consumer Transformation",null,"R 255","G 191","B 34"]
[null,null,null,null,null,null,null,null,null,null,null,null,null,null,"DFES 2023 - System Transformation",null,"R 91","G 203","B 245"]
[null,null,null,null,null,null,null,null,null,null,null,null,null,null,"DFES 2023 - Leading The Way",null,"R 194","G 205","B 35"]
[null,null,null,null,null,null,null,null,null,null,null,null,null,null,"CCC 2020 - Balanced Net Zero",null,"R113","G66","B255"]
[null,null,null,null,null,null,null,null,null,null,null,null,null,null,"CT 2023 Policy Sensitivity",null,"R202","G120","B128"]
[null,null,null,null,null,null,null,null,null,null,null,null,null,null,"BV 2023 Policy Sensitivity",null,"R205","G231","B176"]
[null,null,null,null,null,null,null,null,null,null,null,null,null,null,"DFES 2023 - NPg Best View",null,"R192","G0","B0"]
[null,null,null,null,null,null,null,null,null,null,null,null,null,null,"NPg ED2 Planning Scenario - needs updating to old",null,"R 0","G 171","B 132"]
[null,null,null,null,null,null,null,null,null,null,null,null,null,null,"DFES 2023 - Falling Short",null,"R 130","G 123","B 122"]
[]
[]
[]
[null,null,null,null,null,null,"DFES Doc 2023 uses totals in infographics"]
[]
[]
[]
[]
[]
[]
[]
[]
[null,null,null,null,null,null,{"$f":"O237","v":"Total Generation Capacity (MW)"},2025,2030,2040,2050,null,null,null,"Total Generation Capacity (MW)",2022,2025,2030,2040,2050,"GB rough estimate by 2050 (not UK - no NI)"]
[null,null,null,null,null,null,"DFES 2023 - Consumer Transformation",{"$f":"Q238","v":6305.813113900208},7976.0551031329524,10821.884305763342,14173.552073336248,null,null,null,"DFES 2023 - Consumer Transformation",{"$f":"'Total Generation'!$B2","v":4670.3622212438304},{"$f":"'Total Generation'!$E$2","v":6305.813113900208},{"$f":"'Total Generation'!$J$2","v":7976.0551031329524},{"$f":"'Total Generation'!$T$2","v":10821.884305763342},{"$f":"'Total Generation'!$AD$2","v":14173.552073336248},{"$f":"T238*7","v":99214.864513353736}]
[null,null,null,null,null,null,"DFES 2023 - System Transformation",6255.6790639494466,7281.0804336098299,7837.6234917723723,9210.173616417389,null,null,null,"DFES 2023 - System Transformation",{"$f":"'Total Generation'!$B3","v":4670.3622212438304},{"$f":"'Total Generation'!$E$3","v":6255.6790639494466},{"$f":"'Total Generation'!$J$3","v":7281.0804336098299},{"$f":"'Total Generation'!$T$3","v":7837.6234917723723},{"$f":"'Total Generation'!$AD$3","v":9210.173616417389},64471.215314921719]
[null,null,null,null,null,null,"DFES 2023 - Leading The Way",6926.0904958738911,8590.1522567523789,11092.898433187964,14416.723226553786,null,null,null,"DFES 2023 - Leading The Way",{"$f":"'Total Generation'!$B4","v":4670.3622212438304},{"$f":"'Total Generation'!$E4","v":6926.0904958738911},{"$f":"'Total Generation'!$J4","v":8590.1522567523789},{"$f":"'Total Generation'!$T4","v":11092.898433187964},{"$f":"'Total Generation'!$AD4","v":14416.723226553786},100917.0625858765]
[null,null,null,null,null,null,"DFES 2023 - NPg Best View",{"$f":"Q244","v":6940.2954958738919},{"$f":"R244","v":8716.7250067523801},{"$f":"S244","v":11790.838183187963},{"$f":"T244","v":15394.473976553785},null,null,null,"CCC 2020 - Balanced Net Zero",{"$f":"'Total Generation'!$B5","v":5556.0925918435942},{"$f":"'Total Generation'!$E5","v":6557.3828630757444},{"$f":"'Total Generation'!$J5","v":8662.6387569205017},{"$f":"'Total Generation'!$T5","v":11793.407597284233},{"$f":"'Total Generation'!$AD5","v":14434.211195387532},101039.47836771273]
[null,null,null,null,null,null,"DFES 2023 - Falling Short",{"$f":"Q246","v":5886.1393587374623},{"$f":"R246","v":6904.9535561611738},{"$f":"S246","v":8110.8631070452375},{"$f":"T246","v":9274.7238232081218},null,null,null,"CT 2023 Policy Sensitivity",{"$f":"'Total Generation'!$B6","v":4670.3622212438304},{"$f":"'Total Generation'!$E6","v":6305.813113900208},{"$f":"'Total Generation'!$J6","v":7979.0638456582892},{"$f":"'Total Generation'!$T6","v":11480.812606934134},{"$f":"'Total Generation'!$AD6","v":15159.517108718919},106116.61976103243]
[null,null,null,null,null,null,null,null,null,null,null,null,null,null,"BV 2023 Policy Sensitivity",{"$f":"'Total Generation'!$B7","v":4670.3622212438304},{"$f":"'Total Generation'!$E7","v":6940.2954958738919},{"$f":"'Total Generation'!$J7","v":8716.7250067523801},{"$f":"'Total Generation'!$T7","v":12623.035824855751},{"$f":"'Total Generation'!$AD7","v":16355.320413624675},114487.24289537272]
[null,null,null,null,null,null,null,null,null,null,null,null,null,null,"DFES 2023 - NPg Best View",{"$f":"'Total Generation'!$B8","v":4670.3622212438304},{"$f":"'Total Generation'!$E8","v":6940.2954958738919},{"$f":"'Total Generation'!$J8","v":8716.7250067523801},{"$f":"'Total Generation'!$T8","v":11790.838183187963},{"$f":"'Total Generation'!$AD8","v":15394.473976553785},107761.3178358765]
[null,null,null,null,null,null,null,null,null,null,null,null,null,null,"NPg ED2 Planning Scenario - needs updating to old",{"$f":"'Total Generation'!$B9","v":4670.3622212438304},{"$f":"'Total Generation'!$E$9","v":6940.2954958738919},{"$f":"'Total Generation'!$J$9","v":8716.7250067523801},{"$f":"'Total Generation'!$T$9","v":11790.838183187963},{"$f":"'Total Generation'!$AD$9","v":15394.473976553785},107761.3178358765]
[null,null,null,null,null,null,null,null,null,null,null,null,null,null,"DFES 2023 - Falling Short",{"$f":"'Total Generation'!$B10","v":4670.3622212438304},{"$f":"'Total Generation'!$E$10","v":5886.1393587374623},{"$f":"'Total Generation'!$J$10","v":6904.9535561611738},{"$f":"'Total Generation'!$T$10","v":8110.8631070452375},{"$f":"'Total Generation'!$AD$10","v":9274.7238232081218},64923.066762456852]
[]
[]
[]
[]
[]
[]
[]
[]
[]
[]
[]
[]
[]
[]
[]
[]
[]
[]
[]
[]
[]
[]
[]
[null,null,null,null,null,null,null,null,null,null,null,null,null,null,"Generation MIX 2021","CT","ST","LTW","SP","PS","PS"]
[null,null,null,null,null,null,null,null,null,null,null,null,null,null,"PV",{"$f":"$P6","v":477.172998816252},{"$f":"$P7","v":477.172998816252},{"$f":"$P8","v":477.172998816252},{"$f":"$P14","v":477.172998816252},{"$f":"$P12","v":477.172998816252},{"$f":"$P12","v":477.172998816252}]
[null,null,null,null,null,null,null,null,null,null,null,null,null,null,"Large Solar",{"$f":"$P37","v":378.97451764963301},{"$f":"$P38","v":378.97451764963301},{"$f":"$P39","v":378.97451764963301},{"$f":"$P45","v":378.97451764963301},{"$f":"$P43","v":378.97451764963301},{"$f":"$P43","v":378.97451764963301}]
[null,null,null,null,null,null,null,null,null,null,null,null,null,null,"Wind",{"$f":"$P68","v":1297.6827047779452},{"$f":"$P69","v":1297.6827047779452},{"$f":"$P70","v":1297.6827047779452},{"$f":"$P76","v":1297.6827047779452},{"$f":"$P74","v":1297.6827047779452},{"$f":"$P74","v":1297.6827047779452}]
[null,null,null,null,null,null,null,null,null,null,null,null,null,null,"Other Renewable",{"$f":"P276-SUM(P271:P273)","v":863.27200000000039},{"$f":"Q276-SUM(Q271:Q273)","v":863.27200000000039},{"$f":"R276-SUM(R271:R273)","v":863.27200000000039},{"$f":"$P276-SUM($P271:$P273)","v":863.27200000000039},{"$f":"T276-SUM(T271:T273)","v":863.27200000000039},{"$f":"U276-SUM(U271:U273)","v":863.27200000000039}]
[null,null,null,null,null,null,null,null,null,null,null,null,null,null,"Non Renewable",{"$f":"$P173","v":1653.2599999999998},{"$f":"$P174","v":1653.2599999999998},{"$f":"$P175","v":1653.2599999999998},{"$f":"$P181","v":1653.2599999999998},{"$f":"$P179","v":1653.2599999999998},{"$f":"$P179","v":1653.2599999999998}]
[null,null,null,null,null,null,null,null,null,null,null,null,null,null,"Total Renewable for 'other' calculation",{"$f":"$P142","v":3017.1022212438306},{"$f":"$P143","v":3017.1022212438306},{"$f":"$P144","v":3017.1022212438306},{"$f":"$P150","v":3017.1022212438306},{"$f":"$P148","v":3017.1022212438306},{"$f":"$P148","v":3017.1022212438306}]
[null,null,null,null,null,null,null,null,null,null,null,null,null,null,"Total Generation",{"$f":"$P238","v":4670.3622212438304},{"$f":"$P239","v":4670.3622212438304},{"$f":"$P240","v":4670.3622212438304},{"$f":"$P246","v":4670.3622212438304},{"$f":"$P244","v":4670.3622212438304},{"$f":"$P244","v":4670.3622212438304}]
[null,null,null,null,null,null,null,null,null,null,null,null,null,null,"Total Generation Check",{"$f":"SUM(P271:P275)","v":4670.3622212438304},4670.3622212438304,4670.3622212438304,4670.3622212438304,4670.3622212438304,4670.3622212438304]
[]
[]
[]
[]
[]
[]
[]
[]
[]
[]
[null,null,null,null,null,null,null,null,null,null,null,null,null,null,"Generation MIX 2050","CT","ST","LTW","SP","PS","PS"]
[null,null,null,null,null,null,null,null,null,null,null,null,null,null,"PV",{"$f":"$T6","v":3498.0711091046596},{"$f":"$T7","v":1675.1538412137129},{"$f":"$T8","v":3498.0711091046596},{"$f":"$T14","v":1150.5715313109511},{"$f":"$T12","v":3498.0711091046596},{"$f":"$T12","v":3498.0711091046596}]
[null,null,null,null,null,null,null,null,null,null,null,null,null,null,"Large Solar",{"$f":"$T37","v":5298.0461484479729},{"$f":"$T38","v":4338.7261532034936},{"$f":"$T39","v":6398.4701804216584},{"$f":"$T45","v":3056.5696942679965},{"$f":"$T43","v":6398.4701804216584},{"$f":"$T43","v":6398.4701804216584}]
[null,null,null,null,null,null,null,null,null,null,null,null,null,null,"Wind",{"$f":"$T68","v":4776.9936047779447},{"$f":"$T69","v":2416.5288547779455},{"$f":"$T70","v":3799.2428547779464},{"$f":"$T76","v":1887.107104777946},{"$f":"$T74","v":4776.9936047779447},{"$f":"$T74","v":4776.9936047779447}]
[null,null,null,null,null,null,null,null,null,null,null,null,null,null,"Other Renewable",{"$f":"P295-SUM(P290:P292)","v":600.44121100567099},{"$f":"Q295-SUM(Q290:Q292)","v":779.76476722223742},{"$f":"R295-SUM(R290:R292)","v":720.93908224952247},{"$f":"$T295-SUM($T290:$T292)","v":720.93908224952247},{"$f":"T295-SUM(T290:T292)","v":720.93908224952247},{"$f":"U295-SUM(U290:U292)","v":720.93908224952247}]
[null,null,null,null,null,null,null,null,null,null,null,null,null,null,"Non Renewable",{"$f":"$T173","v":0},{"$f":"$T174","v":0},{"$f":"$T175","v":0},{"$f":"$T181","v":2231.3434928512274},{"$f":"$T179","v":0},{"$f":"$T179","v":0}]
[null,null,null,null,null,null,null,null,null,null,null,null,null,null,"Total Renewable for 'other' calculation",{"$f":"$T142","v":14173.552073336248},{"$f":"$T143","v":9210.173616417389},{"$f":"$T144","v":14416.723226553786},{"$f":"$T150","v":7043.3803303568939},{"$f":"$T148","v":15394.473976553785},{"$f":"$T148","v":15394.473976553785}]
[null,null,null,null,null,null,null,null,null,null,null,null,null,null,"Total Generation",{"$f":"$T238","v":14173.552073336248},{"$f":"$T239","v":9210.173616417389},{"$f":"$T240","v":14416.723226553786},{"$f":"$T246","v":9274.7238232081218},{"$f":"$T244","v":15394.473976553785},{"$f":"$T244","v":15394.473976553785}]
[null,null,null,null,null,null,null,null,null,null,null,null,null,null,"Total Generation Check",{"$f":"SUM(P290:P294)","v":14173.552073336248},9210.173616417389,14416.723226553786,9046.5309054576428,15394.473976553785,15394.473976553785]
[]
[]
[]
[]
[]
[]
[]
[]
[]
[]
[]
[]
[]
[]
[]
[]
[]
[]
[]
[]
[]
[]
[]
[]
[null,null,null,null,null,null,null,null,null,null,null,null,null,null,"Generation MIX by Decade - CT",2022,2025,2030,2040,2050]
[null,null,null,null,null,null,null,null,null,null,null,null,null,null,"PV",{"$f":"P6","v":477.172998816252},{"$f":"Q6","v":618.48255876889198},{"$f":"R6","v":991.95776661382206},{"$f":"S6","v":2105.5954126649335},{"$f":"T6","v":3498.0711091046596}]
[null,null,null,null,null,null,null,null,null,null,null,null,null,null,"Large Solar",{"$f":"P37","v":378.97451764963301},{"$f":"Q37","v":1715.6883203533712},{"$f":"R37","v":2369.1442033869289},{"$f":"S37","v":3846.9056271965601},{"$f":"T37","v":5298.0461484479729}]
[null,null,null,null,null,null,null,null,null,null,null,null,null,null,"Wind",{"$f":"P68","v":1297.6827047779452},{"$f":"Q68","v":1337.4567047779453},{"$f":"R68","v":1698.0656047779453},{"$f":"S68","v":3538.3306047779447},{"$f":"T68","v":4776.9936047779447}]
[null,null,null,null,null,null,null,null,null,null,null,null,null,null,"Other Renewable",{"$f":"P328-SUM(P323:P325)","v":863.27200000000039},{"$f":"Q328-SUM(Q323:Q325)","v":884.96439999999984},{"$f":"R328-SUM(R323:R325)","v":863.05857835425741},{"$f":"S328-SUM(S323:S325)","v":723.84112219683448},{"$f":"T328-SUM(T323:T325)","v":600.44121100567099}]
[null,null,null,null,null,null,null,null,null,null,null,null,null,null,"Non Renewable",{"$f":"P173","v":1653.2599999999998},{"$f":"Q173","v":1749.2211299999999},{"$f":"R173","v":2053.8289500000001},{"$f":"S173","v":607.21153892706991},{"$f":"T173","v":0}]
[null,null,null,null,null,null,null,null,null,null,null,null,null,null,"Total Renewable for 'other' calculation",{"$f":"P142","v":3017.1022212438306},{"$f":"Q142","v":4556.5919839002081},{"$f":"R142","v":5922.2261531329532},{"$f":"S142","v":10214.672766836273},{"$f":"T142","v":14173.552073336248}]
[null,null,null,null,null,null,null,null,null,null,null,null,null,null,"Total Generation",{"$f":"P238","v":4670.3622212438304},{"$f":"Q238","v":6305.813113900208},{"$f":"R238","v":7976.0551031329524},{"$f":"S238","v":10821.884305763342},{"$f":"T238","v":14173.552073336248}]
[null,null,null,null,null,null,null,null,null,null,null,null,null,null,"Total Generation Check",{"$f":"SUM(P323:P327)","v":4670.3622212438304},{"$f":"SUM(Q323:Q327)","v":6305.813113900208},{"$f":"SUM(R323:R327)","v":7976.0551031329533},{"$f":"SUM(S323:S327)","v":10821.884305763342},{"$f":"SUM(T323:T327)","v":14173.552073336248}]
[]
[]
[]
[]
[]
[]
[]
[]
[]
[]
[]
[]
[]
[]
[]
[]
[]
[]
[]
[]
[]
[]
[]
[null,null,null,null,null,null,null,null,null,null,null,null,null,null,"Generation MIX by Decade - PS",2022,2025,2030,2040,2050]
[null,null,null,null,null,null,null,null,null,null,null,null,null,null,"PV",{"$f":"P12","v":477.172998816252},{"$f":"Q12","v":618.48255876889198},{"$f":"R12","v":991.95776661382206},{"$f":"S12","v":2105.5954126649335},{"$f":"T12","v":3498.0711091046596}]
[null,null,null,null,null,null,null,null,null,null,null,null,null,null,"Large Solar",{"$f":"P43","v":378.97451764963301},{"$f":"Q43","v":2272.617352327055},{"$f":"R43","v":3251.6192353606129},{"$f":"S43","v":5105.3146591702443},{"$f":"T43","v":6398.4701804216584}]
[null,null,null,null,null,null,null,null,null,null,null,null,null,null,"Wind",{"$f":"P74","v":1297.6827047779452},{"$f":"Q74","v":1337.4567047779453},{"$f":"R74","v":1698.0656047779453},{"$f":"S74","v":3538.3306047779447},{"$f":"T74","v":4776.9936047779447}]
[null,null,null,null,null,null,null,null,null,null,null,null,null,null,"Other Renewable",{"$f":"P360-SUM(P355:P357)","v":863.27200000000039},{"$f":"Q360-SUM(Q355:Q357)","v":907.91340000000037},{"$f":"R360-SUM(R355:R357)","v":907.83999999999924},{"$f":"S360-SUM(S355:S357)","v":836.39795713325657},{"$f":"T360-SUM(T355:T357)","v":720.93908224952247}]
[null,null,null,null,null,null,null,null,null,null,null,null,null,null,"Non Renewable",{"$f":"P179","v":1653.2599999999998},{"$f":"Q179","v":1803.8254799999997},{"$f":"R179","v":1867.2423999999996},{"$f":"S179","v":205.19954944158479},{"$f":"T179","v":0}]
[null,null,null,null,null,null,null,null,null,null,null,null,null,null,"Total Renewable for 'other' calculation",{"$f":"P148","v":3017.1022212438306},{"$f":"Q148","v":5136.4700158738924},{"$f":"R148","v":6849.48260675238},{"$f":"S148","v":11585.638633746379},{"$f":"T148","v":15394.473976553785}]
[null,null,null,null,null,null,null,null,null,null,null,null,null,null,"Total Generation",{"$f":"P244","v":4670.3622212438304},{"$f":"Q244","v":6940.2954958738919},{"$f":"R244","v":8716.7250067523801},{"$f":"S244","v":11790.838183187963},{"$f":"T244","v":15394.473976553785}]
[null,null,null,null,null,null,null,null,null,null,null,null,null,null,"Total Generation Check",{"$f":"SUM(P355:P359)","v":4670.3622212438304},{"$f":"SUM(Q355:Q359)","v":6940.2954958738919},{"$f":"SUM(R355:R359)","v":8716.7250067523801},{"$f":"SUM(S355:S359)","v":11790.838183187963},{"$f":"SUM(T355:T359)","v":15394.473976553785}]

{"sheet":"DFES Doc - Breakdown & Studies","index":4,"n_rows":260,"n_cols":31,"rows_kept":260,"cut":false,"hidden":false,"merged":[]}
[null,"Large Industry Additional Loads Study for Gross Peak Demand"]
["DFES Doc 2023"]
[null,null,null,null,null,null,null,null,null,null,null,null,null,null,null,null,null,"DFES Doc 2023"]
[null,null,null,null,null,null,null,null,null,null,null,null,null,null,null,null,null,{"$f":"Z55","v":"Changes highlighted (to I&C and total): Contributions to Peak Demand MW - NPg"},{"$f":"AB55","v":2025},{"$f":"AC55","v":2030},{"$f":"AD55","v":2040},{"$f":"AE55","v":2050}]
[null,null,null,null,null,null,null,null,null,null,null,null,null,null,null,null,null,"Domestic Underlying Underlying",1896.809658482804,1932.3028969907746,1906.3740114487607,1830.2482777401676]
[null,null,null,null,null,null,null,null,null,null,null,null,null,null,null,null,null,"I & C Underlying Underlying",4362.3009312654112,4356.9666707010792,4464.2732091641737,4394.8132515619527]
[null,null,null,null,null,null,null,null,null,null,null,null,null,null,null,null,null,"Heat pumps - domestic",117.64561685807162,310.53544067535563,1470.5409186026416,3333.2635940453065]
[null,null,null,null,null,null,null,null,null,null,null,null,null,null,null,null,null,"Heat pumps - I & C",54.799120202888417,101.55886222084698,509.79576264622864,1113.7763930865383]
[null,null,null,null,null,null,null,null,null,null,null,null,null,null,null,null,null,"EV - cars & vans",191.75436541364695,643.85806477557799,1242.4999956149536,1316.6249833012143]
[null,null,null,null,null,null,null,null,null,null,null,null,null,null,null,null,null,"Electric HGVs",10.191586493943731,94.960173469763745,380.97417285712334,423.14868534627146]
[null,null,null,null,null,null,null,null,null,null,null,null,null,null,null,null,null,"Electric Buses",2.7625458273308818,8.4306999351306544,19.982316905940532,21.760926162463999]
[null,null,null,null,null,null,null,null,null,null,null,null,null,null,null,null,null,"Total peak Demand",6636.2638245440976,7448.6128087685292,9994.4403872398216,12433.636111243914]
[]
[]
[]
[]
[]
[]
[]
[]
[]
[]
[]
[]
[]
[]
[]
[]
[]
[]
[]
[]
[]
[]
[]
[]
[]
[]
[]
[]
[]
[]
[]
[]
[]
[]
[]
[]
[]
[]
[]
[]
[]
[]
[null,null,null,null,null,null,null,null,null,null,null,null,null,null,null,null,null,{"$f":"'Energy Consumed Breakdown GWh'!$A$5&'Energy Consumed Breakdown GWh'!$A$6","v":" Study: Contributions to Large load Energy Consumption GWh - NPg"},2022,2025,2030,2040,2050,null,null,{"$f":"'Gross Peak Demand Breakdown'!$A$5&'Gross Peak Demand Breakdown'!$A$6","v":"Changes highlighted (to I&C and total): Contributions to Peak Demand MW - NPg"},2022,2025,2030,2040,2050]
[null,null,null,null,null,null,null,null,null,null,null,null,null,null,null,null,null,{"$f":"R83","v":"Domestic Underlying Underlying"},10512.64293985911,{"$f":"T83","v":10452.805320279083},10522.725613224289,10358.079216744243,9941.1156641830021,null,null,{"$f":"Z83","v":"Domestic Underlying Underlying"},1901.4494995496266,{"$f":"AB83","v":1896.809658482804},1932.3028969907746,1906.3740114487607,1830.2482777401676]
[null,null,null,null,null,null,null,null,null,null,null,null,null,null,null,null,null,"I & C Underlying Underlying",23205.226724456199,{"$f":"T84","v":23742.616234544686},23189.45599207325,22839.350879922749,22432.639874371009,null,null,"I & C Underlying Underlying",3946.7453195866537,{"$f":"AB84","v":4362.3009312654112},4356.9666707010792,4464.2732091641737,4394.8132515619527]
[null,null,null,null,null,null,null,null,null,null,null,null,null,null,null,null,null,"Heat pumps - domestic",174.01540757419963,{"$f":"T85","v":476.51149429954665},1260.9739359032531,5935.7044488745369,13445.201370402177,null,null,"Heat pumps - domestic",42.815293097175136,{"$f":"AB85","v":117.64561685807162},310.53544067535563,1470.5409186026416,3333.2635940453065]
[null,null,null,null,null,null,null,null,null,null,null,null,null,null,null,null,null,"Heat pumps - I & C",144.0505425267134,{"$f":"T86","v":186.94017774490561},346.44514629664934,1739.080172736735,3799.4534043528506,null,null,"Heat pumps - I & C",42.226158328480324,{"$f":"AB86","v":54.799120202888417},101.55886222084698,509.79576264622864,1113.7763930865383]
[null,null,null,null,null,null,null,null,null,null,null,null,null,null,null,null,null,"EV - cars & vans",275.78814262939073,{"$f":"T87","v":1281.5061879706798},4525.0339981029856,8818.9968313982863,9331.9136299509573,null,null,"EV - cars & vans",51.451315597857636,{"$f":"AB87","v":191.75436541364695},643.85806477557799,1242.4999956149536,1316.6249833012143]
[null,null,null,null,null,null,null,null,null,null,null,null,null,null,null,null,null,"Electric HGVs",7.3578745540348507,{"$f":"T88","v":128.47166735065466},1197.0355964517905,4802.4306356597144,5334.0681724064807,null,null,"Electric HGVs",0.58369612908002577,{"$f":"AB88","v":10.191586493943731},94.960173469763745,380.97417285712334,423.14868534627146]
[null,null,null,null,null,null,null,null,null,null,null,null,null,null,null,null,null,"Electric Buses",28.25670329452381,{"$f":"T89","v":87.378983750985938},266.66199899857298,632.03821886213348,688.29541024971468,null,null,"Electric Buses",0.89335483693506268,{"$f":"AB89","v":2.7625458273308818},8.4306999351306544,19.982316905940532,21.760926162463999]
[null,null,null,null,null,null,null,null,null,null,null,null,null,null,null,null,null,"Total energy consumption",{"$f":"SUM(S56:S62)","v":34347.338334894172},{"$f":"SUM(T56:T62)","v":36356.230065940537},{"$f":"SUM(U56:U62)","v":41308.332281050782},55125.6804041984,64972.687525916182,null,null,"Total peak Demand",{"$f":"SUM(AA56:AA62)","v":5986.1646371258084},{"$f":"SUM(AB56:AB62)","v":6636.2638245440976},{"$f":"SUM(AC56:AC62)","v":7448.6128087685292},9994.4403872398216,12433.636111243914]
[]
[]
[]
[]
[]
[]
[]
[]
[]
[null,null,null,null,null,null,null,null,null,null,null,null,null,null,null,null,null,null,null,null,null,null,null,null,null,"NPg ED2 Planning Scenario - needs updating to old Study: Additional contribution to Peak Demand MW - NPg",2022,2025,2030,2040,2050]
[null,null,null,null,null,null,null,null,null,null,null,null,null,null,null,null,null,null,null,null,null,null,null,null,null,{"$f":"Z88","v":"Electric HGVs"},0.58369612908002577,{"$f":"AB88","v":10.191586493943731},94.960173469763745,380.97417285712334,423.14868534627146]
[null,null,null,null,null,null,null,null,null,null,null,null,null,null,null,null,null,null,null,null,null,null,null,null,null,"Electric Buses",0.89335483693506268,{"$f":"AB89","v":2.7625458273308818},8.4306999351306544,19.982316905940532,21.760926162463999]
[null,null,null,null,null,null,null,null,null,null,null,null,null,null,null,null,null,null,null,null,null,null,null,null,null,"Electrolysers",0,{"$f":"AB90","v":86.290507379026835},411.82237734647492,664.72912473110307,1329.8516427149502]
[null,null,null,null,null,null,null,null,null,null,null,null,null,null,null,null,null,null,null,null,null,null,null,null,null,"Large industry Fuel Switching",28.969330424539919,{"$f":"AB91","v":72.423326061349812},196.5532181674867,435.03819897404429,624.97931370904644]
[null,null,null,null,null,null,null,null,null,null,null,null,null,null,null,null,null,null,null,null,null,null,null,null,null,"Total additional contribution",{"$f":"SUM(AA74:AA77)","v":30.446381390555008},{"$f":"SUM(AB74:AB77)","v":171.66796576165126},{"$f":"SUM(AC74:AC77)","v":711.76646891885594},1500.7238134682111,2399.7405679327321]
[]
[]
[]
[null,null,null,null,null,null,null,null,null,null,null,null,null,null,null,null,null,{"$f":"'Energy Consumed Breakdown GWh'!$A$5&'Energy Consumed Breakdown GWh'!$A$6","v":" Study: Contributions to Large load Energy Consumption GWh - NPg"},2022,{"$f":"'Energy Consumed Breakdown GWh'!$E9","v":2025},{"$f":"'Energy Consumed Breakdown GWh'!$J9","v":2030},{"$f":"'Energy Consumed Breakdown GWh'!$T9","v":2040},{"$f":"'Energy Consumed Breakdown GWh'!$AD9","v":2050},null,null,{"$f":"'Gross Peak Demand Breakdown'!$A$5&'Gross Peak Demand Breakdown'!$A$6","v":"Changes highlighted (to I&C and total): Contributions to Peak Demand MW - NPg"},2022,{"$f":"'Gross Peak Demand Breakdown'!$E9","v":2025},{"$f":"'Gross Peak Demand Breakdown'!$J9","v":2030},{"$f":"'Gross Peak Demand Breakdown'!$T9","v":2040},{"$f":"'Gross Peak Demand Breakdown'!$AD9","v":2050}]
[null,null,null,null,null,null,null,null,null,null,null,null,null,null,null,null,null,{"$f":"'Energy Consumed Breakdown GWh'!A10 & \" Underlying\"","v":"Domestic Underlying Underlying"},{"$f":"'Energy Consumed Breakdown GWh'!$B10","v":10512.64293985911},{"$f":"'Energy Consumed Breakdown GWh'!$E10","v":10452.805320279083},{"$f":"'Energy Consumed Breakdown GWh'!$J10","v":10522.725613224289},{"$f":"'Energy Consumed Breakdown GWh'!$T10","v":10358.079216744243},{"$f":"'Energy Consumed Breakdown GWh'!$AD10","v":9941.1156641830021},null,10,{"$f":"'Gross Peak Demand Breakdown'!A10 & \" Underlying\"","v":"Domestic Underlying Underlying"},{"$f":"'Gross Peak Demand Breakdown'!$B10","v":1901.4494995496266},{"$f":"'Gross Peak Demand Breakdown'!$E10","v":1896.809658482804},{"$f":"'Gross Peak Demand Breakdown'!$J10","v":1932.3028969907746},{"$f":"'Gross Peak Demand Breakdown'!$T10","v":1906.3740114487607},{"$f":"'Gross Peak Demand Breakdown'!$AD10","v":1830.2482777401676}]
[null,null,null,null,null,null,null,null,null,null,null,null,null,null,null,null,null,{"$f":"'Energy Consumed Breakdown GWh'!A11 & \" Underlying\"","v":"I & C Underlying Underlying"},{"$f":"'Energy Consumed Breakdown GWh'!$B11","v":23205.226724456199},{"$f":"'Energy Consumed Breakdown GWh'!$E11","v":23742.616234544686},{"$f":"'Energy Consumed Breakdown GWh'!$J11","v":23189.45599207325},{"$f":"'Energy Consumed Breakdown GWh'!$T11","v":22839.350879922749},{"$f":"'Energy Consumed Breakdown GWh'!$AD11","v":22432.639874371009},null,11,{"$f":"'Gross Peak Demand Breakdown'!A11 & \" Underlying\"","v":"I & C Underlying Underlying"},{"$f":"'Gross Peak Demand Breakdown'!$B11","v":3946.7453195866537},{"$f":"'Gross Peak Demand Breakdown'!$E11","v":4362.3009312654112},{"$f":"'Gross Peak Demand Breakdown'!$J11","v":4356.9666707010792},{"$f":"'Gross Peak Demand Breakdown'!$T11","v":4464.2732091641737},{"$f":"'Gross Peak Demand Breakdown'!$AD11","v":4394.8132515619527}]
[null,null,null,null,null,null,null,null,null,null,null,null,null,null,null,null,null,{"$f":"'Energy Consumed Breakdown GWh'!A12","v":"Heat pumps - domestic"},{"$f":"'Energy Consumed Breakdown GWh'!$B12","v":174.01540757419963},{"$f":"'Energy Consumed Breakdown GWh'!$E12","v":476.51149429954665},{"$f":"'Energy Consumed Breakdown GWh'!$J12","v":1260.9739359032531},{"$f":"'Energy Consumed Breakdown GWh'!$T12","v":5935.7044488745369},{"$f":"'Energy Consumed Breakdown GWh'!$AD12","v":13445.201370402177},null,12,{"$f":"'Gross Peak Demand Breakdown'!A12","v":"Heat pumps - domestic"},{"$f":"'Gross Peak Demand Breakdown'!$B12","v":42.815293097175136},{"$f":"'Gross Peak Demand Breakdown'!$E12","v":117.64561685807162},{"$f":"'Gross Peak Demand Breakdown'!$J12","v":310.53544067535563},{"$f":"'Gross Peak Demand Breakdown'!$T12","v":1470.5409186026416},{"$f":"'Gross Peak Demand Breakdown'!$AD12","v":3333.2635940453065}]
[null,null,null,null,null,null,null,null,null,null,null,null,null,null,null,null,null,{"$f":"'Energy Consumed Breakdown GWh'!A13","v":"Heat pumps - I & C"},{"$f":"'Energy Consumed Breakdown GWh'!$B13","v":144.0505425267134},{"$f":"'Energy Consumed Breakdown GWh'!$E13","v":186.94017774490561},{"$f":"'Energy Consumed Breakdown GWh'!$J13","v":346.44514629664934},{"$f":"'Energy Consumed Breakdown GWh'!$T13","v":1739.080172736735},{"$f":"'Energy Consumed Breakdown GWh'!$AD13","v":3799.4534043528506},null,13,{"$f":"'Gross Peak Demand Breakdown'!A13","v":"Heat pumps - I & C"},{"$f":"'Gross Peak Demand Breakdown'!$B13","v":42.226158328480324},{"$f":"'Gross Peak Demand Breakdown'!$E13","v":54.799120202888417},{"$f":"'Gross Peak Demand Breakdown'!$J13","v":101.55886222084698},{"$f":"'Gross Peak Demand Breakdown'!$T13","v":509.79576264622864},{"$f":"'Gross Peak Demand Breakdown'!$AD13","v":1113.7763930865383}]
[null,null,null,null,null,null,null,null,null,null,null,null,null,null,null,null,null,{"$f":"'Energy Consumed Breakdown GWh'!A14","v":"EV - cars & vans"},{"$f":"'Energy Consumed Breakdown GWh'!$B14","v":275.78814262939073},{"$f":"'Energy Consumed Breakdown GWh'!$E14","v":1281.5061879706798},{"$f":"'Energy Consumed Breakdown GWh'!$J14","v":4525.0339981029856},{"$f":"'Energy Consumed Breakdown GWh'!$T14","v":8818.9968313982863},{"$f":"'Energy Consumed Breakdown GWh'!$AD14","v":9331.9136299509573},null,14,{"$f":"'Gross Peak Demand Breakdown'!A14","v":"EV - cars & vans"},{"$f":"'Gross Peak Demand Breakdown'!$B14","v":51.451315597857636},{"$f":"'Gross Peak Demand Breakdown'!$E14","v":191.75436541364695},{"$f":"'Gross Peak Demand Breakdown'!$J14","v":643.85806477557799},{"$f":"'Gross Peak Demand Breakdown'!$T14","v":1242.4999956149536},{"$f":"'Gross Peak Demand Breakdown'!$AD14","v":1316.6249833012143}]
[null,null,null,null,null,null,null,null,null,null,null,null,null,null,null,null,null,{"$f":"'Energy Consumed Breakdown GWh'!A15","v":"Electric HGVs"},{"$f":"'Energy Consumed Breakdown GWh'!$B15","v":7.3578745540348507},{"$f":"'Energy Consumed Breakdown GWh'!$E15","v":128.47166735065466},{"$f":"'Energy Consumed Breakdown GWh'!$J15","v":1197.0355964517905},{"$f":"'Energy Consumed Breakdown GWh'!$T15","v":4802.4306356597144},{"$f":"'Energy Consumed Breakdown GWh'!$AD15","v":5334.0681724064807},null,15,{"$f":"'Gross Peak Demand Breakdown'!A15","v":"Electric HGVs"},{"$f":"'Gross Peak Demand Breakdown'!$B15","v":0.58369612908002577},{"$f":"'Gross Peak Demand Breakdown'!$E15","v":10.191586493943731},{"$f":"'Gross Peak Demand Breakdown'!$J15","v":94.960173469763745},{"$f":"'Gross Peak Demand Breakdown'!$T15","v":380.97417285712334},{"$f":"'Gross Peak Demand Breakdown'!$AD15","v":423.14868534627146}]
[null,null,null,null,null,null,null,null,null,null,null,null,null,null,null,null,null,{"$f":"'Energy Consumed Breakdown GWh'!A16","v":"Electric Buses"},{"$f":"'Energy Consumed Breakdown GWh'!$B16","v":28.25670329452381},{"$f":"'Energy Consumed Breakdown GWh'!$E16","v":87.378983750985938},{"$f":"'Energy Consumed Breakdown GWh'!$J16","v":266.66199899857298},{"$f":"'Energy Consumed Breakdown GWh'!$T16","v":632.03821886213348},{"$f":"'Energy Consumed Breakdown GWh'!$AD16","v":688.29541024971468},null,16,{"$f":"'Gross Peak Demand Breakdown'!A16","v":"Electric Buses"},{"$f":"'Gross Peak Demand Breakdown'!$B16","v":0.89335483693506268},{"$f":"'Gross Peak Demand Breakdown'!$E16","v":2.7625458273308818},{"$f":"'Gross Peak Demand Breakdown'!$J16","v":8.4306999351306544},{"$f":"'Gross Peak Demand Breakdown'!$T16","v":19.982316905940532},{"$f":"'Gross Peak Demand Breakdown'!$AD16","v":21.760926162463999}]
[null,null,null,null,null,null,null,null,null,null,null,null,null,null,null,null,null,{"$f":"'Energy Consumed Breakdown GWh'!A17","v":"Electrolysers"},{"$f":"'Energy Consumed Breakdown GWh'!$B17","v":0},{"$f":"'Energy Consumed Breakdown GWh'!$E17","v":755.90484464027497},{"$f":"'Energy Consumed Breakdown GWh'!$J17","v":3607.5640255551207},{"$f":"'Energy Consumed Breakdown GWh'!$T17","v":5823.0271326444636},{"$f":"'Energy Consumed Breakdown GWh'!$AD17","v":11649.500390182964},null,17,{"$f":"'Gross Peak Demand Breakdown'!A17","v":"Electrolysers"},{"$f":"'Gross Peak Demand Breakdown'!$B17","v":0},{"$f":"'Gross Peak Demand Breakdown'!$E17","v":86.290507379026835},{"$f":"'Gross Peak Demand Breakdown'!$J17","v":411.82237734647492},{"$f":"'Gross Peak Demand Breakdown'!$T17","v":664.72912473110307},{"$f":"'Gross Peak Demand Breakdown'!$AD17","v":1329.8516427149502}]
[null,null,null,null,null,null,null,null,null,null,null,null,null,null,null,null,null,{"$f":"'Energy Consumed Breakdown GWh'!A18","v":"Large industry Fuel Switching"},{"$f":"'Energy Consumed Breakdown GWh'!$B18","v":253.7713345189697},{"$f":"'Energy Consumed Breakdown GWh'!$E18","v":634.42833629742438},{"$f":"'Energy Consumed Breakdown GWh'!$J18","v":1721.8061911471834},{"$f":"'Energy Consumed Breakdown GWh'!$T18","v":3810.9346230126284},{"$f":"'Energy Consumed Breakdown GWh'!$AD18","v":5474.8187880912483},null,18,{"$f":"'Gross Peak Demand Breakdown'!A18","v":"Large industry Fuel Switching"},{"$f":"'Gross Peak Demand Breakdown'!$B18","v":28.969330424539919},{"$f":"'Gross Peak Demand Breakdown'!$E18","v":72.423326061349812},{"$f":"'Gross Peak Demand Breakdown'!$J18","v":196.5532181674867},{"$f":"'Gross Peak Demand Breakdown'!$T18","v":435.03819897404429},{"$f":"'Gross Peak Demand Breakdown'!$AD18","v":624.97931370904644}]
[null,null,null,null,null,null,null,null,null,null,null,null,null,null,null,null,null,{"$f":"'Energy Consumed Breakdown GWh'!A19","v":"Total demand"},{"$f":"'Energy Consumed Breakdown GWh'!$B19","v":34601.109669413134},{"$f":"'Energy Consumed Breakdown GWh'!$E19","v":37746.563246878242},{"$f":"'Energy Consumed Breakdown GWh'!$J19","v":46637.702497753089},{"$f":"'Energy Consumed Breakdown GWh'!$T19","v":64759.642159855481},{"$f":"'Energy Consumed Breakdown GWh'!$AD19","v":82097.006704190397},null,19,{"$f":"'Gross Peak Demand Breakdown'!A19","v":"Total demand"},{"$f":"'Gross Peak Demand Breakdown'!$B19","v":6015.1339675503486},{"$f":"'Gross Peak Demand Breakdown'!$E19","v":6794.9776579844747},{"$f":"'Gross Peak Demand Breakdown'!$J19","v":8056.9884042824915},{"$f":"'Gross Peak Demand Breakdown'!$T19","v":11094.207710944967},{"$f":"'Gross Peak Demand Breakdown'!$AD19","v":14388.467067667909}]
[null,null,null,null,null,null,null,null,null,null,null,null,null,null,null,null,null,null,null,null,null,null,null,null,20]
[null,null,null,null,null,null,null,null,null,null,null,null,null,null,null,null,null,null,null,null,null,null,null,null,21]
[null,null,null,null,null,null,null,null,null,null,null,null,null,null,null,null,null,"NPg ED2 Planning Scenario - needs updating to old Study: Additional contribution to Energy Consumption GWh - NPg",2022,2025,2030,2040,2050,null,22,{"$f":"'Gross Peak Demand Breakdown'!A22 & \" Underlying\"","v":"Consumer Transformation: Contributions to Peak Demand MW - NPg Underlying"},2022,{"$f":"'Gross Peak Demand Breakdown'!$E22","v":2025},{"$f":"'Gross Peak Demand Breakdown'!$J22","v":2030},{"$f":"'Gross Peak Demand Breakdown'!$T22","v":2040},{"$f":"'Gross Peak Demand Breakdown'!$AD22","v":2050}]
[null,null,null,null,null,null,null,null,null,null,null,null,null,null,null,null,null,{"$f":"R88","v":"Electric HGVs"},7.3578745540348507,{"$f":"T88","v":128.47166735065466},1197.0355964517905,4802.4306356597144,5334.0681724064807,null,23,{"$f":"'Gross Peak Demand Breakdown'!A23 & \" Underlying\"","v":"Domestic Underlying Underlying"},{"$f":"'Gross Peak Demand Breakdown'!$B23","v":1899.0378882252517},{"$f":"'Gross Peak Demand Breakdown'!$E23","v":1888.7014810558699},{"$f":"'Gross Peak Demand Breakdown'!$J23","v":1902.0762928646559},{"$f":"'Gross Peak Demand Breakdown'!$T23","v":1873.4547591942369},{"$f":"'Gross Peak Demand Breakdown'!$AD23","v":1798.7405891349038}]
[null,null,null,null,null,null,null,null,null,null,null,null,null,null,null,null,null,"Electric Buses",28.25670329452381,{"$f":"T89","v":87.378983750985938},266.66199899857298,632.03821886213348,688.29541024971468,null,24,{"$f":"'Gross Peak Demand Breakdown'!A24 & \" Underlying\"","v":"I & C Underlying Underlying"},{"$f":"'Gross Peak Demand Breakdown'!$B24","v":3958.1184553089188},{"$f":"'Gross Peak Demand Breakdown'!$E24","v":4399.7422271510441},{"$f":"'Gross Peak Demand Breakdown'!$J24","v":4420.0920488992979},{"$f":"'Gross Peak Demand Breakdown'!$T24","v":4527.8366491782326},{"$f":"'Gross Peak Demand Breakdown'!$AD24","v":4457.1606761716821}]
[null,null,null,null,null,null,null,null,null,null,null,null,null,null,null,null,null,"Electrolysers",0,{"$f":"T90","v":755.90484464027497},3607.5640255551207,5823.0271326444636,11649.500390182964,null,null,{"$f":"'Gross Peak Demand Breakdown'!A25","v":"Heat pumps - domestic"},{"$f":"'Gross Peak Demand Breakdown'!$B25","v":42.815293097175136},{"$f":"'Gross Peak Demand Breakdown'!$E25","v":117.64561685807162},{"$f":"'Gross Peak Demand Breakdown'!$J25","v":310.53544067535563},{"$f":"'Gross Peak Demand Breakdown'!$T25","v":1470.5409186026416},{"$f":"'Gross Peak Demand Breakdown'!$AD25","v":3333.2635940453065}]
[null,null,null,null,null,null,null,null,null,null,null,null,null,null,null,null,null,"Large industry Fuel Switching",253.7713345189697,{"$f":"T91","v":634.42833629742438},1721.8061911471834,3810.9346230126284,5474.8187880912483,null,null,{"$f":"'Gross Peak Demand Breakdown'!A26","v":"Heat pumps - I & C"},{"$f":"'Gross Peak Demand Breakdown'!$B26","v":42.226158328480324},{"$f":"'Gross Peak Demand Breakdown'!$E26","v":54.799120202888417},{"$f":"'Gross Peak Demand Breakdown'!$J26","v":101.55886222084698},{"$f":"'Gross Peak Demand Breakdown'!$T26","v":509.79576264622864},{"$f":"'Gross Peak Demand Breakdown'!$AD26","v":1113.7763930865383}]
[null,null,null,null,null,null,null,null,null,null,null,null,null,null,null,null,null,"Total additional contribution",{"$f":"SUM(S96:S99)","v":289.38591236752836},{"$f":"SUM(T96:T99)","v":1606.1838320393399},{"$f":"SUM(U96:U99)","v":6793.0678121526671},15068.430610178941,23146.682760930405,null,null,{"$f":"'Gross Peak Demand Breakdown'!A27","v":"EV - cars & vans"},{"$f":"'Gross Peak Demand Breakdown'!$B27","v":52.037712707199532},{"$f":"'Gross Peak Demand Breakdown'!$E27","v":241.45796901911331},{"$f":"'Gross Peak Demand Breakdown'!$J27","v":847.69005592536496},{"$f":"'Gross Peak Demand Breakdown'!$T27","v":1720.2539277524245},{"$f":"'Gross Peak Demand Breakdown'!$AD27","v":1858.9620086289119}]
[null,null,null,null,null,null,null,null,null,null,null,null,null,null,null,null,null,null,null,null,null,null,null,null,null,{"$f":"'Gross Peak Demand Breakdown'!A28","v":"Electric HGVs"},{"$f":"'Gross Peak Demand Breakdown'!$B28","v":0.58369612908002577},{"$f":"'Gross Peak Demand Breakdown'!$E28","v":6.8518000616815788},{"$f":"'Gross Peak Demand Breakdown'!$J28","v":61.732821838523847},{"$f":"'Gross Peak Demand Breakdown'!$T28","v":361.012355898772},{"$f":"'Gross Peak Demand Breakdown'!$AD28","v":439.79763387309498}]
[null,null,null,null,null,null,null,null,null,null,null,null,null,null,null,null,null,null,null,null,null,null,null,null,null,{"$f":"'Gross Peak Demand Breakdown'!A29","v":"Electric Buses"},{"$f":"'Gross Peak Demand Breakdown'!$B29","v":0.89335483693506268},{"$f":"'Gross Peak Demand Breakdown'!$E29","v":2.3278789741682604},{"$f":"'Gross Peak Demand Breakdown'!$J29","v":7.2251039433775599},{"$f":"'Gross Peak Demand Breakdown'!$T29","v":19.362605623780734},{"$f":"'Gross Peak Demand Breakdown'!$AD29","v":22.609915356645878}]
[null,null,null,null,null,null,null,null,null,null,null,null,null,null,null,null,null,null,null,null,null,null,null,null,null,{"$f":"'Gross Peak Demand Breakdown'!A30","v":"Electrolysers"},{"$f":"'Gross Peak Demand Breakdown'!$B30","v":0},{"$f":"'Gross Peak Demand Breakdown'!$E30","v":0.49333894642831083},{"$f":"'Gross Peak Demand Breakdown'!$J30","v":46.714339269198042},{"$f":"'Gross Peak Demand Breakdown'!$T30","v":301.17002446091595},{"$f":"'Gross Peak Demand Breakdown'!$AD30","v":471.463319830822}]
[null,null,null,null,null,null,null,null,null,null,null,null,null,null,null,null,null,null,null,null,null,null,null,null,null,{"$f":"'Gross Peak Demand Breakdown'!A31","v":"Large industry Fuel Switching"},{"$f":"'Gross Peak Demand Breakdown'!$B31","v":13.597995340357517},{"$f":"'Gross Peak Demand Breakdown'!$E31","v":33.994988350893735},{"$f":"'Gross Peak Demand Breakdown'!$J31","v":90.000073317306416},{"$f":"'Gross Peak Demand Breakdown'!$T31","v":262.98113915431162},{"$f":"'Gross Peak Demand Breakdown'!$AD31","v":802.57630905024371}]
[null,null,null,null,null,null,null,null,null,null,null,null,null,null,null,null,null,null,null,null,null,null,null,null,null,{"$f":"'Gross Peak Demand Breakdown'!A32","v":"Total demand"},{"$f":"'Gross Peak Demand Breakdown'!$B32","v":6009.3105539733979},{"$f":"'Gross Peak Demand Breakdown'!$E32","v":6746.0144206201594},{"$f":"'Gross Peak Demand Breakdown'!$J32","v":7787.6250389539273},{"$f":"'Gross Peak Demand Breakdown'!$T32","v":11046.408142511547},{"$f":"'Gross Peak Demand Breakdown'!$AD32","v":14298.35043917815}]
[]
[]
[]
[]
[]
[]
[]
[]
[]
[]
[]
[]
[null,null,"Breakdown of Gross Peak Demand Core DFES Charts at NPg Level"]
[]
[null,null,"(See further down for Breakdown of energy consumption DFES Charts)"]
[]
[]
[]
[]
[]
[]
[]
[]
[]
[]
[]
[]
[]
[]
[]
[]
[]
[]
[]
[]
[]
[]
[]
[]
[]
[]
[]
[]
[]
[]
[]
[]
[]
[]
[]
[]
[]
[]
[]
[]
[]
[]
[]
[]
[]
[]
[]
[]
[]
[]
[]
[]
[]
[]
[]
[]
[]
[]
[]
[]
[]
[]
[null,null,"ADDITIONS ONLY IN Large Industry Additional Loads Study for Gross Peak Demand"]
[]
[]
[]
[]
[]
[]
[]
[]
[]
[]
[]
[]
[]
[]
[]
[]
[]
[]
[]
[]
[]
[]
[]
[]
[]
[]
[]
[]
[]
[]
[]
[]
[]
[]
[]
[]
[]
[]
[]
[null,null,"Breakdown of Energy Demand Consumption Core DFES Charts"]
[]
[]
[]
[]
[]
[]
[]
[]
[]
[]
[]
[]
[]
[]
[]
[]
[]
[]
[]
[]
[]
[]
[]
[]
[]
[]
[]
[]
[]
[]
[]
[]
[]
[]
[]
[]
[null,null,"Large Industry Additional Loads Study for Energy CONSUMPTION GWh"]

{"sheet":"DFES Doc - Constraints Charts","index":5,"n_rows":49,"n_cols":36,"rows_kept":49,"cut":false,"hidden":false,"merged":[[45,29,48,29],[25,29,28,29],[29,29,32,29],[33,29,36,29],[37,29,40,29],[41,29,44,29]]}
[]
[]
["DFES Doc 2023"]
[]
[]
[]
[]
[]
[]
[]
[]
[]
[]
[]
[]
[]
[]
[]
[]
[]
[]
[]
[]
[]
[null,null,null,null,null,null,null,null,null,null,null,null,null,null,null,null,null,null,null,null,null,null,null,null,null,null,null,null,null,{"$f":"'Constraints Chart Template'!L35","v":"Scenario"},{"$f":"'Constraints Chart Template'!M35","v":"Year"},{"$f":"'Constraints Chart Template'!N35","v":"Obsolete"},{"$f":"'Constraints Chart Template'!O35","v":"[arbitrary value for marker]"},{"$f":"'Constraints Chart Template'!P35","v":"Differential (between with and without flex)"},{"$f":"'Constraints Chart Template'!Q35","v":"[arbitrary value for marker]"},{"$f":"'Constraints Chart Template'!R35","v":"Base Case"}]
[null,null,null,null,null,null,null,null,null,null,null,null,null,null,null,null,null,null,null,null,null,null,null,null,null,null,null,null,null,{"$f":"'Constraints Chart Template'!L36","v":"DFES 2023 - Consumer Transformation"},{"$f":"'Constraints Chart Template'!M36","v":2023},{"$f":"'Constraints Chart Template'!N36","v":0},{"$f":"'Constraints Chart Template'!O36","v":1},{"$f":"'Constraints Chart Template'!P36","v":9},{"$f":"'Constraints Chart Template'!Q36","v":1},{"$f":"'Constraints Chart Template'!R36","v":9}]
[null,null,null,null,null,null,null,null,null,null,null,null,null,null,null,null,null,null,null,null,null,null,null,null,null,null,null,null,null,{"$f":"'Constraints Chart Template'!L37","v":0},{"$f":"'Constraints Chart Template'!M37","v":2030},{"$f":"'Constraints Chart Template'!N37","v":0},{"$f":"'Constraints Chart Template'!O37","v":1},{"$f":"'Constraints Chart Template'!P37","v":33},{"$f":"'Constraints Chart Template'!Q37","v":1},{"$f":"'Constraints Chart Template'!R37","v":33}]
[null,null,null,null,null,null,null,null,null,null,null,null,null,null,null,null,null,null,null,null,null,null,null,null,null,null,null,null,null,{"$f":"'Constraints Chart Template'!L38","v":0},{"$f":"'Constraints Chart Template'!M38","v":2040},{"$f":"'Constraints Chart Template'!N38","v":0},{"$f":"'Constraints Chart Template'!O38","v":1},{"$f":"'Constraints Chart Template'!P38","v":211},{"$f":"'Constraints Chart Template'!Q38","v":1},{"$f":"'Constraints Chart Template'!R38","v":211}]
[null,null,null,null,null,null,null,null,null,null,null,null,null,null,null,null,null,null,null,null,null,null,null,null,null,null,null,null,null,{"$f":"'Constraints Chart Template'!L39","v":0},{"$f":"'Constraints Chart Template'!M39","v":2050},{"$f":"'Constraints Chart Template'!N39","v":0},{"$f":"'Constraints Chart Template'!O39","v":1},{"$f":"'Constraints Chart Template'!P39","v":345},{"$f":"'Constraints Chart Template'!Q39","v":1},{"$f":"'Constraints Chart Template'!R39","v":345}]
[null,null,null,null,null,null,null,null,null,null,null,null,null,null,null,null,null,null,null,null,null,null,null,null,null,null,null,null,null,{"$f":"'Constraints Chart Template'!L40","v":"DFES 2023 - System Transformation"},{"$f":"'Constraints Chart Template'!M40","v":2023},{"$f":"'Constraints Chart Template'!N40","v":0},{"$f":"'Constraints Chart Template'!O40","v":1},{"$f":"'Constraints Chart Template'!P40","v":9},{"$f":"'Constraints Chart Template'!Q40","v":1},{"$f":"'Constraints Chart Template'!R40","v":9}]
[null,null,null,null,null,null,null,null,null,null,null,null,null,null,null,null,null,null,null,null,null,null,null,null,null,null,null,null,null,{"$f":"'Constraints Chart Template'!L41","v":0},{"$f":"'Constraints Chart Template'!M41","v":2030},{"$f":"'Constraints Chart Template'!N41","v":0},{"$f":"'Constraints Chart Template'!O41","v":1},{"$f":"'Constraints Chart Template'!P41","v":36},{"$f":"'Constraints Chart Template'!Q41","v":1},{"$f":"'Constraints Chart Template'!R41","v":36}]
[null,null,null,null,null,null,null,null,null,null,null,null,null,null,null,null,null,null,null,null,null,null,null,null,null,null,null,null,null,{"$f":"'Constraints Chart Template'!L42","v":0},{"$f":"'Constraints Chart Template'!M42","v":2040},{"$f":"'Constraints Chart Template'!N42","v":0},{"$f":"'Constraints Chart Template'!O42","v":1},{"$f":"'Constraints Chart Template'!P42","v":189},{"$f":"'Constraints Chart Template'!Q42","v":1},{"$f":"'Constraints Chart Template'!R42","v":189}]
[null,null,null,null,null,null,null,null,null,null,null,null,null,null,null,null,null,null,null,null,null,null,null,null,null,null,null,null,null,{"$f":"'Constraints Chart Template'!L43","v":0},{"$f":"'Constraints Chart Template'!M43","v":2050},{"$f":"'Constraints Chart Template'!N43","v":0},{"$f":"'Constraints Chart Template'!O43","v":1},{"$f":"'Constraints Chart Template'!P43","v":360},{"$f":"'Constraints Chart Template'!Q43","v":1},{"$f":"'Constraints Chart Template'!R43","v":360}]
[null,null,null,null,null,null,null,null,null,null,null,null,null,null,null,null,null,null,null,null,null,null,null,null,null,null,null,null,null,{"$f":"'Constraints Chart Template'!L44","v":"DFES 2023 - Falling Short"},{"$f":"'Constraints Chart Template'!M44","v":2023},{"$f":"'Constraints Chart Template'!N44","v":0},{"$f":"'Constraints Chart Template'!O44","v":1},{"$f":"'Constraints Chart Template'!P44","v":9},{"$f":"'Constraints Chart Template'!Q44","v":1},{"$f":"'Constraints Chart Template'!R44","v":9}]
[null,null,null,null,null,null,null,null,null,null,null,null,null,null,null,null,null,null,null,null,null,null,null,null,null,null,null,null,null,{"$f":"'Constraints Chart Template'!L45","v":0},{"$f":"'Constraints Chart Template'!M45","v":2030},{"$f":"'Constraints Chart Template'!N45","v":0},{"$f":"'Constraints Chart Template'!O45","v":1},{"$f":"'Constraints Chart Template'!P45","v":26},{"$f":"'Constraints Chart Template'!Q45","v":1},{"$f":"'Constraints Chart Template'!R45","v":26}]
[null,null,null,null,null,null,null,null,null,null,null,null,null,null,null,null,null,null,null,null,null,null,null,null,null,null,null,null,null,{"$f":"'Constraints Chart Template'!L46","v":0},{"$f":"'Constraints Chart Template'!M46","v":2040},{"$f":"'Constraints Chart Template'!N46","v":0},{"$f":"'Constraints Chart Template'!O46","v":1},{"$f":"'Constraints Chart Template'!P46","v":100},{"$f":"'Constraints Chart Template'!Q46","v":1},{"$f":"'Constraints Chart Template'!R46","v":100}]
[null,null,null,null,null,null,null,null,null,null,null,null,null,null,null,null,null,null,null,null,null,null,null,null,null,null,null,null,null,{"$f":"'Constraints Chart Template'!L47","v":0},{"$f":"'Constraints Chart Template'!M47","v":2050},{"$f":"'Constraints Chart Template'!N47","v":0},{"$f":"'Constraints Chart Template'!O47","v":1},{"$f":"'Constraints Chart Template'!P47","v":141},{"$f":"'Constraints Chart Template'!Q47","v":1},{"$f":"'Constraints Chart Template'!R47","v":141}]
[null,null,null,null,null,null,null,null,null,null,null,null,null,null,null,null,null,null,null,null,null,null,null,null,null,null,null,null,null,{"$f":"'Constraints Chart Template'!L48","v":"DFES 2023 - Leading The Way"},{"$f":"'Constraints Chart Template'!M48","v":2023},{"$f":"'Constraints Chart Template'!N48","v":0},{"$f":"'Constraints Chart Template'!O48","v":1},{"$f":"'Constraints Chart Template'!P48","v":9},{"$f":"'Constraints Chart Template'!Q48","v":1},{"$f":"'Constraints Chart Template'!R48","v":9}]
[null,null,null,null,null,null,null,null,null,null,null,null,null,null,null,null,null,null,null,null,null,null,null,null,null,null,null,null,null,{"$f":"'Constraints Chart Template'!L49","v":0},{"$f":"'Constraints Chart Template'!M49","v":2030},{"$f":"'Constraints Chart Template'!N49","v":0},{"$f":"'Constraints Chart Template'!O49","v":1},{"$f":"'Constraints Chart Template'!P49","v":39},{"$f":"'Constraints Chart Template'!Q49","v":1},{"$f":"'Constraints Chart Template'!R49","v":39}]
[null,null,null,null,null,null,null,null,null,null,null,null,null,null,null,null,null,null,null,null,null,null,null,null,null,null,null,null,null,{"$f":"'Constraints Chart Template'!L50","v":0},{"$f":"'Constraints Chart Template'!M50","v":2040},{"$f":"'Constraints Chart Template'!N50","v":0},{"$f":"'Constraints Chart Template'!O50","v":1},{"$f":"'Constraints Chart Template'!P50","v":287},{"$f":"'Constraints Chart Template'!Q50","v":1},{"$f":"'Constraints Chart Template'!R50","v":287}]
[null,null,null,null,null,null,null,null,null,null,null,null,null,null,null,null,null,null,null,null,null,null,null,null,null,null,null,null,null,{"$f":"'Constraints Chart Template'!L51","v":0},{"$f":"'Constraints Chart Template'!M51","v":2050},{"$f":"'Constraints Chart Template'!N51","v":0},{"$f":"'Constraints Chart Template'!O51","v":1},{"$f":"'Constraints Chart Template'!P51","v":327},{"$f":"'Constraints Chart Template'!Q51","v":1},{"$f":"'Constraints Chart Template'!R51","v":327}]
[null,null,null,null,null,null,null,null,null,null,null,null,null,null,null,null,null,null,null,null,null,null,null,null,null,null,null,null,null,{"$f":"'Constraints Chart Template'!L52","v":"NPg Best View 2023"},{"$f":"'Constraints Chart Template'!M52","v":2023},{"$f":"'Constraints Chart Template'!N52","v":9},{"$f":"'Constraints Chart Template'!O52","v":1},{"$f":"'Constraints Chart Template'!P52","v":0},{"$f":"'Constraints Chart Template'!Q52","v":1},{"$f":"'Constraints Chart Template'!R52","v":9}]
[null,null,null,null,null,null,null,null,null,null,null,null,null,null,null,null,null,null,null,null,null,null,null,null,null,null,null,null,null,{"$f":"'Constraints Chart Template'!L53","v":0},{"$f":"'Constraints Chart Template'!M53","v":2030},{"$f":"'Constraints Chart Template'!N53","v":27},{"$f":"'Constraints Chart Template'!O53","v":1},{"$f":"'Constraints Chart Template'!P53","v":7},{"$f":"'Constraints Chart Template'!Q53","v":1},{"$f":"'Constraints Chart Template'!R53","v":27}]
[null,null,null,null,null,null,null,null,null,null,null,null,null,null,null,null,null,null,null,null,null,null,null,null,null,null,null,null,null,{"$f":"'Constraints Chart Template'!L54","v":0},{"$f":"'Constraints Chart Template'!M54","v":2040},{"$f":"'Constraints Chart Template'!N54","v":181},{"$f":"'Constraints Chart Template'!O54","v":1},{"$f":"'Constraints Chart Template'!P54","v":24},{"$f":"'Constraints Chart Template'!Q54","v":1},{"$f":"'Constraints Chart Template'!R54","v":181}]
[null,null,null,null,null,null,null,null,null,null,null,null,null,null,null,null,null,null,null,null,null,null,null,null,null,null,null,null,null,{"$f":"'Constraints Chart Template'!L55","v":0},{"$f":"'Constraints Chart Template'!M55","v":2050},{"$f":"'Constraints Chart Template'!N55","v":316},{"$f":"'Constraints Chart Template'!O55","v":1},{"$f":"'Constraints Chart Template'!P55","v":18},{"$f":"'Constraints Chart Template'!Q55","v":1},{"$f":"'Constraints Chart Template'!R55","v":316}]
[null,null,null,null,null,null,null,null,null,null,null,null,null,null,null,null,null,null,null,null,null,null,null,null,null,null,null,null,null,{"$f":"'Constraints Chart Template'!L56","v":"NPg Best View 2023 Without ToUT"},{"$f":"'Constraints Chart Template'!M56","v":2023},{"$f":"'Constraints Chart Template'!N56","v":9},{"$f":"'Constraints Chart Template'!O56","v":1},{"$f":"'Constraints Chart Template'!P56","v":0},{"$f":"'Constraints Chart Template'!Q56","v":1},{"$f":"'Constraints Chart Template'!R56","v":9}]
[null,null,null,null,null,null,null,null,null,null,null,null,null,null,null,null,null,null,null,null,null,null,null,null,null,null,null,null,null,{"$f":"'Constraints Chart Template'!L57","v":0},{"$f":"'Constraints Chart Template'!M57","v":2030},{"$f":"'Constraints Chart Template'!N57","v":39},{"$f":"'Constraints Chart Template'!O57","v":1},{"$f":"'Constraints Chart Template'!P57","v":0},{"$f":"'Constraints Chart Template'!Q57","v":1},{"$f":"'Constraints Chart Template'!R57","v":34}]
[null,null,null,null,null,null,null,null,null,null,null,null,null,null,null,null,null,null,null,null,null,null,null,null,null,null,null,null,null,{"$f":"'Constraints Chart Template'!L58","v":0},{"$f":"'Constraints Chart Template'!M58","v":2040},{"$f":"'Constraints Chart Template'!N58","v":287},{"$f":"'Constraints Chart Template'!O58","v":1},{"$f":"'Constraints Chart Template'!P58","v":0},{"$f":"'Constraints Chart Template'!Q58","v":1},{"$f":"'Constraints Chart Template'!R58","v":205}]
[null,null,null,null,null,null,null,null,null,null,null,null,null,null,null,null,null,null,null,null,null,null,null,null,null,null,null,null,null,{"$f":"'Constraints Chart Template'!L59","v":0},{"$f":"'Constraints Chart Template'!M59","v":2050},{"$f":"'Constraints Chart Template'!N59","v":327},{"$f":"'Constraints Chart Template'!O59","v":1},{"$f":"'Constraints Chart Template'!P59","v":0},{"$f":"'Constraints Chart Template'!Q59","v":1},{"$f":"'Constraints Chart Template'!R59","v":334}]

{"sheet":"DFES Doc - Sensitivity","index":6,"n_rows":132,"n_cols":11,"rows_kept":132,"cut":false,"hidden":false,"merged":[]}
[null,"Charts and Tables"]
[null,"DFES 2023 - Consumer Transformation",null,"R 255","G 191","B 34"]
[]
[]
[]
[]
[null,"DFES Doc 2023"]
[null,"Electrical Energy Consumption (GWh)",2022,2025,2030,2040,2050,"GB rough estimate by 2050 (not UK - no NI)"]
[null,"DFES 2023 - Consumer Transformation",{"$f":"'Energy Consumed (Core_LCT_HGV)'!$B2/1000","v":34347.338334894164},{"$f":"'Energy Consumed (Core_LCT_HGV)'!$E2/1000","v":36366.462294029865},{"$f":"'Energy Consumed (Core_LCT_HGV)'!$L2/1000","v":43340.510165583364},{"$f":"'Energy Consumed (Core_LCT_HGV)'!$T2/1000","v":55693.978362420945},{"$f":"'Energy Consumed (Core_LCT_HGV)'!$AD2/1000","v":66305.9725424848},{"$f":"G9*7","v":464141.80779739359}]
[null,"CT 2023 Policy Sensitivity",{"$f":"'Energy Consumed (Core_LCT_HGV)'!$B6/1000","v":34336.942825930761},{"$f":"'Energy Consumed (Core_LCT_HGV)'!$E6/1000","v":36498.068491227357},{"$f":"'Energy Consumed (Core_LCT_HGV)'!$L6/1000","v":43177.915121361613},{"$f":"'Energy Consumed (Core_LCT_HGV)'!$T6/1000","v":57226.292827281934},{"$f":"'Energy Consumed (Core_LCT_HGV)'!$AD6/1000","v":72203.596367822567},{"$f":"G10*7","v":505425.17457475798}]
[null,"DFES 2023 - NPg Best View",{"$f":"'Energy Consumed (Core_LCT_HGV)'!$B8/1000","v":34347.338334894164},{"$f":"'Energy Consumed (Core_LCT_HGV)'!$E8/1000","v":36356.230065940545},{"$f":"'Energy Consumed (Core_LCT_HGV)'!$L8/1000","v":43658.304630142273},{"$f":"'Energy Consumed (Core_LCT_HGV)'!$T8/1000","v":55125.680404198392},{"$f":"'Energy Consumed (Core_LCT_HGV)'!$AD8/1000","v":64972.68752591619},{"$f":"G11*7","v":454808.81268141331}]
[null,"BV 2023 Policy Sensitivity",{"$f":"'Energy Consumed (Core_LCT_HGV)'!$B7/1000","v":34336.942825930761},{"$f":"'Energy Consumed (Core_LCT_HGV)'!$E7/1000","v":36553.917160167672},{"$f":"'Energy Consumed (Core_LCT_HGV)'!$L7/1000","v":43897.059926873939},{"$f":"'Energy Consumed (Core_LCT_HGV)'!$T7/1000","v":57497.526082830926},{"$f":"'Energy Consumed (Core_LCT_HGV)'!$AD7/1000","v":71966.871971043438},{"$f":"G12*7","v":503768.10379730409}]
[]
[]
[]
[]
[]
[null,"DFES Doc 2023"]
[null,"CONSTRAINTS",2027,2030,2040,2050]
[null,"DFES 2023 - Consumer Transformation",17,33,211,345]
[null,"2023 Policy Sensitivity - CT",16,38,230,400]
[null,"NPg 2023 - Best View",15,27,181,316]
[null,"2023 Policy Sensitivity - Best View",15,30,211,383]
[]
[]
[]
[]
[]
[]
[]
[]
[]
[null,"DFES Doc 2023"]
["GB rough estimate by 2050 (not UK - no NI)","Gross Peak Demand (MW)",2022,2025,2030,2040,2050,"End of ED2","End of ED2 with TouT","Comparative Impact ED2","Comparative Impact ED2 (TouT)"]
[{"$f":"I35*7","v":0},"DFES 2023 - Consumer Transformation",{"$f":"'Gross Peak Demand'!$B2","v":5995.7125586330403},{"$f":"'Gross Peak Demand'!$E2","v":6711.5260933228374},{"$f":"'Gross Peak Demand'!$J$2","v":7650.9106263674221},{"$f":"'Gross Peak Demand'!$T$2","v":10482.256978896317},{"$f":"'Gross Peak Demand'!$AD$2","v":13024.310810297084},{"$f":"'Gross Peak Demand'!$G2","v":7130.1939041163041},{"$f":"'Gross Peak Demand'!$G38","v":0},{"$f":"H35-$H$37","v":5.9932182958673366},{"$f":"I35-$I$37","v":-7002.6388960289132}]
[0,"CT 2023 Policy Sensitivity",{"$f":"'Gross Peak Demand'!$B6","v":5994.8846636485323},{"$f":"'Gross Peak Demand'!$E6","v":6734.0176168268717},{"$f":"'Gross Peak Demand'!$J6","v":7574.3611334868137},{"$f":"'Gross Peak Demand'!$T6","v":10725.731648207548},{"$f":"'Gross Peak Demand'!$AD6","v":14243.826591764431},{"$f":"'Gross Peak Demand'!$G6","v":7029.9629051093725},{"$f":"'Gross Peak Demand'!$G42","v":0},{"$f":"H36-$H$37","v":-94.237780711064261},{"$f":"I36-$I$37","v":-7002.6388960289132}]
[{"$f":"I38*7","v":0},"DFES 2023 - NPg Best View",{"$f":"'Gross Peak Demand'!$B44","v":5986.1646371258084},{"$f":"'Gross Peak Demand'!$E44","v":6636.2638245440976},{"$f":"'Gross Peak Demand'!$J44","v":7448.6128087685302},{"$f":"'Gross Peak Demand'!$T44","v":9994.4403872398216},{"$f":"'Gross Peak Demand'!$AD44","v":12433.636111243914},{"$f":"'Gross Peak Demand'!$G8","v":7124.2006858204368},{"$f":"'Gross Peak Demand'!$G44","v":7002.6388960289132},{"$f":"H37-$H$37","v":0},{"$f":"I37-$I$37","v":0}]
[{"$f":"I37*7","v":49018.472272202394},"BV 2023 Policy Sensitivity",{"$f":"'Gross Peak Demand'!$B7","v":5994.8846636485323},{"$f":"'Gross Peak Demand'!$E7","v":6737.7920701122966},{"$f":"'Gross Peak Demand'!$J7","v":7608.7940811098069},{"$f":"'Gross Peak Demand'!$T7","v":10746.313176448057},{"$f":"'Gross Peak Demand'!$AD7","v":14226.328654043427},{"$f":"'Gross Peak Demand'!$G7","v":7041.1530215392859},{"$f":"'Gross Peak Demand'!$G43","v":0},{"$f":"H38-$H$37","v":-83.047664281150901},{"$f":"I38-$I$37","v":-7002.6388960289132}]
[]
[]
[null,"*** Why the number of constraints and peak demand is actually higher in the sensitivities ***"]
[]
[null,null,"It’s a combination of two factors:"]
[null,null,"1) Reduced thermal efficiency uptake in domestic and I&C – main effect is the long term higher peaks."]
[null,null,"2) Boiler upgrade scheme is a higher grant per heat pump (£7500/HP, rather than £5000/ASHP or £6000/GSHP)."]
[null,null,"This precipitates higher short term growth in heat pumps, which is an effect already being seen "]
[null,null,"Heat pump applications surge after increase in government grant - GOV.UK (www.gov.uk)"]
[null,null,"However, this is short lived, as the total funding pot has not been increased by govt (to date). "]
[null,null,"This is why in the mid-long term HP uptake is lower, along with the delay of the oil ban.  "]
[null,null,"Essentially, the effect of the policy is to spend the same amount of money, but more quickly and on fewer heat pumps."]
[]
[]
[]
[]
[]
[]
[]
[]
[]
[]
[]
[]
[]
[]
[]
[]
[]
[]
[]
[]
[]
[]
[]
[]
[]
[]
[]
[]
[null,"Charts and Tables"]
[null,"DFES Doc 2023"]
["2027 m","Electric Vehicles (No. Cars & Vans)",2022,2025,2030,2040,2050,"End of ED2","2027 % change to PS","GB rough estimate by 2050 (not UK - no NI)"]
[{"$f":"H82/1000000","v":1.000837},"DFES 2023 - Consumer Transformation",{"$f":"'Electric Vehicles'!$B2","v":86795},{"$f":"'Electric Vehicles'!$E$2","v":472997},{"$f":"'Electric Vehicles'!$J$2","v":1938473},{"$f":"'Electric Vehicles'!$T$2","v":4318289},{"$f":"'Electric Vehicles'!$AD$2","v":4734509},{"$f":"'Electric Vehicles'!$G2","v":1000837},{"$f":"(H82-H$84)/H$84","v":5.6563319141479031E-2},{"$f":"G82*7","v":33141563}]
[{"$f":"H83/1000000","v":0.74185999999999996},"CT 2023 Policy Sensitivity",{"$f":"'Electric Vehicles'!$B6","v":86795},{"$f":"'Electric Vehicles'!$E$6","v":367733},{"$f":"'Electric Vehicles'!$J$6","v":1576075},{"$f":"'Electric Vehicles'!$T$6","v":4016511},{"$f":"'Electric Vehicles'!$AD$6","v":4726348},{"$f":"'Electric Vehicles'!$G6","v":741860},{"$f":"(H83-H$84)/H$84","v":-0.21683344646700947},{"$f":"G83*7","v":33084436}]
[{"$f":"H84/1000000","v":0.94725700000000002},"DFES 2023 - NPg Best View",{"$f":"'Electric Vehicles'!$B8","v":86795},{"$f":"'Electric Vehicles'!$E$8","v":455591},{"$f":"'Electric Vehicles'!$J$8","v":1817732},{"$f":"'Electric Vehicles'!$T$8","v":3935422},{"$f":"'Electric Vehicles'!$AD$8","v":4252384},{"$f":"'Electric Vehicles'!$G8","v":947257},{"$f":"(H84-H$84)/H$84","v":0},{"$f":"G84*7","v":29766688}]
[{"$f":"H85/1000000","v":0.74185999999999996},"BV 2023 Policy Sensitivity",{"$f":"'Electric Vehicles'!$B7","v":86795},{"$f":"'Electric Vehicles'!$E$7","v":367733},{"$f":"'Electric Vehicles'!$J$7","v":1576075},{"$f":"'Electric Vehicles'!$T$7","v":4016511},{"$f":"'Electric Vehicles'!$AD$7","v":4726348},{"$f":"'Electric Vehicles'!$G7","v":741860},{"$f":"(H85-H$84)/H$84","v":-0.21683344646700947},{"$f":"G85*7","v":33084436}]
[]
[]
[]
[]
[]
[]
[]
[]
[]
[]
[]
[]
[]
[]
[]
[]
[]
[]
[]
[]
[]
[]
[]
[]
[]
[]
[null,"DFES Doc 2023"]
["2027 m","Total Heat Pumps (No.)",2022,2025,2030,2040,2050,2027,"2027 % change to PS","GB rough estimate by 2050 (not UK - no NI)"]
[{"$f":"H114/1000000","v":0.26884000000000002},"DFES 2023 - Consumer Transformation",{"$f":"'Heat Pumps'!$B2","v":49147},{"$f":"'Heat Pumps'!$E$2","v":131735},{"$f":"'Heat Pumps'!$J$2","v":349942},{"$f":"'Heat Pumps'!$T$2","v":1430085},{"$f":"'Heat Pumps'!$AD$2","v":3126136},{"$f":"'Heat Pumps'!$G2","v":268840},{"$f":"(H114-H$116)/H$116","v":0},{"$f":"G114*7","v":21882952}]
[{"$f":"H115/1000000","v":0.170463},"CT 2023 Policy Sensitivity",{"$f":"'Heat Pumps'!$B6","v":49147},{"$f":"'Heat Pumps'!$E$6","v":132433},{"$f":"'Heat Pumps'!$J$6","v":240115},{"$f":"'Heat Pumps'!$T$6","v":1270786},{"$f":"'Heat Pumps'!$AD$6","v":3125076},{"$f":"'Heat Pumps'!$G6","v":170463},{"$f":"(H115-H$116)/H$116","v":-0.36593140901651539},{"$f":"G115*7","v":21875532}]
[{"$f":"H116/1000000","v":0.26884000000000002},"DFES 2023 - NPg Best View",{"$f":"'Heat Pumps'!$B8","v":49147},{"$f":"'Heat Pumps'!$E$8","v":131735},{"$f":"'Heat Pumps'!$J$8","v":349942},{"$f":"'Heat Pumps'!$T$8","v":1430085},{"$f":"'Heat Pumps'!$AD$8","v":3126136},{"$f":"'Heat Pumps'!$G8","v":268840},{"$f":"(H116-H$116)/H$116","v":0},{"$f":"G116*7","v":21882952}]
[{"$f":"H117/1000000","v":0.170463},"BV 2023 Policy Sensitivity",{"$f":"'Heat Pumps'!$B7","v":49147},{"$f":"'Heat Pumps'!$E$7","v":132433},{"$f":"'Heat Pumps'!$J$7","v":240115},{"$f":"'Heat Pumps'!$T$7","v":1270786},{"$f":"'Heat Pumps'!$AD$7","v":3125076},{"$f":"'Heat Pumps'!$G7","v":170463},{"$f":"(H117-H$116)/H$116","v":-0.36593140901651539},{"$f":"G117*7","v":21875532}]
[]
[]
[]
[]
[null,"Residential Heat Pumps (No.)",2022,2025,2030,2040,2050,2027,"GB rough estimate by 2050 (not UK - no NI)"]
[null,"DFES 2023 - Consumer Transformation",{"$f":"'Heat Pumps'!$B42","v":42082},{"$f":"'Heat Pumps'!$E42","v":122193},{"$f":"'Heat Pumps'!$J42","v":331198},{"$f":"'Heat Pumps'!$T42","v":1327214},{"$f":"'Heat Pumps'!$AD42","v":2885461},{"$f":"'Heat Pumps'!$G42","v":256245},{"$f":"G123*7","v":20198227}]
[null,"CT 2023 Policy Sensitivity",{"$f":"'Heat Pumps'!$B46","v":42082},{"$f":"'Heat Pumps'!$E46","v":122920},{"$f":"'Heat Pumps'!$J46","v":225752},{"$f":"'Heat Pumps'!$T46","v":1176787},{"$f":"'Heat Pumps'!$AD46","v":2885461},{"$f":"'Heat Pumps'!$G46","v":159347},{"$f":"G124*7","v":20198227}]
[null,"DFES 2023 - NPg Best View",{"$f":"'Heat Pumps'!$B48","v":42082},{"$f":"'Heat Pumps'!$E48","v":122193},{"$f":"'Heat Pumps'!$J48","v":331198},{"$f":"'Heat Pumps'!$T48","v":1327214},{"$f":"'Heat Pumps'!$AD48","v":2885461},{"$f":"'Heat Pumps'!$G48","v":256245},{"$f":"G125*7","v":20198227}]
[null,"BV 2023 Policy Sensitivity",{"$f":"'Heat Pumps'!$B47","v":42082},{"$f":"'Heat Pumps'!$E47","v":122920},{"$f":"'Heat Pumps'!$J47","v":225752},{"$f":"'Heat Pumps'!$T47","v":1176787},{"$f":"'Heat Pumps'!$AD47","v":2885461},{"$f":"'Heat Pumps'!$G47","v":159347},{"$f":"G126*7","v":20198227}]
[]
[null,"I&C  Heat Pumps (No.)",2022,2025,2030,2040,2050,"GB rough estimate by 2050 (not UK - no NI)"]
[null,"DFES 2023 - Consumer Transformation",{"$f":"'Heat Pumps'!$B145","v":7064},{"$f":"'Heat Pumps'!$E145","v":9542},{"$f":"'Heat Pumps'!$J145","v":18744},{"$f":"'Heat Pumps'!$T145","v":102871},{"$f":"'Heat Pumps'!$AD145","v":240675},{"$f":"G129*7","v":1684725}]
[null,"CT 2023 Policy Sensitivity",{"$f":"'Heat Pumps'!$B149","v":7064},{"$f":"'Heat Pumps'!$E149","v":9513},{"$f":"'Heat Pumps'!$J149","v":14363},{"$f":"'Heat Pumps'!$T149","v":94000},{"$f":"'Heat Pumps'!$AD149","v":239615},{"$f":"G130*7","v":1677305}]
[null,"DFES 2023 - NPg Best View",{"$f":"'Heat Pumps'!$B151","v":7064},{"$f":"'Heat Pumps'!$E151","v":9542},{"$f":"'Heat Pumps'!$J151","v":18744},{"$f":"'Heat Pumps'!$T151","v":102871},{"$f":"'Heat Pumps'!$AD151","v":240675},{"$f":"G131*7","v":1684725}]
[null,"BV 2023 Policy Sensitivity",{"$f":"'Heat Pumps'!$B150","v":7064},{"$f":"'Heat Pumps'!$E150","v":9513},{"$f":"'Heat Pumps'!$J150","v":14363},{"$f":"'Heat Pumps'!$T150","v":94000},{"$f":"'Heat Pumps'!$AD150","v":239615},{"$f":"G132*7","v":1677305}]

{"sheet":"Gross Peak Demand","index":7,"n_rows":122,"n_cols":33,"rows_kept":122,"cut":false,"hidden":false,"merged":[]}
["Gross Peak Demand MW - NPg",2022,2023,2024,2025,2026,2027,2028,2029,2030,2031,2032,2033,2034,2035,2036,2037,2038,2039,2040,2041,2042,2043,2044,2045,2046,2047,2048,2049,2050,"Parameter","Licence","CHOSEN"]
["DFES 2023 - Consumer Transformation",5995.7125586330403,6231.8978470864786,6499.5125206379871,6711.5260933228374,6891.5624743885746,7130.1939041163041,7309.7590738799063,7451.406291516525,7650.9106263674221,7831.0989696894776,7996.1846553280602,8153.1514299398623,8302.3816865295048,8722.1928237027078,9110.7190480682566,9487.3887707333215,9845.8991504010191,10183.828804054619,10482.256978896317,10744.063091341859,10977.080375749027,11256.777338322379,11533.48964332624,11803.124801488244,12063.018374833744,12319.055209528529,12572.393720888198,12823.541790365014,13024.310810297084,"Gross Peak Demand MW","NPg"]
["DFES 2023 - System Transformation",6021.497055276066,6268.8491525178088,6555.1002240576345,6760.6469092426441,6909.9301064858228,7103.8959862101465,7293.2598389545228,7452.669476570989,7650.8207640793971,7826.7613945170851,7995.7871893218835,8160.5132416526631,8321.6697563283378,8792.7886568163358,9049.1136172116894,9299.0744467770637,9547.62577260326,9797.2735303660866,10044.95933588703,10285.237209911798,10531.189339209252,10791.743963896901,11072.052180116312,11377.463266356513,11704.494125298264,12051.073098421857,12414.039822117349,12796.3304621481,13175.173920085526,"Gross Peak Demand MW","NPg"]
["DFES 2023 - Leading The Way",5995.7125586330403,6231.0967834939456,6498.8117696157969,6720.3420497280549,6916.7980918861504,7169.9783525871208,7351.5555240779377,7492.8406040796199,7742.0130681777264,8202.5275167901291,8643.3296924186325,9068.461145585803,9474.3343620265987,10095.411648620995,10457.556817773004,10802.835686062361,11126.729123702709,11425.725232462841,11675.731642332346,11890.773393153995,12083.312415844199,12327.865679607145,12574.187415571727,12767.057575199655,12747.903828526823,12728.432573791119,12709.656170140928,12691.294108024966,12673.99236209409,"Gross Peak Demand MW","NPg"]
["CCC 2020 - Balanced Net Zero",7196.5833073898893,7244.3633472961992,7280.2316012686751,7365.1705673638426,7485.8058668791873,7641.3964899037928,7837.1007173772505,8084.3339496132494,8446.49356982471,8749.5857552037451,9044.1532731678781,9361.2485652255091,9675.1873811437581,10153.062738087323,10458.090705937157,10760.910166063637,11055.989881970829,11342.267770318769,11581.064173421108,11802.256056686016,12015.429403693073,12220.216719622684,12402.09291616578,12565.764484599902,12722.189652641251,12880.103060627824,13034.832846272056,13077.2658727406,13100.985449230091,"Gross Peak Demand MW","NPg"]
["CT 2023 Policy Sensitivity",5994.8846636485323,6265.5620379857319,6544.612908794631,6734.0176168268717,6860.5679848704985,7029.9629051093725,7213.5694582451406,7374.9059709337434,7574.3611334868137,7754.2265971767974,7924.4553198646518,8091.4194593918637,8257.9058598707052,8678.3955182376048,9117.9130637721646,9547.0205192296562,9953.8981835059567,10343.172624306051,10725.731648207548,11099.966007227529,11462.239891520541,11829.859806844537,12191.771980756233,12547.278222152971,12894.561661329768,13238.505675994726,13579.883174713455,13919.026030838806,14243.826591764431,"Gross Peak Demand MW","NPg"]
["BV 2023 Policy Sensitivity",5994.8846636485323,6266.3415264711211,6546.5702658936279,6737.7920701122966,6867.3576251390386,7041.1530215392859,7230.7662930729948,7399.879900572776,7608.7940811098069,7799.144113553406,7979.431464118773,8154.3010997503934,8324.6461937784552,8744.1440003323478,9178.3390313700329,9599.0596919356249,9995.8080907666081,10374.309750368775,10746.313176448057,11110.903576594552,11464.954180591474,11826.038344367247,12183.130365714878,12535.30923220938,12880.401183312997,13222.933628698864,13563.400407984922,13901.941922386639,14226.328654043427,"Gross Peak Demand MW","NPg"]
["DFES 2023 - NPg Best View (Counterfactual - No ToUT)",5995.7125586330403,6230.4033682456284,6495.3502291632376,6703.5106582100971,6883.6628832975148,7124.2006858204368,7302.134749130927,7444.8825726615942,7641.5764859251922,7817.1815740784114,7979.144441816572,8132.4337335804876,8274.3673804486916,8682.4062321009369,9055.5345014658506,9414.8968222633684,9754.7576570110723,10073.512043646595,10353.407211153733,10599.835455592709,10819.07916692654,11086.85798502848,11353.130686517785,11614.215985376433,11868.500956457239,12119.52802913891,12368.502715148657,12615.286093156925,12811.947527613531,"Gross Peak Demand MW","NPg"]
["NPg Planning Scenario - DFES 2022",7176.7478407161207,7236.80470854742,7286.1725450475842,7370.6144686816478,7492.1957181866856,7659.4663310174237,7882.3891239866207,8160.1294782338928,8586.7119493983319,8914.1698071991868,9228.0903811070948,9575.9173560788277,9920.4168547133904,10482.708625290645,10855.967456984214,11183.115579911922,11496.230886661031,11787.16591853241,12030.031461648756,12238.222862489372,12437.041792026952,12623.375713283771,12782.908570671018,12931.176857897275,13069.724706520165,13208.701935235214,13342.195030031955,13361.766535977964,13369.147739729695,"Gross Peak Demand MW","NPg"]
["DFES 2023 - Falling Short",6021.3893688991648,6273.4844914340774,6513.5267022888911,6675.2877394649222,6768.7778107449067,6913.6496603570977,7073.196722474795,7213.0733789849965,7376.3523626835622,7514.0870197002205,7645.1460057765998,7772.5512064581526,7893.2826716301406,8256.1414169408163,8373.6652458178032,8489.7001985764091,8593.3758726131637,8692.8563287436518,8786.8030460815462,8872.7156308818012,8952.0767148339,9023.8969060046893,9089.0460957387113,9148.1147612917121,9200.0333282093707,9248.1787691838235,9293.6689682046654,9336.1429269768087,9370.3061321558271,"Gross Peak Demand MW","NPg"]
[]
["Gross Peak Demand MW - NPgN",2022,2023,2024,2025,2026,2027,2028,2029,2030,2031,2032,2033,2034,2035,2036,2037,2038,2039,2040,2041,2042,2043,2044,2045,2046,2047,2048,2049,2050,"Gross Peak Demand MW"]
["DFES 2023 - Consumer Transformation",2452.5942488958772,2467.017392741117,2594.2369283308394,2671.6269957170575,2730.5190955104658,2824.3013351328896,2902.7326786122194,2937.1548648832991,2985.8344100888271,3030.7383707780737,3071.8480640591279,3111.2960946017979,3149.4540839059332,3231.2486947972798,3354.3298404459938,3475.3521633025789,3591.2270640831753,3700.9028544852795,3797.9346633452019,3883.3514230309138,3959.7612941379221,4049.1865397266633,4142.1556710967643,4233.2396112634306,4321.7441925774046,4409.0213564492342,4495.3682550285148,4580.8569671104669,4648.6157049929852,"Gross Peak Demand MW","NPgN"]
["DFES 2023 - System Transformation",2462.9148019703007,2482.4016138525499,2616.2304120615772,2688.3710394544501,2733.4532784745625,2808.1983971135796,2885.475416471716,2926.3119298905485,2978.7188102618711,3026.2856141550801,3072.3100452632098,3117.7214161000547,3162.9639931064312,3269.7325939842453,3362.0767223425964,3445.5140901774121,3527.8492633988803,3610.8255336298394,3694.2151078718289,3776.3124542224764,3861.2072383905424,3950.5926974874674,4047.4561250088595,4153.5437576790655,4267.9729960824834,4389.4950958534928,4516.9833955777867,4651.433101023058,4784.8363639881263,"Gross Peak Demand MW","NPgN"]
["DFES 2023 - Leading The Way",2452.5942488958772,2468.2699714737523,2598.0169026770986,2684.2626790828181,2755.5946820067034,2861.2138530017069,2944.0967585970079,2978.5690313385885,3046.3011828293606,3193.5233771152798,3333.8201883535294,3468.3065361039526,3596.0507575292372,3750.3298445745786,3865.2676376809945,3975.835679969719,4079.5961353088369,4174.7990723192324,4251.2194237936292,4315.1003499181297,4371.9872536969524,4446.5548170666598,4529.496271957104,4594.3326370890618,4584.3371904281066,4574.2923422131698,4564.4349511741984,4554.6851636123038,4546.2975629105467,"Gross Peak Demand MW","NPgN"]
["CCC 2020 - Balanced Net Zero",3003.1294293242918,2999.2600983331113,3004.6884204205812,3027.1610424322735,3063.2440911416993,3113.1564595201248,3179.3750049166324,3277.1328318527712,3378.3248275707592,3490.5008857058156,3596.1967197310219,3716.2827738645974,3835.9745584739862,3967.4866251116869,4082.866687932797,4197.0001300395388,4306.7947496133283,4415.1797000782353,4506.0156034345409,4590.6950975166355,4670.8180802015904,4749.4953497388115,4818.3835829982081,4882.5080190061799,4944.6121526806501,5006.2285458330598,5067.8124275746859,5083.5363901828969,5092.4678057969404,"Gross Peak Demand MW","NPgN"]
["CT 2023 Policy Sensitivity",2453.1524261014051,2481.4880854828616,2617.0252510210266,2690.1663539762608,2734.5731674287822,2808.0244656738982,2886.0208391152291,2928.6248222818936,2980.9236942165071,3029.022812574613,3074.6914240183164,3119.8987442603989,3165.3664920364126,3248.733900222388,3391.427555458481,3532.388127100392,3665.5601271404671,3792.9714439232503,3918.9772062435923,4042.7609390436382,4163.2409050246861,4286.6275813301909,4410.166386294467,4532.4865175190344,4652.7386904901532,4772.155282005403,4890.9036228606728,5008.9662408921677,5121.5216839122486,"Gross Peak Demand MW","NPgN"]
["BV 2023 Policy Sensitivity",2453.1524261014051,2481.7174910474273,2617.612125480081,2691.316884240538,2736.6766985770214,2811.5321405313734,2891.4562276253068,2936.5636962783888,2991.9154104256636,3043.4072915158072,3092.339983330191,3140.1204699133546,3186.8519946746251,3269.9092414828137,3410.8863715110956,3549.1360678213459,3679.0335214835841,3802.9647948193915,3925.5653905170934,4046.243630404414,4164.0804705877808,4285.3724404575705,4407.3734590987669,4528.6397541767901,4648.2055620754618,4767.1870132788554,4885.6599920675244,5003.5442172929461,5115.9784404983102,"Gross Peak Demand MW","NPgN"]
["DFES 2023 - NPg Best View",2452.5942488958772,2466.8497797285249,2593.5095990217815,2669.9245597445956,2728.8785370309615,2823.4552726652396,2901.9966609541452,2937.3995276877667,2986.3479735713154,3031.1294808525854,3072.1132108841898,3111.0805943245932,3147.3939807332567,3226.4200377280999,3345.4249307218729,3461.4996311089685,3571.9357490836173,3675.9782402565716,3767.4122545135747,3848.2636125229924,3920.6823734970553,4006.6836856537648,4096.7093723789576,4185.4214666313637,4272.3645709759176,4358.2853169077025,4443.4423756896549,4527.7564191771708,4594.4006249564654,"Gross Peak Demand MW","NPgN"]
["NPg Planning Scenario - DFES 2022",2998.4781566081438,3000.8218076405683,3013.5340152250697,3039.6619989196847,3079.041443259212,3134.721574738463,3210.7740111743665,3318.8478435286152,3440.1862009446318,3556.1738712346369,3663.6343290416394,3788.5880429256017,3912.7799020168914,4065.3171804110179,4196.7491646945246,4313.5175984257467,4424.2788210968356,4529.7033914017238,4617.7815459421408,4695.6154141082052,4769.7172679596033,4841.1334558699791,4901.601750356228,4959.8514032967714,5015.2362019197772,5069.749707274128,5123.4816686260347,5130.8928495925293,5133.6493455952541,"Gross Peak Demand MW","NPgN"]
["DFES 2023 - Falling Short",2463.2910015607445,2486.0263188402214,2608.6490911797459,2672.9930255589838,2707.1124455177392,2774.9537710723098,2848.1233181626781,2885.9986394173388,2929.9164094892312,2968.7909415023764,3005.9097489451678,3042.3088431137417,3074.7010018368615,3141.1653143009621,3171.9200288253123,3203.1922135252439,3232.611141378422,3261.6042815018063,3288.917691286013,3314.3645310380975,3338.0725083397256,3359.7666255202644,3379.6254307839195,3397.797527791321,3413.8437485440932,3428.8735764318108,3443.1685390637535,3456.3931227619137,3466.3227786749962,"Gross Peak Demand MW","NPgN"]
[]
["Gross Peak Demand MW - NPgY",2022,2023,2024,2025,2026,2027,2028,2029,2030,2031,2032,2033,2034,2035,2036,2037,2038,2039,2040,2041,2042,2043,2044,2045,2046,2047,2048,2049,2050,"Gross Peak Demand MW","NPgY"]
["DFES 2023 - Consumer Transformation",3543.1183097371636,3764.8804543453621,3905.2755923071477,4039.8990976057798,4161.0433788781083,4305.892568983415,4407.0263952676869,4514.2514266332264,4665.076216278595,4800.3605989114039,4924.3365912689324,5041.8553353380648,5152.9276026235721,5490.9441289054284,5756.3892076222628,6012.0366074307431,6254.6720863178434,6482.9259495693404,6684.3223155511159,6860.7116683109452,7017.3190816111046,7207.5907985957165,7391.3339722294759,7569.8851902248143,7741.2741822563394,7910.0338530792951,8077.0254658596823,8242.6848232545472,8375.6951053040975,"Gross Peak Demand MW","NPgY"]
["DFES 2023 - System Transformation",3558.5822533057649,3786.4475386652584,3938.8698119960568,4072.2758697881941,4176.4768280112603,4295.6975890965668,4407.7844224828068,4526.3575466804405,4672.101953817526,4800.475780362005,4923.4771440586737,5042.7918255526083,5158.7057632219066,5523.05606283209,5687.0368948690939,5853.5603565996516,6019.7765092043792,6186.4479967362468,6350.7442280152,6508.9247556893224,6669.9821008187091,6841.1512664094325,7024.5960551074522,7223.9195086774489,7436.5211292157819,7661.5780025683644,7897.0564265395633,8144.8973611250422,8390.3375560974,"Gross Peak Demand MW","NPgY"]
["DFES 2023 - Leading The Way",3543.1183097371636,3762.8268120201928,3900.7948669386983,4036.0793706452373,4161.2034098794466,4308.7644995854134,4407.4587654809293,4514.2715727410314,4695.7118853483653,5009.0041396748493,5309.509504065104,5600.1546094818495,5878.283604497361,6345.0818040464164,6592.2891800920088,6827.0000060926423,7047.1329883938733,7250.9261601436083,7424.5122185387181,7575.6730432358645,7711.3251621472464,7881.3108625404839,8044.6911436146229,8172.724938110593,8163.5666380987168,8154.1402315779487,8145.2212189667298,8136.608944412661,8127.6947991835432,"Gross Peak Demand MW","NPgY"]
["CCC 2020 - Balanced Net Zero",4193.4538780655976,4245.1032489630879,4275.5431808480944,4338.0095249315691,4422.5617757374885,4528.2400303836675,4657.7257124606185,4807.2011177604782,5068.1687422539499,5259.0848694979304,5447.9565534368558,5644.9657913609117,5839.2128226697723,6185.5761129756356,6375.2240180043591,6563.9100360240973,6749.1951323575004,6927.0880702405329,7075.0485699865667,7211.5609591693801,7344.6113234914837,7470.7213698838714,7583.7093331675715,7683.2564655937213,7777.577499960601,7873.8745147947639,7967.0204186973697,7993.7294825577028,8008.5176434331497,"Gross Peak Demand MW","NPgY"]
["CT 2023 Policy Sensitivity",3541.7322375471276,3784.0739525028703,3927.5876577736044,4043.851262850611,4125.9948174417159,4221.9384394354738,4327.5486191299115,4446.2811486518494,4593.4374392703066,4725.2037846021849,4849.7638958463358,4971.5207151314653,5092.5393678342916,5429.6616180152168,5726.4855083136836,6014.6323921292633,6288.33805636549,6550.2011803828,6806.7544419639544,7057.2050681838919,7298.9989864958552,7543.2322255143463,7781.6055944617665,8014.7917046339371,8241.8229708396138,8466.3503939893217,8688.9795518527826,8910.0597899466375,9122.3049078521817,"Gross Peak Demand MW","NPgY"]
["BV 2023 Policy Sensitivity",3541.7322375471276,3784.6240354236938,3928.9581404135465,4046.4751858717582,4130.6809265620177,4229.6208810079124,4339.3100654476875,4463.3162042943877,4616.8786706841438,4755.7368220375984,4887.091480788582,5014.1806298370384,5137.7941991038297,5474.2347588495331,5767.4526598589382,6049.9236241142789,6316.7745692830231,6571.3449555493835,6820.7477859309638,7064.6599461901387,7300.8737100036933,7540.6659039096776,7775.7569066161113,8006.6694780325897,8232.1956212375353,8455.7466154200083,8677.7404159173966,8898.3977050936937,9110.3502135451163,"Gross Peak Demand MW","NPgY"]
["DFES 2023 - NPg Best View",3543.1183097371636,3763.553588517103,3901.8406301414561,4033.5860984655014,4154.7843462665533,4300.7454131551976,4400.1380881767818,4507.4830449738274,4655.2285123538768,4786.052093225826,4907.0312309323826,5021.3531392558943,5126.9733997154344,5455.9861943728374,5710.1095707439772,5953.3971911544004,6182.821907927454,6397.5338033900225,6585.9949566401583,6751.571843069717,6898.3967934294851,7080.1742993747157,7256.4213141388273,7428.7945187450696,7596.1363854813208,7761.2427122312074,7925.0603394590016,8087.5296739797541,8217.5469026570645,"Gross Peak Demand MW","NPgY"]
["NPg Planning Scenario - DFES 2022",4178.2696841079769,4235.9829009068517,4272.6385298225141,4330.9524697619627,4413.154274927474,4524.7447562789612,4671.6151128122547,4841.2816347052776,5146.5257484536996,5357.99593596455,5564.4560520654559,5787.3293131532264,6007.6369526964991,6417.3914448796277,6659.2182922896891,6869.5979814861766,7071.9520655641954,7257.4625271306868,7412.2499157066159,7542.6074483811681,7667.3245240673486,7782.2422574137918,7881.3068203147895,7971.3254546005037,8054.4885046003874,8138.9522279610856,8218.7133614059203,8230.8736863854338,8235.4983941344417,"Gross Peak Demand MW","NPgY"]
["DFES 2023 - Falling Short",3558.0983673384203,3787.458172593856,3904.8776111091456,4002.2947139059388,4061.6653652271671,4138.6958892847879,4225.0734043121174,4327.0747395676581,4446.435953194331,4545.2960781978445,4639.236256831432,4730.2423633444114,4818.5816697932796,5114.9761026398537,5201.7452169924909,5286.5079850511656,5360.7647312347408,5431.2520472418455,5497.8853547955341,5558.3510998437041,5614.0042064941745,5664.1302804844254,5709.4206649547914,5750.3172335003901,5786.189579665278,5819.3051927520128,5850.5004291409123,5879.7498042148954,5903.9833534808304,"Gross Peak Demand MW","NPgY"]
[]
["NOTE - Diversity means sum of 2 licence peaks not same as NPg peak - so NPg summation of the two licence areas is a simplification"]
[]
["Below are Gross Peak Demand Projections With Customer Flexibility (Not procured by DNO) from TouT, EV Smart Charging etc"]
["Gross Peak Demand  with CF MW - NPg",2022,2023,2024,2025,2026,2027,2028,2029,2030,2031,2032,2033,2034,2035,2036,2037,2038,2039,2040,2041,2042,2043,2044,2045,2046,2047,2048,2049,2050]
["DFES 2023 - Consumer Transformation (ToUT+)"]
["DFES 2023 - System Transformation (ToUT+)"]
["DFES 2023 - Leading The Way (ToUT+)"]
["CCC 2020 - Balanced Net Zero (ToUT+) "]
["CT 2023 Policy Sensitivity (ToUT+)"]
["BV 2023 Policy Sensitivity (ToUT+)"]
["DFES 2023 - NPg Best View",5986.1646371258084,6206.8419579054789,6452.9514225943003,6636.2638245440976,6790.1327321072504,7002.6388960289132,7157.9851864351831,7277.9159044348398,7448.6128087685302,7598.4571777824531,7734.1135595067099,7863.4892082917013,7984.2316540866232,8375.2054268255197,8734.3158334527252,9081.6812200167715,9411.370570344865,9721.4721585206316,9994.4403872398216,10235.592421601566,10450.833269530312,10715.738750654287,10980.03499167052,11239.681124202511,11493.231238791454,11743.625146525917,11991.856224450103,12237.853016944038,12433.636111243914]
["NPg Planning Scenario - DFES 2022",7166.3027410022787,7219.5339392338465,7257.8025894057628,7324.948432136749,7427.0336817227308,7568.6273997914413,7754.8649248625643,7992.9522357991509,8372.4062508309726,8653.1596129677582,8924.8717855156192,9238.2010593967607,9549.2681948965492,10069.173932127764,10403.752252555683,10703.144829223171,10995.498783551266,11270.334911019101,11499.414897589013,11699.498303802317,11892.058034836064,12074.128652904499,12230.845083232929,12377.963428100116,12516.725868323236,12656.53432651905,12791.51665361851,12813.123901649142,12822.718465633538]
["DFES 2023 - Falling Short (ToUT+)"]
["Week 24",{"$f":"SUM(B58,B69)","v":6129.2885999999999},{"$f":"B47-B44","v":143.12396287419142}]
["Gross Peak Demand  with CF MW - NPgN",2022,2023,2024,2025,2026,2027,2028,2029,2030,2031,2032,2033,2034,2035,2036,2037,2038,2039,2040,2041,2042,2043,2044,2045,2046,2047,2048,2049,2050]
["DFES 2023 - Consumer Transformation (ToUT+)"]
["DFES 2023 - System Transformation (ToUT+)"]
["DFES 2023 - Leading The Way (ToUT+)"]
["CCC 2020 - Balanced Net Zero (ToUT+) "]
["CT 2023 Policy Sensitivity (ToUT+)"]
["BV 2023 Policy Sensitivity (ToUT+)"]
["DFES 2023 - NPg Best View (ToUT+)",2449.4674951379138,2460.6405337087949,2582.6284444848011,2651.5578867815188,2704.6676311047468,2792.364680656267,2868.2907532280606,2900.7916990641761,2946.0256980738,2986.783936313012,3021.760915085722,3055.3425136460942,3086.93046713374,3162.2216785465312,3278.1200725080748,3391.5137431626877,3499.6624751436266,3601.7705146481708,3691.7028228492341,3771.4193764714719,3842.9818107671836,3928.3875747934399,4018.0277717214185,4106.4823598752573,4193.3356558537007,4279.1972777195078,4364.2801747358953,4448.5213402747468,4515.1088296535081]
["NPg Planning Scenario - DFES 2022",2994.1954876428731,2993.8495246290158,3002.6190269230569,3023.0488555995512,3056.4701896007173,3104.8584986752608,3170.9639227454222,3268.338485614493,3377.1538540761535,3480.5211216391781,3576.4250644386693,3691.6781716437267,3806.4529605094708,3947.1616330315937,4067.7003078780967,4176.682443974154,4281.6462812445243,4382.6173396248314,4466.9036664535852,4542.5587080177102,4614.9670508874806,4685.2467055978714,4744.9863676290797,4802.9167679922621,4858.3798989703346,4913.1558464912941,4967.3418574970856,4975.363557173062,4978.7848312468359]
["DFES 2023 - Falling Short (ToUT+)"]
["Week 24",2421.2429999999999,{"$f":"B58-B55","v":-28.224495137913891},"300 (Gen at MD in Wk 24)"]
["Gross Peak Demand  with CF MW - NPgY",2022,2023,2024,2025,2026,2027,2028,2029,2030,2031,2032,2033,2034,2035,2036,2037,2038,2039,2040,2041,2042,2043,2044,2045,2046,2047,2048,2049,2050]
["DFES 2023 - Consumer Transformation (ToUT+)"]
["DFES 2023 - System Transformation (ToUT+)"]
["DFES 2023 - Leading The Way (ToUT+)"]
["CCC 2020 - Balanced Net Zero (ToUT+) "]
["CT 2023 Policy Sensitivity (ToUT+)"]
["BV 2023 Policy Sensitivity (ToUT+)"]
["DFES 2023 - NPg Best View (ToUT+)",3536.6971419878951,3746.201424196684,3870.3229781094997,3984.7059377625783,4085.4651010025036,4210.2742153726458,4289.6944332071225,4377.1242053706637,4502.5871106947297,4611.6732414694407,4712.3526444209883,4808.1466946456076,4897.3011869528837,5212.9837482789881,5456.1957609446499,5690.1674768540843,5911.7080952012384,6119.7016438724613,6302.737564390588,6464.1730451300955,6607.8514587631289,6787.3511758608474,6962.0072199491024,7133.1987643272541,7299.8955829377528,7464.4278688064096,7627.5760497142073,7789.3316766692915,7918.5272815904054]
["NPg Planning Scenario - DFES 2022",4172.1072533594051,4225.6844146048306,4255.1835624827063,4301.8995765371974,4370.5634921220135,4463.7689011161801,4583.9010021171416,4724.6137501846579,4995.2523967548186,5172.6384913285801,5348.4467210769499,5546.5228877530344,5742.8152343870779,6122.0122990961709,6336.051944677587,6526.4623852490167,6713.8525023067414,6887.7175713942697,7032.5112311354278,7156.9395957846064,7277.0909839485839,7388.8819473066269,7485.8587156038502,7575.0466601078542,7658.3459693529003,7743.3784800277554,7824.1747961214242,7837.7603444760798,7843.9336343867026]
["DFES 2023 - Falling Short (ToUT+)"]
["Week 24",3708.0455999999999,{"$f":"B69-B66","v":171.34845801210486},"643 (Gen at MD in Wk 24)"]
[]
[]
[]
[]
["Below are Gross Peak Demand Projections With Customer Flexibility inherent in the NG scenarios - (both procured by DNO and from TouT, EV Smart Charging etc"]
["Gross Peak Demand  with CF MW - NPg",2022,2023,2024,2025,2026,2027,2028,2029,2030,2031,2032,2033,2034,2035,2036,2037,2038,2039,2040,2041,2042,2043,2044,2045,2046,2047,2048,2049,2050]
["DFES 2023 - Consumer Transformation (CF+)",5986.1646371258084,6208.0673327815521,6456.1991944519459,6642.3365687911264,6795.4338064794802,7005.4419081292217,7160.830627049394,7278.2049442465759,7449.0699098155383,7600.2680548463231,7736.28002066303,7866.9061025670599,7992.6602159218792,8393.0349698341161,8765.3489046815575,9128.127996231342,9474.673373602147,9802.1953269702481,10092.088310405254,10347.427867136121,10575.274174525406,10850.978307313819,11124.55581998128,11391.68352300784,11650.155519157768,11904.835726228019,12156.748238441851,12406.365083236253,12605.531153509692]
["DFES 2023 - System Transformation (CF+)",6017.1870754682459,6253.2166307468424,6523.5279948536272,6709.4873810951158,6836.0776380295629,7005.3045932927553,7170.8460742950301,7305.4812537445141,7477.9145476372232,7628.8852846563796,7773.2675881057348,7915.7546243785055,8056.7061670604962,8509.7511348945482,8750.9515380984958,8987.1618513774119,9224.0515507456766,9463.4834161419458,9702.564837133883,9936.3291318770425,10176.854470221715,10433.175047068413,10710.003943167252,11012.508628757583,11337.806535789028,11682.778561651092,12044.217886246472,12425.053106220037,12802.52990483016]
["DFES 2023 - Falling Short (CF+)",6020.2129149639704,6263.6853644375551,6496.3951722212587,6648.982135219936,6731.253604337393,6862.2596400996645,7004.8788030817395,7124.3787556518218,7268.0219407803133,7387.6546409951998,7501.5045853279116,7613.4238627519899,7720.005649769354,8070.2340302328685,8177.3263750551196,8283.6975927787898,8378.9486989768229,8470.8360114093775,8558.0300274070614,8638.6136120091342,8713.3653423957494,8781.5755015237646,8843.7569763035808,8900.4177914966313,8950.7289324628837,8997.4672172099363,9041.6981472433654,9083.0085238394786,9116.0830356213719]
["DFES 2023 - Leading The Way (CF+)",5986.1646371258084,6207.5324897380096,6456.4039300149489,6653.0791926795919,6823.2367507054978,7048.3733202359535,7207.3351830340298,7325.777950319397,7548.8844019354128,7983.4197809780126,8397.7270029740757,8798.7622809543136,9183.2655090892331,9787.1432416212101,10135.262518179206,10468.53753138001,10782.255062221779,11072.597872919134,11315.68708746897,11525.468266310787,11714.021746956538,11955.70866465176,12200.04960270124,12391.516112411493,12371.784429544936,12351.836455384528,12332.472426012737,12313.479236403477,12295.411235020118]
[]
[]
["Gross Peak Demand  with CF MW - NPgN",2022,2023,2024,2025,2026,2027,2028,2029,2030,2031,2032,2033,2034,2035,2036,2037,2038,2039,2040,2041,2042,2043,2044,2045,2046,2047,2048,2049,2050]
["DFES 2023 - Consumer Transformation (ToUT+)",2449.4674951379138,2460.7633256971321,2583.1679288592009,2652.81182037689,2705.6788138543211,2792.4480136242469,2867.9174667913076,2899.1409114949779,2943.5727909625521,2983.7739640439754,3018.2064555729667,3051.6602031742827,3084.4711188569036,3162.0531908195935,3281.5699073526389,3399.475678948465,3512.6438561409045,3619.9704498565015,3715.078904760358,3799.0862880009763,3874.3898848568988,3962.9747773548975,4055.3003903418776,4145.8868861282381,4234.1476354048555,4321.2034190945433,4407.3156665061388,4492.5561419731448,4560.0840409879811]
["DFES 2023 - System Transformation (ToUT+)",2461.7691627474105,2479.1497019653757,2609.5035192824657,2676.6332871690861,2716.6864878787296,2785.5930395401601,2858.5005778635364,2894.485735591004,2941.6859257691585,2984.2351657787131,3024.5062397388647,3065.0415194075908,3105.8166003582796,3208.6887452304618,3297.9269800992283,3378.3947544411358,3458.2738930527867,3539.0211646856833,3620.4927501856755,3701.1664627432715,3784.7831026916497,3873.2196901760781,3969.2556271153285,4074.6134030355356,4188.5878490002024,4309.6311302640279,4436.6263958975769,4570.5764722349513,4703.4876188364988]
["DFES 2023 - Falling Short (ToUT+)",2463.2085122101525,2484.5565877764047,2605.9403856940326,2668.2527980108989,2700.0519365561281,2764.5581676756092,2833.9266940824991,2867.2198078182773,2906.7297211141467,2941.5414974646483,2974.5708163051227,3007.5148628741931,3036.695266794678,3100.3140340062005,3128.8916450814463,3158.0373834574575,3185.7309547436589,3213.1328200643929,3239.1179718612957,3263.537946383532,3286.2959919815553,3307.3075804156092,3326.586857455045,3344.2741386634525,3360.0561530491746,3374.7990315507936,3388.8236642346596,3401.7826801328142,3411.4508522895853]
["DFES 2023 - Leading The Way (ToUT+)",2449.4674951379138,2462.0584063314914,2587.1284902560606,2665.883139662471,2731.3587390079406,2830.0885548301512,2910.3340458916909,2941.8841569446658,3005.8466408714226,3148.8710580992001,3283.0105513322274,3411.9653017171036,3534.8412841314212,3685.2781172896935,3797.1029694939757,3904.9844169373227,4006.45391631047,4099.7220010761648,4174.6483727615941,4237.406919149812,4293.4512589176838,4367.4287963751194,4449.981249827546,4514.5884021341581,4504.628317273271,4494.6491229907106,4484.8419652660941,4475.1432818461917,4466.7883467884176]
[]
[]
["Gross Peak Demand  with CF MW - NPgY",2022,2023,2024,2025,2026,2027,2028,2029,2030,2031,2032,2033,2034,2035,2036,2037,2038,2039,2040,2041,2042,2043,2044,2045,2046,2047,2048,2049,2050]
["DFES 2023 - Consumer Transformation (ToUT+)",3536.6971419878951,3747.3040070844199,3873.0312655927451,3989.5247484142365,4089.754992625159,4212.9938945049744,4292.9131602580865,4379.0640327515976,4505.4971188529862,4616.4940908023482,4718.0735650900633,4815.2458993927776,4908.1890970649756,5230.9817790145225,5483.7789973289191,5728.6523172828765,5962.029517461242,6182.2248771137465,6377.0094056448961,6548.3415791351454,6700.8842896685064,6888.0035299589208,7069.2554296394028,7245.7966368796015,7416.0078837529118,7583.6323071334755,7749.4325719357121,7913.808941263108,8045.4471125217115]
["DFES 2023 - System Transformation (ToUT+)",3555.4179127208349,3774.0669287814667,3914.0244755711615,4032.8540939260297,4119.3911501508337,4219.7115537525951,4312.3454964314942,4410.9955181535106,4536.2286218680647,4644.6501188776665,4748.7613483668702,4850.7131049709142,4950.8895667022171,5301.0623896640864,5453.0245579992679,5608.7670969362762,5765.7776576928891,5924.4622514562625,6082.0720869482066,6235.1626691337715,6392.0713675300658,6559.9553568923338,6740.7483160519232,6937.8952257220471,7149.2186867888258,7373.147431387064,7607.5914903488938,7854.4766339850858,8099.0422859936625]
["DFES 2023 - Falling Short (ToUT+)",3557.0044027538179,3779.1287766611504,3890.4547865272261,3980.7293372090376,4031.2016677812649,4097.7014724240553,4170.9521089992404,4257.1589478335445,4361.2922196661666,4446.1131435305515,4526.9337690227894,4605.9089998777972,4683.310382974676,4969.9199962266675,5048.4347299736728,5125.6602093213323,5193.217744233164,5257.7031913449855,5318.9120555457648,5375.0756656256026,5427.0693504141946,5474.2679211081559,5517.1701188485358,5556.1436528331787,5590.6727794137096,5622.6681856591431,5652.8744830087062,5681.2258437066648,5704.6321833317861]
["DFES 2023 - Leading The Way (ToUT+)",3536.6971419878951,3745.4740834065183,3869.2754397588888,3987.1960530171209,4091.8780116975572,4218.2847654058023,4297.0011371423388,4383.8937933747311,4543.0377610639898,4834.5487228788124,5114.7164516418479,5386.7969792372096,5648.4242249578119,6101.8651243315162,6338.1595486852311,6563.5531144426877,6775.8011459113086,6972.875871842969,7141.0387147073761,7288.0613471609749,7420.5704880388539,7588.2798682766397,7750.0683528736936,7876.927710277334,7867.1561122716639,7857.187332393818,7847.6304607466427,7838.3359545572857,7828.6228882317]
[]
[]
[]
[]
["Below are Gross Peak Demand Projections in GW"]
[]
["Gross Peak Demand MW - NPg",2022,2023,2024,2025,2026,2027,2028,2029,2030,2031,2032,2033,2034,2035,2036,2037,2038,2039,2040,2041,2042,2043,2044,2045,2046,2047,2048,2049,2050]
["DFES 2023 - Consumer Transformation",{"$f":"B2/1000","v":5.9957125586330404},6.2318978470864783,6.4995125206379871,6.7115260933228376,6.8915624743885751,7.1301939041163038,7.3097590738799063,7.4514062915165251,7.6509106263674225,7.8310989696894779,7.9961846553280598,8.1531514299398626,8.3023816865295039,8.7221928237027075,9.1107190480682565,9.4873887707333218,9.8458991504010189,10.18382880405462,10.482256978896318,10.744063091341859,10.977080375749027,11.256777338322379,11.53348964332624,11.803124801488243,12.063018374833744,12.31905520952853,12.572393720888199,12.823541790365015,13.024310810297084]
["DFES 2023 - System Transformation",{"$f":"B3/1000","v":6.0214970552760656},6.2688491525178085,6.5551002240576342,6.7606469092426442,6.909930106485823,7.1038959862101461,7.2932598389545227,7.4526694765709891,7.6508207640793975,7.8267613945170851,7.9957871893218835,8.1605132416526622,8.3216697563283386,8.7927886568163363,9.0491136172116899,9.2990744467770643,9.5476257726032596,9.7972735303660858,10.044959335887031,10.285237209911799,10.531189339209252,10.7917439638969,11.072052180116312,11.377463266356514,11.704494125298265,12.051073098421858,12.414039822117349,12.7963304621481,13.175173920085527]
["DFES 2023 - Leading The Way",{"$f":"B4/1000","v":5.9957125586330404},6.2310967834939452,6.4988117696157968,6.720342049728055,6.9167980918861502,7.1699783525871208,7.3515555240779378,7.4928406040796203,7.7420130681777266,8.2025275167901288,8.6433296924186322,9.0684611455858022,9.4743343620265978,10.095411648620995,10.457556817773003,10.802835686062361,11.12672912370271,11.42572523246284,11.675731642332346,11.890773393153996,12.083312415844199,12.327865679607145,12.574187415571727,12.767057575199654,12.747903828526823,12.728432573791119,12.709656170140928,12.691294108024966,12.67399236209409]
["CCC 2020 - Balanced Net Zero No HGVs (ToUT+) ",{"$f":"B5/1000","v":7.1965833073898891},7.2443633472961988,7.2802316012686754,7.3651705673638421,7.4858058668791871,7.6413964899037925,7.8371007173772504,8.0843339496132494,8.4464935698247103,8.7495857552037446,9.0441532731678773,9.3612485652255089,9.6751873811437576,10.153062738087323,10.458090705937156,10.760910166063637,11.055989881970829,11.342267770318768,11.581064173421108,11.802256056686016,12.015429403693073,12.220216719622684,12.402092916165781,12.565764484599901,12.722189652641251,12.880103060627823,13.034832846272057,13.0772658727406,13.100985449230091]
["CT 2023 Policy Sensitivity No HGVs  (ToUT+)",{"$f":"B6/1000","v":5.9948846636485325},6.265562037985732,6.5446129087946314,6.7340176168268719,6.8605679848704986,7.0299629051093726,7.2135694582451402,7.3749059709337432,7.5743611334868142,7.7542265971767979,7.9244553198646521,8.0914194593918634,8.2579058598707054,8.678395518237604,9.1179130637721642,9.5470205192296564,9.9538981835059559,10.343172624306051,10.725731648207548,11.099966007227529,11.462239891520541,11.829859806844537,12.191771980756233,12.54727822215297,12.894561661329767,13.238505675994725,13.579883174713455,13.919026030838806,14.243826591764432]
["BV 2023 Policy Sensitivity No HGVs (ToUT+)",{"$f":"B7/1000","v":5.9948846636485325},6.2663415264711215,6.546570265893628,6.7377920701122971,6.8673576251390385,7.0411530215392855,7.2307662930729952,7.3998799005727758,7.6087940811098074,7.7991441135534059,7.9794314641187727,8.1543010997503931,8.3246461937784559,8.7441440003323478,9.178339031370033,9.5990596919356257,9.9958080907666087,10.374309750368775,10.746313176448057,11.110903576594552,11.464954180591475,11.826038344367246,12.183130365714879,12.53530923220938,12.880401183312998,13.222933628698863,13.563400407984922,13.901941922386639,14.226328654043428]
["DFES 2023 - NPg Best View (ToUT+)",{"$f":"B8/1000","v":5.9957125586330404},6.2304033682456286,6.4953502291632379,6.7035106582100967,6.8836628832975144,7.124200685820437,7.3021347491309267,7.4448825726615944,7.6415764859251922,7.8171815740784112,7.9791444418165716,8.1324337335804877,8.274367380448691,8.6824062321009361,9.0555345014658499,9.4148968222633691,9.7547576570110728,10.073512043646595,10.353407211153733,10.599835455592709,10.81907916692654,11.08685798502848,11.353130686517785,11.614215985376433,11.86850095645724,12.119528029138911,12.368502715148658,12.615286093156925,12.811947527613532]
["NPg Planning Scenario - DFES 2022",{"$f":"B9/1000","v":7.1767478407161205},7.2368047085474201,7.2861725450475845,7.3706144686816479,7.4921957181866858,7.6594663310174234,7.8823891239866208,8.1601294782338929,8.5867119493983317,8.9141698071991868,9.2280903811070942,9.5759173560788273,9.9204168547133911,10.482708625290645,10.855967456984214,11.183115579911922,11.496230886661031,11.787165918532409,12.030031461648756,12.238222862489373,12.437041792026951,12.623375713283771,12.782908570671017,12.931176857897276,13.069724706520164,13.208701935235215,13.342195030031956,13.361766535977964,13.369147739729694]
["DFES 2023 - Falling Short",{"$f":"B10/1000","v":6.0213893688991647},6.2734844914340773,6.5135267022888907,6.6752877394649222,6.7687778107449068,6.9136496603570974,7.0731967224747949,7.2130733789849968,7.3763523626835621,7.5140870197002201,7.6451460057766001,7.7725512064581528,7.893282671630141,8.2561414169408156,8.3736652458178025,8.4897001985764096,8.5933758726131639,8.6928563287436518,8.7868030460815465,8.8727156308818014,8.9520767148339004,9.0238969060046887,9.0890460957387109,9.148114761291712,9.2000333282093703,9.2481787691838235,9.2936689682046651,9.3361429269768088,9.370306132155827]
[]
[]
["Below are GW Gross Peak Demand Projections With Customer Flexibility inherent in the NG scenarios - (both procured by DNO and from TouT, EV Smart Charging etc"]
["Gross Peak Demand  with CF MW - NPg",2022,2023,2024,2025,2026,2027,2028,2029,2030,2031,2032,2033,2034,2035,2036,2037,2038,2039,2040,2041,2042,2043,2044,2045,2046,2047,2048,2049,2050]
["DFES 2023 - Consumer Transformation (ToUT+)",{"$f":"B38/1000","v":0},0,0,0,0,0,0,0,0,0,0,0,0,0,0,0,0,0,0,0,0,0,0,0,0,0,0,0,0]
["DFES 2023 - System Transformation (ToUT+)",{"$f":"B39/1000","v":0},0,0,0,0,0,0,0,0,0,0,0,0,0,0,0,0,0,0,0,0,0,0,0,0,0,0,0,0]
["DFES 2023 - Leading The Way (ToUT+)",{"$f":"B40/1000","v":0},0,0,0,0,0,0,0,0,0,0,0,0,0,0,0,0,0,0,0,0,0,0,0,0,0,0,0,0]
["CCC 2020 - Balanced Net Zero No HGVs (ToUT+) ",{"$f":"B41/1000","v":0},0,0,0,0,0,0,0,0,0,0,0,0,0,0,0,0,0,0,0,0,0,0,0,0,0,0,0,0]
["CT 2023 Policy Sensitivity No HGVs  (ToUT+)",{"$f":"B42/1000","v":0},0,0,0,0,0,0,0,0,0,0,0,0,0,0,0,0,0,0,0,0,0,0,0,0,0,0,0,0]
["BV 2023 Policy Sensitivity No HGVs (ToUT+)",{"$f":"B43/1000","v":0},0,0,0,0,0,0,0,0,0,0,0,0,0,0,0,0,0,0,0,0,0,0,0,0,0,0,0,0]
["DFES 2023 - NPg Best View (ToUT+)",{"$f":"B44/1000","v":5.9861646371258086},6.2068419579054792,6.4529514225943005,6.6362638245440975,6.7901327321072502,7.0026388960289134,7.1579851864351829,7.27791590443484,7.4486128087685302,7.5984571777824534,7.7341135595067101,7.8634892082917016,7.9842316540866234,8.37520542682552,8.734315833452726,9.0816812200167707,9.4113705703448645,9.7214721585206316,9.9944403872398215,10.235592421601567,10.450833269530312,10.715738750654287,10.98003499167052,11.239681124202511,11.493231238791454,11.743625146525918,11.991856224450103,12.237853016944038,12.433636111243914]
["NPg Planning Scenario - DFES 2022",{"$f":"B45/1000","v":7.166302741002279},7.2195339392338465,7.2578025894057632,7.3249484321367486,7.4270336817227305,7.5686273997914411,7.7548649248625647,7.9929522357991507,8.3724062508309718,8.6531596129677588,8.9248717855156183,9.2382010593967614,9.5492681948965483,10.069173932127764,10.403752252555684,10.70314482922317,10.995498783551266,11.270334911019102,11.499414897589013,11.699498303802317,11.892058034836063,12.074128652904498,12.230845083232929,12.377963428100117,12.516725868323237,12.656534326519049,12.79151665361851,12.813123901649142,12.822718465633537]
["DFES 2023 - Falling Short (ToUT+)",{"$f":"B46/1000","v":0},0,0,0,0,0,0,0,0,0,0,0,0,0,0,0,0,0,0,0,0,0,0,0,0,0,0,0,0]

{"sheet":"Electric Vehicles","index":8,"n_rows":35,"n_cols":33,"rows_kept":35,"cut":false,"hidden":false,"merged":[]}
["No. of EVs - NPg",2022,2023,2024,2025,2026,2027,2028,2029,2030,2031,2032,2033,2034,2035,2036,2037,2038,2039,2040,2041,2042,2043,2044,2045,2046,2047,2048,2049,2050,"Parameter","Licence","CHOSEN"]
["DFES 2023 - Consumer Transformation",{"$f":"ROUND(SUM(B13,B24),0)","v":86795},153049,291878,472997,733675,1000837,1287530,1587474,1938473,2287355,2622073,2939315,3234856,3489277,3701156,3889277,4054326,4197444,4318289,4411151,4486308,4546045,4593218,4631368,4655354,4676142,4696131,4715092,4734509,"No. of Evs","NPg"]
["DFES 2023 - System Transformation",{"$f":"ROUND(SUM(B14,B25),0)","v":86795},153129,298536,483066,731753,987150,1261965,1550371,1847688,2143384,2427887,2697655,2949034,3180653,3373114,3544331,3695330,3827598,3941590,4031025,4105154,4166033,4216062,4257296,4284594,4307438,4327998,4346502,4363521,"No. of Evs","NPg"]
["DFES 2023 - Leading The Way",{"$f":"ROUND(SUM(B15,B26),0)","v":86795},149290,283327,455591,698142,947257,1214648,1493231,1817732,2140619,2448543,2737620,3004082,3231138,3416975,3579054,3718860,3837763,3935422,4013092,4074428,4121030,4155753,4181910,4199614,4214006,4227027,4239591,4252384,"No. of Evs","NPg"]
["CCC 2020 - Balanced Net Zero",{"$f":"ROUND(SUM(B16,B27),0)","v":123396},223918,371840,590162,816679,1053328,1303855,1576801,1879593,2186927,2498412,2807041,3109021,3400184,3675477,3930822,4158993,4369337,4553775,4712288,4850600,4977472,5099838,5173448,5238916,5300064,5359388,5418710,5462205,"No. of Evs","NPg"]
["CT 2023 Policy Sensitivity",{"$f":"ROUND(SUM(B17,B28),0)","v":86795},153049,246539,367733,551779,741860,996031,1282578,1576075,1873019,2165100,2449511,2724034,3000018,3240528,3462925,3667095,3852235,4016511,4153159,4270777,4370741,4455115,4526190,4579153,4623862,4662724,4696198,4726348,"No. of Evs","NPg"]
["BV 2023 Policy Sensitivity",{"$f":"ROUND(SUM(B18,B29),0)","v":86795},153049,246539,367733,551779,741860,996031,1282578,1576075,1873019,2165100,2449511,2724034,3000018,3240528,3462925,3667095,3852235,4016511,4153159,4270777,4370741,4455115,4526190,4579153,4623862,4662724,4696198,4726348,"No. of Evs","NPg"]
["DFES 2023 - NPg Best View",{"$f":"ROUND(SUM(B19,B30),0)","v":86795},149290,283327,455591,698142,947257,1214648,1493231,1817732,2140619,2448543,2737620,3004082,3231138,3416975,3579054,3718860,3837763,3935422,4013092,4074428,4121030,4155753,4181910,4199614,4214006,4227027,4239591,4252384,"No. of Evs","NPg"]
["NPg Planning Scenario - DFES 2022",{"$f":"ROUND(SUM(B20,B31),0)","v":108640},213800,350456,523703,716036,939481,1194431,1475724,1843408,2198530,2542871,2873291,3186376,3479607,3749194,3995456,4217344,4415258,4589052,4698245,4786011,4854110,4905744,4943989,4970617,4989110,5000992,5008709,5013445,"No. of Evs","NPg"]
["DFES 2023 - Falling Short",{"$f":"ROUND(SUM(B21,B32),0)","v":86795},137218,207919,302845,429311,578584,768010,991882,1214726,1434570,1644820,1843876,2029797,2202354,2347071,2479110,2599270,2708008,2804867,2884593,2952783,3009550,3056381,3094188,3119887,3140904,3158494,3174142,3188191,"No. of Evs","NPg"]
[]
["No. of EVs - NPgN",2022,2023,2024,2025,2026,2027,2028,2029,2030,2031,2032,2033,2034,2035,2036,2037,2038,2039,2040,2041,2042,2043,2044,2045,2046,2047,2048,2049,2050,"No. of Evs"]
["DFES 2023 - Consumer Transformation",25226.759364790705,49634.363895507893,104356.12431174067,178967.90307323556,287900.54658504203,394097.09997353074,508057.48860333278,627284.5724845517,766806.59410183504,906322.54625101085,1040208.5827866026,1167148.0298957566,1285460.9934034513,1387429.0406136445,1471650.7620910478,1546428.7541521173,1612035.4320684772,1668924.8212928365,1716960.7141893825,1753872.983494573,1783747.8582827842,1807493.3894594323,1826244.6406562878,1841409.0907767478,1850943.6252836238,1859206.8885229162,1867152.3339453123,1874689.1564602717,1882407.5891563143,"No. of Evs","NPgN"]
["DFES 2023 - System Transformation",25226.759364790705,49683.024397952569,106769.03057881905,182688.3205440733,286967.40841572091,388487.49964131339,497726.02356294822,612367.4503718128,730550.27571180253,848959.06176281977,962918.398377295,1071020.8066518321,1171813.4051377645,1264751.3632918419,1341254.6520732029,1409313.0674341882,1469335.2322822353,1521911.3797058649,1567223.1198861606,1602773.3128332268,1632239.5647139999,1656439.1213433563,1676325.4361719829,1692715.7550147555,1703566.9633344857,1712647.4723886531,1720819.930537404,1728175.1428712795,1734940.1221166346,"No. of Evs","NPgN"]
["DFES 2023 - Leading The Way",25226.759364790705,48544.994296505305,101426.89862923445,172277.34882369832,273716.91391442477,372739.86515012116,479027.22362915159,589764.03154472413,718752.66265917313,847947.6837229837,971194.97135631449,1086950.839019957,1193717.0027199739,1284819.2883015517,1358689.2294572042,1423115.4411965224,1478688.1566080274,1525952.2062349697,1564771.3824415354,1595645.1132257045,1620026.2800361447,1638550.5185066462,1652352.8922689806,1662750.0751360026,1669787.4696529822,1675508.1903571077,1680684.0805179835,1685678.3604977753,1690763.4455681092,"No. of Evs","NPgN"]
["CCC 2020 - Balanced Net Zero",37120.117783269117,69497.508880389854,119058.71918878204,195451.56285419944,278278.77293581085,368080.27585286857,466077.24379540636,575440.54068138567,699247.14250109508,826301.87841423799,956536.9457904913,1087085.1663934861,1216334.1005031713,1342318.5479215086,1462698.6959687909,1575237.8335569466,1676366.3981448086,1769904.751804356,1852049.9956196812,1920159.9349944862,1976436.614988077,2028058.5658580963,2077846.7708828137,2107797.3416073313,2134434.9148041899,2159315.0703280238,2183452.6431399784,2207589.8178248447,2225287.1285060504,"No. of Evs","NPgN"]
["CT 2023 Policy Sensitivity",25226.759364790705,49634.363895507893,87613.984783053354,138225.56197454044,216902.63028596772,292468.92864801898,393315.5324928948,507034.89020218828,623624.97752111813,742267.33379891119,859007.37640519801,972724.42391663266,1082535.0721499694,1192949.2296348456,1288551.6932743168,1376954.3526930842,1458111.6395100043,1531704.5750570712,1597004.0652359857,1651321.5755592694,1698074.7346126998,1737810.3629700018,1771348.691491761,1799601.0878008518,1820653.6798892389,1838425.3485352795,1853873.0297429918,1867178.9970369507,1879163.4812777427,"No. of Evs","NPgN"]
["BV 2023 Policy Sensitivity",25226.759364790705,49634.363895507893,87613.984783053354,138225.56197454044,216902.63028596772,292468.92864801898,393315.5324928948,507034.89020218828,623624.97752111813,742267.33379891119,859007.37640519801,972724.42391663266,1082535.0721499694,1192949.2296348456,1288551.6932743168,1376954.3526930842,1458111.6395100043,1531704.5750570712,1597004.0652359857,1651321.5755592694,1698074.7346126998,1737810.3629700018,1771348.691491761,1799601.0878008518,1820653.6798892389,1838425.3485352795,1853873.0297429918,1867178.9970369507,1879163.4812777427,"No. of Evs","NPgN"]
["DFES 2023 - NPg Best View",25226.759364790705,48544.994296505305,101426.89862923445,172277.34882369832,273716.91391442477,372739.86515012116,479027.22362915159,589764.03154472413,718752.66265917313,847947.6837229837,971194.97135631449,1086950.839019957,1193717.0027199739,1284819.2883015517,1358689.2294572042,1423115.4411965224,1478688.1566080274,1525952.2062349697,1564771.3824415354,1595645.1132257045,1620026.2800361447,1638550.5185066462,1652352.8922689806,1662750.0751360026,1669787.4696529822,1675508.1903571077,1680684.0805179835,1685678.3604977753,1690763.4455681092,"No. of Evs","NPgN"]
["NPg Planning Scenario - DFES 2022",36988.920672290296,78690.162258136843,132773.41548095408,201407.63335128885,277449.7212574525,366014.90894705115,467333.23167191626,579380.78741174261,726048.99188340176,867787.99911277322,1005222.1353272017,1137107.8739058902,1262070.1160870397,1379107.8669764833,1486784.2477439279,1585164.6450715091,1673810.7676715828,1752879.9666207959,1822305.8428463226,1865890.3028053208,1900917.5917546456,1928074.2589418732,1948681.7293819538,1964634.7590873698,1975726.3468378081,1983417.9561398115,1988362.2207461877,1991577.0095380312,1993576.5970447836,"No. of Evs","NPgN"]
["DFES 2023 - Falling Short",25226.759364790705,43141.44442156548,69955.033902832947,107561.74229245997,158736.21813432791,219673.88869376716,297377.15650276939,386366.14523361076,474946.51105701458,564004.57880095707,649248.83274214936,730043.63724679919,805617.14904530323,875878.56304711895,933403.58790526993,985888.93023835798,1033652.4078632791,1076875.6309611164,1115376.9893507864,1147067.9659498308,1174173.2854765211,1196738.3504761271,1215353.3940371703,1230381.6365218177,1240597.209207756,1248951.2775375901,1255943.269509299,1262163.4182114035,1267747.9312797168,"No. of Evs","NPgN"]
[]
["No. of EVs - NPgY",2022,2023,2024,2025,2026,2027,2028,2029,2030,2031,2032,2033,2034,2035,2036,2037,2038,2039,2040,2041,2042,2043,2044,2045,2046,2047,2048,2049,2050,"No. of Evs","NPgY"]
["DFES 2023 - Consumer Transformation",61567.808287775188,103414.89676145546,187521.98280146276,294028.91545694938,445774.35240305273,606739.67933838721,779472.88609669823,960188.98209164839,1171666.7288519233,1381032.187889531,1581864.2136052137,1772167.0836898126,1949394.5317488816,2101847.4959701053,2229504.9057456697,2342848.1693038126,2442290.1947084973,2528519.1620663321,2601328.6173453331,2657277.6600124668,2702559.9110271954,2738551.7306027319,2766973.5690055932,2789958.7845662609,2804410.5668050041,2816935.4447452486,2828978.5966108679,2840402.3863805407,2852101.4481928572,"No. of Evs","NPgY"]
["DFES 2023 - System Transformation",61567.808287775188,103445.6011797011,191767.19108399356,300377.24876400712,444785.34892674512,598662.42076402938,764238.55441362946,938004.03133185091,1117137.3130816054,1294424.9258146146,1464968.3735028773,1626634.2978159117,1777220.5224125767,1915901.2311649434,2031859.579128192,2135017.7771085538,2225995.1872019749,2305686.4435470444,2374366.8181864046,2428251.3205337189,2472914.209452501,2509594.2091346444,2539736.4978040219,2564579.7996525285,2581027.3042004318,2594790.9063325678,2607178.1482514911,2618326.6659785211,2628580.5495669632,"No. of Evs","NPgY"]
["DFES 2023 - Leading The Way",61567.808287775188,100745.33371781424,181900.18938962015,283313.61598242528,424425.26198039576,574517.34323134262,735620.3061879985,903467.43418940122,1098979.4024763978,1292671.2201090711,1477347.8783451952,1650669.5648223064,1810365.2851886034,1946318.7918769647,2058285.6952218937,2155938.4523494011,2240171.6973980754,2311811.2464958453,2370650.6456107278,2417446.8928599916,2454402.1645847778,2482479.9129343363,2503400.5881751836,2519159.9126164797,2529826.7042688853,2538497.7736121314,2546343.0268274494,2553913.0080001238,2561620.6251941202,"No. of Evs","NPgY"]
["CCC 2020 - Balanced Net Zero",86275.645874755617,154420.8681249356,252781.02383752668,394710.20515699463,538399.90041275008,685247.31739015807,837777.33875354833,1001360.5757021105,1180346.3511616006,1360624.9778757773,1541875.4676863968,1719956.2700111677,1892687.0910754823,2057865.873738389,2212778.4299441585,2355583.8825798123,2482626.6923591923,2599432.3484983351,2701724.610601285,2792127.7244493193,2874163.438885658,2949413.8555893777,3021991.1819378897,3065650.7664663605,3104480.9239721606,3140749.256324342,3175935.1100494252,3211120.3834161782,3236918.1299339165,"No. of Evs","NPgY"]
["CT 2023 Policy Sensitivity",61567.80828777518,103414.89676145544,158924.52614386746,229507.67770378746,334876.6989958717,449391.24257818144,602715.58891835494,775542.65119106218,952450.07515825308,1130751.6813616194,1306093.0663594306,1476786.2970694867,1641499.3489242122,1807068.5661680601,1951976.1109473712,2085970.6947757143,2208983.2482799813,2320530.2858484206,2419506.6975113163,2501837.3902553283,2572702.5670635132,2632931.0604131608,2683766.1190202022,2726589.1303467862,2758499.1807224019,2785436.2362342845,2808850.7537176916,2829019.0106650502,2847184.2557922946,"No. of Evs","NPgY"]
["BV 2023 Policy Sensitivity",61567.80828777518,103414.89676145544,158924.52614386746,229507.67770378746,334876.6989958717,449391.24257818144,602715.58891835494,775542.65119106218,952450.07515825308,1130751.6813616194,1306093.0663594306,1476786.2970694867,1641499.3489242122,1807068.5661680601,1951976.1109473712,2085970.6947757143,2208983.2482799813,2320530.2858484206,2419506.6975113163,2501837.3902553283,2572702.5670635132,2632931.0604131608,2683766.1190202022,2726589.1303467862,2758499.1807224019,2785436.2362342845,2808850.7537176916,2829019.0106650502,2847184.2557922946,"No. of Evs","NPgY"]
["DFES 2023 - NPg Best View",61567.808287775188,100745.33371781424,181900.18938962015,283313.61598242528,424425.26198039576,574517.34323134262,735620.3061879985,903467.43418940122,1098979.4024763978,1292671.2201090711,1477347.8783451952,1650669.5648223064,1810365.2851886034,1946318.7918769647,2058285.6952218937,2155938.4523494011,2240171.6973980754,2311811.2464958453,2370650.6456107278,2417446.8928599916,2454402.1645847778,2482479.9129343363,2503400.5881751836,2519159.9126164797,2529826.7042688853,2538497.7736121314,2546343.0268274494,2553913.0080001238,2561620.6251941202,"No. of Evs","NPgY"]
["NPg Planning Scenario - DFES 2022",71650.935771121673,135110.04398900305,217682.61062181118,322295.79427507165,438586.38357398147,573465.88201757288,727097.48456738284,896343.39437856246,1117359.020860699,1330742.3715516687,1537648.9907688908,1736183.2858063667,1924305.7999282875,2100499.387076275,2262409.8546085488,2410291.5998830535,2543533.4354233691,2662377.7172426227,2766746.1326633091,2832354.4974539145,2885093.4689532435,2926035.6085036038,2957062.2901478251,2979354.6639586189,2994890.625973871,3005692.3109343424,3012629.6926530404,3017131.6405610256,3019868.5670104073,"No. of Evs","NPgY"]
["DFES 2023 - Falling Short",61567.808287775188,94076.409619887621,137964.12086798195,195283.09959185438,270574.65555407817,358909.73985461239,470632.49403148738,605515.79492642346,739779.73372541345,870565.82023466891,995571.19384842704,1113832.4024174381,1224179.5397604709,1326474.9698562045,1413667.3893632879,1493221.0096870363,1565617.5569020733,1631132.3030510421,1689489.9760913001,1737524.9475324559,1778609.2998968831,1812811.8511952418,1841027.2355661213,1863805.9970948067,1879290.04949346,1891952.5634550261,1902550.5370967707,1911978.6045572839,1920443.2198685477,"No. of Evs","NPgY"]
[]
[null,{"$f":"B8-#REF!","v":{"$error":"#REF!"}},{"$f":"C8-B8","v":62495},134037,172264,242551,{"$f":"G8-F8","v":249115},{"$f":"H8-G8","v":267391},278583,324501]
[null,{"$f":"B9-#REF!","v":{"$error":"#REF!"}},{"$f":"C9-B9","v":105160},136656,173247,192333,{"$f":"G9-F9","v":223445},254950,281293,367684]

{"sheet":"E_HGVs","index":9,"n_rows":32,"n_cols":33,"rows_kept":32,"cut":false,"hidden":false,"merged":[]}
["No. of Electric HGVs - NPg",2022,2023,2024,2025,2026,2027,2028,2029,2030,2031,2032,2033,2034,2035,2036,2037,2038,2039,2040,2041,2042,2043,2044,2045,2046,2047,2048,2049,2050,"Parameter","Licence","CHOSEN"]
["DFES 2023 - Consumer Transformation",188.47237971368949,445.00216704665326,912.27085968857546,1624.7820863369034,2689.7751231882166,4217.4006829325281,6302.9001324287656,8994.1625542616021,12276.289725859826,16079.362894749313,20331.835009592898,24972.562564428616,29937.141703406654,35115.330274122636,40344.962284288937,45442.823988031094,50243.080406073706,54614.802310704414,58469.897690120328,61759.091375041258,64456.618393374622,66570.849681285137,68147.515502780268,69266.632518302649,70028.06288562782,70531.30209849024,70860.518945465214,71078.392275197024,71227.787220873317,"No. of Electric HGVs","NPg"]
["DFES 2023 - System Transformation",188.47237971368949,445.00216704665331,912.27085968857546,1624.7820863369034,2689.7751231882166,4217.4006829325281,6301.4537420384031,8987.256520711313,12254.184586509953,16023.659280882766,20196.895784215987,24710.798249566909,29491.429107751159,34430.699024201822,39380.739221070304,44178.418705234755,48677.300511141097,52762.300796246389,56357.518790642906,59422.438632438148,61936.779242949306,63907.572401800069,65377.24372448511,66418.946536768533,67124.150915088743,67584.788444844104,67879.486020813507,68067.388404677622,68189.292418403697,"No. of Electric HGVs","NPg"]
["DFES 2023 - Leading The Way",188.47237971368949,529.91958282873713,1135.0993269244257,2069.082243528007,3489.7191139571028,5518.5122860691854,8252.8539617873994,11731.284839075475,15917.696486306933,20690.414097366316,25873.957643951471,31280.005255523887,36695.441846706417,41932.774095089437,46844.93594446301,51321.812224438312,55281.787491760115,58674.054008982435,61486.911786618002,63753.372517039861,65519.635873621432,66848.277635217702,67814.511989433493,68494.092050524589,68958.458984894853,69270.1631128804,69479.407312230484,69622.626279074859,69724.578611688121,"No. of Electric HGVs","NPg"]
["CCC 2020 - Balanced Net Zero",null,null,null,null,null,null,null,null,null,null,null,null,null,null,null,null,null,null,null,null,null,null,null,null,null,null,null,null,null,"No. of Electric HGVs","NPg"]
["CT 2023 Policy Sensitivity",null,null,null,null,null,null,null,null,null,null,null,null,null,null,null,null,null,null,null,null,null,null,null,null,null,null,null,null,null,"No. of Electric HGVs","NPg"]
["BV 2023 Policy Sensitivity",null,null,null,null,null,null,null,null,null,null,null,null,null,null,null,null,null,null,null,null,null,null,null,null,null,null,null,null,null,"No. of Electric HGVs","NPg"]
["DFES 2023 - NPg Best View",188.47237971368949,529.91958282873713,1135.0993269244257,2069.082243528007,3489.7191139571028,5518.5122860691854,8252.8539617873994,11731.284839075475,15917.696486306933,20690.414097366316,25873.957643951471,31280.005255523887,36695.441846706417,41932.774095089437,46844.93594446301,51321.812224438312,55281.787491760115,58674.054008982435,61486.911786618002,63753.372517039861,65519.635873621432,66848.277635217702,67814.511989433493,68494.092050524589,68958.458984894853,69270.1631128804,69479.407312230484,69622.626279074859,69724.578611688121,"No. of Electric HGVs","NPg"]
["NPg ED2 Planning Scenario - needs updating to old",null,null,null,null,null,null,null,null,null,null,null,null,null,null,null,null,null,null,null,null,null,null,null,null,null,null,null,null,null,"No. of Electric HGVs","NPg"]
["DFES 2023 - Falling Short",188.47237971368949,401.05496188386496,792.94543118840647,1379.4053707005264,2240.7696706331271,3468.2608298650898,5153.2747491991104,7363.8242590440477,10117.883133193902,13365.239948583134,17004.409481981551,20917.747012746077,25011.748284347708,29241.271107460176,33600.869449258884,38077.094468790332,42602.056100199843,47048.266111818506,51273.605329741389,55155.620019538408,58601.34495785537,61551.487420721649,63976.8184215683,65877.703214447698,67287.462206345081,68272.83298759324,68924.885691285075,69339.609679427434,69599.482623770746,"No. of Electric HGVs","NPg"]
[]
["No. of Electric HGVs - NPgN",2022,2023,2024,2025,2026,2027,2028,2029,2030,2031,2032,2033,2034,2035,2036,2037,2038,2039,2040,2041,2042,2043,2044,2045,2046,2047,2048,2049,2050,"No. of Electric HGVs"]
["DFES 2023 - Consumer Transformation",55.291848757795201,130.54959328582993,267.631482536965,476.65979237163401,789.0951423743312,1237.25227572319,1849.07200401007,2638.6034728734116,3601.4760139403825,4717.1776715970818,5964.718798725934,7326.1618201272904,8782.6126768282884,10301.729800124078,11835.938805201109,13331.49056052812,14739.73431628821,16022.259568684247,17153.222901292171,18118.168534376535,18909.537838166998,19529.786581180328,19992.330579808269,20320.644197212256,20544.02383922501,20691.658344020092,20788.240178128148,20852.157337842418,20895.985100584418,"No. of Electric HGVs","NPgN"]
["DFES 2023 - System Transformation",55.291848757795201,130.54959328582996,267.631482536965,476.65979237163407,789.0951423743312,1237.25227572319,1848.6476787119539,2636.5774605571301,3594.9910636067584,4700.8359890765432,5925.1318881538464,7249.3684304035123,8651.8546662069693,10100.880595678382,11553.06618555651,12960.553950234687,14280.383904996501,15478.794082035225,16533.517590590985,17432.668355306454,18170.296547687511,18748.465069980324,19179.620258984753,19485.222992047511,19692.107703158228,19827.244218471977,19913.699187760005,19968.823817722372,20004.586608536334,"No. of Electric HGVs","NPgN"]
["DFES 2023 - Leading The Way",55.291848757795201,155.46168341520797,333.00232323018651,607.00343811852758,1023.7734661663438,1618.9573620967515,2421.1269246375191,3441.5887783777125,4669.7498489188156,6069.9145877269248,7590.6026919606638,9176.5664675047519,10765.284673387021,12301.752685367472,13742.825963382902,15056.200191244765,16217.931973365747,17213.11592287241,18038.319632055041,18703.227689736159,19221.393622202766,19611.175188324392,19894.637857279085,20094.005202317883,20230.23580726024,20321.679962249626,20383.065607411463,20425.081532853885,20454.991130026268,"No. of Electric HGVs","NPgN"]
["CCC 2020 - Balanced Net Zero",null,null,null,null,null,null,null,null,null,null,null,null,null,null,null,null,null,null,null,null,null,null,null,null,null,null,null,null,null,"No. of Electric HGVs","NPgN"]
["CT 2023 Policy Sensitivity",null,null,null,null,null,null,null,null,null,null,null,null,null,null,null,null,null,null,null,null,null,null,null,null,null,null,null,null,null,"No. of Electric HGVs","NPgN"]
["BV 2023 Policy Sensitivity",null,null,null,null,null,null,null,null,null,null,null,null,null,null,null,null,null,null,null,null,null,null,null,null,null,null,null,null,null,"No. of Electric HGVs","NPgN"]
["DFES 2023 - NPg Best View",55.291848757795201,155.46168341520797,333.00232323018651,607.00343811852758,1023.7734661663438,1618.9573620967515,2421.1269246375191,3441.5887783777125,4669.7498489188156,6069.9145877269248,7590.6026919606638,9176.5664675047519,10765.284673387021,12301.752685367472,13742.825963382902,15056.200191244765,16217.931973365747,17213.11592287241,18038.319632055041,18703.227689736159,19221.393622202766,19611.175188324392,19894.637857279085,20094.005202317883,20230.23580726024,20321.679962249626,20383.065607411463,20425.081532853885,20454.991130026268,"No. of Electric HGVs","NPgN"]
["NPg ED2 Planning Scenario - needs updating to old",null,null,null,null,null,null,null,null,null,null,null,null,null,null,null,null,null,null,null,null,null,null,null,null,null,null,null,null,null,"No. of Electric HGVs","NPgN"]
["DFES 2023 - Falling Short",55.291848757795201,117.65687009275513,232.62516725823224,404.67400713211322,657.37111144833887,1017.4782827531575,1511.8081942453782,2160.3136641483875,2968.2676305114333,3920.9396462829586,4988.5571494434298,6136.6068913628269,7337.6576738036929,8578.4662029284063,9857.4347845616994,11170.617953160567,12498.098905747851,13802.476618181212,15042.057809561495,16180.918418367221,17191.78538168464,18057.264085346935,18768.779667047125,19326.439280798193,19740.018082548049,20029.094775323349,20220.386462356801,20342.053393412854,20418.291914710786,"No. of Electric HGVs","NPgN"]
[]
["No. of Electric HGVs - NPgY",2022,2023,2024,2025,2026,2027,2028,2029,2030,2031,2032,2033,2034,2035,2036,2037,2038,2039,2040,2041,2042,2043,2044,2045,2046,2047,2048,2049,2050,"No. of Electric HGVs","NPgY"]
["DFES 2023 - Consumer Transformation",133.18053095589428,314.45257376082333,644.63937715161046,1148.1222939652694,1900.6799808138855,2980.1484072093376,4453.828128418696,6355.55908138819,8674.8137119194434,11362.18522315223,14367.116210866965,17646.400744301325,21154.529026578366,24813.600473998555,28509.023479087831,32111.333427502974,35503.346089785497,38592.542742020167,41316.674788828161,43640.922840664723,45547.08055520762,47041.06310010481,48155.184922972003,48945.988321090394,49484.039046402817,49839.643754470155,50072.278767337069,50226.234937354609,50331.802120288892,"No. of Electric HGVs","NPgY"]
["DFES 2023 - System Transformation",133.18053095589428,314.45257376082338,644.63937715161046,1148.1222939652694,1900.6799808138855,2980.1484072093376,4452.8060633264495,6350.6790601541825,8659.1935229031951,11322.823291806224,14271.763896062139,17461.429819163397,20839.574441544188,24329.818428523442,27827.673035513795,31217.864755000064,34396.916606144594,37283.506714211166,39824.00120005192,41989.770277131698,43766.482695261795,45159.107331819745,46197.623465500357,46933.723544721026,47432.043211930519,47757.544226372134,47965.786833053498,48098.564586955246,48184.705809867359,"No. of Electric HGVs","NPgY"]
["DFES 2023 - Leading The Way",133.18053095589428,374.45789941352916,802.09700369423922,1462.0788054094796,2465.9456477907588,3899.5549239724342,5831.7270371498798,8289.6960606977627,11247.946637388119,14620.49950963939,18283.354951990808,22103.438788019135,25930.157173319396,29631.021409721961,33102.10998108011,36265.612033193545,39063.855518394368,41460.938086110022,43448.592154562961,45050.144827303702,46298.242251418669,47237.10244689331,47919.8741321544,48400.086848206702,48728.223177634616,48948.483150630767,49096.341704819024,49197.54474622097,49269.587481661853,"No. of Electric HGVs","NPgY"]
["CCC 2020 - Balanced Net Zero",null,null,null,null,null,null,null,null,null,null,null,null,null,null,null,null,null,null,null,null,null,null,null,null,null,null,null,null,null,"No. of Electric HGVs","NPgY"]
["CT 2023 Policy Sensitivity",null,null,null,null,null,null,null,null,null,null,null,null,null,null,null,null,null,null,null,null,null,null,null,null,null,null,null,null,null,"No. of Electric HGVs","NPgY"]
["BV 2023 Policy Sensitivity",null,null,null,null,null,null,null,null,null,null,null,null,null,null,null,null,null,null,null,null,null,null,null,null,null,null,null,null,null,"No. of Electric HGVs","NPgY"]
["DFES 2023 - NPg Best View",133.18053095589428,374.45789941352916,802.09700369423922,1462.0788054094796,2465.9456477907588,3899.5549239724342,5831.7270371498798,8289.6960606977627,11247.946637388119,14620.49950963939,18283.354951990808,22103.438788019135,25930.157173319396,29631.021409721961,33102.10998108011,36265.612033193545,39063.855518394368,41460.938086110022,43448.592154562961,45050.144827303702,46298.242251418669,47237.10244689331,47919.8741321544,48400.086848206702,48728.223177634616,48948.483150630767,49096.341704819024,49197.54474622097,49269.587481661853,"No. of Electric HGVs","NPgY"]
["NPg ED2 Planning Scenario - needs updating to old",null,null,null,null,null,null,null,null,null,null,null,null,null,null,null,null,null,null,null,null,null,null,null,null,null,null,null,null,null,"No. of Electric HGVs","NPgY"]
["DFES 2023 - Falling Short",133.18053095589428,283.39809179110983,560.32026393017429,974.73136356841326,1583.3985591847882,2450.7825471119322,3641.4665549537317,5203.5105948956598,7149.6155026824681,9444.3003023001747,12015.852332538123,14781.140121383249,17674.090610544015,20662.804904531771,23743.434664697183,26906.476515629765,30103.957194451988,33245.789493637298,36231.547520179891,38974.701601171189,41409.55957617073,43494.223335374714,45208.038754521171,46551.263933649505,47547.444123797031,48243.738212269891,48704.499228928282,48997.556286014573,49181.190709059963,"No. of Electric HGVs","NPgY"]

{"sheet":"E_Buses","index":10,"n_rows":32,"n_cols":33,"rows_kept":32,"cut":false,"hidden":false,"merged":[]}
["No. of Electric Buses - NPg",2022,2023,2024,2025,2026,2027,2028,2029,2030,2031,2032,2033,2034,2035,2036,2037,2038,2039,2040,2041,2042,2043,2044,2045,2046,2047,2048,2049,2050,"Parameter","Licence","CHOSEN"]
["DFES 2023 - Consumer Transformation",485.2382770070642,656.80950479162357,941.23731941851565,1302.4568065777821,1744.3731665104638,2264.9680498706884,2858.0454787933122,3525.303891862668,4260.2402428946616,5056.2617175983569,5903.3235479659916,6789.256226390793,7693.0741972547194,8591.0826212725442,9461.1817902899747,10286.127314971091,11053.406975066264,11756.57399985419,12391.189681846859,12953.609358788151,13443.354202831939,13862.165060427893,14213.541884152075,14502.156454088234,14733.266790318137,14912.710547428265,15047.271142619504,15144.099932731067,15210.629264218149,"No. of Electric Buses","NPg"]
["DFES 2023 - System Transformation",485.2382770070642,656.80950479162357,936.51993596526961,1285.5416957925299,1704.718282552155,2189.140218577721,2730.8148847236234,3339.9987576184949,4010.1256571995132,4733.8138652747275,5499.7884288752621,6299.7592559653558,7114.728078825744,7923.2563769577255,8705.3270946564517,9445.4171692949803,10132.392107737684,10760.930093211984,11327.552643060322,11829.474267607478,12266.839818193197,12641.49170066111,12956.638821806122,13216.236805929886,13424.434512472599,13586.015000988946,13707.261768326571,13794.699464392128,13854.923512503967,"No. of Electric Buses","NPg"]
["DFES 2023 - Leading The Way",485.2382770070642,735.70035103822897,1109.7612067139235,1566.4847398845741,2104.7081833598095,2719.599571502501,3404.2923381659621,4166.7060470117458,4995.292477624771,5870.5094763367742,6766.3931946127777,7665.4820386635847,8546.0096307666317,9389.9248242820649,10182.500289455424,10912.775190969482,11572.726594174037,12158.880035457072,12668.728838714251,13102.841630613024,13468.456418267657,13769.629508534075,14011.597359465261,14200.290094309974,14342.014999140982,14443.885262831525,14514.339868567451,14561.409651765704,14591.853591372326,"No. of Electric Buses","NPg"]
["CCC 2020 - Balanced Net Zero",null,null,null,null,null,null,null,null,null,null,null,null,null,null,null,null,null,null,null,null,null,null,null,null,null,null,null,null,null,"No. of Electric Buses","NPg"]
["CT 2023 Policy Sensitivity",null,null,null,null,null,null,null,null,null,null,null,null,null,null,null,null,null,null,null,null,null,null,null,null,null,null,null,null,null,"No. of Electric Buses","NPg"]
["BV 2023 Policy Sensitivity",null,null,null,null,null,null,null,null,null,null,null,null,null,null,null,null,null,null,null,null,null,null,null,null,null,null,null,null,null,"No. of Electric Buses","NPg"]
["DFES 2023 - NPg Best View",485.2382770070642,735.70035103822897,1109.7612067139235,1566.4847398845741,2104.7081833598095,2719.599571502501,3404.2923381659621,4166.7060470117458,4995.292477624771,5870.5094763367742,6766.3931946127777,7665.4820386635847,8546.0096307666317,9389.9248242820649,10182.500289455424,10912.775190969482,11572.726594174037,12158.880035457072,12668.728838714251,13102.841630613024,13468.456418267657,13769.629508534075,14011.597359465261,14200.290094309974,14342.014999140982,14443.885262831525,14514.339868567451,14561.409651765704,14591.853591372326,"No. of Electric Buses","NPg"]
["NPg ED2 Planning Scenario - needs updating to old",null,null,null,null,null,null,null,null,null,null,null,null,null,null,null,null,null,null,null,null,null,null,null,null,null,null,null,null,null,"No. of Electric Buses","NPg"]
["DFES 2023 - Falling Short",485.2382770070642,595.14777152092961,802.18615267486916,1071.3034674656913,1409.2285947287965,1817.3086427169219,2291.7153230297299,2836.6681385369893,3443.0537713723734,4101.710517899468,4805.343779594552,5551.7297679021704,6335.6512926091118,7145.2493240510257,7961.5974918244683,8764.1290932160882,9534.9602412261083,10262.988439810944,10940.603006188301,11559.992786884333,12114.095183641419,12601.969688547577,13024.794737288008,13385.300273183966,13687.111691964903,13934.630015944211,14133.196691491992,14288.089532626916,14404.597868758981,"No. of Electric Buses","NPg"]
[]
["No. of Electric Buses - NPgN",2022,2023,2024,2025,2026,2027,2028,2029,2030,2031,2032,2033,2034,2035,2036,2037,2038,2039,2040,2041,2042,2043,2044,2045,2046,2047,2048,2049,2050,"No. of Electric Buses"]
["DFES 2023 - Consumer Transformation",189.30014224403939,256.2331509607626,367.19353541173638,508.1117266194193,680.51121313809483,883.60460074027492,1114.9747274937902,1375.2841847086054,1661.9960176018838,1972.5382512446056,2302.9922417399912,2648.6104462206245,3001.2060235987246,3351.5351927059774,3690.9764615962763,4012.802485150979,4312.1320221628748,4586.4500719150274,4834.0250151212513,5053.435003761293,5244.4932385168013,5407.8788547655131,5544.9572466898135,5657.5509593697006,5747.7112406076776,5817.7154640075096,5870.2099621069938,5907.9846072864593,5933.9388910078196,"No. of Electric Buses","NPgN"]
["DFES 2023 - System Transformation",189.30014224403939,256.2331509607626,365.35319964056191,501.51283896061392,665.04113270610651,854.02280571299013,1065.3397941086091,1302.9933331143441,1564.4218382905692,1846.7455691675907,2145.5659646632789,2457.6489114029318,2775.5828448994498,3091.0042143527235,3396.1040078364749,3684.8264006093677,3952.827627485789,4198.0315524315838,4419.0811570640917,4614.8897719742308,4785.5139062638555,4931.6723154491656,5054.6168515408262,5155.8906744222368,5237.1123284650912,5300.1477708639613,5347.4483062735126,5381.559317475665,5405.0537972277571,"No. of Electric Buses","NPgN"]
["DFES 2023 - Leading The Way",189.30014224403939,287.00988297858243,432.93772202724256,611.11375201538328,821.08435663744092,1060.9644995601968,1328.0754103529393,1625.5066526356075,1948.7530588012182,2290.1908847132318,2639.6911680581447,2990.4418283700661,3333.9514118740931,3663.1778429786859,3972.3757265872541,4257.2690445392727,4514.727906340805,4743.396861510837,4942.2980108077054,5111.6531856782121,5254.2860623268498,5371.779078704616,5466.1750708804175,5539.7874861392429,5595.0769097385319,5634.8183240515182,5662.3039275571218,5680.666692979883,5692.5434190567066,"No. of Electric Buses","NPgN"]
["CCC 2020 - Balanced Net Zero",null,null,null,null,null,null,null,null,null,null,null,null,null,null,null,null,null,null,null,null,null,null,null,null,null,null,null,null,null,"No. of Electric Buses","NPgN"]
["CT 2023 Policy Sensitivity",null,null,null,null,null,null,null,null,null,null,null,null,null,null,null,null,null,null,null,null,null,null,null,null,null,null,null,null,null,"No. of Electric Buses","NPgN"]
["BV 2023 Policy Sensitivity",null,null,null,null,null,null,null,null,null,null,null,null,null,null,null,null,null,null,null,null,null,null,null,null,null,null,null,null,null,"No. of Electric Buses","NPgN"]
["DFES 2023 - NPg Best View",189.30014224403939,287.00988297858243,432.93772202724256,611.11375201538328,821.08435663744092,1060.9644995601968,1328.0754103529393,1625.5066526356075,1948.7530588012182,2290.1908847132318,2639.6911680581447,2990.4418283700661,3333.9514118740931,3663.1778429786859,3972.3757265872541,4257.2690445392727,4514.727906340805,4743.396861510837,4942.2980108077054,5111.6531856782121,5254.2860623268498,5371.779078704616,5466.1750708804175,5539.7874861392429,5595.0769097385319,5634.8183240515182,5662.3039275571218,5680.666692979883,5692.5434190567066,"No. of Electric Buses","NPgN"]
["NPg ED2 Planning Scenario - needs updating to old",null,null,null,null,null,null,null,null,null,null,null,null,null,null,null,null,null,null,null,null,null,null,null,null,null,null,null,null,null,"No. of Electric Buses","NPgN"]
["DFES 2023 - Falling Short",189.30014224403939,232.17780447995219,312.947184925687,417.93466918693969,549.76531340837573,708.96464864544726,894.03919103038288,1106.6350442019418,1343.1969396453403,1600.1507326903188,1874.6506698100316,2165.8292112620143,2471.651037706732,2787.4897292826181,3105.9617699331211,3419.0437205900321,3719.7587566429461,4003.7755955449084,4268.1251736388876,4509.7602200607425,4725.9254887424477,4916.2540707034941,5081.2056948098943,5221.8453608432374,5339.5874006066733,5436.1487317248429,5513.6131480894528,5574.0396194722898,5619.4916080055336,"No. of Electric Buses","NPgN"]
[]
["No. of Electric Buses - NPgY",2022,2023,2024,2025,2026,2027,2028,2029,2030,2031,2032,2033,2034,2035,2036,2037,2038,2039,2040,2041,2042,2043,2044,2045,2046,2047,2048,2049,2050,"No. of Electric Buses","NPgY"]
["DFES 2023 - Consumer Transformation",295.93813476302478,400.57635383086102,574.04378400677933,794.34507995836282,1063.8619533723688,1381.3634491304138,1743.0707512995218,2150.0197071540624,2598.2442252927781,3083.7234663537515,3600.3313062260004,4140.645780170169,4691.8681736559947,5239.5474285665669,5770.2053286936989,6273.3248298201115,6741.274952903389,7170.123927939163,7557.1646667256073,7900.1743550268575,8198.8609643151376,8454.2862056623799,8668.5846374622615,8844.605494718533,8985.5555497104597,9094.9950834207557,9177.06118051251,9236.1153254446072,9276.6903732103292,"No. of Electric Buses","NPgY"]
["DFES 2023 - System Transformation",295.93813476302478,400.57635383086102,571.1667363247077,784.02885683191607,1039.6771498460485,1335.1174128647308,1665.4750906150146,2037.0054245041511,2445.703818908944,2887.0682961071366,3354.2224642119832,3842.110344562424,4339.1452339262942,4832.252162605002,5309.2230868199767,5760.5907686856126,6179.5644802518946,6562.8985407804003,6908.4714859962305,7214.5844956332467,7481.3259119293416,7709.8193852119457,7902.0219702652967,8060.3461315076493,8187.3221840075084,8285.8672301249844,8359.8134620530582,8413.140146916463,8449.8697152762088,"No. of Electric Buses","NPgY"]
["DFES 2023 - Leading The Way",295.93813476302478,448.69046805964655,676.82348468668079,955.37098786919069,1283.6238267223684,1658.6350719423042,2076.2169278130227,2541.1993943761381,3046.5394188235532,3580.3185916235425,4126.7020265546325,4675.0402102935186,5212.0582188925391,5726.7469813033795,6210.1245628681691,6655.5061464302098,7057.9986878332311,7415.4831739462352,7726.4308279065453,7991.1884449348108,8214.170355940807,8397.8504298294592,8545.422288584843,8660.502608170731,8746.9380894024507,8809.0669387800062,8852.0359410103283,8880.7429587858205,8899.3101723156196,"No. of Electric Buses","NPgY"]
["CCC 2020 - Balanced Net Zero",null,null,null,null,null,null,null,null,null,null,null,null,null,null,null,null,null,null,null,null,null,null,null,null,null,null,null,null,null,"No. of Electric Buses","NPgY"]
["CT 2023 Policy Sensitivity",null,null,null,null,null,null,null,null,null,null,null,null,null,null,null,null,null,null,null,null,null,null,null,null,null,null,null,null,null,"No. of Electric Buses","NPgY"]
["BV 2023 Policy Sensitivity",null,null,null,null,null,null,null,null,null,null,null,null,null,null,null,null,null,null,null,null,null,null,null,null,null,null,null,null,null,"No. of Electric Buses","NPgY"]
["DFES 2023 - NPg Best View",295.93813476302478,448.69046805964655,676.82348468668079,955.37098786919069,1283.6238267223684,1658.6350719423042,2076.2169278130227,2541.1993943761381,3046.5394188235532,3580.3185916235425,4126.7020265546325,4675.0402102935186,5212.0582188925391,5726.7469813033795,6210.1245628681691,6655.5061464302098,7057.9986878332311,7415.4831739462352,7726.4308279065453,7991.1884449348108,8214.170355940807,8397.8504298294592,8545.422288584843,8660.502608170731,8746.9380894024507,8809.0669387800062,8852.0359410103283,8880.7429587858205,8899.3101723156196,"No. of Electric Buses","NPgY"]
["NPg ED2 Planning Scenario - needs updating to old",null,null,null,null,null,null,null,null,null,null,null,null,null,null,null,null,null,null,null,null,null,null,null,null,null,null,null,null,null,"No. of Electric Buses","NPgY"]
["DFES 2023 - Falling Short",295.93813476302478,362.96996704097745,489.23896774918222,653.36879827875157,859.46328132042061,1108.3439940714745,1397.6761319993468,1730.0330943350477,2099.8568317270328,2501.5597852091487,2930.6931097845204,3385.9005566401565,3864.0002549023798,4357.7595947684076,4855.6357218913472,5345.0853726260557,5815.2014845831627,6259.212844266036,6672.4778325494135,7050.2325668235899,7388.1696948989711,7685.7156178440828,7943.5890424781146,8163.4549123407287,8347.5242913582297,8498.4812842193678,8619.5835434025394,8714.0499131546258,8785.1062607534477,"No. of Electric Buses","NPgY"]

{"sheet":"E_Buses&HGVs","index":11,"n_rows":32,"n_cols":33,"rows_kept":32,"cut":false,"hidden":false,"merged":[]}
["No. of Other Electric Vehicles - NPg",2022,2023,2024,2025,2026,2027,2028,2029,2030,2031,2032,2033,2034,2035,2036,2037,2038,2039,2040,2041,2042,2043,2044,2045,2046,2047,2048,2049,2050,"Parameter","Licence","CHOSEN"]
["DFES 2023 - Consumer Transformation",673.71065672075372,1101.8116718382769,1853.5081791070911,2927.2388929146855,4434.1482896986799,6482.3687328032165,9160.9456112220778,12519.46644612427,16536.529968754487,21135.62461234767,26235.158557558891,31761.818790819409,37630.215900661373,43706.41289539518,49806.144074578915,55728.951303002184,61296.487381139974,66371.376310558611,70861.08737196718,74712.700733829406,77899.972596206557,80433.014741713036,82361.057386932342,83768.788972390888,84761.329675945963,85444.012645918498,85907.790088084716,86222.492207928095,86438.416485091468,"No. of Other Electric Vehicles","NPg"]
["DFES 2023 - System Transformation",673.71065672075372,1101.8116718382769,1848.7907956538452,2910.3237821294333,4394.4934057403716,6406.5409015102487,9032.2686267620265,12327.255278329809,16264.310243709466,20757.473146157492,25696.684213091248,31010.557505532266,36606.1571865769,42353.955401159546,48086.066315726755,53623.835874529737,58809.692618878777,63523.230889458369,67685.071433703226,71251.912900045631,74203.619061142497,76549.064102461183,78333.882546291235,79635.183342698423,80548.585427561338,81170.803445833051,81586.747789140078,81862.087869069743,82044.215930907667,"No. of Other Electric Vehicles","NPg"]
["DFES 2023 - Leading The Way",673.71065672075372,1265.6199338669662,2244.8605336383489,3635.5669834125811,5594.4272973169118,8238.1118575716864,11657.146299953361,15897.99088608722,20912.988963931704,26560.92357370309,32640.350838564249,38945.487294187471,45241.451477473049,51322.698919371498,57027.43623391843,62234.58741540779,66854.514085934148,70832.934044439506,74155.640625332249,76856.214147652878,78988.092291889086,80617.90714375177,81826.109348898754,82694.382144834555,83300.473984035838,83714.048375711922,83993.747180797931,84184.03593084056,84316.432203060453,"No. of Other Electric Vehicles","NPg"]
["CCC 2020 - Balanced Net Zero",null,null,null,null,null,null,null,null,null,null,null,null,null,null,null,null,null,null,null,null,null,null,null,null,null,null,null,null,null,"No. of Other Electric Vehicles","NPg"]
["CT 2023 Policy Sensitivity",null,null,null,null,null,null,null,null,null,null,null,null,null,null,null,null,null,null,null,null,null,null,null,null,null,null,null,null,null,"No. of Other Electric Vehicles","NPg"]
["BV 2023 Policy Sensitivity",null,null,null,null,null,null,null,null,null,null,null,null,null,null,null,null,null,null,null,null,null,null,null,null,null,null,null,null,null,"No. of Other Electric Vehicles","NPg"]
["DFES 2023 - NPg Best View",673.71065672075372,1265.6199338669662,2244.8605336383489,3635.5669834125811,5594.4272973169118,8238.1118575716864,11657.146299953361,15897.99088608722,20912.988963931704,26560.92357370309,32640.350838564249,38945.487294187471,45241.451477473049,51322.698919371498,57027.43623391843,62234.58741540779,66854.514085934148,70832.934044439506,74155.640625332249,76856.214147652878,78988.092291889086,80617.90714375177,81826.109348898754,82694.382144834555,83300.473984035838,83714.048375711922,83993.747180797931,84184.03593084056,84316.432203060453,"No. of Other Electric Vehicles","NPg"]
["NPg ED2 Planning Scenario - needs updating to old",null,null,null,null,null,null,null,null,null,null,null,null,null,null,null,null,null,null,null,null,null,null,null,null,null,null,null,null,null,"No. of Other Electric Vehicles","NPg"]
["DFES 2023 - Falling Short",673.71065672075372,996.20273340479457,1595.1315838632756,2450.7088381662179,3649.9982653619236,5285.5694725820122,7444.9900722288403,10200.492397581038,13560.936904566275,17466.950466482602,21809.753261576101,26469.476780648249,31347.399576956821,36386.520431511199,41562.466941083352,46841.223562006417,52137.016341425951,57311.254551629449,62214.208335929688,66715.612806422738,70715.440141496787,74153.45710926922,77001.613158856315,79263.003487631664,80974.573898309987,82207.463003537443,83058.082382777066,83627.699212054344,84004.080492529727,"No. of Other Electric Vehicles","NPg"]
[]
["No. of Other Electric Vehicles - NPgN",2022,2023,2024,2025,2026,2027,2028,2029,2030,2031,2032,2033,2034,2035,2036,2037,2038,2039,2040,2041,2042,2043,2044,2045,2046,2047,2048,2049,2050,"No. of Other Electric Vehicles"]
["DFES 2023 - Consumer Transformation",244.5919910018346,386.78274424659253,634.82501794870132,984.77151899105331,1469.606355512426,2120.8568764634647,2964.0467315038604,4013.8876575820168,5263.4720315422664,6689.7159228416876,8267.7110404659252,9974.7722663479144,11783.818700427013,13653.264992830056,15526.915266797385,17344.2930456791,19051.866338451084,20608.709640599274,21987.24791641342,23171.603538137828,24154.031076683801,24937.665435945841,25537.287826498083,25978.195156581955,26291.735079832688,26509.373808027602,26658.450140235142,26760.141945128878,26829.923991592237,"No. of Other Electric Vehicles","NPgN"]
["DFES 2023 - System Transformation",244.5919910018346,386.78274424659253,632.98468217752691,978.17263133224799,1454.1362750804378,2091.2750814361802,2913.9874728205632,3939.5707936714743,5159.4129018973272,6547.5815582441337,8070.6978528171257,9707.0173418064442,11427.437511106418,13191.884810031104,14949.170193392985,16645.380350844054,18233.211532482288,19676.825634466808,20952.598747655076,22047.558127280685,22955.810453951366,23680.137385429491,24234.237110525581,24641.113666469748,24929.220031623321,25127.391989335938,25261.147494033517,25350.383135198037,25409.64040576409,"No. of Other Electric Vehicles","NPgN"]
["DFES 2023 - Leading The Way",244.5919910018346,442.4715663937904,765.94004525742912,1218.1171901339108,1844.8578228037848,2679.9218616569483,3749.2023349904584,5067.0954310133202,6618.5029077200343,8360.1054724401565,10230.293860018808,12167.008295874817,14099.236085261115,15964.930528346158,17715.201689970156,19313.469235784039,20732.659879706553,21956.512784383245,22980.617642862748,23814.880875414372,24475.679684529616,24982.95426702901,25360.812928159503,25633.792688457128,25825.312716998771,25956.498286301143,26045.369534968584,26105.74822583377,26147.534549082975,"No. of Other Electric Vehicles","NPgN"]
["CCC 2020 - Balanced Net Zero",null,null,null,null,null,null,null,null,null,null,null,null,null,null,null,null,null,null,null,null,null,null,null,null,null,null,null,null,null,"No. of Other Electric Vehicles","NPgN"]
["CT 2023 Policy Sensitivity",null,null,null,null,null,null,null,null,null,null,null,null,null,null,null,null,null,null,null,null,null,null,null,null,null,null,null,null,null,"No. of Other Electric Vehicles","NPgN"]
["BV 2023 Policy Sensitivity",null,null,null,null,null,null,null,null,null,null,null,null,null,null,null,null,null,null,null,null,null,null,null,null,null,null,null,null,null,"No. of Other Electric Vehicles","NPgN"]
["DFES 2023 - NPg Best View",244.5919910018346,442.4715663937904,765.94004525742912,1218.1171901339108,1844.8578228037848,2679.9218616569483,3749.2023349904584,5067.0954310133202,6618.5029077200343,8360.1054724401565,10230.293860018808,12167.008295874817,14099.236085261115,15964.930528346158,17715.201689970156,19313.469235784039,20732.659879706553,21956.512784383245,22980.617642862748,23814.880875414372,24475.679684529616,24982.95426702901,25360.812928159503,25633.792688457128,25825.312716998771,25956.498286301143,26045.369534968584,26105.74822583377,26147.534549082975,"No. of Other Electric Vehicles","NPgN"]
["NPg ED2 Planning Scenario - needs updating to old",null,null,null,null,null,null,null,null,null,null,null,null,null,null,null,null,null,null,null,null,null,null,null,null,null,null,null,null,null,"No. of Other Electric Vehicles","NPgN"]
["DFES 2023 - Falling Short",244.5919910018346,349.83467457270729,545.57235218391929,822.60867631905285,1207.1364248567147,1726.4429313986047,2405.8473852757611,3266.9487083503291,4311.4645701567733,5521.0903789732774,6863.2078192534609,8302.4361026248407,9809.3087115104245,11365.955932211025,12963.396554494821,14589.661673750599,16217.857662390797,17806.252213726118,19310.182983200382,20690.678638427962,21917.710870427087,22973.518156050428,23849.98536185702,24548.284641641432,25079.605483154723,25465.243507048192,25733.999610446255,25916.093012885143,26037.78352271632,"No. of Other Electric Vehicles","NPgN"]
[]
["No. of Other Electric Vehicles - NPgY",2022,2023,2024,2025,2026,2027,2028,2029,2030,2031,2032,2033,2034,2035,2036,2037,2038,2039,2040,2041,2042,2043,2044,2045,2046,2047,2048,2049,2050,"No. of Other Electric Vehicles","NPgY"]
["DFES 2023 - Consumer Transformation",429.11866571891903,715.02892759168435,1218.6831611583898,1942.4673739236323,2964.5419341862544,4361.5118563397518,6196.8988797182174,8505.5787885422524,11273.057937212221,14445.908689505981,17967.447517092965,21787.046524471494,25846.397200234362,30053.147902565121,34279.228807781532,38384.658257323084,42244.621042688887,45762.666669959333,48873.839455553767,51541.097195691582,53745.941519522756,55495.349305767188,56823.769560434266,57790.593815808927,58469.594596113275,58934.638837890911,59249.339947849578,59462.350262799213,59608.492493499223,"No. of Other Electric Vehicles","NPgY"]
["DFES 2023 - System Transformation",429.11866571891903,715.02892759168435,1215.8061134763182,1932.1511507971854,2940.3571306599342,4315.265820074068,6118.2811539414643,8387.6844846583335,11104.897341812139,14209.89158791336,17625.986360274121,21303.540163725822,25178.719675470482,29162.070591128446,33136.896122333768,36978.455523685676,40576.481086396489,43846.405254991565,46732.472686048153,49204.354772764942,51247.808607191138,52868.926717031689,54099.645435765655,54994.069676228675,55619.365395938024,56043.411456497117,56325.60029510656,56511.704733871709,56634.575525143569,"No. of Other Electric Vehicles","NPgY"]
["DFES 2023 - Leading The Way",429.11866571891903,823.14836747317577,1478.92048838092,2417.4497932786703,3749.5694745131273,5558.1899959147386,7907.9439649629021,10830.8954550739,14294.486056211672,18200.818101262932,22410.056978545443,26778.478998312654,31142.215392211936,35357.76839102534,39312.234543948281,42921.118179623758,46121.854206227596,48876.421260056261,51175.022982469505,53041.333272238509,54512.412607359474,55634.952876722768,56465.296420739243,57060.589456377435,57475.161267037067,57757.550089410775,57948.377645829351,58078.287705006791,58168.897653977474,"No. of Other Electric Vehicles","NPgY"]
["CCC 2020 - Balanced Net Zero",null,null,null,null,null,null,null,null,null,null,null,null,null,null,null,null,null,null,null,null,null,null,null,null,null,null,null,null,null,"No. of Other Electric Vehicles","NPgY"]
["CT 2023 Policy Sensitivity",null,null,null,null,null,null,null,null,null,null,null,null,null,null,null,null,null,null,null,null,null,null,null,null,null,null,null,null,null,"No. of Other Electric Vehicles","NPgY"]
["BV 2023 Policy Sensitivity",null,null,null,null,null,null,null,null,null,null,null,null,null,null,null,null,null,null,null,null,null,null,null,null,null,null,null,null,null,"No. of Other Electric Vehicles","NPgY"]
["DFES 2023 - NPg Best View",429.11866571891903,823.14836747317577,1478.92048838092,2417.4497932786703,3749.5694745131273,5558.1899959147386,7907.9439649629021,10830.8954550739,14294.486056211672,18200.818101262932,22410.056978545443,26778.478998312654,31142.215392211936,35357.76839102534,39312.234543948281,42921.118179623758,46121.854206227596,48876.421260056261,51175.022982469505,53041.333272238509,54512.412607359474,55634.952876722768,56465.296420739243,57060.589456377435,57475.161267037067,57757.550089410775,57948.377645829351,58078.287705006791,58168.897653977474,"No. of Other Electric Vehicles","NPgY"]
["NPg ED2 Planning Scenario - needs updating to old",null,null,null,null,null,null,null,null,null,null,null,null,null,null,null,null,null,null,null,null,null,null,null,null,null,null,null,null,null,"No. of Other Electric Vehicles","NPgY"]
["DFES 2023 - Falling Short",429.11866571891903,646.36805883208729,1049.5592316793566,1628.1001618471648,2442.8618405052089,3559.1265411834065,5039.1426869530787,6933.543689230708,9249.4723344095,11945.860087509323,14946.545442322644,18167.040678023404,21538.090865446396,25020.564499300177,28599.07038658853,32251.561888255819,35919.15867903515,39505.002337903337,42904.025352729303,46024.934167994783,48797.7292710697,51179.9389532188,53151.627796999288,54714.718845990232,55894.968415155265,56742.219496489255,57324.082772330818,57711.606199169197,57966.296969813411,"No. of Other Electric Vehicles","NPgY"]

{"sheet":"Heat Pumps","index":12,"n_rows":243,"n_cols":33,"rows_kept":243,"cut":false,"hidden":false,"merged":[]}
["No. of HPs - NPg",2022,2023,2024,2025,2026,2027,2028,2029,2030,2031,2032,2033,2034,2035,2036,2037,2038,2039,2040,2041,2042,2043,2044,2045,2046,2047,2048,2049,2050,"Parameter","Licence","CHOSEN"]
["DFES 2023 - Consumer Transformation",{"$f":"ROUND(SUM(B13,B24),0)","v":49147},64273,86121,131735,194130,268840,299538,324625,349942,375497,401208,426601,453136,511397,704073,897016,1085581,1267598,1430085,1576139,1709222,1886972,2070872,2254907,2437740,2620217,2802473,2984685,3126136,"No. of HPs","NPg"]
["DFES 2023 - System Transformation",{"$f":"ROUND(SUM(B14,B25),0)","v":49147},60069,75765,92793,111231,131174,151986,174392,200303,226400,252592,278377,305266,373010,401267,448407,509499,581507,662282,748632,845025,954993,1081947,1227539,1391575,1567104,1754283,1954452,2153549,"No. of HPs","NPg"]
["DFES 2023 - Leading The Way",{"$f":"ROUND(SUM(B15,B26),0)","v":49147},66184,92622,152241,231504,321835,359933,386562,454906,663193,871487,1076152,1277159,1476877,1678542,1878427,2072628,2256264,2410792,2547100,2673767,2852571,3042645,3191142,3200769,3210463,3220169,3229910,3240100,"No. of HPs","NPg"]
["CCC 2020 - Balanced Net Zero",{"$f":"ROUND(SUM(B16,B27),0)","v":54255},73585,94167,145981,216586,305335,419489,545817,691754,825970,969084,1130282,1306315,1496164,1677062,1856404,2039602,2230016,2409952,2598963,2771448,2925286,3059379,3182376,3295319,3409463,3523789,3552198,3568971,"No. of HPs","NPg"]
["CT 2023 Policy Sensitivity",{"$f":"ROUND(SUM(B17,B28),0)","v":49147},74278,106618,132433,150986,170463,191426,214860,240115,263092,286213,309125,335380,359485,560066,750775,927877,1096616,1270786,1451413,1631717,1816124,2002985,2190494,2378177,2566011,2753879,2941608,3125076,"No. of HPs","NPg"]
["BV 2023 Policy Sensitivity",{"$f":"ROUND(SUM(B18,B29),0)","v":49147},74278,106618,132433,150986,170463,191426,214860,240115,263092,286213,309125,335380,359485,560066,750775,927877,1096616,1270786,1451413,1631717,1816124,2002985,2190494,2378177,2566011,2753879,2941608,3125076,"No. of HPs","NPg"]
["DFES 2023 - NPg Best View",{"$f":"ROUND(SUM(B19,B30),0)","v":49147},64273,86121,131735,194130,268840,299538,324625,349942,375497,401208,426601,453136,511397,704073,897016,1085581,1267598,1430085,1576139,1709222,1886972,2070872,2254907,2437740,2620217,2802473,2984685,3126136,"No. of HPs","NPg"]
["NPg Planning Scenario - DFES 2022",{"$f":"ROUND(SUM(B20,B31),0)","v":54255},73585,94167,145981,216586,305335,419489,545817,691754,825970,969084,1130282,1306315,1496164,1677062,1856404,2039602,2230016,2409952,2598963,2771448,2925286,3059379,3182376,3295319,3409463,3523789,3552198,3568971,"No. of HPs","NPg"]
["DFES 2023 - Falling Short",{"$f":"ROUND(SUM(B21,B32),0)","v":49147},58995,63959,80868,99091,118823,139351,160584,182353,204283,226319,248027,266531,287870,310581,331379,345160,358224,371302,384405,397590,410663,423696,436770,449918,463082,476249,488549,497660,"No. of HPs","NPg"]
[]
["No. of HPs - NPgN",2022,2023,2024,2025,2026,2027,2028,2029,2030,2031,2032,2033,2034,2035,2036,2037,2038,2039,2040,2041,2042,2043,2044,2045,2046,2047,2048,2049,2050,"No. of HPs"]
["DFES 2023 - Consumer Transformation",21328.096389157679,27569.890357815653,36890.347515962065,56170.424873136632,82398.179149518517,113913.30221576254,130989.68857718565,142050.12729087425,153050.98568167887,164152.00039645433,175316.7658551131,186345.12044365468,197849.72140626993,218036.25131373416,292800.66198736336,368633.06370429997,442788.73253576731,514471.16530911141,578466.76808126515,635990.53504432726,688817.15465348819,756355.71028356755,830148.36190574581,904158.15620681166,978096.76325449371,1051948.1855989282,1125692.316943031,1199311.1448362363,1256376.1237023876,"No. of HPs","NPgN"]
["DFES 2023 - System Transformation",21328.096389157683,25809.393395125648,32493.450842349233,39655.97413229521,47405.322430680419,55789.206978573231,64534.774457630803,74055.461239412398,85366.220339955296,96756.372213451454,108185.16127580144,119440.20479721323,131157.56745535019,158735.42663902859,171121.21049837113,190649.8955443287,215897.0872916152,245538.00858743116,278689.47041653364,314292.49357876455,354025.91992056672,399345.23751795554,451620.10818582989,511432.79252345324,578890.36516194744,651065.34637424932,728026.34098771436,810331.63541009789,892242.70214969083,"No. of HPs","NPgN"]
["DFES 2023 - Leading The Way",21328.096389157679,29569.193303003001,43091.615244429093,73679.380859850411,113633.58421722412,158057.28991321108,182015.78336660232,194080.46260017279,222731.94563120528,308539.49899604334,394333.72689073801,476990.90744275023,556174.0520387108,633849.52248704736,711826.27728645888,789723.95478785934,865007.27442452766,935718.47580058593,992862.83348207572,1041407.8536429477,1086061.6884604418,1150717.6916089777,1226736.260256212,1286123.4420799937,1288634.9329146121,1291162.444247816,1293688.4635366153,1296219.3720916077,1299983.4831239216,"No. of HPs","NPgN"]
["CCC 2020 - Balanced Net Zero",22733.523215084355,30653.261537648748,39094.903755060572,60325.114452310365,89241.975567380985,125578.96794939507,172302.69876595953,227593.37021858257,284039.69769507583,339187.35452248395,397968.3551880162,466102.75717494299,540556.77519344201,614056.33143601741,688260.93900199665,761469.68563484459,836232.84825784934,913925.94367279392,987686.72688028286,1065171.5053889756,1135910.0189386436,1199029.9257596915,1254079.1853897201,1304608.7171609614,1351539.2093144406,1398310.6463030281,1445792.5659488256,1457347.7830437485,1464342.2001492174,"No. of HPs","NPgN"]
["CT 2023 Policy Sensitivity",21328.096389157683,31514.399628158018,44644.52538315273,54973.85518478827,62325.777230919106,70068.207558701193,78439.702482724038,87864.356101790268,98061.354920773898,107279.66094801159,116555.25770387494,125725.60413347009,135749.4011998428,144786.64024070359,227535.12308677231,306439.89030553546,377448.49178294867,443782.00002702867,511741.15169648326,581349.67965289368,650588.39050680562,723899.61348558974,799646.0883729473,876002.06791205145,952489.73679337127,1029096.9753095076,1105733.998951114,1182242.9878324112,1255939.2379703871,"No. of HPs","NPgN"]
["BV 2023 Policy Sensitivity",21328.096389157683,31514.399628158018,44644.52538315273,54973.85518478827,62325.777230919106,70068.207558701193,78439.702482724038,87864.356101790268,98061.354920773898,107279.66094801159,116555.25770387494,125725.60413347009,135749.4011998428,144786.64024070359,227535.12308677231,306439.89030553546,377448.49178294867,443782.00002702867,511741.15169648326,581349.67965289368,650588.39050680562,723899.61348558974,799646.0883729473,876002.06791205145,952489.73679337127,1029096.9753095076,1105733.998951114,1182242.9878324112,1255939.2379703871,"No. of HPs","NPgN"]
["DFES 2023 - NPg Best View",21328.096389157679,27569.890357815653,36890.347515962065,56170.424873136632,82398.179149518517,113913.30221576254,130989.68857718565,142050.12729087425,153050.98568167887,164152.00039645433,175316.7658551131,186345.12044365468,197849.72140626993,218036.25131373416,292800.66198736336,368633.06370429997,442788.73253576731,514471.16530911141,578466.76808126515,635990.53504432726,688817.15465348819,756355.71028356755,830148.36190574581,904158.15620681166,978096.76325449371,1051948.1855989282,1125692.316943031,1199311.1448362363,1256376.1237023876,"No. of HPs","NPgN"]
["NPg Planning Scenario - DFES 2022",22733.523215084355,30653.261537648748,39094.903755060572,60325.114452310365,89241.975567380985,125578.96794939507,172302.69876595953,227593.37021858257,284039.69769507583,339187.35452248395,397968.3551880162,466102.75717494299,540556.77519344201,614056.33143601741,688260.93900199665,761469.68563484459,836232.84825784934,913925.94367279392,987686.72688028286,1065171.5053889756,1135910.0189386436,1199029.9257596915,1254079.1853897201,1304608.7171609614,1351539.2093144406,1398310.6463030281,1445792.5659488256,1457347.7830437485,1464342.2001492174,"No. of HPs","NPgN"]
["DFES 2023 - Falling Short",21328.096389157683,25363.825800805065,27455.113999862206,34574.189991108913,42244.04442063703,50551.204740086912,59192.291966288729,68127.617179311681,77287.025550877093,86516.351859777104,95788.754104147185,104918.78163093379,110013.48797212624,114665.10164381564,119450.55490373677,124151.21656891801,128319.53767599586,132857.76679914302,137415.59332658682,142007.46629107642,146634.02471765716,151221.77522011186,155792.07971051539,160376.63523305082,164988.12294227543,169605.35037919067,174222.6491125272,178364.72525328424,180842.51841881458,"No. of HPs","NPgN"]
[]
["No. of HPs - NPgY",2022,2023,2024,2025,2026,2027,2028,2029,2030,2031,2032,2033,2034,2035,2036,2037,2038,2039,2040,2041,2042,2043,2044,2045,2046,2047,2048,2049,2050,"No. of HPs","NPgY"]
["DFES 2023 - Consumer Transformation",27818.48602119436,36703.43263329738,49230.73272804272,75564.153750330515,111731.61760901695,154926.94136254457,168547.94372294698,182575.12351990663,196891.48229788209,211344.66537682706,225890.75835766672,240255.3933187426,255286.14918116809,293361.10782394727,411272.17414073803,528383.16205719777,642792.51511314965,753126.44360397977,851618.07837466442,940148.64786383801,1020405.0224883144,1130616.0146270164,1240723.949682761,1350748.8328264272,1459643.1290377229,1568269.0935134294,1676780.5415989063,1785373.9384512838,1869759.5361976973,"No. of HPs","NPgY"]
["DFES 2023 - System Transformation",27818.48602119436,34259.47774617032,43271.380075750407,53136.883739378289,63825.907609690257,75385.064816073645,87450.826622127701,100336.47173677688,114937.1597726412,129643.62656975746,144406.71511040977,158936.4985651501,174108.3882979427,214274.56054345437,230145.4794021213,257756.69938733184,293602.20447984937,335968.71524729027,383592.04739347775,434339.74775808415,490999.16293632583,555647.65984782274,630326.54359004763,716106.44874198455,812685.12805416656,916038.94942785299,1026256.8314634981,1144120.4847981557,1261306.4097644431,"No. of HPs","NPgY"]
["DFES 2023 - Leading The Way",27818.486021194367,36615.018621473275,49530.172430070386,78561.328285789248,117870.65042089055,163777.96092874915,177917.21625867503,192481.94033080543,232173.84871283983,354653.86399133987,477153.57212692633,599161.36299116444,720984.99501806055,843027.69553075358,966715.41558343999,1088702.899771051,1207620.8191586691,1320545.7485567441,1417928.995493972,1505692.467291502,1587705.6065705465,1701853.5942674133,1815908.7365698642,1905019.0321434273,1912134.3803091755,1919300.5735684049,1926480.325377608,1933690.3937718396,1940116.3707819791,"No. of HPs","NPgY"]
["CCC 2020 - Balanced Net Zero",31521.931527461795,42931.515581312502,55072.302211162598,85655.662662762756,127344.37998803044,179755.70213179805,247185.92435971092,318224.01098542998,407714.02234341745,486782.28379302437,571115.36222457886,664178.97565776855,765758.65949295904,882108.01293955895,988801.55568487244,1094933.863598411,1203368.6753254174,1316090.5309907091,1422264.8678070321,1533791.7562422068,1635537.548234798,1726256.3142923575,1805299.9017420239,1877766.9400745747,1943780.1235967258,2011152.5382292967,2077996.5977558428,2094850.1179787619,2104628.7591101518,"No. of HPs","NPgY"]
["CT 2023 Policy Sensitivity",27818.48602119436,42763.854962425852,61973.84181668549,77459.117123322052,88659.983907358095,100395.23497956542,112986.31366873423,126995.59204381429,142054.13590962978,155812.06798388477,169657.29556607385,183399.67684857376,199631.01140061454,214698.59091103732,332530.91447468835,444335.11817129236,550428.98720492446,652833.84227993002,759045.26146156574,870062.89066012623,981128.20052487624,1092224.011104682,1203338.6047162646,1314491.4843886786,1425687.2011540632,1536913.5503928587,1648144.67572783,1759365.3263837409,1869136.9352965562,"No. of HPs","NPgY"]
["BV 2023 Policy Sensitivity",27818.48602119436,42763.854962425852,61973.84181668549,77459.117123322052,88659.983907358095,100395.23497956542,112986.31366873423,126995.59204381429,142054.13590962978,155812.06798388477,169657.29556607385,183399.67684857376,199631.01140061454,214698.59091103732,332530.91447468835,444335.11817129236,550428.98720492446,652833.84227993002,759045.26146156574,870062.89066012623,981128.20052487624,1092224.011104682,1203338.6047162646,1314491.4843886786,1425687.2011540632,1536913.5503928587,1648144.67572783,1759365.3263837409,1869136.9352965562,"No. of HPs","NPgY"]
["DFES 2023 - NPg Best View",27818.48602119436,36703.43263329738,49230.73272804272,75564.153750330515,111731.61760901695,154926.94136254457,168547.94372294698,182575.12351990663,196891.48229788209,211344.66537682706,225890.75835766672,240255.3933187426,255286.14918116809,293361.10782394727,411272.17414073803,528383.16205719777,642792.51511314965,753126.44360397977,851618.07837466442,940148.64786383801,1020405.0224883144,1130616.0146270164,1240723.949682761,1350748.8328264272,1459643.1290377229,1568269.0935134294,1676780.5415989063,1785373.9384512838,1869759.5361976973,"No. of HPs","NPgY"]
["NPg Planning Scenario - DFES 2022",31521.931527461795,42931.515581312502,55072.302211162598,85655.662662762756,127344.37998803044,179755.70213179805,247185.92435971092,318224.01098542998,407714.02234341745,486782.28379302437,571115.36222457886,664178.97565776855,765758.65949295904,882108.01293955895,988801.55568487244,1094933.863598411,1203368.6753254174,1316090.5309907091,1422264.8678070321,1533791.7562422068,1635537.548234798,1726256.3142923575,1805299.9017420239,1877766.9400745747,1943780.1235967258,2011152.5382292967,2077996.5977558428,2094850.1179787619,2104628.7591101518,"No. of HPs","NPgY"]
["DFES 2023 - Falling Short",27818.48602119436,33631.441130594831,36504.130952103566,46293.45966564893,56847.449988498935,68271.429149148229,80158.815743122424,92455.994094149471,105066.00463923687,117766.36071702324,130529.77798685865,143108.30245988842,156517.87127347637,173205.37104722494,191130.06316952425,207227.4146263538,216840.7789759025,225366.22435574554,233886.89444164591,242397.07185786328,250955.55361788519,259441.65855120152,267904.05835925357,276393.16965534096,284929.71437323326,293476.38832925953,302026.65310680243,310184.38321885339,316817.59910288057,"No. of HPs","NPgY"]
[]
[null,{"$f":"B8-#REF!","v":{"$error":"#REF!"}},{"$f":"C8-B8","v":15126},21848,45614,62395,{"$f":"G8-F8","v":74710},{"$f":"H8-G8","v":30698},25087,25317,{"$f":"K8-J8","v":25555},25711,25393,26535,58261,192676,192943]
[null,{"$f":"B9-#REF!","v":{"$error":"#REF!"}},{"$f":"C9-B9","v":19330},20582,51814,70605,{"$f":"G9-F9","v":88749},{"$f":"H9-G9","v":114154},126328,145937,{"$f":"K9-J9","v":134216},143114,161198,176033,189849,180898,179342]
[null,{"$f":"B34*6","v":{"$error":"#REF!"}},90756,131088,273684,374370,{"$f":"G34*6","v":448260},{"$f":"H34*6","v":184188},150522,151902,{"$f":"K34*6","v":153330},154266,152358,159210,349566,1156056,1157658]
[null,{"$f":"B35*6","v":{"$error":"#REF!"}},115980,123492,310884,423630,{"$f":"G35*6","v":532494},{"$f":"H35*6","v":684924},757968,875622,{"$f":"K35*6","v":805296},858684,967188,1056198,1139094,1085388,1076052]
["BREAKDOWN  BELOW"]
[]
["Domestic HP"]
["No. of Domestic HPs - NPg",2022,2023,2024,2025,2026,2027,2028,2029,2030,2031,2032,2033,2034,2035,2036,2037,2038,2039,2040,2041,2042,2043,2044,2045,2046,2047,2048,2049,2050]
["DFES 2023 - Consumer Transformation",{"$f":"ROUND(SUM(B53,B64),0)","v":42082},56453,77429,122193,183568,256245,284776,307789,331198,354945,378861,402433,427130,483636,661014,838667,1012133,1179164,1327214,1458978,1578358,1742409,1912596,2082877,2251964,2420703,2589230,2757722,2885461]
["DFES 2023 - System Transformation",{"$f":"ROUND(SUM(B54,B65),0)","v":42082},52517,67149,83517,101248,120077,139607,160740,184981,209495,234108,258272,283519,349610,363774,396536,443810,502110,569308,642105,724950,821418,934931,1067602,1218725,1381352,1555651,1742960,1929217]
["DFES 2023 - Leading The Way",{"$f":"ROUND(SUM(B55,B66),0)","v":42082},58365,83931,142089,219748,308046,343977,368531,434967,627793,820640,1009839,1195365,1379687,1566059,1750656,1929760,2098414,2239117,2361722,2474689,2639795,2816156,2950903,2960440,2970046,2979671,2989336,2999426]
["CCC 2020 - Balanced Net Zero",{"$f":"ROUND(SUM(B56,B67),0)","v":46497},64719,84014,134329,203296,290242,402496,525775,667995,797824,936692,1093251,1264265,1448896,1624357,1796836,1972032,2153271,2324055,2503692,2666610,2810854,2935260,3048504,3151631,3256210,3361336,3382684,3395550]
["CT 2023 Policy Sensitivity",{"$f":"ROUND(SUM(B57,B68),0)","v":42082},66332,97634,122920,140890,159347,179144,201477,225752,247845,270086,292076,317399,340518,525908,701086,863305,1017301,1176787,1342746,1508383,1678125,1850322,2023166,2196185,2369356,2542567,2715645,2885461]
["BV 2023 Policy Sensitivity",{"$f":"ROUND(SUM(B58,B69),0)","v":42082},66332,97634,122920,140890,159347,179144,201477,225752,247845,270086,292076,317399,340518,525908,701086,863305,1017301,1176787,1342746,1508383,1678125,1850322,2023166,2196185,2369356,2542567,2715645,2885461]
["DFES 2023 - NPg Best View",42082,56453,77429,122193,183568,256245,284776,307789,331198,354945,378861,402433,427130,483636,661014,838667,1012133,1179164,1327214,1458978,1578358,1742409,1912596,2082877,2251964,2420703,2589230,2757722,2885461]
["NPg ED2 Planning Scenario - needs updating to old",{"$f":"ROUND(SUM(B60,B71),0)","v":42082},56453,77429,122193,183568,256245,284776,307789,331198,354945,378861,402433,427130,483636,661014,838667,1012133,1179164,1327214,1458978,1578358,1742409,1912596,2082877,2251964,2420703,2589230,2757722,2885461]
["DFES 2023 - Falling Short",{"$f":"ROUND(SUM(B61,B72),0)","v":42082},51156,55190,71543,89119,107751,127016,147031,167693,188617,209658,230318,247781,267408,288603,307432,319910,331813,343921,356109,368401,380606,392793,405032,417340,429662,441988,453450,462356]
[]
["No. of Domestic HPs - NPgN",2022,2023,2024,2025,2026,2027,2028,2029,2030,2031,2032,2033,2034,2035,2036,2037,2038,2039,2040,2041,2042,2043,2044,2045,2046,2047,2048,2049,2050]
["DFES 2023 - Consumer Transformation",{"$f":"ROUND(SUM(B87,B121),0)","v":18417},24346,33305,52238,78047,108721,124901,135104,145318,155671,166094,176370,187116,206576,275048,344592,412537,478056,536117,587768,634961,696868,765023,833379,901667,969871,1037972,1105951,1157379]
["DFES 2023 - System Transformation",{"$f":"ROUND(SUM(B88,B122),0)","v":18417},22687,28927,35821,43281,51201,59413,68404,79024,89758,100532,111116,122154,149048,155626,169229,188781,212773,240330,270348,304499,344256,390993,445482,507619,574478,646132,723139,799760]
["DFES 2023 - Leading The Way",{"$f":"ROUND(SUM(B89,B123),0)","v":18417},26346,39507,69498,108795,152378,175440,186646,214511,293958,373398,449693,522509,593850,665537,737147,806220,870769,922229,965141,1004162,1063187,1133568,1187303,1189778,1192270,1194763,1197263,1200987]
["CCC 2020 - Balanced Net Zero",{"$f":"ROUND(SUM(B90,B124),0)","v":19635},27077,34958,55530,83728,119277,165173,219029,273726,326808,383664,449695,521873,593007,664746,735266,806897,880999,950826,1024273,1090884,1149860,1200725,1247039,1289725,1332366,1375883,1384375,1389651]
["CT 2023 Policy Sensitivity",{"$f":"ROUND(SUM(B91,B125),0)","v":18417},28237,40936,51052,58167,65486,73373,82341,92133,100985,109896,118684,128322,136954,213457,285971,350858,411130,473051,536629,599837,667119,736836,807162,877621,948199,1018810,1089295,1157379]
["BV 2023 Policy Sensitivity",{"$f":"ROUND(SUM(B92,B126),0)","v":18417},28237,40936,51052,58167,65486,73373,82341,92133,100985,109896,118684,128322,136954,213457,285971,350858,411130,473051,536629,599837,667119,736836,807162,877621,948199,1018810,1089295,1157379]
["DFES 2023 - NPg Best View",{"$f":"ROUND(SUM(B93,B127),0)","v":18417},24346,33305,52238,78047,108721,124901,135104,145318,155671,166094,176370,187116,206576,275048,344592,412537,478056,536117,587768,634961,696868,765023,833379,901667,969871,1037972,1105951,1157379]
["NPg ED2 Planning Scenario - needs updating to old",{"$f":"ROUND(SUM(B94,B128),0)","v":18417},24346,33305,52238,78047,108721,124901,135104,145318,155671,166094,176370,187116,206576,275048,344592,412537,478056,536117,587768,634961,696868,765023,833379,901667,969871,1037972,1105951,1157379]
["DFES 2023 - Falling Short",{"$f":"ROUND(SUM(B95,B129),0)","v":18417},22130,23830,30724,38130,45981,54097,62527,71229,80041,88901,97596,102260,106207,110368,114256,117887,121950,126109,130324,134583,138813,143036,147277,151543,155814,160085,163883,166277]
[]
["No. of Domestic HPs - NPgY",2022,2023,2024,2025,2026,2027,2028,2029,2030,2031,2032,2033,2034,2035,2036,2037,2038,2039,2040,2041,2042,2043,2044,2045,2046,2047,2048,2049,2050]
["DFES 2023 - Consumer Transformation",{"$f":"ROUND(SUM(B98,B132),0)","v":23665},32107,44124,69955,105521,147524,159875,172685,185880,199274,212767,226063,240014,277060,385966,494075,599596,701108,791097,871210,943397,1045541,1147573,1249498,1350297,1450832,1551258,1651771,1728082]
["DFES 2023 - System Transformation",{"$f":"ROUND(SUM(B99,B133),0)","v":23665},29830,38222,47696,57967,68876,80194,92336,105957,119737,133576,147156,161365,200562,208148,227307,255029,289337,328978,371757,420451,477162,543938,622120,711106,806874,909519,1019821,1129457]
["DFES 2023 - Leading The Way",{"$f":"ROUND(SUM(B100,B134),0)","v":23665},32019,44424,72591,110953,155668,168537,181885,220456,333835,447242,560146,672856,785837,900522,1013509,1123540,1227645,1316888,1396581,1470527,1576608,1682588,1763600,1770662,1777776,1784908,1792073,1798439]
["CCC 2020 - Balanced Net Zero",{"$f":"ROUND(SUM(B101,B135),0)","v":26862},37642,49056,78799,119568,170965,237323,306746,394269,471016,553028,643556,742392,855889,959611,1061570,1165135,1272272,1373229,1479419,1575726,1660994,1734535,1801465,1861906,1923844,1985453,1998309,2005899]
["CT 2023 Policy Sensitivity",{"$f":"ROUND(SUM(B102,B136),0)","v":23665},38095,56698,71868,82723,93861,105771,119136,133619,146860,160190,173392,189077,203564,312451,415115,512447,606171,703736,806117,908546,1011006,1113486,1216004,1318564,1421157,1523757,1626350,1728082]
["BV 2023 Policy Sensitivity",{"$f":"ROUND(SUM(B103,B137),0)","v":23665},38095,56698,71868,82723,93861,105771,119136,133619,146860,160190,173392,189077,203564,312451,415115,512447,606171,703736,806117,908546,1011006,1113486,1216004,1318564,1421157,1523757,1626350,1728082]
["DFES 2023 - NPg Best View",{"$f":"ROUND(SUM(B104,B138),0)","v":23665},32107,44124,69955,105521,147524,159875,172685,185880,199274,212767,226063,240014,277060,385966,494075,599596,701108,791097,871210,943397,1045541,1147573,1249498,1350297,1450832,1551258,1651771,1728082]
["NPg ED2 Planning Scenario - needs updating to old",{"$f":"ROUND(SUM(B105,B139),0)","v":23665},32107,44124,69955,105521,147524,159875,172685,185880,199274,212767,226063,240014,277060,385966,494075,599596,701108,791097,871210,943397,1045541,1147573,1249498,1350297,1450832,1551258,1651771,1728082]
["DFES 2023 - Falling Short",{"$f":"ROUND(SUM(B106,B140),0)","v":23665},29026,31360,40819,50989,61770,72919,84504,96464,108576,120757,132722,145521,161201,178235,193176,202023,209863,217812,225785,233818,241793,249757,257755,265797,273848,281903,289567,296079]
[]
["Full Electric Domestic HP"]
["No. of Full Electric Domestic HPs - NPg",2022,2023,2024,2025,2026,2027,2028,2029,2030,2031,2032,2033,2034,2035,2036,2037,2038,2039,2040,2041,2042,2043,2044,2045,2046,2047,2048,2049,2050]
["DFES 2023 - Consumer Transformation",{"$f":"ROUND(SUM(B87,B98),0)","v":42082},56454,77428,122193,183568,256246,284776,307789,331198,354945,378860,402433,427130,483636,661014,838667,1012133,1179164,1327215,1458978,1578359,1742409,1912595,2082877,2251964,2420703,2589230,2757722,2885461]
["DFES 2023 - System Transformation",{"$f":"ROUND(SUM(B88,B99),0)","v":42082},52517,67149,83517,101248,120078,139607,160740,177745,200243,221776,242210,259331,306684,306691,318620,340158,366233,398516,436866,486546,545417,615527,697583,791401,892406,1000762,1117458,1235796]
["DFES 2023 - Leading The Way",{"$f":"ROUND(SUM(B89,B100),0)","v":42082},58365,83930,142089,219748,308046,343977,368531,434967,627792,820640,1009838,1195364,1379688,1566058,1750656,1929761,2098414,2239117,2361722,2474689,2639795,2816156,2950903,2960439,2970046,2979671,2989336,2999425]
["CCC 2020 - Balanced Net Zero",{"$f":"ROUND(SUM(B91,B101),0)","v":41689},58994,79450,116775,160896,214635,283375,360007,450495,530575,608876,700407,796748,895506,1054984,1212719,1361043,1505386,1634285,1764841,1895026,2029019,2155372,2282304,2408123,2535624,2662666,2740973,2816262]
["CT 2023 Policy Sensitivity",{"$f":"ROUND(SUM(B92,B102),0)","v":42082},66332,97634,122920,140890,159347,179144,201477,225752,247846,270086,292076,317399,340519,525908,701086,863305,1017301,1176787,1342746,1508383,1678125,1850322,2023166,2196185,2369356,2542566,2715644,2885461]
["BV 2023 Policy Sensitivity",{"$f":"ROUND(SUM(B93,B103),0)","v":42082},62441,90003,124106,160769,202582,230672,254239,278937,302531,326284,349762,376193,410140,587499,759707,924983,1084227,1239853,1393885,1543507,1707874,1878509,2049383,2220232,2391028,2561728,2732301,2885461]
["DFES 2023 - NPg Best View",{"$f":"ROUND(SUM(B93,B104),0)","v":42082},56454,77428,122193,183568,256246,284776,307789,331198,354945,378860,402433,427130,483636,661014,838667,1012133,1179164,1327215,1458978,1578359,1742409,1912595,2082877,2251964,2420703,2589230,2757722,2885461]
["NPg ED2 Planning Scenario - needs updating to old",{"$f":"ROUND(SUM(B94,B105),0)","v":42082},56454,77428,122193,183568,256246,284776,307789,331198,354945,378860,402433,427130,483636,661014,838667,1012133,1179164,1327215,1458978,1578359,1742409,1912595,2082877,2251964,2420703,2589230,2757722,2885461]
["DFES 2023 - Falling Short",{"$f":"ROUND(SUM(B95,B106),0)","v":42082},51155,55185,71533,89104,107730,126990,146998,167652,188570,209603,230253,247707,267326,288512,307331,319800,331697,343798,355981,368268,380468,392650,404884,417189,429506,441829,453286,462189]
[]
["No. of Full Electric Domestic HPs - NPgN",2022,2023,2024,2025,2026,2027,2028,2029,2030,2031,2032,2033,2034,2035,2036,2037,2038,2039,2040,2041,2042,2043,2044,2045,2046,2047,2048,2049,2050]
["DFES 2023 - Consumer Transformation",18417.288225892375,24346.250136404498,33304.897922353237,52238.061879408306,78046.664347147613,108721.42675823843,124901.35300527119,135103.58674075786,145317.697309329,155671.3176417994,166093.78762093803,176369.83258293898,187115.86393079039,206575.6442278279,275048.069273823,344592.14728720207,412536.71127489372,478055.70604136772,536117.08884283225,587767.60451739724,634961.20395972009,696868.0693234629,765022.77318921033,833379.2872113277,901667.40543040563,969871.34553910163,1037971.8780145048,1105950.8527858357,1157379.3770965976]
["DFES 2023 - System Transformation",18417.288225892378,22686.691654437545,28927.499893069937,35820.858010645024,43280.55546267618,51201.47003484673,59412.972146728258,68403.76877065828,75932.555425888364,85794.052016760266,95236.739474194837,104205.41319499986,111732.22133676748,130665.28320226927,131728.54033778969,135976.79858181626,144691.06043706293,155194.3753904542,168231.17450283532,183935.5838059907,204362.97349161765,228583.97862457598,257416.90242302039,291082.94919042481,329631.65223918128,371134.74568907451,415661.76128728024,463623.59798960137,512301.0701409718]
["DFES 2023 - Leading The Way",18417.288225892375,26345.603241917015,39506.511156144632,69498.130930026135,108794.52974219012,152377.90200086418,175439.96900454763,186646.46649515265,214511.20170395166,293957.8617361979,373397.96197154943,449692.60269371769,522508.59936247522,593850.44643081189,665536.5603920141,737147.13704452419,806220.42510223691,870768.91994022101,922229.22860885318,965140.50803612033,1004162.0795350579,1063187.0754149936,1133568.3281316457,1187302.8284393442,1189777.876707017,1192270.2382737261,1194763.3462128057,1197263.3979999435,1200986.7365181316]
["CCC 2020 - Balanced Net Zero",17151.756188421659,22314.923562543285,27666.234486566609,46485.332357801104,72081.020199506835,104187.72511123314,146276.79234842604,198915.32313217729,248889.86378898233,298155.07069395989,346281.12639379239,406928.09411160421,467994.01432014612,525682.85900819418,583073.47663886088,642016.6959909955,699725.75766445138,757873.82167796686,804199.18809695938,850524.55379232951,896849.92021132226,942990.9956488139,982163.40576022025,1021335.8165952502,1060508.2274302794,1099680.6375416864,1139616.7412243239,1144626.0020345175,1149635.2628447113]
["CT 2023 Policy Sensitivity",18417.288225892375,28237.389943111102,40936.06130335691,51051.825859382203,58166.992024187159,65485.921254368906,73373.041799611194,82340.760270280734,92133.433759753752,100985.38955895162,109895.8639508542,118683.68524804931,128322.40172989138,136954.40477049074,213456.59770891411,285970.76010945241,350858.10422705958,411129.76245446893,473051.08890734724,536629.14037803572,599837.006912763,667118.56576449657,736835.85115935432,807162.32246085582,877620.71050612151,948199.32151360065,1018809.7138072359,1089294.707094813,1157379.3770965976]
["BV 2023 Policy Sensitivity",18417.288225892375,28237.389943111102,40936.06130335691,51051.825859382203,58166.992024187159,65485.921254368906,73373.041799611194,82340.760270280734,92133.433759753752,100985.38955895162,109895.8639508542,118683.68524804931,128322.40172989138,136954.40477049074,213456.59770891411,285970.76010945241,350858.10422705958,411129.76245446893,473051.08890734724,536629.14037803572,599837.006912763,667118.56576449657,736835.85115935432,807162.32246085582,877620.71050612151,948199.32151360065,1018809.7138072359,1089294.707094813,1157379.3770965976]
["DFES 2023 - NPg Best View",18417.288225892375,24346.250136404498,33304.897922353237,52238.061879408306,78046.664347147613,108721.42675823843,124901.35300527119,135103.58674075786,145317.697309329,155671.3176417994,166093.78762093803,176369.83258293898,187115.86393079039,206575.6442278279,275048.069273823,344592.14728720207,412536.71127489372,478055.70604136772,536117.08884283225,587767.60451739724,634961.20395972009,696868.0693234629,765022.77318921033,833379.2872113277,901667.40543040563,969871.34553910163,1037971.8780145048,1105950.8527858357,1157379.3770965976]
["NPg ED2 Planning Scenario - needs updating to old",18417.288225892375,24346.250136404498,33304.897922353237,52238.061879408306,78046.664347147613,108721.42675823843,124901.35300527119,135103.58674075786,145317.697309329,155671.3176417994,166093.78762093803,176369.83258293898,187115.86393079039,206575.6442278279,275048.069273823,344592.14728720207,412536.71127489372,478055.70604136772,536117.08884283225,587767.60451739724,634961.20395972009,696868.0693234629,765022.77318921033,833379.2872113277,901667.40543040563,969871.34553910163,1037971.8780145048,1105950.8527858357,1157379.3770965976]
["DFES 2023 - Falling Short",18417.288225892378,22129.12265193593,23827.863959311762,30719.681159038853,38123.933492530778,45972.365146199023,54086.097578927569,62512.939837834645,71211.921799903226,80021.098435507214,88877.123616717421,97568.388173888816,102228.67539489886,106171.80737620802,110329.60502543996,114213.6851429059,117840.96178547054,121901.81935217061,126057.56487813448,130270.92627957599,134527.63645644131,138755.91997774888,142976.42715870196,147215.81719048452,151480.58623910113,155750.05487091822,160020.0694576122,163815.90048044574,166208.32248558837]
[]
["No. of Full Electric Domestic HPs - NPgY",2022,2023,2024,2025,2026,2027,2028,2029,2030,2031,2032,2033,2034,2035,2036,2037,2038,2039,2040,2041,2042,2043,2044,2045,2046,2047,2048,2049,2050]
["DFES 2023 - Consumer Transformation",23665.116893677583,32107.432747332219,44123.557389148475,69954.581067964406,105521.22423022617,147524.10600778257,159874.86116778638,172685.02770804457,185880.47033491009,199273.53498994806,212766.54851135149,226063.14256437964,240014.40375528761,277059.87763792492,385965.91661549243,494074.78261230228,599596.00594798673,701108.36673962628,791097.49663332454,871210.2266484187,943397.49388008867,1045541.2452075782,1147572.6060207293,1249498.0739381989,1350296.9798711829,1450831.8922836387,1551257.9057380639,1651771.2896317502,1728081.7906097861]
["DFES 2023 - System Transformation",23665.116893677583,29830.257470547735,38221.717627739672,47696.00116267764,57966.94648548097,68876.094143310809,80193.599297122812,92336.277060259425,101812.11316452298,114449.25165898271,126539.75737469555,138004.65151619626,147598.76739760279,176018.97172105077,174962.26180667043,182642.95189213799,195466.54505350758,211039.00509360601,230284.62395662899,252930.51719676077,282183.42371460958,316832.71011075407,358110.2965090092,406500.1618622099,461769.61592981149,521271.23052497493,585100.17702629534,653834.25609408284,723494.98572687677]
["DFES 2023 - Leading The Way",23665.11689367759,32019.091701575737,44423.506180869656,72591.148645005858,110953.1404893049,155668.04153831326,168537.08978516905,181884.82837452248,220455.82060544693,333834.56303079042,447242.41009855812,560145.65493194258,672855.63659724675,785837.12289418012,900521.80747786327,1013508.9815069629,1123540.3619906926,1227644.808166849,1316888.0560210759,1396581.4680964495,1470526.6283324952,1576608.3960889694,1682587.9060862449,1763599.6727297816,1770661.5951123384,1777776.2583185262,1784907.7573580665,1792072.5870429829,1798438.6251940678]
["CCC 2020 - Balanced Net Zero",23272.138716314566,30757.039486322457,38513.960253336714,65722.817263156991,102729.3419817238,149149.56621228892,210002.39879593562,277666.44696850859,358361.49694549106,429589.67054916115,498980.1089791088,581723.57813913131,668425.24398820335,758551.82911604049,841527.81019135681,926748.55977373302,1010184.9507201904,1094256.0560392165,1161233.7761959594,1228211.4953064811,1295189.2154632239,1361900.4857083836,1418536.3836001977,1475141.4777515118,1530502.2650383527,1587425.0618828919,1643856.5623574362,1651678.0295974507,1658882.5052548526]
["CT 2023 Policy Sensitivity",23665.116893677583,38094.538190752297,56697.987555627275,71868.185235631725,82722.814479952518,93861.045298776196,105770.60966142746,119135.90234724618,133618.82538308288,146860.12871390567,160190.3871709526,173392.16632632815,189077.03031432247,203564.41855403958,312451.17364365055,415115.24678836076,512446.74398141657,606171.40551181755,703735.70580230618,806117.15754888847,908545.62695641222,1011006.1932579598,1113486.110139505,1216003.7081838925,1318564.4312564291,1421156.7003058379,1523756.6101660219,1626349.7925638473,1728081.7906097861]
["BV 2023 Policy Sensitivity",23665.116893677583,38094.538190752297,56697.987555627275,71868.185235631725,82722.814479952518,93861.045298776196,105770.60966142746,119135.90234724618,133618.82538308288,146860.12871390567,160190.3871709526,173392.16632632815,189077.03031432247,203564.41855403958,312451.17364365055,415115.24678836076,512446.74398141657,606171.40551181755,703735.70580230618,806117.15754888847,908545.62695641222,1011006.1932579598,1113486.110139505,1216003.7081838925,1318564.4312564291,1421156.7003058379,1523756.6101660219,1626349.7925638473,1728081.7906097861]
["DFES 2023 - NPg Best View",23665.116893677583,32107.432747332219,44123.557389148475,69954.581067964406,105521.22423022617,147524.10600778257,159874.86116778638,172685.02770804457,185880.47033491009,199273.53498994806,212766.54851135149,226063.14256437964,240014.40375528761,277059.87763792492,385965.91661549243,494074.78261230228,599596.00594798673,701108.36673962628,791097.49663332454,871210.2266484187,943397.49388008867,1045541.2452075782,1147572.6060207293,1249498.0739381989,1350296.9798711829,1450831.8922836387,1551257.9057380639,1651771.2896317502,1728081.7906097861]
["NPg ED2 Planning Scenario - needs updating to old",23665.116893677583,32107.432747332219,44123.557389148475,69954.581067964406,105521.22423022617,147524.10600778257,159874.86116778638,172685.02770804457,185880.47033491009,199273.53498994806,212766.54851135149,226063.14256437964,240014.40375528761,277059.87763792492,385965.91661549243,494074.78261230228,599596.00594798673,701108.36673962628,791097.49663332454,871210.2266484187,943397.49388008867,1045541.2452075782,1147572.6060207293,1249498.0739381989,1350296.9798711829,1450831.8922836387,1551257.9057380639,1651771.2896317502,1728081.7906097861]
["DFES 2023 - Falling Short",23665.116893677583,29025.440010341947,31356.818337764897,40813.110171809734,50980.518750756324,61758.068307333095,72903.650063384179,84484.563852828389,96440.375213763589,108548.73386234355,120725.41856768556,132684.62490821665,145478.66927954115,161153.83813028698,178182.10931831689,193117.32974299238,201959.44792125517,209795.08482010924,217740.44358468926,225710.06656871349,233739.94800511285,241711.90073310386,249673.54808951615,257668.16522540656,265707.92592235265,273756.2699945934,281808.84745843703,289470.43641507637,295980.3367185308]
[]
["Hybrid Domestic HP"]
["No. of Hybrid Domestic HPs - NPg",2022,2023,2024,2025,2026,2027,2028,2029,2030,2031,2032,2033,2034,2035,2036,2037,2038,2039,2040,2041,2042,2043,2044,2045,2046,2047,2048,2049,2050]
["DFES 2023 - Consumer Transformation",{"$f":"ROUND(SUM(B121,B132),0)","v":0},0,0,0,0,0,0,0,0,0,0,0,0,0,0,0,0,0,0,0,0,0,0,0,0,0,0,0,0]
["DFES 2023 - System Transformation",{"$f":"ROUND(SUM(B122,B133),0)","v":0},0,0,0,0,0,0,0,7236,9252,12332,16062,24188,42926,57083,77916,103653,135877,170792,205238,238404,276001,319404,370019,427324,488947,554889,625502,693421]
["DFES 2023 - Leading The Way",{"$f":"ROUND(SUM(B123,B134),0)","v":0},0,0,0,0,0,0,0,0,0,0,0,0,0,0,0,0,0,0,0,0,0,0,0,0,0,0,0,0]
["CCC 2020 - Balanced Net Zero",{"$f":"ROUND(SUM(B124,B135),0)","v":6073},11648,17834,22121,28486,36905,46216,49193,60744,70079,91431,104599,127846,164661,199755,228071,262121,301141,358622,424956,474571,505963,534560,552026,560621,569103,577862,586380,587032]
["CT 2023 Policy Sensitivity",{"$f":"ROUND(SUM(B125,B136),0)","v":0},0,0,0,0,0,0,0,0,0,0,0,0,0,0,0,0,0,0,0,0,0,0,0,0,0,0,0,0]
["BV 2023 Policy Sensitivity",{"$f":"ROUND(SUM(B126,B137),0)","v":0},0,0,0,0,0,0,0,0,0,0,0,0,0,0,0,0,0,0,0,0,0,0,0,0,0,0,0,0]
["DFES 2023 - NPg Best View",{"$f":"ROUND(SUM(B127,B138),0)","v":0},0,0,0,0,0,0,0,0,0,0,0,0,0,0,0,0,0,0,0,0,0,0,0,0,0,0,0,0]
["NPg ED2 Planning Scenario - needs updating to old",{"$f":"ROUND(SUM(B128,B139),0)","v":0},0,0,0,0,0,0,0,0,0,0,0,0,0,0,0,0,0,0,0,0,0,0,0,0,0,0,0,0]
["DFES 2023 - Falling Short",{"$f":"ROUND(SUM(B129,B140),0)","v":0},2,5,9,15,20,26,33,40,48,56,64,73,82,91,101,109,116,122,128,133,138,143,147,152,156,160,163,167]
[]
["No. of Hybrid Domestic HPs - NPgN",2022,2023,2024,2025,2026,2027,2028,2029,2030,2031,2032,2033,2034,2035,2036,2037,2038,2039,2040,2041,2042,2043,2044,2045,2046,2047,2048,2049,2050]
["DFES 2023 - Consumer Transformation",0,0,0,0,0,0,0,0,0,0,0,0,0,0,0,0,0,0,0,0,0,0,0,0,0,0,0,0,0]
["DFES 2023 - System Transformation",0,0,0,0,0,0,0,0,3091.099851666454,3963.9446933816762,5295.5279853861448,6910.221233506436,10421.34354181731,18382.564866781358,23897.754514398974,33252.233376436612,44090.29887393181,57579.008369983778,72098.951261546972,86412.283308568876,100136.31907875562,115671.93226084778,133576.50406345102,154398.85567041527,177987.38992544104,203343.68737859314,230470.56809768258,259515.40717520958,287458.48481768114]
["DFES 2023 - Leading The Way",0,0,0,0,0,0,0,0,0,0,0,0,0,0,0,0,0,0,0,0,0,0,0,0,0,0,0,0,0]
["CCC 2020 - Balanced Net Zero",2482.8989733716462,4762.3179847280508,7291.6709909068722,9044.3055603456614,11646.684905166676,15088.86831451049,18896.183925820689,20113.29125353762,24835.756522492484,28652.643693585786,37382.586930766745,42766.512281510826,53879.16831905779,67323.663439225304,81672.303594782774,93249.559014761355,107171.40761055698,123125.07061184425,146627.22775155777,173748.41830926502,194034.14002854683,206869.09397195425,218561.51071172327,225702.82080010136,229216.76018897357,232684.96815711845,236266.06754456714,239748.63991879325,240015.41725748847]
["CT 2023 Policy Sensitivity",0,0,0,0,0,0,0,0,0,0,0,0,0,0,0,0,0,0,0,0,0,0,0,0,0,0,0,0,0]
["BV 2023 Policy Sensitivity",0,0,0,0,0,0,0,0,0,0,0,0,0,0,0,0,0,0,0,0,0,0,0,0,0,0,0,0,0]
["DFES 2023 - NPg Best View",0,0,0,0,0,0,0,0,0,0,0,0,0,0,0,0,0,0,0,0,0,0,0,0,0,0,0,0,0]
["NPg ED2 Planning Scenario - needs updating to old",0,0,0,0,0,0,0,0,0,0,0,0,0,0,0,0,0,0,0,0,0,0,0,0,0,0,0,0,0]
["DFES 2023 - Falling Short",0,0.7495799688831728,2.1277812753542906,3.9668609281961182,6.1301045697621621,8.4784742355786111,11.080888318257823,13.98520818706278,17.079340154124925,20.310506424574271,23.734611383592465,27.409905223180612,31.230839038157676,34.8540404884479,38.61585337986304,42.364404716015777,45.712090198050213,48.604523958468832,51.106181096563333,53.345643975741034,55.470526707190345,57.426991215903861,59.171642707587296,60.818866050225502,62.427380513019408,63.947610156569802,65.32711260564291,66.671804697828449,68.292278697176201]
[]
["No. of Hybrid Domestic HPs - NPgY",2022,2023,2024,2025,2026,2027,2028,2029,2030,2031,2032,2033,2034,2035,2036,2037,2038,2039,2040,2041,2042,2043,2044,2045,2046,2047,2048,2049,2050]
["DFES 2023 - Consumer Transformation",0,0,0,0,0,0,0,0,0,0,0,0,0,0,0,0,0,0,0,0,0,0,0,0,0,0,0,0,0]
["DFES 2023 - System Transformation",0,0,0,0,0,0,0,0,4144.6286035654202,5287.9139504932782,7036.1106345809603,9151.5831467158387,13766.666344917265,24543.492990078059,33185.648438404773,44664.200882974219,59562.70123991694,78298.149962188065,98693.360169836335,118825.98899471144,138267.89178160377,160329.1914515589,185827.57764779974,215619.65101302008,249336.5524444044,285603.2045481762,324418.67238640453,365986.84597227268,405962.17321923334]
["DFES 2023 - Leading The Way",0,0,0,0,0,0,0,0,0,0,0,0,0,0,0,0,0,0,0,0,0,0,0,0,0,0,0,0,0]
["CCC 2020 - Balanced Net Zero",3589.8024229716784,6885.4112969901407,10542.377467386284,13076.355648307439,16838.904095795802,21815.650421642276,27320.308868513952,29080.015921000966,35907.807726751678,41426.304839179014,54048.152011108461,61832.290019331325,73967.137297348439,97337.287070232211,118082.70754411591,134821.22973278348,154949.59031346635,178015.57032775765,211995.24551793956,251207.35870582509,280536.67647533503,299093.59291008092,315998.61659125774,326323.60062540055,331404.09252927336,336418.46544615034,341596.05800864939,346631.1991405476,347016.90872724948]
["CT 2023 Policy Sensitivity",0,0,0,0,0,0,0,0,0,0,0,0,0,0,0,0,0,0,0,0,0,0,0,0,0,0,0,0,0]
["BV 2023 Policy Sensitivity",0,0,0,0,0,0,0,0,0,0,0,0,0,0,0,0,0,0,0,0,0,0,0,0,0,0,0,0,0]
["DFES 2023 - NPg Best View",0,0,0,0,0,0,0,0,0,0,0,0,0,0,0,0,0,0,0,0,0,0,0,0,0,0,0,0,0]
["NPg ED2 Planning Scenario - needs updating to old",0,0,0,0,0,0,0,0,0,0,0,0,0,0,0,0,0,0,0,0,0,0,0,0,0,0,0,0,0]
["DFES 2023 - Falling Short",0,1.0128371068065796,2.9149190372708551,5.4332528824127548,8.38349503674959,11.57719853710779,15.102486284071407,19.020182614722987,23.176556093764901,27.498937582460719,32.059285316047472,36.928924264442045,42.086981800231968,47.354040835536999,52.81964011846641,58.274803137451507,63.197877219371208,67.478253657531923,71.240718569217137,74.662034922399442,77.944069376162219,81.018844194739728,83.831387513859482,86.539158668377908,89.223127344301119,91.81985083882897,94.26560250556237,96.579421315954392,98.915704792352798]
[]
[]
["I&C HP"]
["No. of I&C HPs - NPg",2022,2023,2024,2025,2026,2027,2028,2029,2030,2031,2032,2033,2034,2035,2036,2037,2038,2039,2040,2041,2042,2043,2044,2045,2046,2047,2048,2049,2050]
["DFES 2023 - Consumer Transformation",{"$f":"ROUND(SUM(B156,B167),0)","v":7064},7820,8692,9542,10562,12595,14761,16837,18744,20552,22347,24167,26006,27762,43059,58349,73449,88433,102871,117161,130864,144563,158277,172030,185775,199514,213243,226963,240675]
["DFES 2023 - System Transformation",{"$f":"ROUND(SUM(B157,B168),0)","v":7064},7552,8616,9276,9984,11097,12379,13652,15323,16904,18484,20105,21747,23400,37493,51871,65689,79397,92973,106528,120075,133575,147016,159938,172850,185752,198632,211492,224332]
["DFES 2023 - Leading The Way",{"$f":"ROUND(SUM(B158,B169),0)","v":7064},7820,8692,10151,11757,13789,15956,18031,19939,35401,50847,66314,81794,97190,112484,127771,142867,157851,171675,185378,199079,212776,226489,240240,240330,240416,240498,240574,240675]
["CCC 2020 - Balanced Net Zero",{"$f":"ROUND(SUM(B159,B170),0)","v":7759},8865,10153,11651,13290,15092,16993,20043,23759,28146,32392,37031,42050,47269,52706,59567,67570,76746,85896,95272,104838,114432,124119,133872,143688,153254,162454,169514,173421]
["CT 2023 Policy Sensitivity",{"$f":"ROUND(SUM(B160,B171),0)","v":7064},7946,8984,9513,10096,11116,12283,13384,14363,15246,16126,17050,17981,18966,34159,49689,64572,79314,94000,108667,123334,137999,152662,167328,181992,196655,211312,225964,239615]
["BV 2023 Policy Sensitivity",{"$f":"ROUND(SUM(B161,B172),0)","v":7064},7946,8984,9513,10096,11116,12283,13384,14363,15246,16126,17050,17981,18966,34159,49689,64572,79314,94000,108667,123334,137999,152662,167328,181992,196655,211312,225964,239615]
["DFES 2023 - NPg Best View",{"$f":"ROUND(SUM(B162,B173),0)","v":7064},7820,8692,9542,10562,12595,14761,16837,18744,20552,22347,24167,26006,27762,43059,58349,73449,88433,102871,117161,130864,144563,158277,172030,185775,199514,213243,226963,240675]
["NPg ED2 Planning Scenario - needs updating to old",{"$f":"ROUND(SUM(B163,B174),0)","v":7064},7820,8692,9542,10562,12595,14761,16837,18744,20552,22347,24167,26006,27762,43059,58349,73449,88433,102871,117161,130864,144563,158277,172030,185775,199514,213243,226963,240675]
["DFES 2023 - Falling Short",{"$f":"ROUND(SUM(B164,B175),0)","v":7064},7839,8769,9326,9973,11072,12335,13553,14660,15665,16660,17710,18751,20462,21977,23947,25251,26411,27382,28295,29189,30057,30903,31738,32578,33419,34261,35099,35304]
[]
["No. of I&C HPs - NPgN",2022,2023,2024,2025,2026,2027,2028,2029,2030,2031,2032,2033,2034,2035,2036,2037,2038,2039,2040,2041,2042,2043,2044,2045,2046,2047,2048,2049,2050]
["DFES 2023 - Consumer Transformation",{"$f":"ROUND(SUM(B190,B224),0)","v":2911},3224,3585,3932,4352,5192,6088,6947,7733,8481,9223,9975,10734,11461,17753,24041,30252,36415,42350,48223,53856,59488,65126,70779,76429,82077,87720,93360,98997]
["DFES 2023 - System Transformation",{"$f":"ROUND(SUM(B191,B225),0)","v":2911},3123,3566,3835,4125,4588,5122,5652,6343,6998,7653,8325,9004,9688,15495,21421,27116,32765,38359,43945,49527,55089,60627,65951,71271,76587,81894,87193,92483]
["DFES 2023 - Leading The Way",{"$f":"ROUND(SUM(B192,B226),0)","v":2911},3224,3585,4181,4839,5679,6576,7434,8221,14582,20936,27298,33665,39999,46290,52577,58787,64950,70634,76267,81900,87531,93168,98821,98857,98892,98925,98956,98997]
["CCC 2020 - Balanced Net Zero",{"$f":"ROUND(SUM(B193,B227),0)","v":3099},3576,4137,4795,5514,6302,7130,8565,10314,12380,14305,16408,18684,21050,23515,26203,29336,32927,36860,40899,45026,49170,53354,57570,61814,65945,69910,72973,74692]
["CT 2023 Policy Sensitivity",{"$f":"ROUND(SUM(B194,B228),0)","v":2911},3277,3708,3922,4159,4582,5067,5524,5928,6294,6659,7042,7427,7832,14079,20469,26590,32652,38690,44721,50751,56781,62810,68840,74869,80898,86924,92948,98560]
["BV 2023 Policy Sensitivity",{"$f":"ROUND(SUM(B195,B229),0)","v":2911},3277,3708,3922,4159,4582,5067,5524,5928,6294,6659,7042,7427,7832,14079,20469,26590,32652,38690,44721,50751,56781,62810,68840,74869,80898,86924,92948,98560]
["DFES 2023 - NPg Best View",{"$f":"ROUND(SUM(B196,B230),0)","v":2911},3224,3585,3932,4352,5192,6088,6947,7733,8481,9223,9975,10734,11461,17753,24041,30252,36415,42350,48223,53856,59488,65126,70779,76429,82077,87720,93360,98997]
["NPg ED2 Planning Scenario - needs updating to old",{"$f":"ROUND(SUM(B197,B231),0)","v":2911},3224,3585,3932,4352,5192,6088,6947,7733,8481,9223,9975,10734,11461,17753,24041,30252,36415,42350,48223,53856,59488,65126,70779,76429,82077,87720,93360,98997]
["DFES 2023 - Falling Short",{"$f":"ROUND(SUM(B198,B232),0)","v":2911},3234,3625,3851,4114,4570,5095,5601,6058,6475,6888,7323,7754,8458,9082,9895,10433,10907,11307,11683,12051,12408,12756,13100,13445,13791,14137,14482,14566]
[]
["No. of I&C HPs - NPgY",2022,2023,2024,2025,2026,2027,2028,2029,2030,2031,2032,2033,2034,2035,2036,2037,2038,2039,2040,2041,2042,2043,2044,2045,2046,2047,2048,2049,2050]
["DFES 2023 - Consumer Transformation",{"$f":"ROUND(SUM(B201,B235),0)","v":4153},4596,5107,5610,6210,7403,8673,9890,11011,12071,13124,14192,15272,16301,25306,34308,43197,52018,60521,68938,77008,85075,93151,101251,109346,117437,125523,133603,141678]
["DFES 2023 - System Transformation",{"$f":"ROUND(SUM(B202,B236),0)","v":4153},4429,5050,5441,5859,6509,7257,8000,8980,9906,10831,11780,12743,13712,21998,30450,38573,46632,54614,62583,70548,78486,86389,93987,101579,109165,116738,124299,131849]
["DFES 2023 - Leading The Way",{"$f":"ROUND(SUM(B203,B237),0)","v":4153},4596,5107,5970,6918,8110,9380,10597,11718,20819,29911,39016,48129,57191,66194,75194,84080,92901,101041,109111,117179,125245,133321,141419,141473,141524,141573,141618,141678]
["CCC 2020 - Balanced Net Zero",{"$f":"ROUND(SUM(B204,B238),0)","v":4660},5289,6016,6856,7776,8790,9863,11478,13445,15766,18087,20623,23366,26219,29191,33364,38234,43819,49036,54373,59812,65262,70765,76302,81874,87309,92544,96541,98729]
["CT 2023 Policy Sensitivity",{"$f":"ROUND(SUM(B205,B239),0)","v":4153},4669,5276,5591,5937,6534,7216,7860,8435,8952,9467,10008,10554,11134,20080,29220,37982,46662,55310,63946,72583,81218,89852,98488,107123,115757,124388,133016,141055]
["BV 2023 Policy Sensitivity",{"$f":"ROUND(SUM(B206,B240),0)","v":4153},4669,5276,5591,5937,6534,7216,7860,8435,8952,9467,10008,10554,11134,20080,29220,37982,46662,55310,63946,72583,81218,89852,98488,107123,115757,124388,133016,141055]
["DFES 2023 - NPg Best View",{"$f":"ROUND(SUM(B207,B241),0)","v":4153},4596,5107,5610,6210,7403,8673,9890,11011,12071,13124,14192,15272,16301,25306,34308,43197,52018,60521,68938,77008,85075,93151,101251,109346,117437,125523,133603,141678]
["NPg ED2 Planning Scenario - needs updating to old",{"$f":"ROUND(SUM(B208,B242),0)","v":4153},4596,5107,5610,6210,7403,8673,9890,11011,12071,13124,14192,15272,16301,25306,34308,43197,52018,60521,68938,77008,85075,93151,101251,109346,117437,125523,133603,141678]
["DFES 2023 - Falling Short",{"$f":"ROUND(SUM(B209,B243),0)","v":4153},4605,5144,5475,5859,6502,7240,7952,8602,9190,9772,10387,10997,12004,12895,14052,14818,15504,16075,16612,17138,17649,18147,18638,19133,19628,20124,20617,20738]
[]
["Full Electric I&C HP"]
["No. of Full Electric I&C HPs - NPg",2022,2023,2024,2025,2026,2027,2028,2029,2030,2031,2032,2033,2034,2035,2036,2037,2038,2039,2040,2041,2042,2043,2044,2045,2046,2047,2048,2049,2050]
["DFES 2023 - Consumer Transformation",{"$f":"ROUND(SUM(B190,B201),0)","v":7064},7820,8693,9542,10562,12595,14761,16837,18744,20552,22347,24168,26006,27762,43059,58349,73449,88434,102870,117161,130863,144562,158277,172030,185776,199514,213243,226963,240674]
["DFES 2023 - System Transformation",{"$f":"ROUND(SUM(B191,B202),0)","v":7064},7552,8616,9276,9984,11097,12379,13652,15323,15354,15424,15495,15887,16373,25132,33679,41335,48463,53885,58542,62496,65723,68956,73269,77295,83588,89602,95750,102950]
["DFES 2023 - Leading The Way",{"$f":"ROUND(SUM(B192,B203),0)","v":7064},7820,8692,10151,11757,13789,15956,18031,19939,35401,50847,66314,81795,97190,112483,127771,142867,157850,171675,185378,199079,212776,226489,240240,240330,240417,240498,240574,240674]
["CCC 2020 - Balanced Net Zero",{"$f":"ROUND(SUM(B193,B204),0)","v":6584},7230,8401,9779,11417,13195,15057,18107,21609,25684,29245,33515,37715,41909,46238,52020,58603,66029,72660,79122,86203,93858,101540,109656,118165,126504,134572,140173,143484]
["CT 2023 Policy Sensitivity",{"$f":"ROUND(SUM(B194,B205),0)","v":7064},7946,8984,9513,10096,11116,12282,13383,14363,15246,16126,17049,17981,18966,34158,49689,64573,79315,94000,108666,123334,137999,152663,167328,181992,196655,211312,225964,239615]
["BV 2023 Policy Sensitivity",{"$f":"ROUND(SUM(B195,B206),0)","v":7064},7946,8984,9513,10096,11116,12282,13383,14363,15246,16126,17049,17981,18966,34158,49689,64573,79315,94000,108666,123334,137999,152663,167328,181992,196655,211312,225964,239615]
["DFES 2023 - NPg Best View",{"$f":"ROUND(SUM(B196,B207),0)","v":7064},7820,8693,9542,10562,12595,14761,16837,18744,20552,22347,24168,26006,27762,43059,58349,73449,88434,102870,117161,130863,144562,158277,172030,185776,199514,213243,226963,240674]
["NPg ED2 Planning Scenario - needs updating to old",{"$f":"ROUND(SUM(B197,B208),0)","v":7064},7820,8693,9542,10562,12595,14761,16837,18744,20552,22347,24168,26006,27762,43059,58349,73449,88434,102870,117161,130863,144562,158277,172030,185776,199514,213243,226963,240674]
["DFES 2023 - Falling Short",{"$f":"ROUND(SUM(B198,B209),0)","v":7064},7839,8770,9325,9973,11072,12335,13553,14660,15665,16660,17710,18751,20463,21977,23947,25251,26411,27382,28296,29189,30057,30903,31738,32578,33420,34261,35100,35304]
[]
["No. of Full Electric I&C HPs - NPgN",2022,2023,2024,2025,2026,2027,2028,2029,2030,2031,2032,2033,2034,2035,2036,2037,2038,2039,2040,2041,2042,2043,2044,2045,2046,2047,2048,2049,2050]
["DFES 2023 - Consumer Transformation",2910.8081632653052,3223.640221411154,3585.4495936088274,3932.3629937283235,4351.5148023709053,5191.8754575241019,6088.3355719144602,6946.5405501163959,7733.2883723498744,8480.6827546549212,9222.9782341750688,9975.2878607156927,10733.857475479548,11460.607085906247,17752.592713540376,24040.916417097902,30252.0212608736,36415.459267743674,42349.679238432866,48222.930526929988,53855.950693768114,59487.640960104683,65125.588716535516,70778.868995483965,76429.357824088031,82076.840059826587,87720.438928526244,93360.292050400501,98996.746605790016]
["DFES 2023 - System Transformation",2910.8081632653052,3122.7017406881032,3565.9509492792959,3835.1161216501841,4124.76696800424,4587.736943726497,5121.8023109025462,5651.6924687541232,6342.5650624004811,6355.2517053827078,6385.4488312608719,6415.6459571390405,6577.7743375172358,6778.395816230819,10386.701696891529,13908.536677131398,17062.802777384411,19999.186582710136,22232.292846442069,24149.749678527074,25777.595254196593,27105.704538317423,28436.197992838541,30212.803422298191,31871.029791720994,34464.110987961787,36942.208826790113,39475.270409557786,42442.165744985316]
["DFES 2023 - Leading The Way",2910.8081632653052,3223.5900610859858,3585.1040882844582,4181.2499298242728,4839.0544750339977,5679.387912346906,6575.8143620546816,7433.9961050201327,8220.7439272536139,14581.637259845433,20935.764919188583,27298.304749032537,33665.452676235625,39999.076056235419,46289.716894444784,52576.817743335108,58786.849322290705,64949.555860364941,70633.604873222546,76267.345606827352,81899.608925383902,87530.616193984155,93167.932124566214,98820.613640649535,98857.056207595146,98892.205974089826,98925.117323809623,98955.974091664088,98996.746605790016]
["CCC 2020 - Balanced Net Zero",2629.7757012654411,2916.5413704188068,3422.9715373999802,4024.4895089519664,4743.2834374958384,5509.9222488845335,6317.6307293832542,7752.6640705381251,9380.730169044984,11296.666805181794,12914.953995419957,14850.227790917308,16757.340102779832,18662.956161084247,20629.176923082279,22883.475875624317,25442.840797293389,28329.076197154354,31180.403505762282,33965.783923700401,37022.570085293286,40329.362088110574,43648.339894593286,47156.467076564899,50834.44448555242,54434.632210635849,57911.204774477359,60342.130158117296,61797.800784776053]
["CT 2023 Policy Sensitivity",2910.8081632653098,3277.0096850469167,3708.4640797958205,3922.029325406068,4158.7852067319445,4582.2863043322823,5066.6606831128411,5523.5958315095277,5927.9211610201464,6294.2713890599707,6659.3937530207431,7041.9188854207796,7426.9994699514291,7832.2354702128623,14078.525377858201,20469.130196083068,26590.38755588908,32652.237572559741,38690.062789136049,44720.539274857918,50751.383594042665,56781.047721093135,62810.237213593005,68839.745451195675,74869.026287249726,80897.653795906881,86924.28514387802,92948.280737598179,98559.860873789628]
["BV 2023 Policy Sensitivity",2910.8081632653098,3277.0096850469167,3708.4640797958205,3922.029325406068,4158.7852067319445,4582.2863043322823,5066.6606831128411,5523.5958315095277,5927.9211610201464,6294.2713890599707,6659.3937530207431,7041.9188854207796,7426.9994699514291,7832.2354702128623,14078.525377858201,20469.130196083068,26590.38755588908,32652.237572559741,38690.062789136049,44720.539274857918,50751.383594042665,56781.047721093135,62810.237213593005,68839.745451195675,74869.026287249726,80897.653795906881,86924.28514387802,92948.280737598179,98559.860873789628]
["DFES 2023 - NPg Best View",2910.8081632653052,3223.640221411154,3585.4495936088274,3932.3629937283235,4351.5148023709053,5191.8754575241019,6088.3355719144602,6946.5405501163959,7733.2883723498744,8480.6827546549212,9222.9782341750688,9975.2878607156927,10733.857475479548,11460.607085906247,17752.592713540376,24040.916417097902,30252.0212608736,36415.459267743674,42349.679238432866,48222.930526929988,53855.950693768114,59487.640960104683,65125.588716535516,70778.868995483965,76429.357824088031,82076.840059826587,87720.438928526244,93360.292050400501,98996.746605790016]
["NPg ED2 Planning Scenario - needs updating to old",2910.8081632653052,3223.640221411154,3585.4495936088274,3932.3629937283235,4351.5148023709053,5191.8754575241019,6088.3355719144602,6946.5405501163959,7733.2883723498744,8480.6827546549212,9222.9782341750688,9975.2878607156927,10733.857475479548,11460.607085906247,17752.592713540376,24040.916417097902,30252.0212608736,36415.459267743674,42349.679238432866,48222.930526929988,53855.950693768114,59487.640960104683,65125.588716535516,70778.868995483965,76429.357824088031,82076.840059826587,87720.438928526244,93360.292050400501,98996.746605790016]
["DFES 2023 - Falling Short",2910.8081632653052,3233.9535689002519,3625.1222592750883,3850.541971141864,4113.980823536489,4570.3611196523143,5095.1134990429036,5600.6921332899719,6058.0244108197385,6474.942917845312,6887.8958760461619,7322.9835518218006,7753.5817381892293,8458.440227119183,9082.3340249169632,9895.1670212960835,10432.863800327259,10907.342923013932,11306.922267355792,11683.194367524697,12050.917734508659,12408.428251147063,12756.480909105869,13099.999176516076,13445.109322661259,13791.347898115857,14137.252542309339,14482.152968140677,14565.903654529016]
[]
["No. of Full Electric I&C HPs - NPgY",2022,2023,2024,2025,2026,2027,2028,2029,2030,2031,2032,2033,2034,2035,2036,2037,2038,2039,2040,2041,2042,2043,2044,2045,2046,2047,2048,2049,2050]
["DFES 2023 - Consumer Transformation",4153.3691275167785,4595.9998859651614,5107.1753388942434,5609.5726823661107,6210.3933787907736,7402.8353547619936,8673.0825551606085,9890.0958118620492,11011.01196297199,12071.130386879011,13124.209846315245,14192.250754362962,15271.745425880476,16301.23018602238,25306.257525245619,34308.379444895516,43196.509165162905,52018.07686435349,60520.581741339847,68938.421215419294,77007.528608225737,85074.769419438191,93151.343662031795,101250.75888822839,109346.14916654013,117437.20122979063,125522.63586084252,133602.64881953373,141677.74558791119]
["DFES 2023 - System Transformation",4153.3691275167785,4429.2202756225888,5049.662448010733,5440.882576700651,5858.9611242092897,6508.9706727628418,7257.227325004882,8000.1946765174507,8980.418004552801,8998.4148342212429,9038.661054413702,9078.9072746061611,9309.2242859973849,9594.3493361316869,14745.623281096827,19770.847900519355,24272.362466006849,28463.419857147008,31653.1958274276,34392.592212282216,36718.709806492116,38617.49461458352,40519.527526391066,43056.212718025927,45423.964562763023,49124.031459615828,52660.247392176439,56274.844918377166,60507.972820437368]
["DFES 2023 - Leading The Way",4153.3691275167785,4595.9269198975408,5106.6662492007326,5970.1796407833854,6917.5099315856514,8109.9193904358945,9380.1264735059685,10597.111956282946,11718.028107392885,20819.300960549437,29911.162028368188,39015.708059221877,48129.358420813842,57190.572636573488,66193.608105576699,75193.918264088177,84080.457167976565,92900.94038989504,101040.93947289597,109110.99919505254,117178.97823805129,125245.19817844374,133320.83048361924,141419.35941364572,141472.78519683698,141524.31524987877,141572.56801954148,141617.80672885658,141677.74558791119]
["CCC 2020 - Balanced Net Zero",3954.5825379495718,4313.6717176361444,4977.6368852622054,5754.1457821249778,6673.7899413374762,7685.1814251006253,8739.7736667839927,10354.105067443021,12228.070818317579,14387.06867518664,16329.949577348618,18664.982312354656,20957.247366694352,23245.917384030719,25608.463559982672,29136.871251769731,33160.468511218896,37699.977247375871,41479.776611562433,45156.09974245973,49180.101904310293,53528.434093936841,57891.721471185396,62499.934752145164,67330.903793509802,72069.618177251861,76660.732942740899,79830.507733343475,81686.06553988895]
["CT 2023 Policy Sensitivity",4153.3691275167785,4669.3167716735543,5275.8542610582181,5590.9318876903208,5937.1694274055817,6534.1896807892208,7215.7040073067747,7859.6896965681108,8435.3105265469094,8951.9392699791206,9466.9083951212451,10007.510522245591,10553.981086292075,11134.172356997742,20079.740831037809,29219.871382931611,37982.243223507903,46662.43676811242,55309.555659259611,63945.7331112377,72582.57356846398,81217.817846722275,89852.494576759709,98487.776204786001,107122.76989763412,115756.85008702087,124388.06556180828,133015.53381989361,141055.14468677025]
["BV 2023 Policy Sensitivity",4153.3691275167785,4669.3167716735543,5275.8542610582181,5590.9318876903208,5937.1694274055817,6534.1896807892208,7215.7040073067747,7859.6896965681108,8435.3105265469094,8951.9392699791206,9466.9083951212451,10007.510522245591,10553.981086292075,11134.172356997742,20079.740831037809,29219.871382931611,37982.243223507903,46662.43676811242,55309.555659259611,63945.7331112377,72582.57356846398,81217.817846722275,89852.494576759709,98487.776204786001,107122.76989763412,115756.85008702087,124388.06556180828,133015.53381989361,141055.14468677025]
["DFES 2023 - NPg Best View",4153.3691275167785,4595.9998859651614,5107.1753388942434,5609.5726823661107,6210.3933787907736,7402.8353547619936,8673.0825551606085,9890.0958118620492,11011.01196297199,12071.130386879011,13124.209846315245,14192.250754362962,15271.745425880476,16301.23018602238,25306.257525245619,34308.379444895516,43196.509165162905,52018.07686435349,60520.581741339847,68938.421215419294,77007.528608225737,85074.769419438191,93151.343662031795,101250.75888822839,109346.14916654013,117437.20122979063,125522.63586084252,133602.64881953373,141677.74558791119]
["NPg ED2 Planning Scenario - needs updating to old",4153.3691275167785,4595.9998859651614,5107.1753388942434,5609.5726823661107,6210.3933787907736,7402.8353547619936,8673.0825551606085,9890.0958118620492,11011.01196297199,12071.130386879011,13124.209846315245,14192.250754362962,15271.745425880476,16301.23018602238,25306.257525245619,34308.379444895516,43196.509165162905,52018.07686435349,60520.581741339847,68938.421215419294,77007.528608225737,85074.769419438191,93151.343662031795,101250.75888822839,109346.14916654013,117437.20122979063,125522.63586084252,133602.64881953373,141677.74558791119]
["DFES 2023 - Falling Short",4153.3691275167785,4604.9882831460754,5144.3976953013989,5474.9162409567789,5858.5477427058595,6501.7836432780296,7240.0631934541725,7952.4100587063595,8602.4528693795146,9190.1279170972302,9772.3001338570393,10386.748627407338,10997.115012134987,12004.178876102404,12895.13421108892,14051.810080223946,14818.133177427952,15503.66128197877,16075.210138387431,16612.343254227391,17137.661543396189,17648.73897390292,18146.678882223528,18638.465271266021,19132.565323536368,19628.298483827348,20123.540045859801,20617.367382461052,20738.346679557417]
[]
["Hybrid I&C HP"]
["No. of Hybrid I&C HPs - NPg",2022,2023,2024,2025,2026,2027,2028,2029,2030,2031,2032,2033,2034,2035,2036,2037,2038,2039,2040,2041,2042,2043,2044,2045,2046,2047,2048,2049,2050]
["DFES 2023 - Consumer Transformation",{"$f":"ROUND(SUM(B224,B235),0)","v":0},0,0,0,0,0,0,0,0,0,0,0,0,0,0,0,0,0,0,0,0,0,0,0,0,0,0,0,0]
["DFES 2023 - System Transformation",{"$f":"ROUND(SUM(B225,B236),0)","v":0},0,0,0,0,0,0,0,0,1551,3060,4610,5860,7027,12360,18191,24354,30934,39088,47986,57578,67852,78060,86669,95555,102163,109030,115742,121382]
["DFES 2023 - Leading The Way",{"$f":"ROUND(SUM(B226,B237),0)","v":0},0,0,0,0,0,0,0,0,0,0,0,0,0,0,0,0,0,0,0,0,0,0,0,0,0,0,0,0]
["CCC 2020 - Balanced Net Zero",{"$f":"ROUND(SUM(B227,B238),0)","v":1175},1635,1752,1873,1873,1898,1936,1936,2150,2462,3147,3516,4335,5360,6469,7547,8967,10717,13236,16150,18635,20574,22579,24216,25523,26750,27882,29341,29937]
["CT 2023 Policy Sensitivity",{"$f":"ROUND(SUM(B228,B239),0)","v":0},0,0,0,0,0,0,0,0,0,0,0,0,0,0,0,0,0,0,0,0,0,0,0,0,0,0,0,0]
["BV 2023 Policy Sensitivity",{"$f":"ROUND(SUM(B229,B240),0)","v":0},0,0,0,0,0,0,0,0,0,0,0,0,0,0,0,0,0,0,0,0,0,0,0,0,0,0,0,0]
["DFES 2023 - NPg Best View",{"$f":"ROUND(SUM(B230,B241),0)","v":0},0,0,0,0,0,0,0,0,0,0,0,0,0,0,0,0,0,0,0,0,0,0,0,0,0,0,0,0]
["NPg ED2 Planning Scenario - needs updating to old",{"$f":"ROUND(SUM(B231,B242),0)","v":0},0,0,0,0,0,0,0,0,0,0,0,0,0,0,0,0,0,0,0,0,0,0,0,0,0,0,0,0]
["DFES 2023 - Falling Short",{"$f":"ROUND(SUM(B232,B243),0)","v":0},0,0,0,0,0,0,0,0,0,0,0,0,0,0,0,0,0,0,0,0,0,0,0,0,0,0,0,0]
[]
["No. of Hybrid I&C HPs - NPgN",2022,2023,2024,2025,2026,2027,2028,2029,2030,2031,2032,2033,2034,2035,2036,2037,2038,2039,2040,2041,2042,2043,2044,2045,2046,2047,2048,2049,2050]
["DFES 2023 - Consumer Transformation",0,0,0,0,0,0,0,0,0,0,0,0,0,0,0,0,0,0,0,0,0,0,0,0,0,0,0,0,0]
["DFES 2023 - System Transformation",0,0,0,0,0,0,0,0,0,643.12379792680485,1267.4449849595899,1908.924411567891,2426.2282392481611,2909.1827537471322,5108.2139492909155,7512.3269089444266,10052.925203236038,12765.438244283065,16127.051805709274,19794.87678567793,23749.032095996863,27983.622094214345,32190.50370651991,35738.184240315,39400.293205604074,42122.802318619964,44951.80277596142,47717.359835729199,50040.981446052559]
["DFES 2023 - Leading The Way",0,0,0,0,0,0,0,0,0,0,0,0,0,0,0,0,0,0,0,0,0,0,0,0,0,0,0,0,0]
["CCC 2020 - Balanced Net Zero",469.09235202560848,659.47861995860376,714.02674018711105,770.98702521163636,770.98702521163636,792.45227476689604,812.09176232953052,812.09176232953052,933.34721455603687,1082.9733297565415,1389.6878680370803,1557.9229909106423,1926.2524514581949,2386.8528275136632,2885.9818452706609,3319.9547534633916,3892.8421855476186,4597.975185828519,5679.9075260034324,6932.7493636805657,8003.3886134811801,8840.4740508129489,9705.9290231833129,10413.612689045105,10979.777209635327,11510.408393587422,11998.552405457336,12631.010932320414,12893.719262241639]
["CT 2023 Policy Sensitivity",0,0,0,0,0,0,0,0,0,0,0,0,0,0,0,0,0,0,0,0,0,0,0,0,0,0,0,0,0]
["BV 2023 Policy Sensitivity",0,0,0,0,0,0,0,0,0,0,0,0,0,0,0,0,0,0,0,0,0,0,0,0,0,0,0,0,0]
["DFES 2023 - NPg Best View",0,0,0,0,0,0,0,0,0,0,0,0,0,0,0,0,0,0,0,0,0,0,0,0,0,0,0,0,0]
["NPg ED2 Planning Scenario - needs updating to old",0,0,0,0,0,0,0,0,0,0,0,0,0,0,0,0,0,0,0,0,0,0,0,0,0,0,0,0,0]
["DFES 2023 - Falling Short",0,0,0,0,0,0,0,0,0,0,0,0,0,0,0,0,0,0,0,0,0,0,0,0,0,0,0,0,0]
[]
["No. of Hybrid I&C HPs - NPgY",2022,2023,2024,2025,2026,2027,2028,2029,2030,2031,2032,2033,2034,2035,2036,2037,2038,2039,2040,2041,2042,2043,2044,2045,2046,2047,2048,2049,2050]
["DFES 2023 - Consumer Transformation",0,0,0,0,0,0,0,0,0,0,0,0,0,0,0,0,0,0,0,0,0,0,0,0,0,0,0,0,0]
["DFES 2023 - System Transformation",0,0,0,0,0,0,0,0,0,908.04612606021556,1792.1860467195452,2701.3566276318461,3433.7302694252644,4117.7464961938567,7251.9458759492582,10678.69871170027,14300.595720418047,18168.140334349158,22960.867439584788,28190.649354329678,33829.137633620368,39868.26367092631,45869.141906847639,50930.42314872866,56154.995117187573,60040.482895086017,64077.734658621775,68024.537813422954,71341.27799789561]
["DFES 2023 - Leading The Way",0,0,0,0,0,0,0,0,0,0,0,0,0,0,0,0,0,0,0,0,0,0,0,0,0,0,0,0,0]
["CCC 2020 - Balanced Net Zero",705.40785022597652,975.39308036376099,1038.3276051773919,1102.3439691733508,1102.3439691733506,1105.3040727662203,1123.4430284773409,1123.4430284773412,1216.646852857147,1379.2397294975519,1757.1516570129825,1958.1251869511962,2409.0308407128455,2972.9793692554704,3582.5743894169277,4227.2028401246816,5073.6657805416444,6118.9273763592164,7556.0694815708339,9216.8024874406619,10631.554391929054,11733.801579956256,12873.180079383148,13801.926945517074,14542.862235589824,15239.392723002482,15883.244447016386,16710.381507420279,17043.279588160767]
["CT 2023 Policy Sensitivity",0,0,0,0,0,0,0,0,0,0,0,0,0,0,0,0,0,0,0,0,0,0,0,0,0,0,0,0,0]
["BV 2023 Policy Sensitivity",0,0,0,0,0,0,0,0,0,0,0,0,0,0,0,0,0,0,0,0,0,0,0,0,0,0,0,0,0]
["DFES 2023 - NPg Best View",0,0,0,0,0,0,0,0,0,0,0,0,0,0,0,0,0,0,0,0,0,0,0,0,0,0,0,0,0]
["NPg ED2 Planning Scenario - needs updating to old",0,0,0,0,0,0,0,0,0,0,0,0,0,0,0,0,0,0,0,0,0,0,0,0,0,0,0,0,0]
["DFES 2023 - Falling Short",0,0,0,0,0,0,0,0,0,0,0,0,0,0,0,0,0,0,0,0,0,0,0,0,0,0,0,0,0]

{"sheet":"Energy Consumed (Core_LCT_HGV)","index":13,"n_rows":98,"n_cols":33,"rows_kept":98,"cut":false,"hidden":false,"merged":[]}
["Gross Demand Consumption MWh - NPg",2022,2023,2024,2025,2026,2027,2028,2029,2030,2031,2032,2033,2034,2035,2036,2037,2038,2039,2040,2041,2042,2043,2044,2045,2046,2047,2048,2049,2050,"Parameter","Licence","CHOSEN"]
["DFES 2023 - Consumer Transformation",34347338.334894165,34846445.634471558,35575350.394470468,36366462.294029862,37266786.777300991,38268137.658112645,39096199.092389047,39971255.07044252,41094620.380212165,42246538.646940328,43340510.165583365,44415294.154229611,45470762.883068904,47055108.794381142,48995413.417872235,50865504.988945223,52627640.540280186,54264555.255661488,55693978.362420946,56921995.14515546,57989381.310874507,59199231.968023121,60364969.033523977,61474327.314097956,62519328.121250957,63536482.604116164,64535708.289269611,65521870.795556426,66305972.542484805,"Gross Demand Consumption MWh","NPg"]
["DFES 2023 - System Transformation",34340895.590418987,34890657.026072584,35689225.14692229,36444705.655038849,37194479.35018608,37990471.837494269,38842258.771034002,39773909.398877874,40829109.561918996,41901135.658169784,42957876.404583097,44014525.535597667,45066088.290796041,46688382.879505053,47980682.832659863,49227082.358325079,50419099.712225735,51558514.17764882,52628352.039435878,53608805.207217798,54543160.163825423,55456814.786784679,56373796.824639291,57316068.154873371,58273631.795201406,59265593.622387946,60287432.098455369,61349485.322136879,62401021.922541663,"Gross Demand Consumption MWh","NPg"]
["DFES 2023 - Leading The Way",34347338.334894165,34848537.984918825,35584500.986547321,36423131.88713374,37415218.392087318,38516352.729198277,39396814.232043579,40329188.811235994,41714025.76817213,44004872.92900598,46216385.725868031,48361143.626333132,50404250.45278962,52720960.661171764,54493484.387062892,56149486.969566956,57669388.320407644,59040347.82053189,60167247.61656221,61110764.439933583,61930030.082038447,62929411.958593599,63919873.676134974,64684021.082209319,64631130.913976334,64570687.836883284,64510087.045332104,64448902.118461244,64391681.110946357,"Gross Demand Consumption MWh","NPg"]
["CCC 2020 - Balanced Net Zero",33913753.608040057,34050052.486927211,34249931.589219064,34692696.485218421,35364427.343175158,36262501.575163096,37400094.393247239,38798061.13187436,40544799.547880955,42353664.188817605,44165212.695054986,46041723.088650256,47922582.266788647,50122448.129283756,52021356.240340292,53857509.10800498,55653457.116736069,57388291.076504543,58967903.764942661,60431628.447413832,61740665.151686996,62894687.167094976,63901184.54309617,64734346.554592445,65468613.022028103,66202918.839019962,66919685.755040318,67152769.466349289,67270646.030894488,"Gross Demand Consumption MWh","NPg"]
["CT 2023 Policy Sensitivity",34336942.825930759,35018150.859177999,35799285.838024504,36498068.491227359,37174387.750328377,37891100.44544106,38759542.348055586,39754145.306196779,40883762.751216665,42044375.655615486,43177915.121361613,44319289.733280167,45478284.149941392,47129252.574569069,49334607.924998365,51475514.606323741,53494279.047051191,55399678.043640621,57226292.827281937,58962265.82648392,60600542.01000648,62217822.394914716,63776030.516060829,65277488.681266829,66717456.499466464,68127913.169810176,69517198.959816173,70890027.904175997,72203596.367822573,"Gross Demand Consumption MWh","NPg"]
["BV 2023 Policy Sensitivity",34336942.825930759,35030552.609930918,35829282.088330925,36553917.160167672,37271260.137803644,38046436.29267624,38993513.261527874,40089121.693180382,41340748.278744832,42635653.083047546,43897059.926873937,45138106.134650595,46344923.834801123,47982044.82247182,50118610.546874501,52151771.097116344,54040451.317782491,55807233.28448534,57497526.082830928,59108359.264753282,60639412.753926113,62170837.221545361,63664977.43357949,65121393.365323737,66530878.277321741,67920963.809587196,69296536.573760018,70659948.063403904,71966871.971043438,"Gross Demand Consumption MWh","NPg"]
["DFES 2023 - NPg Best View",34347338.334894165,34846730.996477492,35571711.636246711,36356230.065940544,37280595.178130761,38326496.79412917,39190784.511322185,40130209.270195521,41308332.281050786,42511301.362329423,43658304.630142272,44766530.181959361,45804975.945912234,47316295.410442546,49132113.704358026,50844205.374050543,52428080.371880859,53878746.931837112,55125680.404198393,56196114.112384237,57125289.050649449,58219092.196424484,59289125.901940688,60323966.954260908,61319117.927401021,62295509.385134973,63261258.787492506,64216467.271297708,64972687.525916189,"Gross Demand Consumption MWh","NPg"]
["NPg Planning Scenario - DFES 2022",33821645.328433044,34030058.863908745,34311080.298014194,34763482.435440943,35451666.856894828,36421952.276647456,37712933.532824256,39280872.440081015,41374972.293911472,43293666.631604388,45188121.744419932,47206815.451953635,49228640.70593708,51851619.316658303,54087702.236130178,56034179.420218073,57910487.800341249,59657841.840393677,61247894.254010692,62635931.594616994,63865169.547668003,64919047.01916796,65805650.754831821,66556818.413567021,67196822.735393733,67831460.330006301,68436632.818416178,68548221.587162301,68578012.916971669,"Gross Demand Consumption MWh","NPg"]
["DFES 2023 - Falling Short",34336942.825930759,34911379.520305812,35499818.412492275,36029720.175214916,36488041.277275071,37036318.105675362,37717254.710876442,38530383.154434979,39391592.978551544,40242121.511560999,41073494.273524866,41898007.398414239,42700804.371728331,43923345.174168572,44706420.483528644,45498126.309069797,46261363.892621666,47007480.264509909,47713393.339761585,48357349.006239019,48940055.842772983,49453865.019533858,49902620.104929581,50290239.067550719,50611702.256367624,50891595.807506323,51140556.464157194,51364658.686681345,51552910.889642134,"Gross Demand Consumption MWh","NPg"]
[]
["Gross Demand Consumption MWh - NPgN",2022,2023,2024,2025,2026,2027,2028,2029,2030,2031,2032,2033,2034,2035,2036,2037,2038,2039,2040,2041,2042,2043,2044,2045,2046,2047,2048,2049,2050,"Gross Demand Consumption MWh"]
["DFES 2023 - Consumer Transformation",13603212.176375277,13645849.118019449,13961176.429336926,14295733.967245275,14667181.520589849,15039683.077870429,15361273.036265995,15678035.501720142,16087431.988954986,16503785.520232929,16892505.551608853,17268905.101775214,17633235.475459214,18104473.237185985,18794043.901181918,19460416.823883392,20088460.028148513,20672837.685913015,21182145.412031192,21618872.929135364,21999916.388511635,22426240.459776405,22857176.021916326,23270409.547010038,23662129.903544888,24044962.950938195,24422006.204822939,24794555.213031139,25087185.416322313,"Gross Demand Consumption MWh","NPgN"]
["DFES 2023 - System Transformation",13603729.264816811,13666098.663259286,14005291.680798229,14313899.000784177,14612241.168690516,14888791.808673218,15194797.719778582,15527928.552994929,15908221.12893625,16291027.864534935,16663838.628500748,17032763.206177197,17396201.101742145,17900163.146158099,18374935.799045645,18812875.641496956,19228497.683843508,19626350.472088609,20003011.679436337,20350776.311742153,20686251.466203429,21015668.273706708,21350987.621279817,21700058.289308909,22058547.204356149,22431973.0175707,22818675.260910492,23222294.765997279,23621944.128953595,"Gross Demand Consumption MWh","NPgN"]
["DFES 2023 - Leading The Way",13603212.176375277,13652080.855686506,13978324.374888089,14350100.333496602,14780597.705407364,15214918.776745632,15562504.244051674,15889840.553306829,16392506.97636015,17245029.898725621,18057874.734081127,18836905.573325001,19571363.401726585,20325091.212237112,20955417.111616824,21546824.76843372,22088922.559409924,22575218.956235375,22960960.832595199,23273742.423713829,23541864.133930754,23880111.807187095,24248196.228959654,24529284.084837954,24495552.117689952,24459512.984786741,24423841.667401139,24388233.661929578,24358992.352433708,"Gross Demand Consumption MWh","NPgN"]
["CCC 2020 - Balanced Net Zero",13184448.811329657,13191211.797257533,13256510.085445568,13417624.636419088,13667018.028570399,14007199.388395738,14443771.319113923,15032761.996399716,15661145.435365288,16366639.938562242,17059432.871151287,17805880.406031054,18556419.350616358,19329449.500912081,20073458.419975422,20788982.466402531,21487134.951602552,22165408.489086896,22778257.97531246,23352133.93536377,23856283.820762184,24308047.769926209,24698828.867790062,25028577.617790818,25322801.650875453,25611539.956634268,25898676.183238342,25987884.181478661,26032344.442009993,"Gross Demand Consumption MWh","NPgN"]
["CT 2023 Policy Sensitivity",13604941.2368325,13716969.011800157,14053169.896849273,14345313.672572484,14623242.585517719,14877570.977781381,15193363.440804409,15552219.09185419,15960681.157811416,16376405.707187835,16776566.681965418,17174900.704855137,17573862.67198706,18071679.377871171,18866998.938049603,19641019.422402062,20366979.709550925,21051599.94104097,21710820.034597415,22338986.459497195,22934716.403180838,23528690.950301815,24110323.813032579,24675151.82286552,25218747.843074597,25752750.577927083,26279697.264358487,26800794.714278765,27297548.851118021,"Gross Demand Consumption MWh","NPgN"]
["BV 2023 Policy Sensitivity",13604941.2368325,13720933.67156015,14062614.807700913,14362637.627396068,14652805.026382124,14924367.012576703,15263162.709777677,15651442.130413741,16095316.689231506,16549871.664602892,16986853.658582166,17413759.20750545,17826298.484199267,18319932.129130203,19095264.710847538,19838079.770000402,20526372.515401468,21170812.47237822,21790439.656978846,22382169.018528391,22946598.815727878,23515412.563618153,24078155.436648451,24629579.900315877,25163983.807046548,25691737.374875169,26214398.141281851,26732503.878214657,27227126.219505128,"Gross Demand Consumption MWh","NPgN"]
["DFES 2023 - NPg Best View",13603212.176375277,13646362.698518058,13959234.295066793,14288285.496381566,14664136.514501873,15048344.407746151,15376448.02924622,15708355.448110705,16126997.050081192,16549846.817702385,16946288.46211775,17325490.52309788,17678162.097820181,18122185.573656999,18770065.03521657,19385649.343469799,19957251.364734881,20482887.566605374,20934611.498622276,21322259.270181656,21659926.786477212,22049324.817869965,22449042.498934399,22837386.485912055,23212367.708909068,23581005.156982258,23946061.026872829,24307225.823782887,24589448.495391984,"Gross Demand Consumption MWh","NPgN"]
["NPg Planning Scenario - DFES 2022",13154578.57267314,13203212.598058952,13316639.829178931,13500093.710633393,13768287.878607962,14143003.327092165,14640611.67967039,15292663.253361315,16049353.486618359,16790234.695322424,17504012.323779438,18291830.532706127,19080722.62199356,20002711.996877931,20860963.752432175,21601336.540772654,22313809.654041637,22980426.499316037,23582653.33292076,24118338.412679531,24589650.347408444,25000499.32878853,25342598.438370299,25640934.449398149,25898389.394254342,26147804.129582223,26390618.972195454,26431405.0252316,26441024.939547729,"Gross Demand Consumption MWh","NPgN"]
["DFES 2023 - Falling Short",13604941.236832498,13675083.554116668,13931556.698373871,14153787.135886632,14338586.462264951,14536907.955564292,14789771.756303361,15083923.688182719,15394506.660822894,15699696.927318193,15993551.945101636,16282024.820521722,16553875.860548196,16896017.116001789,17147049.659196857,17399493.597954113,17644059.385955732,17882796.897103287,18107464.939843029,18311174.844737485,18495166.502619639,18657056.99207544,18798457.741580702,18920735.389792316,19021500.137226511,19109640.736012675,19188470.483161349,19259096.396365151,19316194.082358856,"Gross Demand Consumption MWh","NPgN"]
[]
["Gross Demand Consumption MWh - NPgY",2022,2023,2024,2025,2026,2027,2028,2029,2030,2031,2032,2033,2034,2035,2036,2037,2038,2039,2040,2041,2042,2043,2044,2045,2046,2047,2048,2049,2050,"Gross Demand Consumption MWh","NPgY"]
["DFES 2023 - Consumer Transformation",20744126.158518888,21200596.516452108,21614173.965133544,22070728.326784585,22599605.25671114,23228454.580242213,23734926.056123056,24293219.568722378,25007188.391257178,25742753.126707401,26448004.613974512,27146389.052454393,27837527.407609686,28950635.557195161,30201369.516690318,31405088.165061831,32539180.512131672,33591717.569748476,34511832.95038975,35303122.216020092,35989464.922362871,36772991.50824672,37507793.011607647,38203917.767087914,38857198.217706069,39491519.653177969,40113702.084446669,40727315.582525283,41218787.126162492,"Gross Demand Consumption MWh","NPgY"]
["DFES 2023 - System Transformation",20737166.325602174,21224558.362813298,21683933.466124058,22130806.654254667,22582238.181495562,23101680.028821051,23647461.051255424,24245980.845882941,24920888.432982747,25610107.793634847,26294037.776082348,26981762.32942047,27669887.189053893,28788219.733346958,29605747.033614218,30414206.716828119,31190602.028382231,31932163.705560211,32625340.359999537,33258028.895475645,33856908.697621994,34441146.513077967,35022809.203359477,35616009.865564458,36215084.590845257,36833620.604817241,37468756.837544881,38127190.556139603,38779077.793588072,"Gross Demand Consumption MWh","NPgY"]
["DFES 2023 - Leading The Way",20744126.158518888,21196457.129232317,21606176.611659233,22073031.553637139,22634620.686679956,23301433.952452641,23834309.987991907,24439348.257929165,25321518.79181198,26759843.030280355,28158510.991786905,29524238.053008135,30832887.051063038,32395869.448934652,33538067.275446065,34602662.201133236,35580465.76099772,36465128.864296518,37206286.783967011,37837022.016219757,38388165.948107697,39049300.151406504,39671677.447175324,40154736.997371361,40135578.796286382,40111174.852096543,40086245.377930969,40060668.456531666,40032688.758512653,"Gross Demand Consumption MWh","NPgY"]
["CCC 2020 - Balanced Net Zero",20729304.796710398,20858840.68966968,20993421.503773492,21275071.848799333,21697409.314604755,22255302.186767362,22956323.074133314,23765299.135474645,24883654.112515669,25987024.250255365,27105779.823903698,28235842.682619199,29366162.916172288,30792998.628371675,31947897.820364866,33068526.641602449,34166322.165133521,35222882.587417647,36189645.789630204,37079494.512050062,37884381.330924809,38586639.39716877,39202355.675306104,39705768.936801627,40145811.371152654,40591378.882385693,41021009.571801975,41164885.284870625,41238301.588884488,"Gross Demand Consumption MWh","NPgY"]
["CT 2023 Policy Sensitivity",20732001.589098264,21301181.847377844,21746115.941175234,22152754.818654872,22551145.164810654,23013529.467659678,23566178.907251179,24201926.214342587,24923081.59340525,25667969.948427651,26401348.439396195,27144389.02842503,27904421.477954332,29057573.196697898,30467608.986948762,31834495.18392168,33127299.337500263,34348078.102599651,35515472.792684525,36623279.366986722,37665825.606825642,38689131.444612905,39665706.703028247,40602336.858401306,41498708.656391867,42375162.591883086,43237501.695457689,44089233.189897232,44906047.516704552,"Gross Demand Consumption MWh","NPgY"]
["BV 2023 Policy Sensitivity",20732001.589098264,21309618.938370772,21766667.280630011,22191279.532771606,22618455.111421522,23122069.280099533,23730350.551750198,24437679.562766638,25245431.589513324,26085781.418444652,26910206.268291768,27724346.927145146,28518625.350601856,29662112.693341617,31023345.836026963,32313691.327115942,33514078.80238102,34636420.812107123,35707086.425852083,36726190.246224888,37692813.938198231,38655424.657927208,39586821.996931039,40491813.465007864,41366894.470275193,42229226.43471203,43082138.432478167,43927444.185189255,44739745.751538314,"Gross Demand Consumption MWh","NPgY"]
["DFES 2023 - NPg Best View",20667066.755759902,20826846.265849795,20994440.468835264,21263388.724807553,21683378.978286866,22278948.949555289,23072321.853153866,23988209.186719701,25325618.80729311,26503431.93628196,27684109.420640495,28914984.919247512,30147918.08394352,31848907.319780372,33226738.483697999,34432842.879445419,35596678.146299608,36677415.341077641,37665240.921089932,38517593.181937464,39275519.200259559,39918547.690379433,40463052.316461526,40915883.964168876,41298433.341139384,41683656.200424083,42046013.846220717,42116816.561930701,42136987.977423936,"Gross Demand Consumption MWh","NPgY"]
["NPg Planning Scenario - DFES 2022",20744126.158518888,21200368.297959436,21612477.341179918,22067944.569558974,22616458.663628891,23278152.386383019,23814336.482075967,24421853.822084818,25181335.230969593,25961454.544627037,26712016.168024525,27441039.658861481,28126813.848092053,29194109.836785547,30362048.669141456,31458556.030580748,32470829.007145975,33395859.365231734,34191068.905576117,34873854.842202581,35465362.264172234,36169767.378554516,36840083.403006293,37486580.468348853,38106750.218491949,38714504.228152715,39315197.760619678,39909241.447514817,40383239.030524202,"Gross Demand Consumption MWh","NPgY"]
["DFES 2023 - Falling Short",20732001.589098264,21236295.966189142,21568261.714118402,21875933.039328281,22149454.815010119,22499410.150111068,22927482.95457308,23446459.46625226,23997086.31772865,24542424.584242806,25079942.328423232,25615982.57789252,26146928.511180136,27027328.058166783,27559370.824331783,28098632.711115681,28617304.506665938,29124683.367406622,29605928.399918552,30046174.161501534,30444889.340153344,30796808.027458414,31104162.363348883,31369503.677758407,31590202.119141109,31781955.071493652,31952085.980995845,32105562.290316198,32236716.807283282,"Gross Demand Consumption MWh","NPgY"]
[]
["Underlying Consumption GWh- NPg",2022,2023,2024,2025,2026,2027,2028,2029,2030,2031,2032,2033,2034,2035,2036,2037,2038,2039,2040,2041,2042,2043,2044,2045,2046,2047,2048,2049,2050]
["DFES 2023 - Consumer Transformation",33717.869664315309,33951.824719902055,34147.741027852295,34195.42155482377,34087.906282281685,33980.266671020509,33869.4998128015,33769.989970843468,33712.181605297534,33642.694878341397,33557.664820996899,33478.514320090006,33405.235273264385,33737.131431232912,33619.002152484747,33505.708851797252,33397.737130626076,33295.269046674672,33197.430096666991,33103.727426701422,33013.696433730016,32926.21251620572,32841.206085342121,32758.333165522083,32677.170055288501,32597.257163347953,32518.127150491106,32439.257353764307,32373.755538554011]
["DFES 2023 - System Transformation",33709.286631821218,34011.117272102398,34276.277536940579,34398.106882321808,34369.860794860513,34346.243895747815,34323.764545052276,34316.670466521035,34356.423566653633,34387.573446486815,34407.161948192792,34436.436303408685,34475.62225080152,34917.566389445034,34944.500834983228,34988.514398684543,35040.652281689443,35098.968236419983,35160.06263865433,35220.588259411765,35279.011743412557,35333.496031561452,35383.134886663924,35426.89296700625,35465.124231144837,35499.879511939042,35531.102885834,35558.419127703324,35587.057856210224]
["DFES 2023 - Leading The Way",33701.59630563372,34083.722588519435,34421.57380988841,34610.830586835436,34644.148790639796,34676.46669955831,34704.478589077131,34742.599531797467,34821.417830924118,34887.637283989177,34937.46433465209,34992.384267158348,35052.473805206864,35531.259284018619,35601.312947279839,35674.765925408406,35752.636203336006,35835.208042925355,35921.984006735001,36012.322685432497,36105.814093434128,36201.736026591389,36299.945216838896,36400.009141286551,36501.477511499419,36604.049866560104,36706.912926227014,36809.853065928968,36912.956923886435]
["CCC 2020 - Balanced Net Zero",33717.869664315309,33944.494823446512,34133.082266342193,34173.330518379524,34059.605466185269,33946.589602024207,33831.47894427237,33728.88598546078,33650.697656674594,33513.624589064741,33364.896046768372,33224.041448282122,33090.310424684481,33376.734181968895,33255.916075526846,33140.317405144822,33030.885586598488,32928.249997909938,32833.758264411437,32745.405228359989,32661.299093309488,32576.236790199255,32489.807887266019,32419.014477289544,32391.068571436026,32364.224468976518,32338.018786544661,32311.890570230276,32284.423327181801]
["CT 2023 Policy Sensitivity",33194.073715093196,33010.990455151245,32769.565429624112,32523.030712248001,32297.014088164775,32117.482468726441,31944.051264114329,31768.653361080993,31626.941449091177,31618.328346471782,31610.704570006088,31599.839417526622,31586.704087967126,31838.173834830719,31837.551574962552,31848.543341149474,31865.666969296846,31877.583294534572,31895.465139614666,31922.173974948837,31948.628054496476,31976.09814487306,32004.851748113724,32034.945965327694,32065.380373446587,32104.566851247382,32157.393993073845,32211.740248836846,32289.378937441586]
["BV 2023 Policy Sensitivity",33701.59630563372,34074.811071883407,34411.953416364864,34609.500514553452,34649.64908486334,34685.879477622279,34714.028795183032,34751.256197866169,34829.131590486249,34894.722720818041,34943.975622137281,34998.366314856597,35057.844415190128,35528.507414071755,35550.941688699291,35574.309334344332,35601.486669541911,35632.548477599048,35661.289539236132,35686.947317113772,35711.379852114602,35745.258814833833,35784.147328796345,35824.495627880737,35866.125047837653,35908.627861317305,35951.247669588462,35993.841112900904,36038.467435428043]
["DFES 2023 - NPg Best View",33701.59630563372,34074.811071883407,34411.953416364864,34609.500514553452,34649.64908486334,34685.879477622279,34714.028795183032,34751.256197866169,34829.131590486249,34894.722720818041,34943.975622137281,34998.366314856597,35057.844415190128,35528.507414071755,35550.941688699291,35574.309334344332,35601.486669541911,35632.548477599048,35661.289539236132,35686.947317113772,35711.379852114602,35745.258814833833,35784.147328796345,35824.495627880737,35866.125047837653,35908.627861317305,35951.247669588462,35993.841112900904,36038.467435428043]
["NPg ED2 Planning Scenario - needs updating to old (No HGVs)",33717.869664315309,33951.824719902055,34147.741027852295,34195.42155482377,34087.906282281685,33980.266671020509,33869.4998128015,33769.989970843468,33712.181605297534,33642.694878341397,33557.664820996899,33478.514320090006,33405.235273264385,33737.131431232912,33619.002152484747,33505.708851797252,33397.737130626076,33295.269046674672,33197.430096666991,33103.727426701422,33013.696433730016,32926.21251620572,32841.206085342121,32758.333165522083,32677.170055288501,32597.257163347953,32518.127150491106,32439.257353764307,32373.755538554011]
["DFES 2023 - Falling Short",33717.869664315309,33951.824719902055,34147.741027852295,34195.42155482377,34087.906282281685,33980.266671020509,33869.4998128015,33769.989970843468,33712.181605297534,33642.694878341397,33557.664820996899,33478.514320090006,33405.235273264385,33737.131431232912,33619.002152484747,33505.708851797252,33397.737130626076,33295.269046674672,33197.430096666991,33103.727426701422,33013.696433730016,32926.21251620572,32841.206085342121,32758.333165522083,32677.170055288501,32597.257163347953,32518.127150491106,32439.257353764307,32373.755538554011]
[]
["Heatpump Consumption GWh- NPg",2022,2023,2024,2025,2026,2027,2028,2029,2030,2031,2032,2033,2034,2035,2036,2037,2038,2039,2040,2041,2042,2043,2044,2045,2046,2047,2048,2049,2050]
["DFES 2023 - Consumer Transformation",318.06595010091308,373.31222613084395,465.31742136534012,663.45167204445227,951.32588684981363,1314.3510358151782,1433.4566725150671,1522.1258022044985,1607.4190821999023,1691.3095217488988,1775.1222344265411,1858.4061450301419,1944.4024862445369,2216.8187477902798,3369.4932968689081,4517.3796386005197,5634.7082906729283,6709.2262381821574,7674.7846216112721,8547.5896400801576,9345.3560904120222,10364.382924744254,11402.948196220108,12434.498283184899,13454.875093497258,14466.197381082971,15468.854262624058,16463.334528434669,17244.654774755028]
["DFES 2023 - System Transformation",320.20623811982108,356.86733539260479,428.16860587442642,497.04839701167646,576.98721917162675,668.91130011129962,746.39465984400545,827.40604736329237,924.79246310985945,1010.8907750279404,1096.3978566725164,1180.4958484240658,1269.1929791437158,1560.2144867759826,2005.6020691431086,2444.9602466127549,2899.2671149370585,3377.6069385551896,3874.4792693963982,4383.9708240998752,4930.9848599010356,5535.4782802909276,6207.8071290876787,6958.1692781546999,7781.786103205498,8664.6524186306742,9591.8010874094507,10570.861071083491,11543.891958407617]
["DFES 2023 - Leading The Way",323.94379981909492,363.64669574165566,390.39530568430803,435.82743598835066,486.9690410207395,550.28801276469653,618.65053257160309,687.91439889882088,756.4950902015986,823.65029209923853,890.95697565322519,958.56064449915846,1019.491038377735,1101.4841274352041,1184.0843099048107,1269.8483316051686,1327.4790991907366,1380.9393616671744,1431.1855995748024,1480.6491971082651,1530.0049544967594,1578.6999411492827,1626.9162353627346,1675.0476495975233,1723.4336648869992,1771.8927165844491,1820.4813994890524,1866.1858953429792,1890.7593985968406]
["CCC 2020 - Balanced Net Zero",318.06595010091308,382.44911102772204,492.76553317606164,752.44452968189489,1114.2499169027751,1537.8840398805785,1677.5072617656031,1762.2093286276611,2074.5965179441851,3313.9513777021079,4525.9721043808277,5707.4924612118039,6858.6018417018313,7981.8812477835163,9093.9500565316685,10188.052680769371,11242.867783227313,12237.846175641676,13080.023666230645,13820.562165970927,14502.494462221552,15424.678412919844,16385.094168490476,17133.871099365842,17052.989563925043,16974.408527202711,16897.790884410111,16823.136159132235,16752.980571157408]
["CT 2023 Policy Sensitivity",314.86115015305961,383.66775183128249,461.64281867730386,623.6207260299534,876.26539622193059,1207.1029300592936,1664.3432746985657,2254.0286341701853,3027.754436788663,3691.9740254610169,4387.2057363700815,5197.1589674662546,6056.8361748742655,7014.4070946330357,7914.3271616823477,8816.4616602129881,9750.671347083653,10710.179916692256,11601.32412550851,12498.053321423764,13341.600061177191,14113.563864896521,14803.895928635449,15449.961336256538,16057.772710164647,16673.756210097694,17270.409525659998,17385.339103350834,17400.818436563935]
["BV 2023 Policy Sensitivity",323.94379981909492,422.03109885593511,559.44934239806798,681.62567214179762,789.43956019807877,907.32608833925235,992.00762130361193,1080.5380453957973,1171.6644413976228,1250.6385324461614,1329.1672288432403,1407.4348344024465,1496.4225017897338,1632.2298124022195,2833.5464953933006,4028.987035385212,5172.7024152244867,6283.0764332981644,7418.4214335822999,8579.6928364631131,9737.7974851215895,10952.517442316233,12176.616401591316,13403.843447423618,14632.16580850739,15861.505421549875,17090.830726783006,18318.533335792676,19495.548231239802]
["DFES 2023 - NPg Best View",323.94379981909492,422.03109885593511,559.44934239806798,681.62567214179762,789.43956019807877,907.32608833925235,992.00762130361193,1080.5380453957973,1171.6644413976228,1250.6385324461614,1329.1672288432403,1407.4348344024465,1496.4225017897338,1632.2298124022195,2833.5464953933006,4028.987035385212,5172.7024152244867,6283.0764332981644,7418.4214335822999,8579.6928364631131,9737.7974851215895,10952.517442316233,12176.616401591316,13403.843447423618,14632.16580850739,15861.505421549875,17090.830726783006,18318.533335792676,19495.548231239802]
["NPg ED2 Planning Scenario - needs updating to old (No HGVs)",318.06595010091308,373.31222613084395,465.31742136534012,663.45167204445227,951.32588684981363,1314.3510358151782,1433.4566725150671,1522.1258022044985,1607.4190821999023,1691.3095217488988,1775.1222344265411,1858.4061450301419,1944.4024862445369,2216.8187477902798,3369.4932968689081,4517.3796386005197,5634.7082906729283,6709.2262381821574,7674.7846216112721,8547.5896400801576,9345.3560904120222,10364.382924744254,11402.948196220108,12434.498283184899,13454.875093497258,14466.197381082971,15468.854262624058,16463.334528434669,17244.654774755028]
["DFES 2023 - Falling Short",318.06595010091308,373.31222613084395,465.31742136534012,663.45167204445227,951.32588684981363,1314.3510358151782,1433.4566725150671,1522.1258022044985,1607.4190821999023,1691.3095217488988,1775.1222344265411,1858.4061450301419,1944.4024862445369,2216.8187477902798,3369.4932968689081,4517.3796386005197,5634.7082906729283,6709.2262381821574,7674.7846216112721,8547.5896400801576,9345.3560904120222,10364.382924744254,11402.948196220108,12434.498283184899,13454.875093497258,14466.197381082971,15468.854262624058,16463.334528434669,17244.654774755028]
[]
["EV Consumption GWh - NPg",2022,2023,2024,2025,2026,2027,2028,2029,2030,2031,2032,2033,2034,2035,2036,2037,2038,2039,2040,2041,2042,2043,2044,2045,2046,2047,2048,2049,2050]
["DFES 2023 - Consumer Transformation",275.78814262939073,461.88095469517634,861.72440681790169,1347.5870850003184,1981.8337167936177,2607.4809660803694,3263.9368225375542,3936.9535355230878,4768.3076247925273,5591.91809822911,6325.450882406788,6987.3282051509932,7577.7773005932468,8074.6776390860277,8488.3622349375655,8847.3534279042415,9159.4049078873541,9432.5961819076365,9658.5280451698181,9829.3161050519648,9966.7883549640865,10074.146798625001,10159.374229723691,10228.156234402744,10267.841898619377,10305.214694041051,10344.117943941634,10385.179638649437,10428.474249740451]
["DFES 2023 - System Transformation",275.78814262939073,463.24468483408589,884.46299465800473,1390.4310828184387,2003.952682583212,2613.1417537288562,3249.4449681538085,3898.0556980753795,4557.2642270232427,5207.1142766223156,5813.7448364671845,6372.5737020171191,6877.0075598176791,7324.1633829507664,7698.1401717928702,8032.2847680148861,8323.1543070334828,8576.3974209108037,8789.3765252541943,8952.5683065043249,9084.0040384959539,9186.7998054451891,9269.0667628958163,9335.7182870837241,9373.0646147673724,9405.0540785738976,9436.6817498309847,9467.1773605301569,9495.98071575617]
["DFES 2023 - Leading The Way",275.78814262939073,411.74546402993229,605.0993951009018,856.66972656332769,1168.2386757687955,1533.3681636922583,1997.8869818871572,2543.8249618204954,3054.7990895714479,3528.5049348528319,3966.2973259977471,4367.6114556741495,4730.1754147102092,5053.5416719673112,5320.9530489096142,5562.6538133872082,5778.2938435780588,5971.5844307957277,6138.9660031828662,6273.5878437550091,6386.9806311844777,6478.1756950969811,6552.3314970038182,6611.665475111211,6646.8177060434409,6676.0528781832963,6702.4637342920751,6727.0656276536747,6750.1269849983264]
["CCC 2020 - Balanced Net Zero",275.78814262939073,449.76456594819172,828.0893982877277,1281.5061879706798,1898.7697301481189,2510.5042548617198,3124.5513279984016,3760.9313482924886,4525.0339981029856,5265.4033861861453,5924.1005414533784,6519.7478315103162,7045.3506785768523,7483.0720072446757,7841.0598995472192,8149.7973222169576,8413.6724687567203,8639.2326172385365,8818.9968313982863,8957.3416340113909,9063.8253508193866,9140.9922003957181,9194.5841806217486,9233.8911905087862,9254.209926914169,9271.1908352828268,9290.3308282206945,9309.8559551628005,9331.9136299509573]
["CT 2023 Policy Sensitivity",351.41541318013731,558.23775586685349,864.8375800791755,1322.4540070449016,1808.3333643694357,2310.9633541002022,2839.9541264423201,3422.4464601069399,4063.850768767968,4680.4953366338978,5270.9921206692661,5820.5193929273555,6335.6929653686248,6816.4001073864156,7269.6912077895258,7682.0712822342884,8051.7347813577853,8380.9178879578194,8658.0260586204549,8882.7883990905539,9062.2005961613777,9213.0556629542189,9349.3251838528504,9407.7683714087907,9444.3364613227022,9469.9109193446857,9489.5313777170959,9507.073088598976,9486.9579078131701]
["BV 2023 Policy Sensitivity",275.78814262939073,461.88095469517634,727.31554082664854,1046.9403223707786,1489.5782138910708,1931.8558942829334,2524.2001470340201,3180.1653010633468,3876.2546514105993,4578.3982537303564,5222.5000426279512,5822.4431000626555,6380.6694099947899,6942.0343718231734,7431.5640073247496,7877.1551659509823,8284.2997511909671,8656.5893438463918,8983.3462554906546,9254.2636995851208,9487.8242410019066,9685.556409316514,9853.8262634350976,9995.8099749742414,10099.724569275599,10189.966521298791,10270.511631231901,10343.554180774405,10410.492721719404]
["DFES 2023 - NPg Best View",275.78814262939073,461.88095469517634,727.31554082664854,1046.9403223707786,1489.5782138910708,1931.8558942829334,2524.2001470340201,3180.1653010633468,3876.2546514105993,4578.3982537303564,5222.5000426279512,5822.4431000626555,6380.6694099947899,6942.0343718231734,7431.5640073247496,7877.1551659509823,8284.2997511909671,8656.5893438463918,8983.3462554906546,9254.2636995851208,9487.8242410019066,9685.556409316514,9853.8262634350976,9995.8099749742414,10099.724569275599,10189.966521298791,10270.511631231901,10343.554180774405,10410.492721719404]
["NPg ED2 Planning Scenario - needs updating to old (No HGVs)",275.78814262939073,449.76456594819172,828.0893982877277,1281.5061879706798,1898.7697301481189,2510.5042548617198,3124.5513279984016,3760.9313482924886,4525.0339981029856,5265.4033861861453,5924.1005414533784,6519.7478315103162,7045.3506785768523,7483.0720072446757,7841.0598995472192,8149.7973222169576,8413.6724687567203,8639.2326172385365,8818.9968313982863,8957.3416340113909,9063.8253508193866,9140.9922003957181,9194.5841806217486,9233.8911905087862,9254.209926914169,9271.1908352828268,9290.3308282206945,9309.8559551628005,9331.9136299509573]
["DFES 2023 - Falling Short",275.78814262939073,449.76456594819172,828.0893982877277,1281.5061879706798,1898.7697301481189,2510.5042548617198,3124.5513279984016,3760.9313482924886,4525.0339981029856,5265.4033861861453,5924.1005414533784,6519.7478315103162,7045.3506785768523,7483.0720072446757,7841.0598995472192,8149.7973222169576,8413.6724687567203,8639.2326172385365,8818.9968313982863,8957.3416340113909,9063.8253508193866,9140.9922003957181,9194.5841806217486,9233.8911905087862,9254.209926914169,9271.1908352828268,9290.3308282206945,9309.8559551628005,9331.9136299509573]
[]
["Check Gross Demand Consumption GWh - NPg",2022,2023,2024,2025,2026,2027,2028,2029,2030,2031,2032,2033,2034,2035,2036,2037,2038,2039,2040,2041,2042,2043,2044,2045,2046,2047,2048,2049,2050]
["DFES 2023 - Consumer Transformation",{"$f":"SUM(B35,B46,B57)","v":34311.723757045613},34787.017900728075,35474.782856035534,36206.460311868541,37021.06588592512,37902.09867291605,38566.893307854116,39229.069308571059,40087.908312289961,40925.9224983194,41658.237937830228,42324.248670271147,42927.415060102168,44028.62781810922,45476.857684291223,46870.441918302015,48191.85032918636,49437.091466764468,50530.742763448085,51480.633171833542,52325.840879106123,53364.742239574975,54403.52851128592,55420.987683109721,56399.887047405136,57368.669238471979,58331.099357056795,59287.771520848415,60046.884563049491]
["DFES 2023 - System Transformation",{"$f":"SUM(B36,B47,B58)","v":34305.281012570427},34831.229292329088,35588.909137473005,36285.586362151924,36950.800696615355,37628.296949587973,38319.604173050095,39042.13221195971,39838.48025678673,40605.578498137067,41317.304641332492,41989.505853849871,42621.822789762911,43801.944259171782,44648.243075919207,45465.759413312182,46263.073703659982,47052.972595885978,47823.91843330492,48557.127390015965,49294.000641809544,50055.774117297566,50860.008778647418,51720.78053224468,52619.974949117706,53569.586009143619,54559.58572307443,55596.457559316972,56626.930530374011]
["DFES 2023 - Leading The Way",{"$f":"SUM(B37,B48,B59)","v":34301.328248082202},34859.114748291024,35417.06851067362,35903.327749387114,36299.356507429329,36760.122876015259,37321.016103535891,37974.338892516782,38632.712010697163,39239.792510941246,39794.718636303056,40318.556367331657,40802.140258294807,41686.285083421135,42106.350306094268,42507.268070400787,42858.409146104801,43187.731835388258,43492.135609492674,43766.559726295774,44022.799679115371,44258.611662837648,44479.192949205448,44686.722265995282,44871.728882429859,45051.995461327853,45229.85806000814,45403.10458892562,45553.843307481606]
["CCC 2020 - Balanced Net Zero",{"$f":"SUM(B38,B49,B60)","v":34311.723757045613},34776.708500422428,35453.937197805979,36207.281236032097,37072.625113236158,37994.977896766504,38633.537534036375,39252.026662380929,40250.328172721762,42092.979352952992,43814.968692602582,45451.281741004241,46994.262944963164,48841.68743699709,50190.926031605733,51478.167408131158,52687.425838582523,53805.328790790154,54732.778762040369,55523.309028342308,56227.618906350428,57141.907403514815,58069.486236378245,58786.776767164178,58698.268062275238,58609.823831462054,58526.140499175461,58444.882684525306,58369.317528290165]
["CT 2023 Policy Sensitivity",{"$f":"SUM(B39,B50,B61)","v":33860.350278426398},33952.895962849376,34096.045828380593,34469.105445322857,34981.612848756144,35635.548752885938,36448.348665255209,37445.128455358121,38718.546654647806,39990.797708566693,41268.902427045439,42617.517777920235,43979.233228210018,45668.981036850171,47021.569944434421,48347.076283596754,49668.073097738285,50968.681099184643,52154.815323743627,53303.015695463153,54352.42871183504,55302.717672723804,56158.072860602028,56892.67567299302,57567.489544933938,58248.233980689758,58917.334896450935,59104.152440786653,59177.155281818697]
["BV 2023 Policy Sensitivity",{"$f":"SUM(B40,B51,B62)","v":34301.328248082202},34958.723125434517,35698.718299589578,36338.066509066026,36928.666858952492,37525.061460244462,38230.236563520666,39011.959544325313,39877.050683294474,40723.759506994553,41495.64289360847,42228.244249321702,42934.936326974654,44102.771598297149,45816.052191417344,47480.45153568052,49058.488835957367,50572.214254743601,52063.057228309088,53520.903853162003,54937.001578238102,56383.33266646658,57814.589993822759,59224.149050278596,60598.015425620644,61960.09980416597,63312.590027603364,64655.928629467977,65944.508388387243]
["DFES 2023 - NPg Best View",{"$f":"SUM(B41,B52,B63)","v":34301.328248082202},34958.723125434517,35698.718299589578,36338.066509066026,36928.666858952492,37525.061460244462,38230.236563520666,39011.959544325313,39877.050683294474,40723.759506994553,41495.64289360847,42228.244249321702,42934.936326974654,44102.771598297149,45816.052191417344,47480.45153568052,49058.488835957367,50572.214254743601,52063.057228309088,53520.903853162003,54937.001578238102,56383.33266646658,57814.589993822759,59224.149050278596,60598.015425620644,61960.09980416597,63312.590027603364,64655.928629467977,65944.508388387243]
["NPg ED2 Planning Scenario - needs updating to old (No HGVs)",{"$f":"SUM(B42,B53,B64)","v":34311.723757045613},34774.901511981094,35441.147847505359,36140.379414838899,36938.001899279618,37805.121961697405,38427.507813314965,39053.04712134046,39844.634685600417,40599.407786276439,41256.887596876819,41856.668296630465,42394.988438085777,43437.022186267874,44829.555348900874,46172.885812614732,47446.117890055721,48643.727902095365,49691.211549676547,50608.65870079297,51422.877874961428,52431.587641345694,53438.738462183981,54426.722639215768,55386.255075699926,56334.645379713751,57277.312241335858,58212.447837361775,58950.323943259995]
["DFES 2023 - Falling Short",{"$f":"SUM(B43,B54,B65)","v":34311.723757045613},34774.901511981094,35441.147847505359,36140.379414838899,36938.001899279618,37805.121961697405,38427.507813314965,39053.04712134046,39844.634685600417,40599.407786276439,41256.887596876819,41856.668296630465,42394.988438085777,43437.022186267874,44829.555348900874,46172.885812614732,47446.117890055721,48643.727902095365,49691.211549676547,50608.65870079297,51422.877874961428,52431.587641345694,53438.738462183981,54426.722639215768,55386.255075699926,56334.645379713751,57277.312241335858,58212.447837361775,58950.323943259995]
[]
["Gross Demand Consumption GWh - NPg",2022,2023,2024,2025,2026,2027,2028,2029,2030,2031,2032,2033,2034,2035,2036,2037,2038,2039,2040,2041,2042,2043,2044,2045,2046,2047,2048,2049,2050]
["DFES 2023 - Consumer Transformation",{"$f":"B2/1000","v":34347.338334894164},34846.445634471558,35575.350394470472,36366.462294029865,37266.786777300993,38268.137658112646,39096.199092389048,39971.255070442523,41094.620380212167,42246.538646940331,43340.510165583364,44415.29415422961,45470.762883068906,47055.108794381144,48995.413417872238,50865.50498894522,52627.640540280183,54264.555255661486,55693.978362420945,56921.995145155459,57989.381310874509,59199.231968023123,60364.969033523979,61474.327314097958,62519.328121250954,63536.482604116165,64535.708289269613,65521.870795556424,66305.9725424848]
["DFES 2023 - System Transformation",{"$f":"B3/1000","v":34340.895590418986},34890.657026072586,35689.22514692229,36444.705655038852,37194.479350186077,37990.471837494268,38842.258771034001,39773.909398877877,40829.109561918995,41901.135658169784,42957.876404583098,44014.52553559767,45066.08829079604,46688.38287950505,47980.682832659862,49227.082358325082,50419.099712225732,51558.514177648824,52628.352039435878,53608.805207217796,54543.160163825421,55456.814786784678,56373.796824639292,57316.06815487337,58273.631795201407,59265.593622387947,60287.432098455371,61349.485322136876,62401.021922541666]
["DFES 2023 - Leading The Way",{"$f":"B4/1000","v":34347.338334894164},34848.537984918825,35584.500986547318,36423.131887133743,37415.218392087321,38516.352729198275,39396.81423204358,40329.188811235996,41714.025768172127,44004.872929005978,46216.385725868029,48361.143626333134,50404.250452789616,52720.960661171761,54493.48438706289,56149.486969566955,57669.388320407641,59040.34782053189,60167.247616562207,61110.764439933584,61930.030082038444,62929.411958593599,63919.873676134972,64684.021082209321,64631.130913976333,64570.687836883284,64510.087045332104,64448.902118461243,64391.68111094636]
["CCC 2020 - Balanced Net Zero",{"$f":"B5/1000","v":33913.75360804006},34050.052486927212,34249.931589219064,34692.696485218417,35364.427343175157,36262.501575163093,37400.094393247236,38798.061131874361,40544.799547880953,42353.664188817602,44165.212695054986,46041.723088650258,47922.582266788646,50122.448129283759,52021.35624034029,53857.509108004982,55653.45711673607,57388.291076504545,58967.903764942661,60431.62844741383,61740.665151686997,62894.687167094977,63901.184543096169,64734.346554592448,65468.613022028105,66202.918839019956,66919.685755040322,67152.769466349288,67270.646030894495]
["CT 2023 Policy Sensitivity",{"$f":"B6/1000","v":34336.942825930761},35018.150859178,35799.285838024502,36498.068491227357,37174.38775032838,37891.100445441058,38759.542348055584,39754.145306196777,40883.762751216665,42044.375655615484,43177.915121361613,44319.289733280166,45478.284149941392,47129.252574569065,49334.607924998367,51475.514606323741,53494.27904705119,55399.678043640619,57226.292827281934,58962.265826483919,60600.54201000648,62217.822394914714,63776.030516060826,65277.488681266826,66717.456499466469,68127.91316981017,69517.198959816174,70890.027904175993,72203.596367822567]
["BV 2023 Policy Sensitivity",{"$f":"B7/1000","v":34336.942825930761},35030.552609930921,35829.282088330925,36553.917160167672,37271.260137803642,38046.436292676241,38993.513261527871,40089.121693180379,41340.748278744832,42635.653083047546,43897.059926873939,45138.106134650596,46344.92383480112,47982.04482247182,50118.610546874501,52151.771097116347,54040.451317782492,55807.233284485337,57497.526082830926,59108.359264753279,60639.41275392611,62170.837221545364,63664.977433579486,65121.39336532374,66530.878277321739,67920.963809587192,69296.536573760022,70659.948063403906,71966.871971043438]
["DFES 2023 - NPg Best View",{"$f":"B8/1000","v":34347.338334894164},34846.73099647749,35571.711636246713,36356.230065940545,37280.595178130759,38326.496794129169,39190.784511322185,40130.209270195519,41308.332281050789,42511.301362329425,43658.304630142273,44766.530181959359,45804.975945912236,47316.295410442544,49132.113704358024,50844.205374050543,52428.08037188086,53878.746931837115,55125.680404198392,56196.114112384239,57125.289050649451,58219.092196424484,59289.125901940686,60323.966954260904,61319.117927401021,62295.509385134974,63261.258787492508,64216.467271297712,64972.68752591619]
["NPg ED2 Planning Scenario - needs updating to old (No HGVs)",{"$f":"B9/1000","v":33821.645328433042},34030.058863908744,34311.080298014196,34763.482435440943,35451.66685689483,36421.952276647455,37712.933532824252,39280.872440081017,41374.972293911473,43293.666631604385,45188.121744419936,47206.815451953633,49228.640705937083,51851.619316658303,54087.702236130179,56034.179420218075,57910.487800341245,59657.841840393674,61247.894254010695,62635.931594616995,63865.169547668003,64919.047019167963,65805.650754831819,66556.818413567016,67196.82273539374,67831.460330006303,68436.632818416183,68548.221587162305,68578.012916971667]
["DFES 2023 - Falling Short",{"$f":"B10/1000","v":34336.942825930761},34911.379520305811,35499.818412492277,36029.720175214919,36488.041277275071,37036.31810567536,37717.254710876441,38530.383154434981,39391.592978551547,40242.121511560996,41073.494273524862,41898.007398414236,42700.804371728329,43923.345174168571,44706.420483528644,45498.126309069798,46261.363892621666,47007.480264509912,47713.393339761584,48357.349006239019,48940.055842772985,49453.865019533856,49902.620104929578,50290.239067550719,50611.702256367622,50891.595807506324,51140.556464157191,51364.658686681345,51552.910889642131]
[]
["Gross Demand Consumption TWh - NPg",2022,2023,2024,2025,2026,2027,2028,2029,2030,2031,2032,2033,2034,2035,2036,2037,2038,2039,2040,2041,2042,2043,2044,2045,2046,2047,2048,2049,2050]
["DFES 2023 - Consumer Transformation",{"$f":"B79/1000","v":34.347338334894161},34.846445634471557,35.575350394470469,36.366462294029866,37.266786777300993,38.268137658112643,39.09619909238905,39.971255070442524,41.09462038021217,42.24653864694033,43.340510165583368,44.415294154229613,45.470762883068907,47.055108794381141,48.995413417872236,50.865504988945219,52.627640540280183,54.264555255661485,55.693978362420943,56.921995145155456,57.989381310874506,59.19923196802312,60.364969033523977,61.474327314097955,62.51932812125095,63.536482604116166,64.535708289269607,65.521870795556424,66.305972542484795]
["DFES 2023 - System Transformation",{"$f":"B80/1000","v":34.340895590418988},34.890657026072589,35.68922514692229,36.444705655038852,37.194479350186079,37.990471837494269,38.842258771034004,39.773909398877876,40.829109561918997,41.901135658169785,42.957876404583097,44.01452553559767,45.066088290796039,46.688382879505049,47.980682832659859,49.227082358325084,50.41909971222573,51.558514177648824,52.628352039435882,53.608805207217799,54.543160163825419,55.456814786784676,56.373796824639292,57.316068154873371,58.27363179520141,59.265593622387946,60.287432098455369,61.349485322136879,62.401021922541666]
["DFES 2023 - Leading The Way",{"$f":"B81/1000","v":34.347338334894161},34.848537984918828,35.584500986547319,36.423131887133742,37.415218392087318,38.516352729198275,39.396814232043582,40.329188811235994,41.714025768172128,44.004872929005977,46.21638572586803,48.361143626333131,50.404250452789618,52.720960661171759,54.493484387062892,56.149486969566958,57.669388320407641,59.040347820531892,60.167247616562207,61.110764439933583,61.930030082038442,62.929411958593597,63.919873676134969,64.684021082209327,64.631130913976335,64.57068783688328,64.510087045332099,64.448902118461248,64.391681110946365]
["CCC 2020 - Balanced Net Zero",{"$f":"B82/1000","v":33.913753608040061},34.050052486927214,34.249931589219067,34.69269648521842,35.364427343175159,36.262501575163093,37.400094393247237,38.798061131874363,40.544799547880956,42.353664188817604,44.16521269505499,46.041723088650258,47.922582266788645,50.122448129283761,52.021356240340289,53.857509108004983,55.653457116736071,57.388291076504544,58.967903764942662,60.431628447413829,61.740665151686997,62.894687167094979,63.901184543096171,64.734346554592449,65.468613022028109,66.202918839019958,66.919685755040319,67.152769466349284,67.270646030894497]
["CT 2023 Policy Sensitivity",{"$f":"B83/1000","v":34.336942825930763},35.018150859178,35.799285838024502,36.498068491227357,37.174387750328378,37.891100445441054,38.759542348055582,39.754145306196776,40.883762751216665,42.044375655615482,43.177915121361615,44.319289733280165,45.478284149941395,47.129252574569065,49.334607924998366,51.475514606323742,53.494279047051187,55.39967804364062,57.226292827281931,58.962265826483922,60.600542010006478,62.217822394914712,63.776030516060828,65.277488681266831,66.717456499466465,68.127913169810171,69.51719895981617,70.890027904175994,72.20359636782257]
["BV 2023 Policy Sensitivity",{"$f":"B84/1000","v":34.336942825930763},35.030552609930922,35.829282088330928,36.553917160167671,37.271260137803644,38.04643629267624,38.993513261527873,40.089121693180381,41.340748278744833,42.635653083047544,43.897059926873936,45.138106134650599,46.344923834801122,47.982044822471821,50.1186105468745,52.151771097116345,54.040451317782491,55.807233284485335,57.497526082830923,59.108359264753275,60.639412753926109,62.170837221545362,63.664977433579487,65.12139336532374,66.530878277321733,67.920963809587192,69.296536573760022,70.659948063403903,71.966871971043432]
["DFES 2023 - NPg Best View",{"$f":"B85/1000","v":34.347338334894161},34.84673099647749,35.571711636246711,36.356230065940544,37.28059517813076,38.32649679412917,39.190784511322185,40.130209270195522,41.308332281050788,42.511301362329426,43.658304630142275,44.766530181959361,45.804975945912233,47.316295410442542,49.132113704358026,50.844205374050546,52.42808037188086,53.878746931837114,55.125680404198391,56.196114112384237,57.12528905064945,58.219092196424484,59.289125901940686,60.323966954260904,61.319117927401024,62.295509385134977,63.261258787492508,64.216467271297716,64.972687525916186]
["NPg ED2 Planning Scenario - needs updating to old (No HGVs)",{"$f":"B86/1000","v":33.821645328433043},34.030058863908742,34.311080298014197,34.763482435440942,35.451666856894832,36.421952276647453,37.712933532824252,39.280872440081019,41.374972293911476,43.293666631604381,45.188121744419938,47.206815451953631,49.228640705937082,51.851619316658301,54.087702236130177,56.034179420218074,57.910487800341244,59.657841840393672,61.247894254010696,62.635931594616999,63.865169547668003,64.919047019167962,65.805650754831817,66.556818413567015,67.196822735393738,67.831460330006308,68.436632818416186,68.548221587162303,68.578012916971673]
["DFES 2023 - Falling Short",{"$f":"B87/1000","v":34.336942825930763},34.911379520305807,35.499818412492274,36.029720175214919,36.488041277275073,37.036318105675363,37.717254710876439,38.530383154434979,39.39159297855155,40.242121511560995,41.073494273524865,41.898007398414236,42.700804371728331,43.923345174168574,44.706420483528646,45.498126309069796,46.261363892621667,47.007480264509908,47.713393339761581,48.357349006239019,48.940055842772985,49.453865019533858,49.902620104929575,50.290239067550722,50.611702256367622,50.891595807506327,51.140556464157193,51.364658686681345,51.552910889642128]

{"sheet":"Gross Peak Demand Breakdown","index":14,"n_rows":71,"n_cols":30,"rows_kept":71,"cut":false,"hidden":false,"merged":[]}
["Study adding in large connection projects - power"]
["Large Industry Fuel Switching, electrolysers, electric buses & HGVs"]
[]
["NOTE - Diversity means sum of 2 licence peaks not same as NPg peak - so NPg summation of the two licence areas is a simplification"]
["Changes highlighted (to I&C and total)"]
[": Contributions to Peak Demand MW - NPg"]
[]
[]
["NPg Best View: Contributions to Peak Demand MW - NPg",2022,2023,2024,2025,2026,2027,2028,2029,2030,2031,2032,2033,2034,2035,2036,2037,2038,2039,2040,2041,2042,2043,2044,2045,2046,2047,2048,2049,2050]
["Domestic Underlying",1901.4494995496266,1894.4795074639885,1895.961065680586,1896.809658482804,1901.6253172444531,1905.0367815891771,1914.5666237399942,1923.5238560579674,1932.3028969907746,1942.0668435560453,1944.3305608318274,1946.4499295997102,1948.4898236789154,1947.9121917504444,1939.4901721657657,1931.0104171071198,1922.6291444358164,1914.4473607091095,1906.3740114487607,1898.394192174133,1890.5000912696903,1882.5595083229146,1874.6379050120906,1866.7504652100829,1858.898560579931,1851.0778446830382,1843.2835676987097,1835.5013802415272,1830.2482777401676]
["I & C Underlying",3946.7453195866537,4136.0614497054066,4299.1858833900978,4362.3009312654112,4344.5807002388356,4363.9985880357344,4376.6303939653062,4352.5753750192716,4356.9666707010792,4338.6409726791144,4321.6336517505424,4305.8195946069236,4291.1173314440912,4517.25699164671,4505.0506359430747,4493.7142846743991,4483.1831846084624,4473.3916795575706,4464.2732091641737,4455.760307692768,4447.7846028281774,4440.2768144800575,4433.1667535936422,4426.3833209667291,4419.8545060728457,4413.5073858905635,4407.2681237389534,4401.0619681191474,4394.8132515619527]
["Heat pumps - domestic",42.815293097175136,53.23133669147591,72.214669887747377,117.64561685807162,184.56334587178782,265.36320708015455,284.39352544355569,297.3954799560961,310.53544067535563,323.92771192217748,337.47953727703009,350.9043714892872,365.02970501848569,426.31637582720293,647.26528842487949,867.98089946160144,1082.9281103799226,1288.6608032049792,1470.5409186026416,1630.810882537349,1775.6106046689342,1976.7751838540712,2182.5366752872783,2387.0219620195362,2589.3656046626525,2790.1312659636264,2989.4341406193303,3187.4115653503304,3333.2635940453065]
["Heat pumps - I & C",42.226158328480324,46.100141866081032,50.565406506844745,54.799120202888417,59.907197785581708,70.579219839098656,81.761828300528919,92.214093888052787,101.55886222084698,110.19528537381692,118.62144246497166,127.04503131728089,135.43486531810404,143.27987718853433,220.32559767777107,296.0775179371405,369.68039545543985,441.61173465371337,509.79576264622864,576.32157536513887,639.07734319156839,701.00001627264396,762.2048803459893,822.81610564293396,882.62655617618339,941.63836274085543,999.83932990116796,1057.2224376132424,1113.7763930865383]
["EV - cars & vans",51.451315597857636,73.283643895206978,127.65429166998834,191.75436541364695,277.8290390265895,363.41218559288745,448.90672634034394,537.46285531080616,643.85806477557799,746.78001984378943,838.48997528237237,921.49122885022916,994.7669498323188,1055.7805188895518,1105.7630171926749,1148.8581789592056,1185.6935738703296,1217.2377426615822,1242.4999956149536,1261.9976149269694,1277.0502412808623,1288.0353798817039,1295.7502016199842,1301.4881099277331,1304.5857783448655,1307.2265237905397,1310.1854186567,1313.2169393251311,1316.6249833012143]
["Electric HGVs",0.58369612908002577,2.3524957789291414,5.3905890624733628,10.191586493943731,17.949239693178235,29.536778298392754,45.879054608623534,67.650040668905973,94.960173469763745,127.02438037705389,162.33064634096729,199.15055404359026,235.39899554873386,269.36565433813485,299.92312470260106,326.45867238208007,348.72943763736805,366.79557330657246,380.97417285712334,391.80539544638202,399.89920777095631,405.86993827456882,410.29022775984117,413.61739994871857,416.19938247335932,418.29137138355469,420.07387380047129,421.66742760568803,423.14868534627146]
["Electric Buses",0.89335483693506268,1.3333825043910168,1.9795163965631488,2.7625458273308818,3.6778922468244408,4.7121355934670541,5.8470340368304878,7.094203533739714,8.4306999351306544,9.8219640304547795,11.227745559000235,12.628498384681928,13.9939832459755,15.293817184939931,16.497997345957184,17.581249495224583,18.526723957523984,19.327264427105082,19.982316905940532,20.502453458827929,20.911178520123769,21.221909568327952,21.448348051695795,21.603760486777322,21.700850481616715,21.752392073739223,21.77177003477091,21.77129868897088,21.760926162463999]
["Electrolysers",0,0.55830791253630152,3.0546599333885815,86.290507379026835,130.79757535839039,179.35969843087366,235.25540687285138,303.1495041312541,411.82237734647492,453.99820601648548,455.65628629745197,499.86762526533494,544.39956003529926,546.5776996233775,612.71768545838017,602.81876739046152,606.68698785523111,615.59060063132551,664.72912473110307,796.86293359668173,900.73406553287009,993.97301276311748,1095.5778993379931,1162.2254477010536,1223.2661278778346,1258.8506317203037,1275.4152374457085,1321.4895090090467,1329.8516427149502]
["Large industry Fuel Switching",28.969330424539919,43.453995636809893,57.938660849079859,72.423326061349812,97.249304482577173,122.07528290380455,146.90126132503192,171.72723974625933,196.5532181674867,218.36013820577529,240.16705824406375,261.97397828235228,283.78089832064086,305.58781835892944,331.47789448195249,357.36797060497543,383.25804672799842,409.14812285102141,435.03819897404429,473.02642192104474,511.01464486804525,549.00286781504542,586.99109076204604,624.97931370904644,624.97931370904644,624.97931370904644,624.97931370904644,624.97931370904644,624.97931370904644]
["Total demand",{"$f":"SUM(B10:B18)","v":6015.1339675503486},{"$f":"SUM(C10:C18)","v":6250.854261454826},{"$f":"SUM(D10:D18)","v":6513.9447433767691},{"$f":"SUM(E10:E18)","v":6794.9776579844747},{"$f":"SUM(F10:F18)","v":7018.1796119482178},{"$f":"SUM(G10:G18)","v":7304.0738773635903},{"$f":"SUM(H10:H18)","v":7540.141854633066},{"$f":"SUM(I10:I18)","v":7752.792648312352},{"$f":"SUM(J10:J18)","v":8056.9884042824915},{"$f":"SUM(K10:K18)","v":8270.8155220047138},{"$f":"SUM(L10:L18)","v":8429.936904048227},{"$f":"SUM(M10:M18)","v":8625.3308118393907},{"$f":"SUM(N10:N18)","v":8812.4121124425656},{"$f":"SUM(O10:O18)","v":9227.3709448078262},{"$f":"SUM(P10:P18)","v":9678.5114133930565},{"$f":"SUM(Q10:Q18)","v":10041.867958012206},{"$f":"SUM(R10:R18)","v":10401.315604928093},{"$f":"SUM(S10:S18)","v":10746.210882002979},{"$f":"SUM(T10:T18)","v":11094.207710944967},{"$f":"SUM(U10:U18)","v":11505.481777119294},{"$f":"SUM(V10:V18)","v":11862.581979931227},{"$f":"SUM(W10:W18)","v":12258.714631232451},{"$f":"SUM(X10:X18)","v":12662.60398177056},{"$f":"SUM(Y10:Y18)","v":13026.885885612613},{"$f":"SUM(Z10:Z18)","v":13341.476680378335},{"$f":"SUM(AA10:AA18)","v":13627.455091955268},{"$f":"SUM(AB10:AB18)","v":13892.250775604858},{"$f":"SUM(AC10:AC18)","v":14184.321839662131},{"$f":"SUM(AD10:AD18)","v":14388.467067667909}]
[]
[]
["Consumer Transformation: Contributions to Peak Demand MW - NPg",2022,2023,2024,2025,2026,2027,2028,2029,2030,2031,2032,2033,2034,2035,2036,2037,2038,2039,2040,2041,2042,2043,2044,2045,2046,2047,2048,2049,2050]
["Domestic Underlying",1899.0378882252517,1890.0893110859149,1889.0765072668592,1888.7014810558699,1889.3006332793677,1890.6703495643405,1893.7165537342119,1897.3431388044146,1902.0762928646559,1908.3908610963686,1910.6376164051812,1912.7430794747734,1914.7708868328798,1914.2229666081537,1905.9558189771724,1897.633160130853,1889.4078326809035,1881.3783650454845,1873.4547591942369,1865.6226240127728,1857.8746771758913,1850.0807748607626,1842.3054119288645,1834.5635478572385,1826.8565431946706,1819.1801178335108,1811.5295950892669,1803.8907947224484,1798.7405891349038]
["I & C Underlying",3958.1184553089188,4154.181872097015,4325.9908645227761,4399.7422271510441,4390.6693578387876,4417.2567286157628,4435.4918810838644,4415.1065161687357,4420.0920488992979,4402.288985553123,4385.6869223680678,4370.2245442606272,4355.8396235509208,4581.749018694326,4569.3286730196796,4557.7936134740485,4547.077949374032,4537.1148711635706,4527.8366491782326,4519.1746324159012,4511.0592473139404,4503.419996532697,4496.1854577453687,4489.283282434194,4482.6401946929545,4476.1819900357295,4469.8335342118826,4463.5187620272845,4457.1606761716821]
["Heat pumps - domestic",42.815293097175136,53.23133669147591,72.214669887747377,117.64561685807162,184.56334587178782,265.36320708015455,284.39352544355569,297.3954799560961,310.53544067535563,323.92771192217748,337.47953727703009,350.9043714892872,365.02970501848569,426.31637582720293,647.26528842487949,867.98089946160144,1082.9281103799226,1288.6608032049792,1470.5409186026416,1630.810882537349,1775.6106046689342,1976.7751838540712,2182.5366752872783,2387.0219620195362,2589.3656046626525,2790.1312659636264,2989.4341406193303,3187.4115653503304,3333.2635940453065]
["Heat pumps - I & C",42.226158328480324,46.100141866081032,50.565406506844745,54.799120202888417,59.907197785581708,70.579219839098656,81.761828300528919,92.214093888052787,101.55886222084698,110.19528537381692,118.62144246497166,127.04503131728089,135.43486531810404,143.27987718853433,220.32559767777107,296.0775179371405,369.68039545543985,441.61173465371337,509.79576264622864,576.32157536513887,639.07734319156839,701.00001627264396,762.2048803459893,822.81610564293396,882.62655617618339,941.63836274085543,999.83932990116796,1057.2224376132424,1113.7763930865383]
["EV - cars & vans",52.037712707199532,85.388795548060443,156.25232409371935,241.45796901911331,352.28444794158798,463.26560155500204,579.86603150014571,699.57674813561437,847.69005592536496,994.36729771309035,1125.1768891669628,1243.336991328152,1348.6539609221568,1437.7135959561583,1511.8485155180656,1575.9028305583422,1631.4586081764776,1680.0773183159206,1720.2539277524245,1750.7630974725107,1775.3624061785463,1794.5880564820188,1809.8770271658489,1822.2497531552558,1829.4687651355357,1836.3076622016529,1843.4287105027727,1850.9753959048849,1858.9620086289119]
["Electric HGVs",0.58369612908002577,1.7084023225710221,3.7130055512432811,6.8518000616815788,11.752764184233081,19.09712909892415,29.585987427556294,43.735998937118367,61.732821838523847,83.424264749423969,108.72823849131785,137.64357549686036,169.9903207458558,204.87815874838432,240.66900346355067,275.48490003551854,307.75887295523393,336.44960921407989,361.012355898772,381.2998104715868,397.42962472374865,409.7537886405546,418.82041497244683,425.31209181577032,429.93534576695595,433.30342523533909,435.87928052606765,437.9776072564448,439.79763387309498]
["Electric Buses",0.89335483693506268,1.1979874753597,1.699742808797057,2.3278789741682604,3.0847274872281263,3.9616683630229734,4.9432663900437719,6.0343156264943358,7.2251039433775599,8.5045632814778518,9.854009154528292,11.253836572882687,12.662324141102228,14.032830679948443,15.326150987138583,16.51584913581689,17.587381379008892,18.536102456872264,19.362605623780734,20.070469066600694,20.666472496399233,21.159521679632498,21.559775880444231,21.878058563316181,22.125365204789372,22.312385517816104,22.449130037710187,22.54522749037875,22.609915356645878]
["Electrolysers",0,0.51150408325576979,1.0469477123429192,0.49333894642831083,1.1073695308194358,6.1736570535803645,11.818051481422279,20.02149809957395,46.714339269198042,61.926658311665435,102.92564120085284,139.90886336459485,184.12463133862377,208.99203667022647,242.7517446809108,269.69366315425873,270.67621515616645,277.20824668716449,301.17002446091595,387.29682995692986,441.77673374433948,481.25634725880127,518.80420551765803,533.07523545828121,542.54368160361219,534.12596860137376,524.05421156850707,500.58084457812959,471.463319830822]
["Large industry Fuel Switching",13.597995340357517,20.396993010536232,27.195990680714971,33.994988350893735,45.196005344176285,56.397022337458793,67.598039330741344,78.799056324023852,90.000073317306416,104.75298083457881,119.50588835185123,134.25879586912362,149.01170338639599,163.76461090366843,183.60791655379705,203.45122220392574,223.29452785405437,243.13783350418299,262.98113915431162,303.76810089851278,344.55506264271412,385.34202438691534,426.12898613111656,466.9159478753179,534.04802011030279,601.18009234528824,668.31216458027325,735.44423681525859,802.57630905024371]
["Total demand",{"$f":"SUM(B23:B31)","v":6009.3105539733979},{"$f":"SUM(C23:C31)","v":6252.8063441802697},{"$f":"SUM(D23:D31)","v":6527.7554590310456},{"$f":"SUM(E23:E31)","v":6746.0144206201594},{"$f":"SUM(F23:F31)","v":6937.8658492635705},{"$f":"SUM(G23:G31)","v":7192.7645835073463},{"$f":"SUM(H23:H31)","v":7389.1751646920693},{"$f":"SUM(I23:I31)","v":7550.2268459401239},{"$f":"SUM(J23:J31)","v":7787.6250389539273},{"$f":"SUM(K23:K31)","v":7997.7786088357216},{"$f":"SUM(L23:L31)","v":8218.6161848807642},{"$f":"SUM(M23:M31)","v":8427.3190891735812},{"$f":"SUM(N23:N31)","v":8635.5180212545238},{"$f":"SUM(O23:O31)","v":9094.9494712766045},{"$f":"SUM(P23:P31)","v":9537.0787093029649},{"$f":"SUM(Q23:Q31)","v":9960.5336560915057},{"$f":"SUM(R23:R31)","v":10339.869893411238},{"$f":"SUM(S23:S31)","v":10704.174884245967},{"$f":"SUM(T23:T31)","v":11046.408142511547},{"$f":"SUM(U23:U31)","v":11435.128022197301},{"$f":"SUM(V23:V31)","v":11763.412172136083},{"$f":"SUM(W23:W31)","v":12123.375709968097},{"$f":"SUM(X23:X31)","v":12478.422834975012},{"$f":"SUM(Y23:Y31)","v":12803.115984821845},{"$f":"SUM(Z23:Z31)","v":13139.610076547659},{"$f":"SUM(AA23:AA31)","v":13454.361270475194},{"$f":"SUM(AB23:AB31)","v":13764.760097036979},{"$f":"SUM(AC23:AC31)","v":14059.566871758401},{"$f":"SUM(AD23:AD31)","v":14298.35043917815}]
[]
[]
["System Transformation: Contributions to Peak Demand MW - NPg",2022,2023,2024,2025,2026,2027,2028,2029,2030,2031,2032,2033,2034,2035,2036,2037,2038,2039,2040,2041,2042,2043,2044,2045,2046,2047,2048,2049,2050]
["Domestic Underlying",1899.0378882252517,1890.5443871020648,1889.3803967071226,1888.9088313594291,1889.5221114733531,1890.9670465422373,1894.0783312194364,1897.7536152661492,1902.7244880090504,1909.1074269220949,1911.4397069266506,1913.6371598677899,1915.828428714929,1914.3588234766139,1910.9500219563224,1909.1228806152994,1907.3328377743924,1905.3155410313702,1903.1395878330054,1900.8523820394976,1898.176452167324,1894.7757478704484,1890.4856090095711,1885.1169325206442,1878.7343676579651,1871.7126418708265,1864.0415223837588,1855.6523745963309,1847.5004266488388]
["I & C Underlying",3956.7706786494791,4163.9429036697693,4347.6585908120223,4434.099493492502,4438.4833397881011,4479.2783034557706,4512.4549994699482,4507.7275739115157,4529.0692588839593,4528.3017497946876,4529.3952042018782,4532.268240667373,4536.8379376154789,4782.2998321977448,4790.0079191636014,4799.1546497368881,4809.6509304982255,4821.4061222732053,4833.7776585660085,4846.1525791439963,4858.5308751046487,4870.9125375688691,4883.2975576809104,4895.6859266083193,4908.077635541882,4920.4726756955552,4932.8710383064054,4945.2727146345569,4957.677695963117]
["Heat pumps - domestic",69.319998347807356,80.623559970086689,101.24928954508079,124.87812782214627,152.79341052910507,182.37703364354806,204.28037276830986,227.67438457611212,254.37368009597645,281.18738319195927,307.65198301606495,333.30155817166701,359.85723757152249,466.79320390964614,549.32343698934881,630.38471488992946,723.08628244045417,827.53348101823008,944.28925460218045,1068.2061982183577,1209.0555856866113,1375.3685173767337,1569.331960821597,1794.7900087605499,2050.4856864584835,2324.7002977364564,2617.5933686700641,2931.2307011314006,3240.1654994616556]
["Heat pumps - I & C",42.8537263803127,45.314995449023925,51.185423574157369,54.612240207773816,58.288443136348924,64.281753593289949,71.198855496073264,78.012354540170975,87.05666729317069,92.740555779485248,98.480950633762305,104.38617844069759,110.95768520788309,117.74805920992475,186.26191673131314,255.24071289602983,320.38436404180635,384.11072689639741,444.26144506923754,502.85039573404549,560.05125462183992,615.68482177759961,670.99309352134208,726.15765538203505,780.67579593290657,839.02456026965103,896.69848096024612,954.42262778794941,1013.8089172893986]
["EV - cars & vans",52.037712707199532,85.51691652893318,160.22172731866766,248.99644414494941,356.06987662060538,464.05521756962401,576.93954647234091,692.11396804844901,809.31826494433892,924.71656964487556,1032.5899010329445,1132.1053124238445,1222.0341835562735,1302.2184134712084,1369.568860529158,1429.7498072383719,1481.8750401247746,1527.1513351648364,1565.1240053897141,1594.1344163265844,1617.4592457885867,1635.693945044442,1650.2263863444589,1661.9575286966183,1668.468216354179,1674.0023367155043,1679.3330571951751,1684.3818740347763,1689.068067128846]
["Electric HGVs",0.58369612908002577,1.7084023225710228,3.7130055512432811,6.8518000616815788,11.752764184233081,19.09712909892415,29.567302145275111,43.646782922417032,61.448426413330097,82.711234106240454,107.00840741909616,134.32638439451711,164.39429331279328,196.3770102101424,228.84865291833165,260.20680801191702,289.12931183863014,314.74987496896949,336.63214330997033,354.68321381751821,369.03349261955884,379.9911693435692,388.04584507272074,393.80010461208246,397.87653859707348,400.81805452186654,403.03791381636654,404.81971547853169,406.34466696090135]
["Electric Buses",0.89335483693506268,1.1979874753597,1.6917905493412722,2.2999721541626728,3.0201607540749991,3.839502306753229,4.7404313831393399,5.74079730617545,6.8299784395708194,7.9964750777425797,9.2210360914871554,10.488407686773968,11.759990349457844,12.993314341054722,14.152808923617743,15.214873388627639,16.167005884978117,17.006449013077074,17.735241116912025,18.358024631798571,18.882433220680696,19.317224915238103,19.671727665712066,19.955109776266664,20.1758847557753,20.342531611996037,20.464440785334844,20.550454484555601,20.608646632769059]
["Electrolysers",0,0.78468397341675233,0.99878534870926816,27.570389013642675,76.227601329235299,108.05501269166282,119.96541403286798,130.07286226991556,168.82412852266472,132.57129940765597,132.48756047328146,118.39836534032729,135.9538540565984,221.9123580595039,261.18828963053693,279.79738094631813,308.57280323371054,366.88368593571784,378.17706302609611,460.34884999228507,574.29771844671257,654.31009278063004,747.03122305769841,858.97431853475291,952.51369443869908,1022.1564850738409,1093.2568630881165,1158.5864582173563,1193.8949206833774]
["Large industry Fuel Switching",11.813517884331308,17.720276826496924,23.627035768662566,29.533794710828232,35.685245976812297,41.836697242796333,47.988148508780355,54.139599774764392,60.291051040748478,69.471734224648586,78.652417408548672,87.833100592448773,97.013783776348845,106.19446696024897,115.3150017695003,124.4355365787516,133.55607138800289,142.67660619725422,151.79714100650551,158.9121337308103,166.02712645511514,173.14211917941998,180.25711190372476,187.37210462802958,220.80605113287078,254.23999763771195,287.67394414255324,321.10789064739441,354.54183715223559]
["Total demand",{"$f":"SUM(B36:B44)","v":6033.3105731603964},{"$f":"SUM(C36:C44)","v":6287.3541133177223},{"$f":"SUM(D36:D44)","v":6579.7260451750071},{"$f":"SUM(E36:E44)","v":6817.7510929671153},{"$f":"SUM(F36:F44)","v":7021.8429537918691},{"$f":"SUM(G36:G44)","v":7253.7876961446073},{"$f":"SUM(H36:H44)","v":7461.2134014961712},{"$f":"SUM(I36:I44)","v":7636.8819386156683},{"$f":"SUM(J36:J44)","v":7879.9359436428094},{"$f":"SUM(K36:K44)","v":8028.8044281493903},{"$f":"SUM(L36:L44)","v":8206.9271672037139},{"$f":"SUM(M36:M44)","v":8366.7447075854379},{"$f":"SUM(N36:N44)","v":8554.6373941612856},{"$f":"SUM(O36:O44)","v":9120.8954818360871},{"$f":"SUM(P36:P44)","v":9425.6169086117334},{"$f":"SUM(Q36:Q44)","v":9703.3073643021344},{"$f":"SUM(R36:R44)","v":9989.7546472249724},{"$f":"SUM(S36:S44)","v":10306.833822499058},{"$f":"SUM(T36:T44)","v":10574.933539919632},{"$f":"SUM(U36:U44)","v":10904.498193634892},{"$f":"SUM(V36:V44)","v":11271.514184111078},{"$f":"SUM(W36:W44)","v":11619.196175856951},{"$f":"SUM(X36:X44)","v":11999.340515077736},{"$f":"SUM(Y36:Y44)","v":12423.809689519298},{"$f":"SUM(Z36:Z44)","v":12877.813870869835},{"$f":"SUM(AA36:AA44)","v":13327.46958113341},{"$f":"SUM(AB36:AB44)","v":13794.970629348019},{"$f":"SUM(AC36:AC44)","v":14276.024811012852},{"$f":"SUM(AD36:AD44)","v":14723.610677921139}]
[]
[]
["Leading The Way: Contributions to Peak Demand MW - NPg",2022,2023,2024,2025,2026,2027,2028,2029,2030,2031,2032,2033,2034,2035,2036,2037,2038,2039,2040,2041,2042,2043,2044,2045,2046,2047,2048,2049,2050]
["Domestic Underlying",1899.0378882252517,1888.7531764938726,1886.4036091402288,1884.672615090105,1884.1387692203903,1884.5275866286299,1886.7814292909238,1889.8459387074899,1890.8576479598341,1884.8279381286859,1875.440147476867,1866.2750596468422,1857.2606893399234,1848.4066856046052,1839.6490261550043,1830.90610169405,1822.4149179074252,1814.3548879579121,1807.0439520937291,1800.1904727136857,1793.5263981705245,1786.1762175295623,1778.1420847936952,1772.6083637106608,1774.6258475122791,1776.6470921001837,1778.6681440342004,1780.6674060980527,1782.4678790404139]
["I & C Underlying",3958.1184553089188,4154.181872097015,4325.9908645227761,4399.7422271510441,4390.6693578387876,4417.2567286157628,4435.4918810838644,4415.1065161687357,4420.0920488992979,4402.288985553123,4385.6869223680678,4370.2245442606272,4355.8396235509208,4581.749018694326,4569.3286730196796,4557.7936134740485,4547.077949374032,4537.1148711635706,4527.8366491782326,4519.1746324159012,4511.0592473139404,4503.419996532697,4496.1854577453687,4489.283282434194,4482.6401946929545,4476.1819900357295,4469.8335342118826,4463.5187620272845,4457.1606761716821]
["Heat pumps - domestic",42.815293097175143,55.261613203541444,78.354088765499341,135.00262652912124,216.07843403430178,310.58311272690162,334.12669294080376,346.30207414395056,415.71245125477628,653.18659889436026,885.52425110575132,1111.7571443917552,1331.8516909977525,1546.678730257129,1760.2631611302854,1970.3118529348631,2172.4309447160481,2361.1933793000198,2518.2565006855825,2651.5827294410983,2771.0288066878188,2950.8839981580895,3139.2471568841138,3275.5458877530646,3261.7924317700381,3248.5114293960851,3235.6524664383087,3223.2387944983338,3211.5811386203568]
["Heat pumps - I & C",42.226158328480324,46.099415194375382,50.560426208283111,58.302368015562699,66.689182270680419,77.279743894744499,88.384560193578963,98.762731215148534,108.03707879878063,189.84526408103483,269.95944816662609,348.68769024805891,426.09005840970275,501.73922028221546,575.6568341016864,648.41248669967467,719.14194258443194,788.31582446249172,850.81541884241278,911.91981732176066,972.24066909570752,1031.8034538784873,1090.7144549382654,1149.0889538792051,1141.8332968207744,1134.695769693933,1127.635910129527,1120.6266119576762,1113.7763930865383]
["EV - cars & vans",52.037712707199532,83.114828221820261,150.13267551997336,229.6680806209483,337.59521658198787,446.08226682922037,555.0448719233126,668.07909964164969,803.92296786014083,935.53238572541682,1053.1605314013545,1159.737654610248,1253.899320933592,1332.1785222596445,1396.2380013177903,1451.3717093824193,1498.4072075258805,1538.6234318451698,1570.8226317693284,1595.5978923563384,1614.6469082851277,1628.4901656654092,1638.1596853987478,1645.3099269870361,1649.1118247758,1652.352529107894,1656.0204714917668,1659.8038071489598,1664.0966636663638]
["Electric HGVs",0.58369612908002577,2.3524957789291414,5.3905890624733628,10.191586493943731,17.949239693178235,29.536778298392754,45.879054608623534,67.650040668905973,94.960173469763745,127.02438037705389,162.33064634096729,199.15055404359026,235.39899554873386,269.36565433813485,299.92312470260106,326.45867238208007,348.72943763736805,366.79557330657246,380.97417285712334,391.80539544638202,399.89920777095631,405.86993827456882,410.29022775984117,413.61739994871857,416.19938247335932,418.29137138355469,420.07387380047129,421.66742760568803,423.14868534627146]
["Electric Buses",0.89335483693506268,1.3333825043910168,1.9795163965631488,2.7625458273308818,3.6778922468244408,4.7121355934670541,5.8470340368304878,7.094203533739714,8.4306999351306544,9.8219640304547795,11.227745559000235,12.628498384681928,13.9939832459755,15.293817184939931,16.497997345957184,17.581249495224583,18.526723957523984,19.327264427105082,19.982316905940532,20.502453458827929,20.911178520123769,21.221909568327952,21.448348051695795,21.603760486777322,21.700850481616715,21.752392073739223,21.77177003477091,21.77129868897088,21.760926162463999]
["Electrolysers",0,0.55830791253630152,3.0546599333885815,86.290507379026835,130.79757535839039,179.35969843087366,235.25540687285138,303.1495041312541,411.82237734647492,453.99820601648548,455.65628629745197,499.86762526533494,544.39956003529926,546.5776996233775,612.71768545838017,602.81876739046152,606.68698785523111,615.59060063132551,664.72912473110307,796.86293359668173,900.73406553287009,993.97301276311748,1095.5778993379931,1162.2254477010536,1223.2661278778346,1258.8506317203037,1275.4152374457085,1321.4895090090467,1329.8516427149502]
["Large industry Fuel Switching",28.969330424539919,43.453995636809893,57.938660849079859,72.423326061349812,97.249304482577173,122.07528290380455,146.90126132503192,171.72723974625933,196.5532181674867,218.36013820577529,240.16705824406375,261.97397828235228,283.78089832064086,305.58781835892944,331.47789448195249,357.36797060497543,383.25804672799842,409.14812285102141,435.03819897404429,473.02642192104474,511.01464486804525,549.00286781504542,586.99109076204604,624.97931370904644,624.97931370904644,624.97931370904644,624.97931370904644,624.97931370904644,624.97931370904644]
["Total demand",{"$f":"SUM(B49:B57)","v":6024.6818890575805},{"$f":"SUM(C49:C57)","v":6275.1090870432909},{"$f":"SUM(D49:D57)","v":6559.8050903982648},{"$f":"SUM(E49:E57)","v":6879.055883168433},{"$f":"SUM(F49:F57)","v":7144.8449717271178},{"$f":"SUM(G49:G57)","v":7471.4133339217969},{"$f":"SUM(H49:H57)","v":7733.7121922758215},{"$f":"SUM(I49:I57)","v":7967.7173479571329},{"$f":"SUM(J49:J57)","v":8350.388663691685},{"$f":"SUM(K49:K57)","v":8874.8858610123898},{"$f":"SUM(L49:L57)","v":9339.1530369601514},{"$f":"SUM(M49:M57)","v":9830.3027491334906},{"$f":"SUM(N49:N57)","v":10302.514820382541},{"$f":"SUM(O49:O57)","v":10947.577166603303},{"$f":"SUM(P49:P57)","v":11401.752397713337},{"$f":"SUM(Q49:Q57)","v":11763.022424057797},{"$f":"SUM(R49:R57)","v":12116.674158285941},{"$f":"SUM(S49:S57)","v":12450.46395594519},{"$f":"SUM(T49:T57)","v":12775.498966037492},{"$f":"SUM(U49:U57)","v":13160.662748671719},{"$f":"SUM(V49:V57)","v":13495.061126245113},{"$f":"SUM(W49:W57)","v":13870.841560185305},{"$f":"SUM(X49:X57)","v":14256.756405671767},{"$f":"SUM(Y49:Y57)","v":14554.262336609758},{"$f":"SUM(Z49:Z57)","v":14596.149270113703},{"$f":"SUM(AA49:AA57)","v":14612.262519220469},{"$f":"SUM(AB49:AB57)","v":14610.050721295684},{"$f":"SUM(AC49:AC57)","v":14637.762930743058},{"$f":"SUM(AD49:AD57)","v":14628.823318518087}]
[]
[]
["Falling Short: Contributions to Peak Demand MW - NPg",2022,2023,2024,2025,2026,2027,2028,2029,2030,2031,2032,2033,2034,2035,2036,2037,2038,2039,2040,2041,2042,2043,2044,2045,2046,2047,2048,2049,2050]
["Domestic Underlying",1899.0378882252517,1891.7346710319171,1891.4662078488025,1891.9933523110594,1893.5700448634493,1895.9562496884892,1899.9906577512552,1904.5711314670903,1910.2387619211563,1917.472525531985,1920.6253865961517,1923.6246179485697,1926.5390958965149,1929.4589559269566,1932.3044726380067,1934.9225019527134,1937.5552227677317,1940.3106548987125,1943.1611336072915,1946.0548821675798,1948.9860584385708,1951.8901430829314,1954.8106926157795,1957.7385390837953,1960.662364251426,1963.6007447708521,1966.5526205360272,1969.5165541793322,1972.5081899548718]
["I & C Underlying",3955.5672016569274,4175.2756721009937,4370.5077979624939,4467.472256616662,4481.414075409034,4530.8291035128404,4571.716008300029,4573.8173660595148,4601.1352177383542,4605.5204470437866,4610.9727801065601,4617.4407851460637,4624.8718721371697,4872.4922924788316,4881.6871386643861,4891.6803439535761,4902.4146820462856,4913.8317667579786,4925.8720516968315,4938.4748299425173,4951.5782337267265,4965.1192341153128,4979.033640692106,4993.256101244393,5007.7201014500406,5022.3579645662539,5037.0324344241926,5051.708443971922,5066.3859891592074]
["Heat pumps - domestic",69.31999834780737,79.131665160017832,82.487665373903951,96.479349377942668,112.01989491088069,128.74054367139314,146.19456438181052,164.43145600383451,183.32973721498433,202.52037399538585,221.86182597507002,240.89214741667223,257.80143213601207,278.02748315992631,300.17454724366564,319.84274981592347,333.12004934870703,345.73322770683319,358.54906246637904,371.48782841430938,384.52630990218609,397.4753047036582,410.3961120423179,423.35514836106938,436.37673683099422,449.40054114945565,462.48776274165095,474.47690617536949,483.09684703159786]
["Heat pumps - I & C",43.949516995963677,48.42427417284064,53.809382692792269,56.878082940462846,60.485113926467498,66.797887238512871,74.051731575336362,80.996004377927505,87.25465178071164,92.881567697922918,98.442474709689236,104.318728793785,110.14205594474208,119.90073860673677,128.49175852903286,139.72945155479454,147.08066860513179,153.60550703275291,159.0395701877014,164.15149882920616,169.15921536482415,174.03826117805789,178.79821664081703,183.50622147597528,188.24419364242476,193.00269497845503,197.7540377858694,202.48726499473963,203.56029898242855]
["EV - cars & vans",52.037712707199532,76.422385525597761,110.90565288418406,155.36887999486555,210.13480904010123,274.28065070995069,355.88015055211775,452.58714796028755,543.14292779059986,626.74538837708997,704.05886617523902,774.99429015063231,839.12442721250329,896.42392858573726,944.14999011164093,987.37057657325431,1025.9577633581073,1060.5419612432968,1090.8499632964963,1115.1225836871276,1135.5826463583994,1152.0162068652762,1165.3586243044308,1176.0134944247852,1182.5403743230997,1187.9056172532889,1192.6826710659248,1197.0701138223878,1201.1315834373854]
["Electric HGVs",0.58369612908002577,1.4023081824235835,2.8826373871831956,5.1538219764425008,8.6264176715023737,13.821496414163324,21.341705614208326,31.740173234352099,45.320336747660221,61.94458017556552,81.061129497209123,101.99325196576044,124.32380488731411,148.15835314300011,173.99950486716304,202.16780706612803,232.20155017147925,262.80774442686288,292.40898197708123,319.692020108306,343.79783951832036,364.28858348257683,381.0430223773688,394.18229111017024,404.04179816584559,411.14426446453962,416.1327994443252,419.6514914828291,422.23446688504913]
["Electric Buses",0.89335483693506268,1.0935152602872131,1.4673581395304209,1.9419962474874728,2.5274549234708648,3.2237291217479145,4.0219043000375532,4.9300998819907669,5.930729490096148,7.002136878484901,8.1235427166811434,9.2873850366700221,10.479983415886203,11.67966503962697,12.857833763908591,13.986767660019934,15.045936315719498,16.025466677214439,16.92228284976834,17.731987732755169,18.446411524871664,19.069172576875374,19.605787065891096,20.062965591522438,20.447759545539434,20.76694200097694,21.026642206673596,21.232152350230692,21.388756705285111]
["Electrolysers",0,0.38608007542995326,0.45410231329055661,0.63851952295306835,3.4242824507005682,6.4713573876251891,10.366354287057915,14.306367682244678,20.209216958853695,26.83501401439468,34.349791919603113,41.937403998988167,42.526233207456613,43.218721242972016,44.099526111191992,45.095584385590925,46.173914325268598,47.222849893617493,47.974775326248817,48.462993998429148,48.779940883240215,48.764769108577198,48.769028224913924,52.039960449919647,66.522488407283419,85.232570107192089,94.436908533113865,110.06427974385448,116.83622459652106]
["Large industry Fuel Switching",11.813517884331308,17.720276826496924,23.627035768662566,29.533794710828232,35.685245976812297,41.836697242796333,47.988148508780355,54.139599774764392,60.291051040748478,69.471734224648586,78.652417408548672,87.833100592448773,97.013783776348845,106.19446696024897,115.3150017695003,124.4355365787516,133.55607138800289,142.67660619725422,151.79714100650551,158.9121337308103,166.02712645511514,173.14211917941998,180.25711190372476,187.37210462802958,220.80605113287078,254.23999763771195,287.67394414255324,321.10789064739441,354.54183715223559]
["Total demand",{"$f":"SUM(B62:B70)","v":6033.2028867834961},{"$f":"SUM(C62:C70)","v":6291.5908483360045},{"$f":"SUM(D62:D70)","v":6537.6078403708434},{"$f":"SUM(E62:E70)","v":6705.4600536987045},{"$f":"SUM(F62:F70)","v":6807.8873391724201},{"$f":"SUM(G62:G70)","v":6961.9577149875195},{"$f":"SUM(H62:H70)","v":7131.5512252706349},{"$f":"SUM(I62:I70)","v":7281.5193464420063},{"$f":"SUM(J62:J70)","v":7456.8526306831654},{"$f":"SUM(K62:K70)","v":7610.3937679392639},{"$f":"SUM(L62:L70)","v":7758.148215104753},{"$f":"SUM(M62:M70)","v":7902.3217110495898},{"$f":"SUM(N62:N70)","v":8032.8226886139482},{"$f":"SUM(O62:O70)","v":8405.5546051440379},{"$f":"SUM(P62:P70)","v":8533.0797736984969},{"$f":"SUM(Q62:Q70)","v":8659.2313195407532},{"$f":"SUM(R62:R70)","v":8773.105858326433},{"$f":"SUM(S62:S70)","v":8882.7557848345223},{"$f":"SUM(T62:T70)","v":8986.5749624143027},{"$f":"SUM(U62:U70)","v":9080.0907586110425},{"$f":"SUM(V62:V70)","v":9166.8837821722536},{"$f":"SUM(W62:W70)","v":9245.8037942926876},{"$f":"SUM(X62:X70)","v":9318.072235867352},{"$f":"SUM(Y62:Y70)","v":9387.5268263696598},{"$f":"SUM(Z62:Z70)","v":9487.3618677495233},{"$f":"SUM(AA62:AA70)","v":9587.6513369287259},{"$f":"SUM(AB62:AB70)","v":9675.7798208803324},{"$f":"SUM(AC62:AC70)","v":9767.3150973680586},{"$f":"SUM(AD62:AD70)","v":9841.6841939045808}]

{"sheet":"Energy Consumed Breakdown GWh","index":15,"n_rows":84,"n_cols":30,"rows_kept":84,"cut":false,"hidden":false,"merged":[]}
["Study adding in large connection projects - energy"]
["Large Industry Fuel Switching, electrolysers, electric buses & HGVs"]
[]
[]
[]
[" Study: Contributions to Large load Energy Consumption GWh - NPg"]
[]
[]
["NPg Best View Study: Contributions to Large load Energy Consumption GWh - NPg",2022,2023,2024,2025,2026,2027,2028,2029,2030,2031,2032,2033,2034,2035,2036,2037,2038,2039,2040,2041,2042,2043,2044,2045,2046,2047,2048,2049,2050]
["Domestic Underlying",{"$f":"'Energy Consumed Breakdown MWh'!B10/1000","v":10512.64293985911},{"$f":"'Energy Consumed Breakdown MWh'!C10/1000","v":10462.231178180018},{"$f":"'Energy Consumed Breakdown MWh'!D10/1000","v":10455.729880590503},{"$f":"'Energy Consumed Breakdown MWh'!E10/1000","v":10452.805320279083},{"$f":"'Energy Consumed Breakdown MWh'!F10/1000","v":10455.303281732922},{"$f":"'Energy Consumed Breakdown MWh'!G10/1000","v":10462.076007318852},{"$f":"'Energy Consumed Breakdown MWh'!H10/1000","v":10478.136777370793},{"$f":"'Energy Consumed Breakdown MWh'!I10/1000","v":10497.377326233383},{"$f":"'Energy Consumed Breakdown MWh'!J10/1000","v":10522.725613224289},{"$f":"'Energy Consumed Breakdown MWh'!K10/1000","v":10556.848736558555},{"$f":"'Energy Consumed Breakdown MWh'!L10/1000","v":10568.38609403123},{"$f":"'Energy Consumed Breakdown MWh'!M10/1000","v":10579.119731191035},{"$f":"'Energy Consumed Breakdown MWh'!N10/1000","v":10589.406165408551},{"$f":"'Energy Consumed Breakdown MWh'!O10/1000","v":10585.587716776978},{"$f":"'Energy Consumed Breakdown MWh'!P10/1000","v":10539.502345382434},{"$f":"'Energy Consumed Breakdown MWh'!Q10/1000","v":10493.060994435435},{"$f":"'Energy Consumed Breakdown MWh'!R10/1000","v":10447.135803147319},{"$f":"'Energy Consumed Breakdown MWh'!S10/1000","v":10402.300864795488},{"$f":"'Energy Consumed Breakdown MWh'!T10/1000","v":10358.079216744243},{"$f":"'Energy Consumed Breakdown MWh'!U10/1000","v":10314.381058009367},{"$f":"'Energy Consumed Breakdown MWh'!V10/1000","v":10271.150357909954},{"$f":"'Energy Consumed Breakdown MWh'!W10/1000","v":10227.676613851134},{"$f":"'Energy Consumed Breakdown MWh'!X10/1000","v":10184.309869681951},{"$f":"'Energy Consumed Breakdown MWh'!Y10/1000","v":10141.131323164993},{"$f":"'Energy Consumed Breakdown MWh'!Z10/1000","v":10098.147993991188},{"$f":"'Energy Consumed Breakdown MWh'!AA10/1000","v":10055.336566770851},{"$f":"'Energy Consumed Breakdown MWh'!AB10/1000","v":10012.671539904781},{"$f":"'Energy Consumed Breakdown MWh'!AC10/1000","v":9970.0776566701388},{"$f":"'Energy Consumed Breakdown MWh'!AD10/1000","v":9941.1156641830021}]
["I & C Underlying",{"$f":"'Energy Consumed Breakdown MWh'!B11/1000","v":23205.226724456199},{"$f":"'Energy Consumed Breakdown MWh'!C11/1000","v":23489.593541722035},{"$f":"'Energy Consumed Breakdown MWh'!D11/1000","v":23692.01114726179},{"$f":"'Energy Consumed Breakdown MWh'!E11/1000","v":23742.616234544686},{"$f":"'Energy Consumed Breakdown MWh'!F11/1000","v":23632.603000548759},{"$f":"'Energy Consumed Breakdown MWh'!G11/1000","v":23518.190663701655},{"$f":"'Energy Consumed Breakdown MWh'!H11/1000","v":23391.36303543071},{"$f":"'Energy Consumed Breakdown MWh'!I11/1000","v":23272.612644610086},{"$f":"'Energy Consumed Breakdown MWh'!J11/1000","v":23189.45599207325},{"$f":"'Energy Consumed Breakdown MWh'!K11/1000","v":23085.846141782844},{"$f":"'Energy Consumed Breakdown MWh'!L11/1000","v":22989.278726965666},{"$f":"'Energy Consumed Breakdown MWh'!M11/1000","v":22899.394588898973},{"$f":"'Energy Consumed Breakdown MWh'!N11/1000","v":22815.829107855832},{"$f":"'Energy Consumed Breakdown MWh'!O11/1000","v":23151.54371445594},{"$f":"'Energy Consumed Breakdown MWh'!P11/1000","v":23079.499807102307},{"$f":"'Energy Consumed Breakdown MWh'!Q11/1000","v":23012.647857361819},{"$f":"'Energy Consumed Breakdown MWh'!R11/1000","v":22950.601327478758},{"$f":"'Energy Consumed Breakdown MWh'!S11/1000","v":22892.96818187918},{"$f":"'Energy Consumed Breakdown MWh'!T11/1000","v":22839.350879922749},{"$f":"'Energy Consumed Breakdown MWh'!U11/1000","v":22789.346368692055},{"$f":"'Energy Consumed Breakdown MWh'!V11/1000","v":22742.546075820057},{"$f":"'Energy Consumed Breakdown MWh'!W11/1000","v":22698.535902354583},{"$f":"'Energy Consumed Breakdown MWh'!X11/1000","v":22656.89621566017},{"$f":"'Energy Consumed Breakdown MWh'!Y11/1000","v":22617.201842357092},{"$f":"'Energy Consumed Breakdown MWh'!Z11/1000","v":22579.022061297313},{"$f":"'Energy Consumed Breakdown MWh'!AA11/1000","v":22541.9205965771},{"$f":"'Energy Consumed Breakdown MWh'!AB11/1000","v":22505.455610586327},{"$f":"'Energy Consumed Breakdown MWh'!AC11/1000","v":22469.179697094169},{"$f":"'Energy Consumed Breakdown MWh'!AD11/1000","v":22432.639874371009}]
["Heat pumps - domestic",{"$f":"'Energy Consumed Breakdown MWh'!B12/1000","v":174.01540757419963},{"$f":"'Energy Consumed Breakdown MWh'!C12/1000","v":216.04754209112659},{"$f":"'Energy Consumed Breakdown MWh'!D12/1000","v":292.82195077061459},{"$f":"'Energy Consumed Breakdown MWh'!E12/1000","v":476.51149429954665},{"$f":"'Energy Consumed Breakdown MWh'!F12/1000","v":746.95975598367602},{"$f":"'Energy Consumed Breakdown MWh'!G12/1000","v":1073.5812315869457},{"$f":"'Energy Consumed Breakdown MWh'!H12/1000","v":1154.5421756477178},{"$f":"'Energy Consumed Breakdown MWh'!I12/1000","v":1207.5577639585549},{"$f":"'Energy Consumed Breakdown MWh'!J12/1000","v":1260.9739359032531},{"$f":"'Energy Consumed Breakdown MWh'!K12/1000","v":1315.4051179065755},{"$f":"'Energy Consumed Breakdown MWh'!L12/1000","v":1370.4758593627434},{"$f":"'Energy Consumed Breakdown MWh'!M12/1000","v":1425.0264335643337},{"$f":"'Energy Consumed Breakdown MWh'!N12/1000","v":1482.4039455828449},{"$f":"'Energy Consumed Breakdown MWh'!O12/1000","v":1728.061288909277},{"$f":"'Energy Consumed Breakdown MWh'!P12/1000","v":2617.9029185070908},{"$f":"'Energy Consumed Breakdown MWh'!Q12/1000","v":3507.3702789422709},{"$f":"'Energy Consumed Breakdown MWh'!R12/1000","v":4373.6129764534735},{"$f":"'Energy Consumed Breakdown MWh'!S12/1000","v":5202.7475746703267},{"$f":"'Energy Consumed Breakdown MWh'!T12/1000","v":5935.7044488745369},{"$f":"'Energy Consumed Breakdown MWh'!U12/1000","v":6581.5647725028448},{"$f":"'Energy Consumed Breakdown MWh'!V12/1000","v":7165.2494876958535},{"$f":"'Energy Consumed Breakdown MWh'!W12/1000","v":7973.0371521546413},{"$f":"'Energy Consumed Breakdown MWh'!X12/1000","v":8802.8124117005136},{"$f":"'Energy Consumed Breakdown MWh'!Y12/1000","v":9627.5978895940007},{"$f":"'Energy Consumed Breakdown MWh'!Z12/1000","v":10443.942314514186},{"$f":"'Energy Consumed Breakdown MWh'!AA12/1000","v":11253.957138648058},{"$f":"'Energy Consumed Breakdown MWh'!AB12/1000","v":12058.07305478399},{"$f":"'Energy Consumed Breakdown MWh'!AC12/1000","v":12856.802769631904},{"$f":"'Energy Consumed Breakdown MWh'!AD12/1000","v":13445.201370402177}]
["Heat pumps - I & C",{"$f":"'Energy Consumed Breakdown MWh'!B13/1000","v":144.0505425267134},{"$f":"'Energy Consumed Breakdown MWh'!C13/1000","v":157.26468403971742},{"$f":"'Energy Consumed Breakdown MWh'!D13/1000","v":172.49547059472553},{"$f":"'Energy Consumed Breakdown MWh'!E13/1000","v":186.94017774490561},{"$f":"'Energy Consumed Breakdown MWh'!F13/1000","v":204.3661308661375},{"$f":"'Energy Consumed Breakdown MWh'!G13/1000","v":240.76980422823237},{"$f":"'Energy Consumed Breakdown MWh'!H13/1000","v":278.91449686734916},{"$f":"'Energy Consumed Breakdown MWh'!I13/1000","v":314.56803824594351},{"$f":"'Energy Consumed Breakdown MWh'!J13/1000","v":346.44514629664934},{"$f":"'Energy Consumed Breakdown MWh'!K13/1000","v":375.90440384232323},{"$f":"'Energy Consumed Breakdown MWh'!L13/1000","v":404.64637506379739},{"$f":"'Energy Consumed Breakdown MWh'!M13/1000","v":433.37971146580827},{"$f":"'Energy Consumed Breakdown MWh'!N13/1000","v":461.99854066169206},{"$f":"'Energy Consumed Breakdown MWh'!O13/1000","v":488.75745888100272},{"$f":"'Energy Consumed Breakdown MWh'!P13/1000","v":751.59037836181744},{"$f":"'Energy Consumed Breakdown MWh'!Q13/1000","v":1010.0093596582485},{"$f":"'Energy Consumed Breakdown MWh'!R13/1000","v":1261.0953142194546},{"$f":"'Energy Consumed Breakdown MWh'!S13/1000","v":1506.4786635118298},{"$f":"'Energy Consumed Breakdown MWh'!T13/1000","v":1739.080172736735},{"$f":"'Energy Consumed Breakdown MWh'!U13/1000","v":1966.0248675773121},{"$f":"'Energy Consumed Breakdown MWh'!V13/1000","v":2180.1066027161692},{"$f":"'Energy Consumed Breakdown MWh'!W13/1000","v":2391.3457725896128},{"$f":"'Energy Consumed Breakdown MWh'!X13/1000","v":2600.1357845195935},{"$f":"'Energy Consumed Breakdown MWh'!Y13/1000","v":2806.9003935908995},{"$f":"'Energy Consumed Breakdown MWh'!Z13/1000","v":3010.9327789830709},{"$f":"'Energy Consumed Breakdown MWh'!AA13/1000","v":3212.2402424349107},{"$f":"'Energy Consumed Breakdown MWh'!AB13/1000","v":3410.7812078400666},{"$f":"'Energy Consumed Breakdown MWh'!AC13/1000","v":3606.5317588027651},{"$f":"'Energy Consumed Breakdown MWh'!AD13/1000","v":3799.4534043528506}]
["EV - cars & vans",{"$f":"'Energy Consumed Breakdown MWh'!B14/1000","v":275.78814262939073},{"$f":"'Energy Consumed Breakdown MWh'!C14/1000","v":449.76456594819172},{"$f":"'Energy Consumed Breakdown MWh'!D14/1000","v":828.0893982877277},{"$f":"'Energy Consumed Breakdown MWh'!E14/1000","v":1281.5061879706798},{"$f":"'Energy Consumed Breakdown MWh'!F14/1000","v":1898.7697301481189},{"$f":"'Energy Consumed Breakdown MWh'!G14/1000","v":2510.5042548617198},{"$f":"'Energy Consumed Breakdown MWh'!H14/1000","v":3124.5513279984016},{"$f":"'Energy Consumed Breakdown MWh'!I14/1000","v":3760.9313482924886},{"$f":"'Energy Consumed Breakdown MWh'!J14/1000","v":4525.0339981029856},{"$f":"'Energy Consumed Breakdown MWh'!K14/1000","v":5265.4033861861453},{"$f":"'Energy Consumed Breakdown MWh'!L14/1000","v":5924.1005414533784},{"$f":"'Energy Consumed Breakdown MWh'!M14/1000","v":6519.7478315103162},{"$f":"'Energy Consumed Breakdown MWh'!N14/1000","v":7045.3506785768523},{"$f":"'Energy Consumed Breakdown MWh'!O14/1000","v":7483.0720072446757},{"$f":"'Energy Consumed Breakdown MWh'!P14/1000","v":7841.0598995472192},{"$f":"'Energy Consumed Breakdown MWh'!Q14/1000","v":8149.7973222169576},{"$f":"'Energy Consumed Breakdown MWh'!R14/1000","v":8413.6724687567203},{"$f":"'Energy Consumed Breakdown MWh'!S14/1000","v":8639.2326172385365},{"$f":"'Energy Consumed Breakdown MWh'!T14/1000","v":8818.9968313982863},{"$f":"'Energy Consumed Breakdown MWh'!U14/1000","v":8957.3416340113909},{"$f":"'Energy Consumed Breakdown MWh'!V14/1000","v":9063.8253508193866},{"$f":"'Energy Consumed Breakdown MWh'!W14/1000","v":9140.9922003957181},{"$f":"'Energy Consumed Breakdown MWh'!X14/1000","v":9194.5841806217486},{"$f":"'Energy Consumed Breakdown MWh'!Y14/1000","v":9233.8911905087862},{"$f":"'Energy Consumed Breakdown MWh'!Z14/1000","v":9254.209926914169},{"$f":"'Energy Consumed Breakdown MWh'!AA14/1000","v":9271.1908352828268},{"$f":"'Energy Consumed Breakdown MWh'!AB14/1000","v":9290.3308282206945},{"$f":"'Energy Consumed Breakdown MWh'!AC14/1000","v":9309.8559551628005},{"$f":"'Energy Consumed Breakdown MWh'!AD14/1000","v":9331.9136299509573}]
["Electric HGVs",{"$f":"'Energy Consumed Breakdown MWh'!B15/1000","v":7.3578745540348507},{"$f":"'Energy Consumed Breakdown MWh'!C15/1000","v":29.654760358851004},{"$f":"'Energy Consumed Breakdown MWh'!D15/1000","v":67.951929296747892},{"$f":"'Energy Consumed Breakdown MWh'!E15/1000","v":128.47166735065466},{"$f":"'Energy Consumed Breakdown MWh'!F15/1000","v":226.26200076204663},{"$f":"'Energy Consumed Breakdown MWh'!G15/1000","v":372.33056486505637},{"$f":"'Energy Consumed Breakdown MWh'!H15/1000","v":578.33573266970348},{"$f":"'Energy Consumed Breakdown MWh'!I15/1000","v":852.77336617204503},{"$f":"'Energy Consumed Breakdown MWh'!J15/1000","v":1197.0355964517905},{"$f":"'Energy Consumed Breakdown MWh'!K15/1000","v":1601.2260653354947},{"$f":"'Energy Consumed Breakdown MWh'!L15/1000","v":2046.2848262070252},{"$f":"'Energy Consumed Breakdown MWh'!M15/1000","v":2510.4240391807989},{"$f":"'Energy Consumed Breakdown MWh'!N15/1000","v":2967.3595439518954},{"$f":"'Energy Consumed Breakdown MWh'!O15/1000","v":3395.5316731486837},{"$f":"'Energy Consumed Breakdown MWh'!P15/1000","v":3780.7287344770693},{"$f":"'Energy Consumed Breakdown MWh'!Q15/1000","v":4115.2268085964688},{"$f":"'Energy Consumed Breakdown MWh'!R15/1000","v":4395.964488370083},{"$f":"'Energy Consumed Breakdown MWh'!S15/1000","v":4623.7000399826866},{"$f":"'Energy Consumed Breakdown MWh'!T15/1000","v":4802.4306356597144},{"$f":"'Energy Consumed Breakdown MWh'!U15/1000","v":4938.96533772156},{"$f":"'Energy Consumed Breakdown MWh'!V15/1000","v":5040.9931785468571},{"$f":"'Energy Consumed Breakdown MWh'!W15/1000","v":5116.2581732124409},{"$f":"'Energy Consumed Breakdown MWh'!X15/1000","v":5171.9788365932563},{"$f":"'Energy Consumed Breakdown MWh'!Y15/1000","v":5213.9200357305854},{"$f":"'Energy Consumed Breakdown MWh'!Z15/1000","v":5246.4676278260813},{"$f":"'Energy Consumed Breakdown MWh'!AA15/1000","v":5272.8385273451695},{"$f":"'Energy Consumed Breakdown MWh'!AB15/1000","v":5295.3081455634838},{"$f":"'Energy Consumed Breakdown MWh'!AC15/1000","v":5315.3959419522826},{"$f":"'Energy Consumed Breakdown MWh'!AD15/1000","v":5334.0681724064807}]
["Electric Buses",{"$f":"'Energy Consumed Breakdown MWh'!B16/1000","v":28.25670329452381},{"$f":"'Energy Consumed Breakdown MWh'!C16/1000","v":42.174724137554279},{"$f":"'Energy Consumed Breakdown MWh'!D16/1000","v":62.611859444597904},{"$f":"'Energy Consumed Breakdown MWh'!E16/1000","v":87.378983750985938},{"$f":"'Energy Consumed Breakdown MWh'!F16/1000","v":116.33127808911388},{"$f":"'Energy Consumed Breakdown MWh'!G16/1000","v":149.04426756670932},{"$f":"'Energy Consumed Breakdown MWh'!H16/1000","v":184.94096533750616},{"$f":"'Energy Consumed Breakdown MWh'!I16/1000","v":224.38878268301875},{"$f":"'Energy Consumed Breakdown MWh'!J16/1000","v":266.66199899857298},{"$f":"'Energy Consumed Breakdown MWh'!K16/1000","v":310.66751071749087},{"$f":"'Energy Consumed Breakdown MWh'!L16/1000","v":355.13220705843486},{"$f":"'Energy Consumed Breakdown MWh'!M16/1000","v":399.4378461481021},{"$f":"'Energy Consumed Breakdown MWh'!N16/1000","v":442.62796387457178},{"$f":"'Energy Consumed Breakdown MWh'!O16/1000","v":483.74155102598928},{"$f":"'Energy Consumed Breakdown MWh'!P16/1000","v":521.82962098008954},{"$f":"'Energy Consumed Breakdown MWh'!Q16/1000","v":556.09275283933869},{"$f":"'Energy Consumed Breakdown MWh'!R16/1000","v":585.99799345504005},{"$f":"'Energy Consumed Breakdown MWh'!S16/1000","v":611.31898975906074},{"$f":"'Energy Consumed Breakdown MWh'!T16/1000","v":632.03821886213348},{"$f":"'Energy Consumed Breakdown MWh'!U16/1000","v":648.490073869713},{"$f":"'Energy Consumed Breakdown MWh'!V16/1000","v":661.41799714116007},{"$f":"'Energy Consumed Breakdown MWh'!W16/1000","v":671.24638186634422},{"$f":"'Energy Consumed Breakdown MWh'!X16/1000","v":678.40860316347062},{"$f":"'Energy Consumed Breakdown MWh'!Y16/1000","v":683.32427931455561},{"$f":"'Energy Consumed Breakdown MWh'!Z16/1000","v":686.39522387501245},{"$f":"'Energy Consumed Breakdown MWh'!AA16/1000","v":688.02547807605288},{"$f":"'Energy Consumed Breakdown MWh'!AB16/1000","v":688.63840059316124},{"$f":"'Energy Consumed Breakdown MWh'!AC16/1000","v":688.62349198364791},{"$f":"'Energy Consumed Breakdown MWh'!AD16/1000","v":688.29541024971468}]
["Electrolysers",{"$f":"'Energy Consumed Breakdown MWh'!B17/1000","v":0},{"$f":"'Energy Consumed Breakdown MWh'!C17/1000","v":4.8907773138180008},{"$f":"'Energy Consumed Breakdown MWh'!D17/1000","v":26.758821016483978},{"$f":"'Energy Consumed Breakdown MWh'!E17/1000","v":755.90484464027497},{"$f":"'Energy Consumed Breakdown MWh'!F17/1000","v":1145.7867601394998},{"$f":"'Energy Consumed Breakdown MWh'!G17/1000","v":1571.1909582544531},{"$f":"'Energy Consumed Breakdown MWh'!H17/1000","v":2060.8373642061788},{"$f":"'Energy Consumed Breakdown MWh'!I17/1000","v":2655.5896561897857},{"$f":"'Energy Consumed Breakdown MWh'!J17/1000","v":3607.5640255551207},{"$f":"'Energy Consumed Breakdown MWh'!K17/1000","v":3977.0242847044128},{"$f":"'Energy Consumed Breakdown MWh'!L17/1000","v":3991.54906796568},{"$f":"'Energy Consumed Breakdown MWh'!M17/1000","v":4378.8403973243348},{"$f":"'Energy Consumed Breakdown MWh'!N17/1000","v":4768.9401459092214},{"$f":"'Energy Consumed Breakdown MWh'!O17/1000","v":4788.0206487007872},{"$f":"'Energy Consumed Breakdown MWh'!P17/1000","v":5367.4069246154113},{"$f":"'Energy Consumed Breakdown MWh'!Q17/1000","v":5280.6924023404426},{"$f":"'Energy Consumed Breakdown MWh'!R17/1000","v":5314.5780136118256},{"$f":"'Energy Consumed Breakdown MWh'!S17/1000","v":5392.5736615304131},{"$f":"'Energy Consumed Breakdown MWh'!T17/1000","v":5823.0271326444636},{"$f":"'Energy Consumed Breakdown MWh'!U17/1000","v":6980.5192983069328},{"$f":"'Energy Consumed Breakdown MWh'!V17/1000","v":7890.4304140679415},{"$f":"'Energy Consumed Breakdown MWh'!W17/1000","v":8707.2035918049078},{"$f":"'Energy Consumed Breakdown MWh'!X17/1000","v":9597.262398200819},{"$f":"'Energy Consumed Breakdown MWh'!Y17/1000","v":10181.094921861231},{"$f":"'Energy Consumed Breakdown MWh'!Z17/1000","v":10715.811280209831},{"$f":"'Energy Consumed Breakdown MWh'!AA17/1000","v":11027.53153386986},{"$f":"'Energy Consumed Breakdown MWh'!AB17/1000","v":11172.637480024407},{"$f":"'Energy Consumed Breakdown MWh'!AC17/1000","v":11576.248098919252},{"$f":"'Energy Consumed Breakdown MWh'!AD17/1000","v":11649.500390182964}]
["Large industry Fuel Switching",{"$f":"'Energy Consumed Breakdown MWh'!B18/1000","v":253.7713345189697},{"$f":"'Energy Consumed Breakdown MWh'!C18/1000","v":380.65700177845468},{"$f":"'Energy Consumed Breakdown MWh'!D18/1000","v":507.54266903793956},{"$f":"'Energy Consumed Breakdown MWh'!E18/1000","v":634.42833629742438},{"$f":"'Energy Consumed Breakdown MWh'!F18/1000","v":851.9039072673761},{"$f":"'Energy Consumed Breakdown MWh'!G18/1000","v":1069.3794782373279},{"$f":"'Energy Consumed Breakdown MWh'!H18/1000","v":1286.8550492072798},{"$f":"'Energy Consumed Breakdown MWh'!I18/1000","v":1504.3306201772318},{"$f":"'Energy Consumed Breakdown MWh'!J18/1000","v":1721.8061911471834},{"$f":"'Energy Consumed Breakdown MWh'!K18/1000","v":1912.8348106825915},{"$f":"'Energy Consumed Breakdown MWh'!L18/1000","v":2103.8634302179989},{"$f":"'Energy Consumed Breakdown MWh'!M18/1000","v":2294.8920497534064},{"$f":"'Energy Consumed Breakdown MWh'!N18/1000","v":2485.9206692888142},{"$f":"'Energy Consumed Breakdown MWh'!O18/1000","v":2676.9492888242221},{"$f":"'Energy Consumed Breakdown MWh'!P18/1000","v":2903.7463556619036},{"$f":"'Energy Consumed Breakdown MWh'!Q18/1000","v":3130.5434224995847},{"$f":"'Energy Consumed Breakdown MWh'!R18/1000","v":3357.3404893372663},{"$f":"'Energy Consumed Breakdown MWh'!S18/1000","v":3584.1375561749473},{"$f":"'Energy Consumed Breakdown MWh'!T18/1000","v":3810.9346230126284},{"$f":"'Energy Consumed Breakdown MWh'!U18/1000","v":4143.7114560283526},{"$f":"'Energy Consumed Breakdown MWh'!V18/1000","v":4476.4882890440767},{"$f":"'Energy Consumed Breakdown MWh'!W18/1000","v":4809.2651220597991},{"$f":"'Energy Consumed Breakdown MWh'!X18/1000","v":5142.0419550755232},{"$f":"'Energy Consumed Breakdown MWh'!Y18/1000","v":5474.8187880912483},{"$f":"'Energy Consumed Breakdown MWh'!Z18/1000","v":5474.8187880912483},{"$f":"'Energy Consumed Breakdown MWh'!AA18/1000","v":5474.8187880912483},{"$f":"'Energy Consumed Breakdown MWh'!AB18/1000","v":5474.8187880912483},{"$f":"'Energy Consumed Breakdown MWh'!AC18/1000","v":5474.8187880912483},{"$f":"'Energy Consumed Breakdown MWh'!AD18/1000","v":5474.8187880912483}]
["Total demand",{"$f":"'Energy Consumed Breakdown MWh'!B19/1000","v":34601.109669413134},{"$f":"'Energy Consumed Breakdown MWh'!C19/1000","v":35232.278775569765},{"$f":"'Energy Consumed Breakdown MWh'!D19/1000","v":36106.013126301143},{"$f":"'Energy Consumed Breakdown MWh'!E19/1000","v":37746.563246878242},{"$f":"'Energy Consumed Breakdown MWh'!F19/1000","v":39278.285845537641},{"$f":"'Energy Consumed Breakdown MWh'!G19/1000","v":40967.067230620953},{"$f":"'Energy Consumed Breakdown MWh'!H19/1000","v":42538.476924735653},{"$f":"'Energy Consumed Breakdown MWh'!I19/1000","v":44290.129546562537},{"$f":"'Energy Consumed Breakdown MWh'!J19/1000","v":46637.702497753089},{"$f":"'Energy Consumed Breakdown MWh'!K19/1000","v":48401.160457716425},{"$f":"'Energy Consumed Breakdown MWh'!L19/1000","v":49753.717128325952},{"$f":"'Energy Consumed Breakdown MWh'!M19/1000","v":51440.262629037097},{"$f":"'Energy Consumed Breakdown MWh'!N19/1000","v":53059.836761110266},{"$f":"'Energy Consumed Breakdown MWh'!O19/1000","v":54781.26534796755},{"$f":"'Energy Consumed Breakdown MWh'!P19/1000","v":57403.266984635338},{"$f":"'Energy Consumed Breakdown MWh'!Q19/1000","v":59255.441198890585},{"$f":"'Energy Consumed Breakdown MWh'!R19/1000","v":61099.998874829944},{"$f":"'Energy Consumed Breakdown MWh'!S19/1000","v":62855.458149542465},{"$f":"'Energy Consumed Breakdown MWh'!T19/1000","v":64759.642159855481},{"$f":"'Energy Consumed Breakdown MWh'!U19/1000","v":67320.344866719533},{"$f":"'Energy Consumed Breakdown MWh'!V19/1000","v":69492.207753761468},{"$f":"'Energy Consumed Breakdown MWh'!W19/1000","v":71735.56091028919},{"$f":"'Energy Consumed Breakdown MWh'!X19/1000","v":74028.430255217027},{"$f":"'Energy Consumed Breakdown MWh'!Y19/1000","v":75979.880664213386},{"$f":"'Energy Consumed Breakdown MWh'!Z19/1000","v":77509.747995702099},{"$f":"'Energy Consumed Breakdown MWh'!AA19/1000","v":78797.859707096082},{"$f":"'Energy Consumed Breakdown MWh'!AB19/1000","v":79908.715055608147},{"$f":"'Energy Consumed Breakdown MWh'!AC19/1000","v":81267.534158308204},{"$f":"'Energy Consumed Breakdown MWh'!AD19/1000","v":82097.006704190397}]
[]
[]
["Consumer Transformation Study: Contributions to Large load Energy Consumption GWh - NPg",2022,2023,2024,2025,2026,2027,2028,2029,2030,2031,2032,2033,2034,2035,2036,2037,2038,2039,2040,2041,2042,2043,2044,2045,2046,2047,2048,2049,2050]
["Domestic Underlying",{"$f":"'Energy Consumed Breakdown MWh'!B23/1000","v":10512.64293985911},{"$f":"'Energy Consumed Breakdown MWh'!C23/1000","v":10462.231178180018},{"$f":"'Energy Consumed Breakdown MWh'!D23/1000","v":10455.729880590503},{"$f":"'Energy Consumed Breakdown MWh'!E23/1000","v":10452.805320279083},{"$f":"'Energy Consumed Breakdown MWh'!F23/1000","v":10455.303281732922},{"$f":"'Energy Consumed Breakdown MWh'!G23/1000","v":10462.076007318852},{"$f":"'Energy Consumed Breakdown MWh'!H23/1000","v":10478.136777370793},{"$f":"'Energy Consumed Breakdown MWh'!I23/1000","v":10497.377326233383},{"$f":"'Energy Consumed Breakdown MWh'!J23/1000","v":10522.725613224289},{"$f":"'Energy Consumed Breakdown MWh'!K23/1000","v":10556.848736558555},{"$f":"'Energy Consumed Breakdown MWh'!L23/1000","v":10568.38609403123},{"$f":"'Energy Consumed Breakdown MWh'!M23/1000","v":10579.119731191035},{"$f":"'Energy Consumed Breakdown MWh'!N23/1000","v":10589.406165408551},{"$f":"'Energy Consumed Breakdown MWh'!O23/1000","v":10585.587716776978},{"$f":"'Energy Consumed Breakdown MWh'!P23/1000","v":10539.502345382434},{"$f":"'Energy Consumed Breakdown MWh'!Q23/1000","v":10493.060994435435},{"$f":"'Energy Consumed Breakdown MWh'!R23/1000","v":10447.135803147319},{"$f":"'Energy Consumed Breakdown MWh'!S23/1000","v":10402.300864795488},{"$f":"'Energy Consumed Breakdown MWh'!T23/1000","v":10358.079216744243},{"$f":"'Energy Consumed Breakdown MWh'!U23/1000","v":10314.381058009367},{"$f":"'Energy Consumed Breakdown MWh'!V23/1000","v":10271.150357909954},{"$f":"'Energy Consumed Breakdown MWh'!W23/1000","v":10227.676613851134},{"$f":"'Energy Consumed Breakdown MWh'!X23/1000","v":10184.309869681951},{"$f":"'Energy Consumed Breakdown MWh'!Y23/1000","v":10141.131323164993},{"$f":"'Energy Consumed Breakdown MWh'!Z23/1000","v":10098.147993991188},{"$f":"'Energy Consumed Breakdown MWh'!AA23/1000","v":10055.336566770851},{"$f":"'Energy Consumed Breakdown MWh'!AB23/1000","v":10012.671539904781},{"$f":"'Energy Consumed Breakdown MWh'!AC23/1000","v":9970.0776566701388},{"$f":"'Energy Consumed Breakdown MWh'!AD23/1000","v":9941.1156641830021}]
["I & C Underlying",{"$f":"'Energy Consumed Breakdown MWh'!B24/1000","v":23205.226724456199},{"$f":"'Energy Consumed Breakdown MWh'!C24/1000","v":23489.593541722035},{"$f":"'Energy Consumed Breakdown MWh'!D24/1000","v":23692.01114726179},{"$f":"'Energy Consumed Breakdown MWh'!E24/1000","v":23742.616234544686},{"$f":"'Energy Consumed Breakdown MWh'!F24/1000","v":23632.603000548759},{"$f":"'Energy Consumed Breakdown MWh'!G24/1000","v":23518.190663701655},{"$f":"'Energy Consumed Breakdown MWh'!H24/1000","v":23391.36303543071},{"$f":"'Energy Consumed Breakdown MWh'!I24/1000","v":23272.612644610086},{"$f":"'Energy Consumed Breakdown MWh'!J24/1000","v":23189.45599207325},{"$f":"'Energy Consumed Breakdown MWh'!K24/1000","v":23085.846141782844},{"$f":"'Energy Consumed Breakdown MWh'!L24/1000","v":22989.278726965666},{"$f":"'Energy Consumed Breakdown MWh'!M24/1000","v":22899.394588898973},{"$f":"'Energy Consumed Breakdown MWh'!N24/1000","v":22815.829107855832},{"$f":"'Energy Consumed Breakdown MWh'!O24/1000","v":23151.54371445594},{"$f":"'Energy Consumed Breakdown MWh'!P24/1000","v":23079.499807102307},{"$f":"'Energy Consumed Breakdown MWh'!Q24/1000","v":23012.647857361819},{"$f":"'Energy Consumed Breakdown MWh'!R24/1000","v":22950.601327478758},{"$f":"'Energy Consumed Breakdown MWh'!S24/1000","v":22892.96818187918},{"$f":"'Energy Consumed Breakdown MWh'!T24/1000","v":22839.350879922749},{"$f":"'Energy Consumed Breakdown MWh'!U24/1000","v":22789.346368692055},{"$f":"'Energy Consumed Breakdown MWh'!V24/1000","v":22742.546075820057},{"$f":"'Energy Consumed Breakdown MWh'!W24/1000","v":22698.535902354583},{"$f":"'Energy Consumed Breakdown MWh'!X24/1000","v":22656.89621566017},{"$f":"'Energy Consumed Breakdown MWh'!Y24/1000","v":22617.201842357092},{"$f":"'Energy Consumed Breakdown MWh'!Z24/1000","v":22579.022061297313},{"$f":"'Energy Consumed Breakdown MWh'!AA24/1000","v":22541.9205965771},{"$f":"'Energy Consumed Breakdown MWh'!AB24/1000","v":22505.455610586327},{"$f":"'Energy Consumed Breakdown MWh'!AC24/1000","v":22469.179697094169},{"$f":"'Energy Consumed Breakdown MWh'!AD24/1000","v":22432.639874371009}]
["Heat pumps - domestic",{"$f":"'Energy Consumed Breakdown MWh'!B25/1000","v":174.01540757419963},{"$f":"'Energy Consumed Breakdown MWh'!C25/1000","v":216.04754209112659},{"$f":"'Energy Consumed Breakdown MWh'!D25/1000","v":292.82195077061459},{"$f":"'Energy Consumed Breakdown MWh'!E25/1000","v":476.51149429954665},{"$f":"'Energy Consumed Breakdown MWh'!F25/1000","v":746.95975598367602},{"$f":"'Energy Consumed Breakdown MWh'!G25/1000","v":1073.5812315869457},{"$f":"'Energy Consumed Breakdown MWh'!H25/1000","v":1154.5421756477178},{"$f":"'Energy Consumed Breakdown MWh'!I25/1000","v":1207.5577639585549},{"$f":"'Energy Consumed Breakdown MWh'!J25/1000","v":1260.9739359032531},{"$f":"'Energy Consumed Breakdown MWh'!K25/1000","v":1315.4051179065755},{"$f":"'Energy Consumed Breakdown MWh'!L25/1000","v":1370.4758593627434},{"$f":"'Energy Consumed Breakdown MWh'!M25/1000","v":1425.0264335643337},{"$f":"'Energy Consumed Breakdown MWh'!N25/1000","v":1482.4039455828449},{"$f":"'Energy Consumed Breakdown MWh'!O25/1000","v":1728.061288909277},{"$f":"'Energy Consumed Breakdown MWh'!P25/1000","v":2617.9029185070908},{"$f":"'Energy Consumed Breakdown MWh'!Q25/1000","v":3507.3702789422709},{"$f":"'Energy Consumed Breakdown MWh'!R25/1000","v":4373.6129764534735},{"$f":"'Energy Consumed Breakdown MWh'!S25/1000","v":5202.7475746703267},{"$f":"'Energy Consumed Breakdown MWh'!T25/1000","v":5935.7044488745369},{"$f":"'Energy Consumed Breakdown MWh'!U25/1000","v":6581.5647725028448},{"$f":"'Energy Consumed Breakdown MWh'!V25/1000","v":7165.2494876958535},{"$f":"'Energy Consumed Breakdown MWh'!W25/1000","v":7973.0371521546413},{"$f":"'Energy Consumed Breakdown MWh'!X25/1000","v":8802.8124117005136},{"$f":"'Energy Consumed Breakdown MWh'!Y25/1000","v":9627.5978895940007},{"$f":"'Energy Consumed Breakdown MWh'!Z25/1000","v":10443.942314514186},{"$f":"'Energy Consumed Breakdown MWh'!AA25/1000","v":11253.957138648058},{"$f":"'Energy Consumed Breakdown MWh'!AB25/1000","v":12058.07305478399},{"$f":"'Energy Consumed Breakdown MWh'!AC25/1000","v":12856.802769631904},{"$f":"'Energy Consumed Breakdown MWh'!AD25/1000","v":13445.201370402177}]
["Heat pumps - I & C",{"$f":"'Energy Consumed Breakdown MWh'!B26/1000","v":144.0505425267134},{"$f":"'Energy Consumed Breakdown MWh'!C26/1000","v":157.26468403971742},{"$f":"'Energy Consumed Breakdown MWh'!D26/1000","v":172.49547059472553},{"$f":"'Energy Consumed Breakdown MWh'!E26/1000","v":186.94017774490561},{"$f":"'Energy Consumed Breakdown MWh'!F26/1000","v":204.3661308661375},{"$f":"'Energy Consumed Breakdown MWh'!G26/1000","v":240.76980422823237},{"$f":"'Energy Consumed Breakdown MWh'!H26/1000","v":278.91449686734916},{"$f":"'Energy Consumed Breakdown MWh'!I26/1000","v":314.56803824594351},{"$f":"'Energy Consumed Breakdown MWh'!J26/1000","v":346.44514629664934},{"$f":"'Energy Consumed Breakdown MWh'!K26/1000","v":375.90440384232323},{"$f":"'Energy Consumed Breakdown MWh'!L26/1000","v":404.64637506379739},{"$f":"'Energy Consumed Breakdown MWh'!M26/1000","v":433.37971146580827},{"$f":"'Energy Consumed Breakdown MWh'!N26/1000","v":461.99854066169206},{"$f":"'Energy Consumed Breakdown MWh'!O26/1000","v":488.75745888100272},{"$f":"'Energy Consumed Breakdown MWh'!P26/1000","v":751.59037836181744},{"$f":"'Energy Consumed Breakdown MWh'!Q26/1000","v":1010.0093596582485},{"$f":"'Energy Consumed Breakdown MWh'!R26/1000","v":1261.0953142194546},{"$f":"'Energy Consumed Breakdown MWh'!S26/1000","v":1506.4786635118298},{"$f":"'Energy Consumed Breakdown MWh'!T26/1000","v":1739.080172736735},{"$f":"'Energy Consumed Breakdown MWh'!U26/1000","v":1966.0248675773121},{"$f":"'Energy Consumed Breakdown MWh'!V26/1000","v":2180.1066027161692},{"$f":"'Energy Consumed Breakdown MWh'!W26/1000","v":2391.3457725896128},{"$f":"'Energy Consumed Breakdown MWh'!X26/1000","v":2600.1357845195935},{"$f":"'Energy Consumed Breakdown MWh'!Y26/1000","v":2806.9003935908995},{"$f":"'Energy Consumed Breakdown MWh'!Z26/1000","v":3010.9327789830709},{"$f":"'Energy Consumed Breakdown MWh'!AA26/1000","v":3212.2402424349107},{"$f":"'Energy Consumed Breakdown MWh'!AB26/1000","v":3410.7812078400666},{"$f":"'Energy Consumed Breakdown MWh'!AC26/1000","v":3606.5317588027651},{"$f":"'Energy Consumed Breakdown MWh'!AD26/1000","v":3799.4534043528506}]
["EV - cars & vans",{"$f":"'Energy Consumed Breakdown MWh'!B27/1000","v":275.78814262939073},{"$f":"'Energy Consumed Breakdown MWh'!C27/1000","v":461.88095469517634},{"$f":"'Energy Consumed Breakdown MWh'!D27/1000","v":861.72440681790169},{"$f":"'Energy Consumed Breakdown MWh'!E27/1000","v":1347.5870850003184},{"$f":"'Energy Consumed Breakdown MWh'!F27/1000","v":1981.8337167936177},{"$f":"'Energy Consumed Breakdown MWh'!G27/1000","v":2607.4809660803694},{"$f":"'Energy Consumed Breakdown MWh'!H27/1000","v":3263.9368225375542},{"$f":"'Energy Consumed Breakdown MWh'!I27/1000","v":3936.9535355230878},{"$f":"'Energy Consumed Breakdown MWh'!J27/1000","v":4768.3076247925273},{"$f":"'Energy Consumed Breakdown MWh'!K27/1000","v":5591.91809822911},{"$f":"'Energy Consumed Breakdown MWh'!L27/1000","v":6325.450882406788},{"$f":"'Energy Consumed Breakdown MWh'!M27/1000","v":6987.3282051509932},{"$f":"'Energy Consumed Breakdown MWh'!N27/1000","v":7577.7773005932468},{"$f":"'Energy Consumed Breakdown MWh'!O27/1000","v":8074.6776390860277},{"$f":"'Energy Consumed Breakdown MWh'!P27/1000","v":8488.3622349375655},{"$f":"'Energy Consumed Breakdown MWh'!Q27/1000","v":8847.3534279042415},{"$f":"'Energy Consumed Breakdown MWh'!R27/1000","v":9159.4049078873541},{"$f":"'Energy Consumed Breakdown MWh'!S27/1000","v":9432.5961819076365},{"$f":"'Energy Consumed Breakdown MWh'!T27/1000","v":9658.5280451698181},{"$f":"'Energy Consumed Breakdown MWh'!U27/1000","v":9829.3161050519648},{"$f":"'Energy Consumed Breakdown MWh'!V27/1000","v":9966.7883549640865},{"$f":"'Energy Consumed Breakdown MWh'!W27/1000","v":10074.146798625001},{"$f":"'Energy Consumed Breakdown MWh'!X27/1000","v":10159.374229723691},{"$f":"'Energy Consumed Breakdown MWh'!Y27/1000","v":10228.156234402744},{"$f":"'Energy Consumed Breakdown MWh'!Z27/1000","v":10267.841898619377},{"$f":"'Energy Consumed Breakdown MWh'!AA27/1000","v":10305.214694041051},{"$f":"'Energy Consumed Breakdown MWh'!AB27/1000","v":10344.117943941634},{"$f":"'Energy Consumed Breakdown MWh'!AC27/1000","v":10385.179638649437},{"$f":"'Energy Consumed Breakdown MWh'!AD27/1000","v":10428.474249740451}]
["Electric HGVs",{"$f":"'Energy Consumed Breakdown MWh'!B28/1000","v":7.3578745540348507},{"$f":"'Energy Consumed Breakdown MWh'!C28/1000","v":21.535537672849575},{"$f":"'Energy Consumed Breakdown MWh'!D28/1000","v":46.804883060544483},{"$f":"'Energy Consumed Breakdown MWh'!E28/1000","v":86.371457358541718},{"$f":"'Energy Consumed Breakdown MWh'!F28/1000","v":148.15134146432695},{"$f":"'Energy Consumed Breakdown MWh'!G28/1000","v":240.73190355666679},{"$f":"'Energy Consumed Breakdown MWh'!H28/1000","v":372.95087838310099},{"$f":"'Energy Consumed Breakdown MWh'!I28/1000","v":551.32110295457971},{"$f":"'Energy Consumed Breakdown MWh'!J28/1000","v":778.18292142925429},{"$f":"'Energy Consumed Breakdown MWh'!K28/1000","v":1051.6178610886363},{"$f":"'Energy Consumed Breakdown MWh'!L28/1000","v":1370.5911337140592},{"$f":"'Energy Consumed Breakdown MWh'!M28/1000","v":1735.0880213493281},{"$f":"'Energy Consumed Breakdown MWh'!N28/1000","v":2142.8400723155605},{"$f":"'Energy Consumed Breakdown MWh'!O28/1000","v":2582.6242728527218},{"$f":"'Energy Consumed Breakdown MWh'!P28/1000","v":3033.7914683799518},{"$f":"'Energy Consumed Breakdown MWh'!Q28/1000","v":3472.6687997519234},{"$f":"'Energy Consumed Breakdown MWh'!R28/1000","v":3879.5035075267733},{"$f":"'Energy Consumed Breakdown MWh'!S28/1000","v":4241.1691546644561},{"$f":"'Energy Consumed Breakdown MWh'!T28/1000","v":4550.7987715223771},{"$f":"'Energy Consumed Breakdown MWh'!U28/1000","v":4806.5355124919006},{"$f":"'Energy Consumed Breakdown MWh'!V28/1000","v":5009.862455972484},{"$f":"'Energy Consumed Breakdown MWh'!W28/1000","v":5165.216667805521},{"$f":"'Energy Consumed Breakdown MWh'!X28/1000","v":5279.5074705962061},{"$f":"'Energy Consumed Breakdown MWh'!Y28/1000","v":5361.3393373481586},{"$f":"'Energy Consumed Breakdown MWh'!Z28/1000","v":5419.6185016418904},{"$f":"'Energy Consumed Breakdown MWh'!AA28/1000","v":5462.0753640086887},{"$f":"'Energy Consumed Breakdown MWh'!AB28/1000","v":5494.5457182808668},{"$f":"'Energy Consumed Breakdown MWh'!AC28/1000","v":5520.9965102020442},{"$f":"'Energy Consumed Breakdown MWh'!AD28/1000","v":5543.9391456987441}]
["Electric Buses",{"$f":"'Energy Consumed Breakdown MWh'!B29/1000","v":28.25670329452381},{"$f":"'Energy Consumed Breakdown MWh'!C29/1000","v":37.892196070636274},{"$f":"'Energy Consumed Breakdown MWh'!D29/1000","v":53.762655374384181},{"$f":"'Energy Consumed Breakdown MWh'!E29/1000","v":73.630524802782659},{"$f":"'Energy Consumed Breakdown MWh'!F29/1000","v":97.569549911557758},{"$f":"'Energy Consumed Breakdown MWh'!G29/1000","v":125.30708163992301},{"$f":"'Energy Consumed Breakdown MWh'!H29/1000","v":156.35490615182277},{"$f":"'Energy Consumed Breakdown MWh'!I29/1000","v":190.86465891688368},{"$f":"'Energy Consumed Breakdown MWh'!J29/1000","v":228.52914649294468},{"$f":"'Energy Consumed Breakdown MWh'!K29/1000","v":268.99828753229156},{"$f":"'Energy Consumed Breakdown MWh'!L29/1000","v":311.68109403908352},{"$f":"'Energy Consumed Breakdown MWh'!M29/1000","v":355.95746260913978},{"$f":"'Energy Consumed Breakdown MWh'!N29/1000","v":400.50775065117784},{"$f":"'Energy Consumed Breakdown MWh'!O29/1000","v":443.85670341920002},{"$f":"'Energy Consumed Breakdown MWh'!P29/1000","v":484.76426520107083},{"$f":"'Energy Consumed Breakdown MWh'!Q29/1000","v":522.39427089128549},{"$f":"'Energy Consumed Breakdown MWh'!R29/1000","v":556.28670356705197},{"$f":"'Energy Consumed Breakdown MWh'!S29/1000","v":586.29463423256277},{"$f":"'Energy Consumed Breakdown MWh'!T29/1000","v":612.43682745047965},{"$f":"'Energy Consumed Breakdown MWh'!U29/1000","v":634.82646083000725},{"$f":"'Energy Consumed Breakdown MWh'!V29/1000","v":653.67797579590206},{"$f":"'Energy Consumed Breakdown MWh'!W29/1000","v":669.27306064262166},{"$f":"'Energy Consumed Breakdown MWh'!X29/1000","v":681.93305164185983},{"$f":"'Energy Consumed Breakdown MWh'!Y29/1000","v":692.00029364007105},{"$f":"'Energy Consumed Breakdown MWh'!Z29/1000","v":699.8225722039258},{"$f":"'Energy Consumed Breakdown MWh'!AA29/1000","v":705.7380016355005},{"$f":"'Energy Consumed Breakdown MWh'!AB29/1000","v":710.06321393194446},{"$f":"'Energy Consumed Breakdown MWh'!AC29/1000","v":713.10276450597087},{"$f":"'Energy Consumed Breakdown MWh'!AD29/1000","v":715.1488337365771}]
["Electrolysers",{"$f":"'Energy Consumed Breakdown MWh'!B30/1000","v":0},{"$f":"'Energy Consumed Breakdown MWh'!C30/1000","v":4.4807757693205437},{"$f":"'Energy Consumed Breakdown MWh'!D30/1000","v":9.1712619601239727},{"$f":"'Energy Consumed Breakdown MWh'!E30/1000","v":4.3216491707120035},{"$f":"'Energy Consumed Breakdown MWh'!F30/1000","v":9.7005570899782576},{"$f":"'Energy Consumed Breakdown MWh'!G30/1000","v":54.081235789364001},{"$f":"'Energy Consumed Breakdown MWh'!H30/1000","v":103.52613097725916},{"$f":"'Energy Consumed Breakdown MWh'!I30/1000","v":175.3883233522678},{"$f":"'Energy Consumed Breakdown MWh'!J30/1000","v":409.2176119981749},{"$f":"'Energy Consumed Breakdown MWh'!K30/1000","v":542.47752681018926},{"$f":"'Energy Consumed Breakdown MWh'!L30/1000","v":901.62861691947091},{"$f":"'Energy Consumed Breakdown MWh'!M30/1000","v":1225.6016430738507},{"$f":"'Energy Consumed Breakdown MWh'!N30/1000","v":1612.9317705263445},{"$f":"'Energy Consumed Breakdown MWh'!O30/1000","v":1830.7702412311835},{"$f":"'Energy Consumed Breakdown MWh'!P30/1000","v":2126.5052834047792},{"$f":"'Energy Consumed Breakdown MWh'!Q30/1000","v":2362.516489231306},{"$f":"'Energy Consumed Breakdown MWh'!R30/1000","v":2371.1236447680176},{"$f":"'Energy Consumed Breakdown MWh'!S30/1000","v":2428.3442409795607},{"$f":"'Energy Consumed Breakdown MWh'!T30/1000","v":2638.2494142776241},{"$f":"'Energy Consumed Breakdown MWh'!U30/1000","v":3392.7202304227053},{"$f":"'Energy Consumed Breakdown MWh'!V30/1000","v":3869.9641876004143},{"$f":"'Energy Consumed Breakdown MWh'!W30/1000","v":4215.8056019871001},{"$f":"'Energy Consumed Breakdown MWh'!X30/1000","v":4544.7248403346848},{"$f":"'Energy Consumed Breakdown MWh'!Y30/1000","v":4669.7390626145434},{"$f":"'Energy Consumed Breakdown MWh'!Z30/1000","v":4752.6826508476424},{"$f":"'Energy Consumed Breakdown MWh'!AA30/1000","v":4678.943484948034},{"$f":"'Energy Consumed Breakdown MWh'!AB30/1000","v":4590.7148933401222},{"$f":"'Energy Consumed Breakdown MWh'!AC30/1000","v":4385.0881985044161},{"$f":"'Energy Consumed Breakdown MWh'!AD30/1000","v":4130.0186817180011}]
["Large industry Fuel Switching",{"$f":"'Energy Consumed Breakdown MWh'!B31/1000","v":119.11843918153185},{"$f":"'Energy Consumed Breakdown MWh'!C31/1000","v":178.67765877229738},{"$f":"'Energy Consumed Breakdown MWh'!D31/1000","v":238.23687836306314},{"$f":"'Energy Consumed Breakdown MWh'!E31/1000","v":297.79609795382913},{"$f":"'Energy Consumed Breakdown MWh'!F31/1000","v":395.91700681498429},{"$f":"'Energy Consumed Breakdown MWh'!G31/1000","v":494.03791567613905},{"$f":"'Energy Consumed Breakdown MWh'!H31/1000","v":592.15882453729421},{"$f":"'Energy Consumed Breakdown MWh'!I31/1000","v":690.27973339844891},{"$f":"'Energy Consumed Breakdown MWh'!J31/1000","v":788.4006422596043},{"$f":"'Energy Consumed Breakdown MWh'!K31/1000","v":917.63611211091052},{"$f":"'Energy Consumed Breakdown MWh'!L31/1000","v":1046.8715819622169},{"$f":"'Energy Consumed Breakdown MWh'!M31/1000","v":1176.1070518135227},{"$f":"'Energy Consumed Breakdown MWh'!N31/1000","v":1305.3425216648291},{"$f":"'Energy Consumed Breakdown MWh'!O31/1000","v":1434.5779915161356},{"$f":"'Energy Consumed Breakdown MWh'!P31/1000","v":1608.4053490112624},{"$f":"'Energy Consumed Breakdown MWh'!Q31/1000","v":1782.2327065063894},{"$f":"'Energy Consumed Breakdown MWh'!R31/1000","v":1956.0600640015164},{"$f":"'Energy Consumed Breakdown MWh'!S31/1000","v":2129.8874214966431},{"$f":"'Energy Consumed Breakdown MWh'!T31/1000","v":2303.7147789917699},{"$f":"'Energy Consumed Breakdown MWh'!U31/1000","v":2661.0085638709725},{"$f":"'Energy Consumed Breakdown MWh'!V31/1000","v":3018.302348750176},{"$f":"'Energy Consumed Breakdown MWh'!W31/1000","v":3375.5961336293781},{"$f":"'Energy Consumed Breakdown MWh'!X31/1000","v":3732.8899185085816},{"$f":"'Energy Consumed Breakdown MWh'!Y31/1000","v":4090.1837033877846},{"$f":"'Energy Consumed Breakdown MWh'!Z31/1000","v":4678.2606561662533},{"$f":"'Energy Consumed Breakdown MWh'!AA31/1000","v":5266.3376089447256},{"$f":"'Energy Consumed Breakdown MWh'!AB31/1000","v":5854.4145617231943},{"$f":"'Energy Consumed Breakdown MWh'!AC31/1000","v":6442.4915145016648},{"$f":"'Energy Consumed Breakdown MWh'!AD31/1000","v":7030.5684672801344}]
["Total demand",{"$f":"'Energy Consumed Breakdown MWh'!B32/1000","v":34466.456774075697},{"$f":"'Energy Consumed Breakdown MWh'!C32/1000","v":35029.604069013178},{"$f":"'Energy Consumed Breakdown MWh'!D32/1000","v":35822.758534793662},{"$f":"'Energy Consumed Breakdown MWh'!E32/1000","v":36668.580041154397},{"$f":"'Energy Consumed Breakdown MWh'!F32/1000","v":37672.404341205947},{"$f":"'Energy Consumed Breakdown MWh'!G32/1000","v":38816.256809578153},{"$f":"'Energy Consumed Breakdown MWh'!H32/1000","v":39791.884047903608},{"$f":"'Energy Consumed Breakdown MWh'!I32/1000","v":40836.923127193237},{"$f":"'Energy Consumed Breakdown MWh'!J32/1000","v":42292.238634469941},{"$f":"'Energy Consumed Breakdown MWh'!K32/1000","v":43706.652285861433},{"$f":"'Energy Consumed Breakdown MWh'!L32/1000","v":45289.010364465052},{"$f":"'Energy Consumed Breakdown MWh'!M32/1000","v":46817.00284911698},{"$f":"'Energy Consumed Breakdown MWh'!N32/1000","v":48389.037175260077},{"$f":"'Energy Consumed Breakdown MWh'!O32/1000","v":50320.457027128468},{"$f":"'Energy Consumed Breakdown MWh'!P32/1000","v":52730.324050288276},{"$f":"'Energy Consumed Breakdown MWh'!Q32/1000","v":55010.254184682919},{"$f":"'Energy Consumed Breakdown MWh'!R32/1000","v":56954.824249049707},{"$f":"'Energy Consumed Breakdown MWh'!S32/1000","v":58822.786918137703},{"$f":"'Energy Consumed Breakdown MWh'!T32/1000","v":60635.94255569033},{"$f":"'Energy Consumed Breakdown MWh'!U32/1000","v":62975.723939449133},{"$f":"'Energy Consumed Breakdown MWh'!V32/1000","v":64877.647847225096},{"$f":"'Energy Consumed Breakdown MWh'!W32/1000","v":66790.633703639614},{"$f":"'Energy Consumed Breakdown MWh'!X32/1000","v":68642.583792367237},{"$f":"'Energy Consumed Breakdown MWh'!Y32/1000","v":70234.25008010029},{"$f":"'Energy Consumed Breakdown MWh'!Z32/1000","v":71950.271428264852},{"$f":"'Energy Consumed Breakdown MWh'!AA32/1000","v":73481.76369800893},{"$f":"'Energy Consumed Breakdown MWh'!AB32/1000","v":74980.837744332923},{"$f":"'Energy Consumed Breakdown MWh'!AC32/1000","v":76349.450508562499},{"$f":"'Energy Consumed Breakdown MWh'!AD32/1000","v":77466.559691482951}]
[]
[]
["System Transformation Study: Contributions to Large load Energy Consumption GWh - NPg",2022,2023,2024,2025,2026,2027,2028,2029,2030,2031,2032,2033,2034,2035,2036,2037,2038,2039,2040,2041,2042,2043,2044,2045,2046,2047,2048,2049,2050]
["Domestic Underlying",{"$f":"'Energy Consumed Breakdown MWh'!B36/1000","v":10512.64293985911},{"$f":"'Energy Consumed Breakdown MWh'!C36/1000","v":10464.724956686769},{"$f":"'Energy Consumed Breakdown MWh'!D36/1000","v":10457.39335512901},{"$f":"'Energy Consumed Breakdown MWh'!E36/1000","v":10453.938244232673},{"$f":"'Energy Consumed Breakdown MWh'!F36/1000","v":10456.512003953816},{"$f":"'Energy Consumed Breakdown MWh'!G36/1000","v":10463.694870353995},{"$f":"'Energy Consumed Breakdown MWh'!H36/1000","v":10480.109967543758},{"$f":"'Energy Consumed Breakdown MWh'!I36/1000","v":10499.61480723382},{"$f":"'Energy Consumed Breakdown MWh'!J36/1000","v":10526.260852497599},{"$f":"'Energy Consumed Breakdown MWh'!K36/1000","v":10560.754437591486},{"$f":"'Energy Consumed Breakdown MWh'!L36/1000","v":10572.755307627694},{"$f":"'Energy Consumed Breakdown MWh'!M36/1000","v":10583.987127330904},{"$f":"'Energy Consumed Breakdown MWh'!N36/1000","v":10595.161266875659},{"$f":"'Energy Consumed Breakdown MWh'!O36/1000","v":10586.287643133977},{"$f":"'Energy Consumed Breakdown MWh'!P36/1000","v":10566.76545762806},{"$f":"'Energy Consumed Breakdown MWh'!Q36/1000","v":10555.865269433707},{"$f":"'Energy Consumed Breakdown MWh'!R36/1000","v":10545.154771148098},{"$f":"'Energy Consumed Breakdown MWh'!S36/1000","v":10533.219438032855},{"$f":"'Energy Consumed Breakdown MWh'!T36/1000","v":10520.437813399752},{"$f":"'Energy Consumed Breakdown MWh'!U36/1000","v":10507.067548646804},{"$f":"'Energy Consumed Breakdown MWh'!V36/1000","v":10491.575340733329},{"$f":"'Energy Consumed Breakdown MWh'!W36/1000","v":10472.124182665746},{"$f":"'Energy Consumed Breakdown MWh'!X36/1000","v":10447.807889214144},{"$f":"'Energy Consumed Breakdown MWh'!Y36/1000","v":10417.591170492742},{"$f":"'Energy Consumed Breakdown MWh'!Z36/1000","v":10381.828036749524},{"$f":"'Energy Consumed Breakdown MWh'!AA36/1000","v":10342.569372399455},{"$f":"'Energy Consumed Breakdown MWh'!AB36/1000","v":10299.759305307689},{"$f":"'Energy Consumed Breakdown MWh'!AC36/1000","v":10253.022661632533},{"$f":"'Energy Consumed Breakdown MWh'!AD36/1000","v":10207.589111187044}]
["I & C Underlying",{"$f":"'Energy Consumed Breakdown MWh'!B37/1000","v":23196.643691962108},{"$f":"'Energy Consumed Breakdown MWh'!C37/1000","v":23546.392315415636},{"$f":"'Energy Consumed Breakdown MWh'!D37/1000","v":23818.884181811572},{"$f":"'Energy Consumed Breakdown MWh'!E37/1000","v":23944.168638089126},{"$f":"'Energy Consumed Breakdown MWh'!F37/1000","v":23913.348790906693},{"$f":"'Energy Consumed Breakdown MWh'!G37/1000","v":23882.549025393822},{"$f":"'Energy Consumed Breakdown MWh'!H37/1000","v":23843.654577508518},{"$f":"'Energy Consumed Breakdown MWh'!I37/1000","v":23817.055659287209},{"$f":"'Energy Consumed Breakdown MWh'!J37/1000","v":23830.162714156031},{"$f":"'Energy Consumed Breakdown MWh'!K37/1000","v":23826.819008895331},{"$f":"'Energy Consumed Breakdown MWh'!L37/1000","v":23834.406640565096},{"$f":"'Energy Consumed Breakdown MWh'!M37/1000","v":23852.449176077775},{"$f":"'Energy Consumed Breakdown MWh'!N37/1000","v":23880.460983925863},{"$f":"'Energy Consumed Breakdown MWh'!O37/1000","v":24331.278746311062},{"$f":"'Energy Consumed Breakdown MWh'!P37/1000","v":24377.735377355166},{"$f":"'Energy Consumed Breakdown MWh'!Q37/1000","v":24432.649129250836},{"$f":"'Energy Consumed Breakdown MWh'!R37/1000","v":24495.497510541343},{"$f":"'Energy Consumed Breakdown MWh'!S37/1000","v":24565.748798387129},{"$f":"'Energy Consumed Breakdown MWh'!T37/1000","v":24639.624825254574},{"$f":"'Energy Consumed Breakdown MWh'!U37/1000","v":24713.520710764966},{"$f":"'Energy Consumed Breakdown MWh'!V37/1000","v":24787.436402679225},{"$f":"'Energy Consumed Breakdown MWh'!W37/1000","v":24861.371848895706},{"$f":"'Energy Consumed Breakdown MWh'!X37/1000","v":24935.326997449778},{"$f":"'Energy Consumed Breakdown MWh'!Y37/1000","v":25009.301796513511},{"$f":"'Energy Consumed Breakdown MWh'!Z37/1000","v":25083.296194395312},{"$f":"'Energy Consumed Breakdown MWh'!AA37/1000","v":25157.310139539586},{"$f":"'Energy Consumed Breakdown MWh'!AB37/1000","v":25231.343580526311},{"$f":"'Energy Consumed Breakdown MWh'!AC37/1000","v":25305.396466070793},{"$f":"'Energy Consumed Breakdown MWh'!AD37/1000","v":25379.46874502318}]
["Heat pumps - domestic",{"$f":"'Energy Consumed Breakdown MWh'!B38/1000","v":174.01540757419963},{"$f":"'Energy Consumed Breakdown MWh'!C38/1000","v":202.28899446950615},{"$f":"'Energy Consumed Breakdown MWh'!D38/1000","v":253.56805293075658},{"$f":"'Energy Consumed Breakdown MWh'!E38/1000","v":310.75563032451254},{"$f":"'Energy Consumed Breakdown MWh'!F38/1000","v":378.15231591350033},{"$f":"'Energy Consumed Breakdown MWh'!G38/1000","v":449.63462656412872},{"$f":"'Energy Consumed Breakdown MWh'!H38/1000","v":503.52584358395495},{"$f":"'Energy Consumed Breakdown MWh'!I38/1000","v":561.29832917124713},{"$f":"'Energy Consumed Breakdown MWh'!J38/1000","v":627.83348723957056},{"$f":"'Energy Consumed Breakdown MWh'!K38/1000","v":694.54449408283313},{"$f":"'Energy Consumed Breakdown MWh'!L38/1000","v":760.47177597966004},{"$f":"'Energy Consumed Breakdown MWh'!M38/1000","v":824.42759657189617},{"$f":"'Energy Consumed Breakdown MWh'!N38/1000","v":890.70908006546915},{"$f":"'Energy Consumed Breakdown MWh'!O38/1000","v":1158.5682702097577},{"$f":"'Energy Consumed Breakdown MWh'!P38/1000","v":1370.2338992404825},{"$f":"'Energy Consumed Breakdown MWh'!Q38/1000","v":1574.2854955585278},{"$f":"'Energy Consumed Breakdown MWh'!R38/1000","v":1806.368916913583},{"$f":"'Energy Consumed Breakdown MWh'!S38/1000","v":2067.3204264579795},{"$f":"'Energy Consumed Breakdown MWh'!T38/1000","v":2359.0020740086088},{"$f":"'Energy Consumed Breakdown MWh'!U38/1000","v":2668.6310053751331},{"$f":"'Energy Consumed Breakdown MWh'!V38/1000","v":3020.5179946085718},{"$f":"'Energy Consumed Breakdown MWh'!W38/1000","v":3435.2310286580027},{"$f":"'Energy Consumed Breakdown MWh'!X38/1000","v":3918.8893080670937},{"$f":"'Energy Consumed Breakdown MWh'!Y38/1000","v":4481.0718198451568},{"$f":"'Energy Consumed Breakdown MWh'!Z38/1000","v":5118.7144539687506},{"$f":"'Energy Consumed Breakdown MWh'!AA38/1000","v":5802.5397347124281},{"$f":"'Energy Consumed Breakdown MWh'!AB38/1000","v":6532.9497300035955},{"$f":"'Energy Consumed Breakdown MWh'!AC38/1000","v":7315.0999992785082},{"$f":"'Energy Consumed Breakdown MWh'!AD38/1000","v":8085.5514917088612}]
["Heat pumps - I & C",{"$f":"'Energy Consumed Breakdown MWh'!B39/1000","v":146.1908305456214},{"$f":"'Energy Consumed Breakdown MWh'!C39/1000","v":154.57834092309864},{"$f":"'Energy Consumed Breakdown MWh'!D39/1000","v":174.60055294366981},{"$f":"'Energy Consumed Breakdown MWh'!E39/1000","v":186.29276668716389},{"$f":"'Energy Consumed Breakdown MWh'!F39/1000","v":198.83490325812645},{"$f":"'Energy Consumed Breakdown MWh'!G39/1000","v":219.27667354717082},{"$f":"'Energy Consumed Breakdown MWh'!H39/1000","v":242.86881626005058},{"$f":"'Energy Consumed Breakdown MWh'!I39/1000","v":266.1077181920453},{"$f":"'Energy Consumed Breakdown MWh'!J39/1000","v":296.95897587028895},{"$f":"'Energy Consumed Breakdown MWh'!K39/1000","v":316.3462809451072},{"$f":"'Energy Consumed Breakdown MWh'!L39/1000","v":335.92608069285632},{"$f":"'Energy Consumed Breakdown MWh'!M39/1000","v":356.06825185216962},{"$f":"'Energy Consumed Breakdown MWh'!N39/1000","v":378.48389907824657},{"$f":"'Energy Consumed Breakdown MWh'!O39/1000","v":401.64621656622518},{"$f":"'Energy Consumed Breakdown MWh'!P39/1000","v":635.36816990262594},{"$f":"'Energy Consumed Breakdown MWh'!Q39/1000","v":870.67475105422704},{"$f":"'Energy Consumed Breakdown MWh'!R39/1000","v":1092.8981980234757},{"$f":"'Energy Consumed Breakdown MWh'!S39/1000","v":1310.2865120972103},{"$f":"'Energy Consumed Breakdown MWh'!T39/1000","v":1515.4771953877898},{"$f":"'Energy Consumed Breakdown MWh'!U39/1000","v":1715.3398187247424},{"$f":"'Energy Consumed Breakdown MWh'!V39/1000","v":1910.4668652924631},{"$f":"'Energy Consumed Breakdown MWh'!W39/1000","v":2100.2472516329253},{"$f":"'Energy Consumed Breakdown MWh'!X39/1000","v":2288.9178210205851},{"$f":"'Energy Consumed Breakdown MWh'!Y39/1000","v":2477.0974583095435},{"$f":"'Energy Consumed Breakdown MWh'!Z39/1000","v":2663.0716492367478},{"$f":"'Energy Consumed Breakdown MWh'!AA39/1000","v":2862.1126839182457},{"$f":"'Energy Consumed Breakdown MWh'!AB39/1000","v":3058.8513574058566},{"$f":"'Energy Consumed Breakdown MWh'!AC39/1000","v":3255.7610718049837},{"$f":"'Energy Consumed Breakdown MWh'!AD39/1000","v":3458.3404666987562}]
["EV - cars & vans",{"$f":"'Energy Consumed Breakdown MWh'!B40/1000","v":275.78814262939073},{"$f":"'Energy Consumed Breakdown MWh'!C40/1000","v":463.24468483408589},{"$f":"'Energy Consumed Breakdown MWh'!D40/1000","v":884.46299465800473},{"$f":"'Energy Consumed Breakdown MWh'!E40/1000","v":1390.4310828184387},{"$f":"'Energy Consumed Breakdown MWh'!F40/1000","v":2003.952682583212},{"$f":"'Energy Consumed Breakdown MWh'!G40/1000","v":2613.1417537288562},{"$f":"'Energy Consumed Breakdown MWh'!H40/1000","v":3249.4449681538085},{"$f":"'Energy Consumed Breakdown MWh'!I40/1000","v":3898.0556980753795},{"$f":"'Energy Consumed Breakdown MWh'!J40/1000","v":4557.2642270232427},{"$f":"'Energy Consumed Breakdown MWh'!K40/1000","v":5207.1142766223156},{"$f":"'Energy Consumed Breakdown MWh'!L40/1000","v":5813.7448364671845},{"$f":"'Energy Consumed Breakdown MWh'!M40/1000","v":6372.5737020171191},{"$f":"'Energy Consumed Breakdown MWh'!N40/1000","v":6877.0075598176791},{"$f":"'Energy Consumed Breakdown MWh'!O40/1000","v":7324.1633829507664},{"$f":"'Energy Consumed Breakdown MWh'!P40/1000","v":7698.1401717928702},{"$f":"'Energy Consumed Breakdown MWh'!Q40/1000","v":8032.2847680148861},{"$f":"'Energy Consumed Breakdown MWh'!R40/1000","v":8323.1543070334828},{"$f":"'Energy Consumed Breakdown MWh'!S40/1000","v":8576.3974209108037},{"$f":"'Energy Consumed Breakdown MWh'!T40/1000","v":8789.3765252541943},{"$f":"'Energy Consumed Breakdown MWh'!U40/1000","v":8952.5683065043249},{"$f":"'Energy Consumed Breakdown MWh'!V40/1000","v":9084.0040384959539},{"$f":"'Energy Consumed Breakdown MWh'!W40/1000","v":9186.7998054451891},{"$f":"'Energy Consumed Breakdown MWh'!X40/1000","v":9269.0667628958163},{"$f":"'Energy Consumed Breakdown MWh'!Y40/1000","v":9335.7182870837241},{"$f":"'Energy Consumed Breakdown MWh'!Z40/1000","v":9373.0646147673724},{"$f":"'Energy Consumed Breakdown MWh'!AA40/1000","v":9405.0540785738976},{"$f":"'Energy Consumed Breakdown MWh'!AB40/1000","v":9436.6817498309847},{"$f":"'Energy Consumed Breakdown MWh'!AC40/1000","v":9467.1773605301569},{"$f":"'Energy Consumed Breakdown MWh'!AD40/1000","v":9495.98071575617}]
["Electric HGVs",{"$f":"'Energy Consumed Breakdown MWh'!B41/1000","v":7.3578745540348507},{"$f":"'Energy Consumed Breakdown MWh'!C41/1000","v":21.535537672849582},{"$f":"'Energy Consumed Breakdown MWh'!D41/1000","v":46.804883060544483},{"$f":"'Energy Consumed Breakdown MWh'!E41/1000","v":86.371457358541718},{"$f":"'Energy Consumed Breakdown MWh'!F41/1000","v":148.15134146432695},{"$f":"'Energy Consumed Breakdown MWh'!G41/1000","v":240.73190355666679},{"$f":"'Energy Consumed Breakdown MWh'!H41/1000","v":372.71533808022389},{"$f":"'Energy Consumed Breakdown MWh'!I41/1000","v":550.19647626668655},{"$f":"'Energy Consumed Breakdown MWh'!J41/1000","v":774.59792958492756},{"$f":"'Energy Consumed Breakdown MWh'!K41/1000","v":1042.6296397105093},{"$f":"'Energy Consumed Breakdown MWh'!L41/1000","v":1348.9115291165726},{"$f":"'Energy Consumed Breakdown MWh'!M41/1000","v":1693.2726403885677},{"$f":"'Energy Consumed Breakdown MWh'!N41/1000","v":2072.2984569063437},{"$f":"'Energy Consumed Breakdown MWh'!O41/1000","v":2475.4616904861264},{"$f":"'Energy Consumed Breakdown MWh'!P41/1000","v":2884.7881562738417},{"$f":"'Energy Consumed Breakdown MWh'!Q41/1000","v":3280.0783765263336},{"$f":"'Energy Consumed Breakdown MWh'!R41/1000","v":3644.665606667741},{"$f":"'Energy Consumed Breakdown MWh'!S41/1000","v":3967.6296972706486},{"$f":"'Energy Consumed Breakdown MWh'!T41/1000","v":4243.4701172929254},{"$f":"'Energy Consumed Breakdown MWh'!U41/1000","v":4471.0157626099717},{"$f":"'Energy Consumed Breakdown MWh'!V41/1000","v":4651.9104884448998},{"$f":"'Energy Consumed Breakdown MWh'!W41/1000","v":4790.0392282499952},{"$f":"'Energy Consumed Breakdown MWh'!X41/1000","v":4891.5737264861491},{"$f":"'Energy Consumed Breakdown MWh'!Y41/1000","v":4964.1099619220658},{"$f":"'Energy Consumed Breakdown MWh'!Z41/1000","v":5015.4961000084068},{"$f":"'Energy Consumed Breakdown MWh'!AA41/1000","v":5052.5758476631245},{"$f":"'Energy Consumed Breakdown MWh'!AB41/1000","v":5080.5586376848469},{"$f":"'Energy Consumed Breakdown MWh'!AC41/1000","v":5103.0194224274928},{"$f":"'Energy Consumed Breakdown MWh'!AD41/1000","v":5122.2424413053977}]
["Electric Buses",{"$f":"'Energy Consumed Breakdown MWh'!B42/1000","v":28.25670329452381},{"$f":"'Energy Consumed Breakdown MWh'!C42/1000","v":37.892196070636274},{"$f":"'Energy Consumed Breakdown MWh'!D42/1000","v":53.511126388730396},{"$f":"'Energy Consumed Breakdown MWh'!E42/1000","v":72.74783552838754},{"$f":"'Energy Consumed Breakdown MWh'!F42/1000","v":95.527312106405276},{"$f":"'Energy Consumed Breakdown MWh'!G42/1000","v":121.44298434962401},{"$f":"'Energy Consumed Breakdown MWh'!H42/1000","v":149.93925990368157},{"$f":"'Energy Consumed Breakdown MWh'!I42/1000","v":181.58071065147502},{"$f":"'Energy Consumed Breakdown MWh'!J42/1000","v":216.03137554733573},{"$f":"'Energy Consumed Breakdown MWh'!K42/1000","v":252.92752032219724},{"$f":"'Energy Consumed Breakdown MWh'!L42/1000","v":291.66023413402951},{"$f":"'Energy Consumed Breakdown MWh'!M42/1000","v":331.74704135924168},{"$f":"'Energy Consumed Breakdown MWh'!N42/1000","v":371.9670441267765},{"$f":"'Energy Consumed Breakdown MWh'!O42/1000","v":410.97692984713996},{"$f":"'Energy Consumed Breakdown MWh'!P42/1000","v":447.65160046681962},{"$f":"'Energy Consumed Breakdown MWh'!Q42/1000","v":481.24456848656206},{"$f":"'Energy Consumed Breakdown MWh'!R42/1000","v":511.36040189801236},{"$f":"'Energy Consumed Breakdown MWh'!S42/1000","v":537.91188449220499},{"$f":"'Energy Consumed Breakdown MWh'!T42/1000","v":560.96348883803},{"$f":"'Energy Consumed Breakdown MWh'!U42/1000","v":580.66205459186256},{"$f":"'Energy Consumed Breakdown MWh'!V42/1000","v":597.24903357098833},{"$f":"'Energy Consumed Breakdown MWh'!W42/1000","v":611.00144123710925},{"$f":"'Energy Consumed Breakdown MWh'!X42/1000","v":622.21431950572867},{"$f":"'Energy Consumed Breakdown MWh'!Y42/1000","v":631.17766070662185},{"$f":"'Energy Consumed Breakdown MWh'!Z42/1000","v":638.16074607529004},{"$f":"'Energy Consumed Breakdown MWh'!AA42/1000","v":643.43176558121206},{"$f":"'Energy Consumed Breakdown MWh'!AB42/1000","v":647.28773769609268},{"$f":"'Energy Consumed Breakdown MWh'!AC42/1000","v":650.00834039242307},{"$f":"'Energy Consumed Breakdown MWh'!AD42/1000","v":651.84895086225595}]
["Electrolysers",{"$f":"'Energy Consumed Breakdown MWh'!B43/1000","v":0},{"$f":"'Energy Consumed Breakdown MWh'!C43/1000","v":6.8738316071307501},{"$f":"'Energy Consumed Breakdown MWh'!D43/1000","v":8.7493596546931887},{"$f":"'Energy Consumed Breakdown MWh'!E43/1000","v":241.51660775950981},{"$f":"'Energy Consumed Breakdown MWh'!F43/1000","v":667.75378764410129},{"$f":"'Energy Consumed Breakdown MWh'!G43/1000","v":946.56191117896651},{"$f":"'Energy Consumed Breakdown MWh'!H43/1000","v":1050.8970269279237},{"$f":"'Energy Consumed Breakdown MWh'!I43/1000","v":1139.4382734844601},{"$f":"'Energy Consumed Breakdown MWh'!J43/1000","v":1478.8993658585432},{"$f":"'Energy Consumed Breakdown MWh'!K43/1000","v":1161.3245828110662},{"$f":"'Energy Consumed Breakdown MWh'!L43/1000","v":1160.5910297459457},{"$f":"'Energy Consumed Breakdown MWh'!M43/1000","v":1037.1696803812672},{"$f":"'Energy Consumed Breakdown MWh'!N43/1000","v":1190.9557615358019},{"$f":"'Energy Consumed Breakdown MWh'!O43/1000","v":1943.952256601254},{"$f":"'Energy Consumed Breakdown MWh'!P43/1000","v":2288.0094171635033},{"$f":"'Energy Consumed Breakdown MWh'!Q43/1000","v":2451.025057089747},{"$f":"'Energy Consumed Breakdown MWh'!R43/1000","v":2703.0977563273045},{"$f":"'Energy Consumed Breakdown MWh'!S43/1000","v":3213.9010887968884},{"$f":"'Energy Consumed Breakdown MWh'!T43/1000","v":3312.8310721086023},{"$f":"'Energy Consumed Breakdown MWh'!U43/1000","v":4032.6559259324172},{"$f":"'Energy Consumed Breakdown MWh'!V43/1000","v":5030.8480135932014},{"$f":"'Energy Consumed Breakdown MWh'!W43/1000","v":5731.7564127583209},{"$f":"'Energy Consumed Breakdown MWh'!X43/1000","v":6543.9935139854379},{"$f":"'Energy Consumed Breakdown MWh'!Y43/1000","v":7524.6150303644363},{"$f":"'Energy Consumed Breakdown MWh'!Z43/1000","v":8344.0199632830045},{"$f":"'Energy Consumed Breakdown MWh'!AA43/1000","v":8954.0908092468471},{"$f":"'Energy Consumed Breakdown MWh'!AB43/1000","v":9576.9301206519012},{"$f":"'Energy Consumed Breakdown MWh'!AC43/1000","v":10149.21737398404},{"$f":"'Energy Consumed Breakdown MWh'!AD43/1000","v":10458.519505186387}]
["Large industry Fuel Switching",{"$f":"'Energy Consumed Breakdown MWh'!B44/1000","v":103.48641666674226},{"$f":"'Energy Consumed Breakdown MWh'!C44/1000","v":155.22962500011306},{"$f":"'Energy Consumed Breakdown MWh'!D44/1000","v":206.97283333348409},{"$f":"'Energy Consumed Breakdown MWh'!E44/1000","v":258.71604166685529},{"$f":"'Energy Consumed Breakdown MWh'!F44/1000","v":312.60275475687575},{"$f":"'Energy Consumed Breakdown MWh'!G44/1000","v":366.48946784689593},{"$f":"'Energy Consumed Breakdown MWh'!H44/1000","v":420.37618093691594},{"$f":"'Energy Consumed Breakdown MWh'!I44/1000","v":474.26289402693607},{"$f":"'Energy Consumed Breakdown MWh'!J44/1000","v":528.14960711695676},{"$f":"'Energy Consumed Breakdown MWh'!K44/1000","v":608.57239180792158},{"$f":"'Energy Consumed Breakdown MWh'!L44/1000","v":688.99517649888639},{"$f":"'Energy Consumed Breakdown MWh'!M44/1000","v":769.41796118985144},{"$f":"'Energy Consumed Breakdown MWh'!N44/1000","v":849.84074588081592},{"$f":"'Energy Consumed Breakdown MWh'!O44/1000","v":930.26353057178108},{"$f":"'Energy Consumed Breakdown MWh'!P44/1000","v":1010.1594155008227},{"$f":"'Energy Consumed Breakdown MWh'!Q44/1000","v":1090.0553004298638},{"$f":"'Energy Consumed Breakdown MWh'!R44/1000","v":1169.9511853589051},{"$f":"'Energy Consumed Breakdown MWh'!S44/1000","v":1249.8470702879472},{"$f":"'Energy Consumed Breakdown MWh'!T44/1000","v":1329.7429552169885},{"$f":"'Energy Consumed Breakdown MWh'!U44/1000","v":1392.0702914818985},{"$f":"'Energy Consumed Breakdown MWh'!V44/1000","v":1454.3976277468089},{"$f":"'Energy Consumed Breakdown MWh'!W44/1000","v":1516.7249640117191},{"$f":"'Energy Consumed Breakdown MWh'!X44/1000","v":1579.052300276629},{"$f":"'Energy Consumed Breakdown MWh'!Y44/1000","v":1641.3796365415392},{"$f":"'Energy Consumed Breakdown MWh'!Z44/1000","v":1934.261007923948},{"$f":"'Energy Consumed Breakdown MWh'!AA44/1000","v":2227.1423793063568},{"$f":"'Energy Consumed Breakdown MWh'!AB44/1000","v":2520.0237506887661},{"$f":"'Energy Consumed Breakdown MWh'!AC44/1000","v":2812.9051220711749},{"$f":"'Energy Consumed Breakdown MWh'!AD44/1000","v":3105.7864934535837}]
["Total demand",{"$f":"'Energy Consumed Breakdown MWh'!B45/1000","v":34444.382007085725},{"$f":"'Energy Consumed Breakdown MWh'!C45/1000","v":35052.760482679827},{"$f":"'Energy Consumed Breakdown MWh'!D45/1000","v":35904.947339910461},{"$f":"'Energy Consumed Breakdown MWh'!E45/1000","v":36944.938304465213},{"$f":"'Energy Consumed Breakdown MWh'!F45/1000","v":38174.835892587049},{"$f":"'Energy Consumed Breakdown MWh'!G45/1000","v":39303.523216520131},{"$f":"'Energy Consumed Breakdown MWh'!H45/1000","v":40313.531978898849},{"$f":"'Energy Consumed Breakdown MWh'!I45/1000","v":41387.610566389267},{"$f":"'Energy Consumed Breakdown MWh'!J45/1000","v":42836.158534894494},{"$f":"'Energy Consumed Breakdown MWh'!K45/1000","v":43671.032632788767},{"$f":"'Energy Consumed Breakdown MWh'!L45/1000","v":44807.462610827934},{"$f":"'Energy Consumed Breakdown MWh'!M45/1000","v":45821.113177168787},{"$f":"'Energy Consumed Breakdown MWh'!N45/1000","v":47106.884798212654},{"$f":"'Energy Consumed Breakdown MWh'!O45/1000","v":49562.598666678095},{"$f":"'Energy Consumed Breakdown MWh'!P45/1000","v":51278.851665324182},{"$f":"'Energy Consumed Breakdown MWh'!Q45/1000","v":52768.162715844686},{"$f":"'Energy Consumed Breakdown MWh'!R45/1000","v":54292.148653911951},{"$f":"'Energy Consumed Breakdown MWh'!S45/1000","v":56022.262336733642},{"$f":"'Energy Consumed Breakdown MWh'!T45/1000","v":57270.926066761465},{"$f":"'Energy Consumed Breakdown MWh'!U45/1000","v":59033.531424632107},{"$f":"'Energy Consumed Breakdown MWh'!V45/1000","v":61028.405805165428},{"$f":"'Energy Consumed Breakdown MWh'!W45/1000","v":62705.296163554711},{"$f":"'Energy Consumed Breakdown MWh'!X45/1000","v":64496.842638901369},{"$f":"'Energy Consumed Breakdown MWh'!Y45/1000","v":66482.062821779342},{"$f":"'Energy Consumed Breakdown MWh'!Z45/1000","v":68551.91276640835},{"$f":"'Energy Consumed Breakdown MWh'!AA45/1000","v":70446.826810941129},{"$f":"'Energy Consumed Breakdown MWh'!AB45/1000","v":72384.385969796043},{"$f":"'Energy Consumed Breakdown MWh'!AC45/1000","v":74311.607818192089},{"$f":"'Energy Consumed Breakdown MWh'!AD45/1000","v":75965.327921181641}]
[]
[]
["Leading The Way Study: Contributions to Large load Energy Consumption GWh - NPg",2022,2023,2024,2025,2026,2027,2028,2029,2030,2031,2032,2033,2034,2035,2036,2037,2038,2039,2040,2041,2042,2043,2044,2045,2046,2047,2048,2049,2050]
["Domestic Underlying",{"$f":"'Energy Consumed Breakdown MWh'!B49/1000","v":10512.64293985911},{"$f":"'Energy Consumed Breakdown MWh'!C49/1000","v":10454.901281724471},{"$f":"'Energy Consumed Breakdown MWh'!D49/1000","v":10441.071119080401},{"$f":"'Energy Consumed Breakdown MWh'!E49/1000","v":10430.714283834839},{"$f":"'Energy Consumed Breakdown MWh'!F49/1000","v":10427.002465636513},{"$f":"'Energy Consumed Breakdown MWh'!G49/1000","v":10428.398938322549},{"$f":"'Energy Consumed Breakdown MWh'!H49/1000","v":10440.115908841655},{"$f":"'Energy Consumed Breakdown MWh'!I49/1000","v":10456.273340850696},{"$f":"'Energy Consumed Breakdown MWh'!J49/1000","v":10461.241664601348},{"$f":"'Energy Consumed Breakdown MWh'!K49/1000","v":10427.778447281895},{"$f":"'Energy Consumed Breakdown MWh'!L49/1000","v":10375.617319802705},{"$f":"'Energy Consumed Breakdown MWh'!M49/1000","v":10324.646859383147},{"$f":"'Energy Consumed Breakdown MWh'!N49/1000","v":10274.481316828646},{"$f":"'Energy Consumed Breakdown MWh'!O49/1000","v":10225.190467512955},{"$f":"'Energy Consumed Breakdown MWh'!P49/1000","v":10176.416268424542},{"$f":"'Energy Consumed Breakdown MWh'!Q49/1000","v":10127.669547783005},{"$f":"'Energy Consumed Breakdown MWh'!R49/1000","v":10080.28425911973},{"$f":"'Energy Consumed Breakdown MWh'!S49/1000","v":10035.281816030756},{"$f":"'Energy Consumed Breakdown MWh'!T49/1000","v":9994.4073844886861},{"$f":"'Energy Consumed Breakdown MWh'!U49/1000","v":9956.0588596679336},{"$f":"'Energy Consumed Breakdown MWh'!V49/1000","v":9918.7530174894291},{"$f":"'Energy Consumed Breakdown MWh'!W49/1000","v":9877.7008878446704},{"$f":"'Energy Consumed Breakdown MWh'!X49/1000","v":9832.9116716058488},{"$f":"'Energy Consumed Breakdown MWh'!Y49/1000","v":9801.8126349324502},{"$f":"'Energy Consumed Breakdown MWh'!Z49/1000","v":9812.0465101387126},{"$f":"'Energy Consumed Breakdown MWh'!AA49/1000","v":9822.3038723994159},{"$f":"'Energy Consumed Breakdown MWh'!AB49/1000","v":9832.5631759583357},{"$f":"'Energy Consumed Breakdown MWh'!AC49/1000","v":9842.7108731361077},{"$f":"'Energy Consumed Breakdown MWh'!AD49/1000","v":9851.7834528107924}]
["I & C Underlying",{"$f":"'Energy Consumed Breakdown MWh'!B50/1000","v":23205.226724456199},{"$f":"'Energy Consumed Breakdown MWh'!C50/1000","v":23489.593541722035},{"$f":"'Energy Consumed Breakdown MWh'!D50/1000","v":23692.01114726179},{"$f":"'Energy Consumed Breakdown MWh'!E50/1000","v":23742.616234544686},{"$f":"'Energy Consumed Breakdown MWh'!F50/1000","v":23632.603000548759},{"$f":"'Energy Consumed Breakdown MWh'!G50/1000","v":23518.190663701655},{"$f":"'Energy Consumed Breakdown MWh'!H50/1000","v":23391.36303543071},{"$f":"'Energy Consumed Breakdown MWh'!I50/1000","v":23272.612644610086},{"$f":"'Energy Consumed Breakdown MWh'!J50/1000","v":23189.45599207325},{"$f":"'Energy Consumed Breakdown MWh'!K50/1000","v":23085.846141782844},{"$f":"'Energy Consumed Breakdown MWh'!L50/1000","v":22989.278726965666},{"$f":"'Energy Consumed Breakdown MWh'!M50/1000","v":22899.394588898973},{"$f":"'Energy Consumed Breakdown MWh'!N50/1000","v":22815.829107855832},{"$f":"'Energy Consumed Breakdown MWh'!O50/1000","v":23151.54371445594},{"$f":"'Energy Consumed Breakdown MWh'!P50/1000","v":23079.499807102307},{"$f":"'Energy Consumed Breakdown MWh'!Q50/1000","v":23012.647857361819},{"$f":"'Energy Consumed Breakdown MWh'!R50/1000","v":22950.601327478758},{"$f":"'Energy Consumed Breakdown MWh'!S50/1000","v":22892.96818187918},{"$f":"'Energy Consumed Breakdown MWh'!T50/1000","v":22839.350879922749},{"$f":"'Energy Consumed Breakdown MWh'!U50/1000","v":22789.346368692055},{"$f":"'Energy Consumed Breakdown MWh'!V50/1000","v":22742.546075820057},{"$f":"'Energy Consumed Breakdown MWh'!W50/1000","v":22698.535902354583},{"$f":"'Energy Consumed Breakdown MWh'!X50/1000","v":22656.89621566017},{"$f":"'Energy Consumed Breakdown MWh'!Y50/1000","v":22617.201842357092},{"$f":"'Energy Consumed Breakdown MWh'!Z50/1000","v":22579.022061297313},{"$f":"'Energy Consumed Breakdown MWh'!AA50/1000","v":22541.9205965771},{"$f":"'Energy Consumed Breakdown MWh'!AB50/1000","v":22505.455610586327},{"$f":"'Energy Consumed Breakdown MWh'!AC50/1000","v":22469.179697094169},{"$f":"'Energy Consumed Breakdown MWh'!AD50/1000","v":22432.639874371009}]
["Heat pumps - domestic",{"$f":"'Energy Consumed Breakdown MWh'!B51/1000","v":174.01540757419966},{"$f":"'Energy Consumed Breakdown MWh'!C51/1000","v":225.18690639510979},{"$f":"'Energy Consumed Breakdown MWh'!D51/1000","v":320.28705734780954},{"$f":"'Energy Consumed Breakdown MWh'!E51/1000","v":553.55175165986225},{"$f":"'Energy Consumed Breakdown MWh'!F51/1000","v":886.74442028508759},{"$f":"'Energy Consumed Breakdown MWh'!G51/1000","v":1274.2528539325183},{"$f":"'Energy Consumed Breakdown MWh'!H51/1000","v":1375.9968485032314},{"$f":"'Energy Consumed Breakdown MWh'!I51/1000","v":1425.2982220286167},{"$f":"'Energy Consumed Breakdown MWh'!J51/1000","v":1706.0486162156635},{"$f":"'Energy Consumed Breakdown MWh'!K51/1000","v":2666.3218825285762},{"$f":"'Energy Consumed Breakdown MWh'!L51/1000","v":3605.040993040438},{"$f":"'Energy Consumed Breakdown MWh'!M51/1000","v":4517.9886124371296},{"$f":"'Energy Consumed Breakdown MWh'!N51/1000","v":5405.0486331189968},{"$f":"'Energy Consumed Breakdown MWh'!O51/1000","v":6270.2617452863578},{"$f":"'Energy Consumed Breakdown MWh'!P51/1000","v":7130.171196496015},{"$f":"'Energy Consumed Breakdown MWh'!Q51/1000","v":7976.0785441306161},{"$f":"'Energy Consumed Breakdown MWh'!R51/1000","v":8789.6122230997316},{"$f":"'Energy Consumed Breakdown MWh'!S51/1000","v":9548.6161021459429},{"$f":"'Energy Consumed Breakdown MWh'!T51/1000","v":10177.587020792962},{"$f":"'Energy Consumed Breakdown MWh'!U51/1000","v":10709.67851281878},{"$f":"'Energy Consumed Breakdown MWh'!V51/1000","v":11185.837302958023},{"$f":"'Energy Consumed Breakdown MWh'!W51/1000","v":11904.834290250563},{"$f":"'Energy Consumed Breakdown MWh'!X51/1000","v":12664.286930816235},{"$f":"'Energy Consumed Breakdown MWh'!Y51/1000","v":13213.931164731011},{"$f":"'Energy Consumed Breakdown MWh'!Z51/1000","v":13157.806230008389},{"$f":"'Energy Consumed Breakdown MWh'!AA51/1000","v":13103.578610279857},{"$f":"'Energy Consumed Breakdown MWh'!AB51/1000","v":13051.049245720982},{"$f":"'Energy Consumed Breakdown MWh'!AC51/1000","v":13000.310134302001},{"$f":"'Energy Consumed Breakdown MWh'!AD51/1000","v":12953.527166804557}]
["Heat pumps - I & C",{"$f":"'Energy Consumed Breakdown MWh'!B52/1000","v":144.0505425267134},{"$f":"'Energy Consumed Breakdown MWh'!C52/1000","v":157.26220463261225},{"$f":"'Energy Consumed Breakdown MWh'!D52/1000","v":172.4784758282521},{"$f":"'Energy Consumed Breakdown MWh'!E52/1000","v":198.89277802203276},{"$f":"'Energy Consumed Breakdown MWh'!F52/1000","v":227.50549661768758},{"$f":"'Energy Consumed Breakdown MWh'!G52/1000","v":263.63118594806025},{"$f":"'Energy Consumed Breakdown MWh'!H52/1000","v":301.51041326237174},{"$f":"'Energy Consumed Breakdown MWh'!I52/1000","v":336.91110659904444},{"$f":"'Energy Consumed Breakdown MWh'!J52/1000","v":368.54790172852171},{"$f":"'Energy Consumed Breakdown MWh'!K52/1000","v":647.62949517353206},{"$f":"'Energy Consumed Breakdown MWh'!L52/1000","v":920.93111134038986},{"$f":"'Energy Consumed Breakdown MWh'!M52/1000","v":1189.5038487746749},{"$f":"'Energy Consumed Breakdown MWh'!N52/1000","v":1453.5532085828352},{"$f":"'Energy Consumed Breakdown MWh'!O52/1000","v":1711.6195024971587},{"$f":"'Energy Consumed Breakdown MWh'!P52/1000","v":1963.7788600356519},{"$f":"'Energy Consumed Breakdown MWh'!Q52/1000","v":2211.9741366387548},{"$f":"'Energy Consumed Breakdown MWh'!R52/1000","v":2453.2555601275826},{"$f":"'Energy Consumed Breakdown MWh'!S52/1000","v":2689.2300734957325},{"$f":"'Energy Consumed Breakdown MWh'!T52/1000","v":2902.4366454376832},{"$f":"'Energy Consumed Breakdown MWh'!U52/1000","v":3110.8836531521479},{"$f":"'Energy Consumed Breakdown MWh'!V52/1000","v":3316.6571592635291},{"$f":"'Energy Consumed Breakdown MWh'!W52/1000","v":3519.8441226692817},{"$f":"'Energy Consumed Breakdown MWh'!X52/1000","v":3720.8072376742425},{"$f":"'Energy Consumed Breakdown MWh'!Y52/1000","v":3919.93993463483},{"$f":"'Energy Consumed Breakdown MWh'!Z52/1000","v":3895.1833339166528},{"$f":"'Energy Consumed Breakdown MWh'!AA52/1000","v":3870.8299169228544},{"$f":"'Energy Consumed Breakdown MWh'!AB52/1000","v":3846.7416386891277},{"$f":"'Energy Consumed Breakdown MWh'!AC52/1000","v":3822.8260248302354},{"$f":"'Energy Consumed Breakdown MWh'!AD52/1000","v":3799.4534043528506}]
["EV - cars & vans",{"$f":"'Energy Consumed Breakdown MWh'!B53/1000","v":275.78814262939073},{"$f":"'Energy Consumed Breakdown MWh'!C53/1000","v":449.76456594819172},{"$f":"'Energy Consumed Breakdown MWh'!D53/1000","v":828.0893982877277},{"$f":"'Energy Consumed Breakdown MWh'!E53/1000","v":1281.5061879706798},{"$f":"'Energy Consumed Breakdown MWh'!F53/1000","v":1898.7697301481189},{"$f":"'Energy Consumed Breakdown MWh'!G53/1000","v":2510.5042548617198},{"$f":"'Energy Consumed Breakdown MWh'!H53/1000","v":3124.5513279984016},{"$f":"'Energy Consumed Breakdown MWh'!I53/1000","v":3760.9313482924886},{"$f":"'Energy Consumed Breakdown MWh'!J53/1000","v":4525.0339981029856},{"$f":"'Energy Consumed Breakdown MWh'!K53/1000","v":5265.4033861861453},{"$f":"'Energy Consumed Breakdown MWh'!L53/1000","v":5924.1005414533784},{"$f":"'Energy Consumed Breakdown MWh'!M53/1000","v":6519.7478315103162},{"$f":"'Energy Consumed Breakdown MWh'!N53/1000","v":7045.3506785768523},{"$f":"'Energy Consumed Breakdown MWh'!O53/1000","v":7483.0720072446757},{"$f":"'Energy Consumed Breakdown MWh'!P53/1000","v":7841.0598995472192},{"$f":"'Energy Consumed Breakdown MWh'!Q53/1000","v":8149.7973222169576},{"$f":"'Energy Consumed Breakdown MWh'!R53/1000","v":8413.6724687567203},{"$f":"'Energy Consumed Breakdown MWh'!S53/1000","v":8639.2326172385365},{"$f":"'Energy Consumed Breakdown MWh'!T53/1000","v":8818.9968313982863},{"$f":"'Energy Consumed Breakdown MWh'!U53/1000","v":8957.3416340113909},{"$f":"'Energy Consumed Breakdown MWh'!V53/1000","v":9063.8253508193866},{"$f":"'Energy Consumed Breakdown MWh'!W53/1000","v":9140.9922003957181},{"$f":"'Energy Consumed Breakdown MWh'!X53/1000","v":9194.5841806217486},{"$f":"'Energy Consumed Breakdown MWh'!Y53/1000","v":9233.8911905087862},{"$f":"'Energy Consumed Breakdown MWh'!Z53/1000","v":9254.209926914169},{"$f":"'Energy Consumed Breakdown MWh'!AA53/1000","v":9271.1908352828268},{"$f":"'Energy Consumed Breakdown MWh'!AB53/1000","v":9290.3308282206945},{"$f":"'Energy Consumed Breakdown MWh'!AC53/1000","v":9309.8559551628005},{"$f":"'Energy Consumed Breakdown MWh'!AD53/1000","v":9331.9136299509573}]
["Electric HGVs",{"$f":"'Energy Consumed Breakdown MWh'!B54/1000","v":7.3578745540348507},{"$f":"'Energy Consumed Breakdown MWh'!C54/1000","v":29.654760358851004},{"$f":"'Energy Consumed Breakdown MWh'!D54/1000","v":67.951929296747892},{"$f":"'Energy Consumed Breakdown MWh'!E54/1000","v":128.47166735065466},{"$f":"'Energy Consumed Breakdown MWh'!F54/1000","v":226.26200076204663},{"$f":"'Energy Consumed Breakdown MWh'!G54/1000","v":372.33056486505637},{"$f":"'Energy Consumed Breakdown MWh'!H54/1000","v":578.33573266970348},{"$f":"'Energy Consumed Breakdown MWh'!I54/1000","v":852.77336617204503},{"$f":"'Energy Consumed Breakdown MWh'!J54/1000","v":1197.0355964517905},{"$f":"'Energy Consumed Breakdown MWh'!K54/1000","v":1601.2260653354947},{"$f":"'Energy Consumed Breakdown MWh'!L54/1000","v":2046.2848262070252},{"$f":"'Energy Consumed Breakdown MWh'!M54/1000","v":2510.4240391807989},{"$f":"'Energy Consumed Breakdown MWh'!N54/1000","v":2967.3595439518954},{"$f":"'Energy Consumed Breakdown MWh'!O54/1000","v":3395.5316731486837},{"$f":"'Energy Consumed Breakdown MWh'!P54/1000","v":3780.7287344770693},{"$f":"'Energy Consumed Breakdown MWh'!Q54/1000","v":4115.2268085964688},{"$f":"'Energy Consumed Breakdown MWh'!R54/1000","v":4395.964488370083},{"$f":"'Energy Consumed Breakdown MWh'!S54/1000","v":4623.7000399826866},{"$f":"'Energy Consumed Breakdown MWh'!T54/1000","v":4802.4306356597144},{"$f":"'Energy Consumed Breakdown MWh'!U54/1000","v":4938.96533772156},{"$f":"'Energy Consumed Breakdown MWh'!V54/1000","v":5040.9931785468571},{"$f":"'Energy Consumed Breakdown MWh'!W54/1000","v":5116.2581732124409},{"$f":"'Energy Consumed Breakdown MWh'!X54/1000","v":5171.9788365932563},{"$f":"'Energy Consumed Breakdown MWh'!Y54/1000","v":5213.9200357305854},{"$f":"'Energy Consumed Breakdown MWh'!Z54/1000","v":5246.4676278260813},{"$f":"'Energy Consumed Breakdown MWh'!AA54/1000","v":5272.8385273451695},{"$f":"'Energy Consumed Breakdown MWh'!AB54/1000","v":5295.3081455634838},{"$f":"'Energy Consumed Breakdown MWh'!AC54/1000","v":5315.3959419522826},{"$f":"'Energy Consumed Breakdown MWh'!AD54/1000","v":5334.0681724064807}]
["Electric Buses",{"$f":"'Energy Consumed Breakdown MWh'!B55/1000","v":28.25670329452381},{"$f":"'Energy Consumed Breakdown MWh'!C55/1000","v":42.174724137554279},{"$f":"'Energy Consumed Breakdown MWh'!D55/1000","v":62.611859444597904},{"$f":"'Energy Consumed Breakdown MWh'!E55/1000","v":87.378983750985938},{"$f":"'Energy Consumed Breakdown MWh'!F55/1000","v":116.33127808911388},{"$f":"'Energy Consumed Breakdown MWh'!G55/1000","v":149.04426756670932},{"$f":"'Energy Consumed Breakdown MWh'!H55/1000","v":184.94096533750616},{"$f":"'Energy Consumed Breakdown MWh'!I55/1000","v":224.38878268301875},{"$f":"'Energy Consumed Breakdown MWh'!J55/1000","v":266.66199899857298},{"$f":"'Energy Consumed Breakdown MWh'!K55/1000","v":310.66751071749087},{"$f":"'Energy Consumed Breakdown MWh'!L55/1000","v":355.13220705843486},{"$f":"'Energy Consumed Breakdown MWh'!M55/1000","v":399.4378461481021},{"$f":"'Energy Consumed Breakdown MWh'!N55/1000","v":442.62796387457178},{"$f":"'Energy Consumed Breakdown MWh'!O55/1000","v":483.74155102598928},{"$f":"'Energy Consumed Breakdown MWh'!P55/1000","v":521.82962098008954},{"$f":"'Energy Consumed Breakdown MWh'!Q55/1000","v":556.09275283933869},{"$f":"'Energy Consumed Breakdown MWh'!R55/1000","v":585.99799345504005},{"$f":"'Energy Consumed Breakdown MWh'!S55/1000","v":611.31898975906074},{"$f":"'Energy Consumed Breakdown MWh'!T55/1000","v":632.03821886213348},{"$f":"'Energy Consumed Breakdown MWh'!U55/1000","v":648.490073869713},{"$f":"'Energy Consumed Breakdown MWh'!V55/1000","v":661.41799714116007},{"$f":"'Energy Consumed Breakdown MWh'!W55/1000","v":671.24638186634422},{"$f":"'Energy Consumed Breakdown MWh'!X55/1000","v":678.40860316347062},{"$f":"'Energy Consumed Breakdown MWh'!Y55/1000","v":683.32427931455561},{"$f":"'Energy Consumed Breakdown MWh'!Z55/1000","v":686.39522387501245},{"$f":"'Energy Consumed Breakdown MWh'!AA55/1000","v":688.02547807605288},{"$f":"'Energy Consumed Breakdown MWh'!AB55/1000","v":688.63840059316124},{"$f":"'Energy Consumed Breakdown MWh'!AC55/1000","v":688.62349198364791},{"$f":"'Energy Consumed Breakdown MWh'!AD55/1000","v":688.29541024971468}]
["Electrolysers",{"$f":"'Energy Consumed Breakdown MWh'!B56/1000","v":0},{"$f":"'Energy Consumed Breakdown MWh'!C56/1000","v":4.8907773138180008},{"$f":"'Energy Consumed Breakdown MWh'!D56/1000","v":26.758821016483978},{"$f":"'Energy Consumed Breakdown MWh'!E56/1000","v":755.90484464027497},{"$f":"'Energy Consumed Breakdown MWh'!F56/1000","v":1145.7867601394998},{"$f":"'Energy Consumed Breakdown MWh'!G56/1000","v":1571.1909582544531},{"$f":"'Energy Consumed Breakdown MWh'!H56/1000","v":2060.8373642061788},{"$f":"'Energy Consumed Breakdown MWh'!I56/1000","v":2655.5896561897857},{"$f":"'Energy Consumed Breakdown MWh'!J56/1000","v":3607.5640255551207},{"$f":"'Energy Consumed Breakdown MWh'!K56/1000","v":3977.0242847044128},{"$f":"'Energy Consumed Breakdown MWh'!L56/1000","v":3991.54906796568},{"$f":"'Energy Consumed Breakdown MWh'!M56/1000","v":4378.8403973243348},{"$f":"'Energy Consumed Breakdown MWh'!N56/1000","v":4768.9401459092214},{"$f":"'Energy Consumed Breakdown MWh'!O56/1000","v":4788.0206487007872},{"$f":"'Energy Consumed Breakdown MWh'!P56/1000","v":5367.4069246154113},{"$f":"'Energy Consumed Breakdown MWh'!Q56/1000","v":5280.6924023404426},{"$f":"'Energy Consumed Breakdown MWh'!R56/1000","v":5314.5780136118256},{"$f":"'Energy Consumed Breakdown MWh'!S56/1000","v":5392.5736615304131},{"$f":"'Energy Consumed Breakdown MWh'!T56/1000","v":5823.0271326444636},{"$f":"'Energy Consumed Breakdown MWh'!U56/1000","v":6980.5192983069328},{"$f":"'Energy Consumed Breakdown MWh'!V56/1000","v":7890.4304140679415},{"$f":"'Energy Consumed Breakdown MWh'!W56/1000","v":8707.2035918049078},{"$f":"'Energy Consumed Breakdown MWh'!X56/1000","v":9597.262398200819},{"$f":"'Energy Consumed Breakdown MWh'!Y56/1000","v":10181.094921861231},{"$f":"'Energy Consumed Breakdown MWh'!Z56/1000","v":10715.811280209831},{"$f":"'Energy Consumed Breakdown MWh'!AA56/1000","v":11027.53153386986},{"$f":"'Energy Consumed Breakdown MWh'!AB56/1000","v":11172.637480024407},{"$f":"'Energy Consumed Breakdown MWh'!AC56/1000","v":11576.248098919252},{"$f":"'Energy Consumed Breakdown MWh'!AD56/1000","v":11649.500390182964}]
["Large industry Fuel Switching",{"$f":"'Energy Consumed Breakdown MWh'!B57/1000","v":253.7713345189697},{"$f":"'Energy Consumed Breakdown MWh'!C57/1000","v":380.65700177845468},{"$f":"'Energy Consumed Breakdown MWh'!D57/1000","v":507.54266903793956},{"$f":"'Energy Consumed Breakdown MWh'!E57/1000","v":634.42833629742438},{"$f":"'Energy Consumed Breakdown MWh'!F57/1000","v":851.9039072673761},{"$f":"'Energy Consumed Breakdown MWh'!G57/1000","v":1069.3794782373279},{"$f":"'Energy Consumed Breakdown MWh'!H57/1000","v":1286.8550492072798},{"$f":"'Energy Consumed Breakdown MWh'!I57/1000","v":1504.3306201772318},{"$f":"'Energy Consumed Breakdown MWh'!J57/1000","v":1721.8061911471834},{"$f":"'Energy Consumed Breakdown MWh'!K57/1000","v":1912.8348106825915},{"$f":"'Energy Consumed Breakdown MWh'!L57/1000","v":2103.8634302179989},{"$f":"'Energy Consumed Breakdown MWh'!M57/1000","v":2294.8920497534064},{"$f":"'Energy Consumed Breakdown MWh'!N57/1000","v":2485.9206692888142},{"$f":"'Energy Consumed Breakdown MWh'!O57/1000","v":2676.9492888242221},{"$f":"'Energy Consumed Breakdown MWh'!P57/1000","v":2903.7463556619036},{"$f":"'Energy Consumed Breakdown MWh'!Q57/1000","v":3130.5434224995847},{"$f":"'Energy Consumed Breakdown MWh'!R57/1000","v":3357.3404893372663},{"$f":"'Energy Consumed Breakdown MWh'!S57/1000","v":3584.1375561749473},{"$f":"'Energy Consumed Breakdown MWh'!T57/1000","v":3810.9346230126284},{"$f":"'Energy Consumed Breakdown MWh'!U57/1000","v":4143.7114560283526},{"$f":"'Energy Consumed Breakdown MWh'!V57/1000","v":4476.4882890440767},{"$f":"'Energy Consumed Breakdown MWh'!W57/1000","v":4809.2651220597991},{"$f":"'Energy Consumed Breakdown MWh'!X57/1000","v":5142.0419550755232},{"$f":"'Energy Consumed Breakdown MWh'!Y57/1000","v":5474.8187880912483},{"$f":"'Energy Consumed Breakdown MWh'!Z57/1000","v":5474.8187880912483},{"$f":"'Energy Consumed Breakdown MWh'!AA57/1000","v":5474.8187880912483},{"$f":"'Energy Consumed Breakdown MWh'!AB57/1000","v":5474.8187880912483},{"$f":"'Energy Consumed Breakdown MWh'!AC57/1000","v":5474.8187880912483},{"$f":"'Energy Consumed Breakdown MWh'!AD57/1000","v":5474.8187880912483}]
["Total demand",{"$f":"'Energy Consumed Breakdown MWh'!B58/1000","v":34601.109669413134},{"$f":"'Energy Consumed Breakdown MWh'!C58/1000","v":35234.085764011092},{"$f":"'Energy Consumed Breakdown MWh'!D58/1000","v":36118.802476601748},{"$f":"'Energy Consumed Breakdown MWh'!E58/1000","v":37813.46506807144},{"$f":"'Energy Consumed Breakdown MWh'!F58/1000","v":39412.909059494195},{"$f":"'Energy Consumed Breakdown MWh'!G58/1000","v":41156.923165690052},{"$f":"'Energy Consumed Breakdown MWh'!H58/1000","v":42744.506645457048},{"$f":"'Energy Consumed Breakdown MWh'!I58/1000","v":44489.109087603007},{"$f":"'Energy Consumed Breakdown MWh'!J58/1000","v":47043.395984874434},{"$f":"'Energy Consumed Breakdown MWh'!K58/1000","v":49894.732024392979},{"$f":"'Energy Consumed Breakdown MWh'!L58/1000","v":52311.798224051716},{"$f":"'Energy Consumed Breakdown MWh'!M58/1000","v":55034.876073410873},{"$f":"'Energy Consumed Breakdown MWh'!N58/1000","v":57659.111267987653},{"$f":"'Energy Consumed Breakdown MWh'!O58/1000","v":60185.930598696767},{"$f":"'Energy Consumed Breakdown MWh'!P58/1000","v":62764.637667340205},{"$f":"'Energy Consumed Breakdown MWh'!Q58/1000","v":64560.722794406982},{"$f":"'Energy Consumed Breakdown MWh'!R58/1000","v":66341.306823356732},{"$f":"'Energy Consumed Breakdown MWh'!S58/1000","v":68017.059038237261},{"$f":"'Energy Consumed Breakdown MWh'!T58/1000","v":69801.209372219295},{"$f":"'Energy Consumed Breakdown MWh'!U58/1000","v":72234.995194268879},{"$f":"'Energy Consumed Breakdown MWh'!V58/1000","v":74296.948785150467},{"$f":"'Energy Consumed Breakdown MWh'!W58/1000","v":76445.880672458312},{"$f":"'Energy Consumed Breakdown MWh'!X58/1000","v":78659.178029411312},{"$f":"'Energy Consumed Breakdown MWh'!Y58/1000","v":80339.934792161788},{"$f":"'Energy Consumed Breakdown MWh'!Z58/1000","v":80821.760982277425},{"$f":"'Energy Consumed Breakdown MWh'!AA58/1000","v":81073.0381588444},{"$f":"'Energy Consumed Breakdown MWh'!AB58/1000","v":81157.543313447764},{"$f":"'Energy Consumed Breakdown MWh'!AC58/1000","v":81499.969005471736},{"$f":"'Energy Consumed Breakdown MWh'!AD58/1000","v":81516.000289220581}]
[]
[]
["Falling Short Study: Contributions to Large load Energy Consumption GWh - NPg",2022,2023,2024,2025,2026,2027,2028,2029,2030,2031,2032,2033,2034,2035,2036,2037,2038,2039,2040,2041,2042,2043,2044,2045,2046,2047,2048,2049,2050]
["Domestic Underlying",{"$f":"'Energy Consumed Breakdown MWh'!B62/1000","v":10512.64293985911},{"$f":"'Energy Consumed Breakdown MWh'!C62/1000","v":10471.256619803511},{"$f":"'Energy Consumed Breakdown MWh'!D62/1000","v":10468.838333187221},{"$f":"'Energy Consumed Breakdown MWh'!E62/1000","v":10470.862170623481},{"$f":"'Energy Consumed Breakdown MWh'!F62/1000","v":10478.721465688812},{"$f":"'Energy Consumed Breakdown MWh'!G62/1000","v":10491.068424049807},{"$f":"'Energy Consumed Breakdown MWh'!H62/1000","v":10512.548136468913},{"$f":"'Energy Consumed Breakdown MWh'!I62/1000","v":10537.019248576653},{"$f":"'Energy Consumed Breakdown MWh'!J62/1000","v":10567.491134210553},{"$f":"'Energy Consumed Breakdown MWh'!K62/1000","v":10606.653562361047},{"$f":"'Energy Consumed Breakdown MWh'!L62/1000","v":10623.157837257808},{"$f":"'Energy Consumed Breakdown MWh'!M62/1000","v":10638.790348492137},{"$f":"'Energy Consumed Breakdown MWh'!N62/1000","v":10653.935833417936},{"$f":"'Energy Consumed Breakdown MWh'!O62/1000","v":10669.104032377045},{"$f":"'Energy Consumed Breakdown MWh'!P62/1000","v":10683.852062741849},{"$f":"'Energy Consumed Breakdown MWh'!Q62/1000","v":10697.30828636564},{"$f":"'Energy Consumed Breakdown MWh'!R62/1000","v":10710.826354443943},{"$f":"'Energy Consumed Breakdown MWh'!S62/1000","v":10725.033113048325},{"$f":"'Energy Consumed Breakdown MWh'!T62/1000","v":10739.780628788289},{"$f":"'Energy Consumed Breakdown MWh'!U62/1000","v":10754.783918111882},{"$f":"'Energy Consumed Breakdown MWh'!V62/1000","v":10769.996344822679},{"$f":"'Energy Consumed Breakdown MWh'!W62/1000","v":10785.0659796338},{"$f":"'Energy Consumed Breakdown MWh'!X62/1000","v":10800.226756673843},{"$f":"'Energy Consumed Breakdown MWh'!Y62/1000","v":10815.430284427008},{"$f":"'Energy Consumed Breakdown MWh'!Z62/1000","v":10830.617336851452},{"$f":"'Energy Consumed Breakdown MWh'!AA62/1000","v":10845.885448270428},{"$f":"'Energy Consumed Breakdown MWh'!AB62/1000","v":10861.22888085136},{"$f":"'Energy Consumed Breakdown MWh'!AC62/1000","v":10876.640346471164},{"$f":"'Energy Consumed Breakdown MWh'!AD62/1000","v":10892.206507148912}]
["I & C Underlying",{"$f":"'Energy Consumed Breakdown MWh'!B63/1000","v":23188.953365774614},{"$f":"'Energy Consumed Breakdown MWh'!C63/1000","v":23612.465968715922},{"$f":"'Energy Consumed Breakdown MWh'!D63/1000","v":23952.735476701189},{"$f":"'Energy Consumed Breakdown MWh'!E63/1000","v":24139.968416211956},{"$f":"'Energy Consumed Breakdown MWh'!F63/1000","v":24165.427324950986},{"$f":"'Energy Consumed Breakdown MWh'!G63/1000","v":24185.398275508505},{"$f":"'Energy Consumed Breakdown MWh'!H63/1000","v":24191.930452608216},{"$f":"'Energy Consumed Breakdown MWh'!I63/1000","v":24205.580283220814},{"$f":"'Energy Consumed Breakdown MWh'!J63/1000","v":24253.926696713563},{"$f":"'Energy Consumed Breakdown MWh'!K63/1000","v":24280.983721628127},{"$f":"'Energy Consumed Breakdown MWh'!L63/1000","v":24314.306497394278},{"$f":"'Energy Consumed Breakdown MWh'!M63/1000","v":24353.593918666207},{"$f":"'Energy Consumed Breakdown MWh'!N63/1000","v":24398.537971788926},{"$f":"'Energy Consumed Breakdown MWh'!O63/1000","v":24862.155251641576},{"$f":"'Energy Consumed Breakdown MWh'!P63/1000","v":24917.460884537988},{"$f":"'Energy Consumed Breakdown MWh'!Q63/1000","v":24977.457639042765},{"$f":"'Energy Consumed Breakdown MWh'!R63/1000","v":25041.809848892066},{"$f":"'Energy Consumed Breakdown MWh'!S63/1000","v":25110.174929877034},{"$f":"'Energy Consumed Breakdown MWh'!T63/1000","v":25182.203377946717},{"$f":"'Energy Consumed Breakdown MWh'!U63/1000","v":25257.53876732061},{"$f":"'Energy Consumed Breakdown MWh'!V63/1000","v":25335.817748611451},{"$f":"'Energy Consumed Breakdown MWh'!W63/1000","v":25416.670046957588},{"$f":"'Energy Consumed Breakdown MWh'!X63/1000","v":25499.718460165052},{"$f":"'Energy Consumed Breakdown MWh'!Y63/1000","v":25584.578856859542},{"$f":"'Energy Consumed Breakdown MWh'!Z63/1000","v":25670.860174647973},{"$f":"'Energy Consumed Breakdown MWh'!AA63/1000","v":25758.164418289667},{"$f":"'Energy Consumed Breakdown MWh'!AB63/1000","v":25845.684045375652},{"$f":"'Energy Consumed Breakdown MWh'!AC63/1000","v":25933.212719457799},{"$f":"'Energy Consumed Breakdown MWh'!AD63/1000","v":26020.750416737519}]
["Heat pumps - domestic",{"$f":"'Energy Consumed Breakdown MWh'!B64/1000","v":174.01540757419966},{"$f":"'Energy Consumed Breakdown MWh'!C64/1000","v":198.4565645150129},{"$f":"'Energy Consumed Breakdown MWh'!D64/1000","v":206.8409419273616},{"$f":"'Energy Consumed Breakdown MWh'!E64/1000","v":241.80186004446153},{"$f":"'Energy Consumed Breakdown MWh'!F64/1000","v":280.63623832973354},{"$f":"'Energy Consumed Breakdown MWh'!G64/1000","v":322.42287434826204},{"$f":"'Energy Consumed Breakdown MWh'!H64/1000","v":366.04356189639145},{"$f":"'Energy Consumed Breakdown MWh'!I64/1000","v":411.62121323500622},{"$f":"'Energy Consumed Breakdown MWh'!J64/1000","v":458.85252460989534},{"$f":"'Energy Consumed Breakdown MWh'!K64/1000","v":506.81493450044877},{"$f":"'Energy Consumed Breakdown MWh'!L64/1000","v":555.1539749685046},{"$f":"'Energy Consumed Breakdown MWh'!M64/1000","v":602.71404628259143},{"$f":"'Energy Consumed Breakdown MWh'!N64/1000","v":643.78068362349461},{"$f":"'Energy Consumed Breakdown MWh'!O64/1000","v":692.48355446682547},{"$f":"'Energy Consumed Breakdown MWh'!P64/1000","v":745.77704041901359},{"$f":"'Energy Consumed Breakdown MWh'!Q64/1000","v":793.20696862030456},{"$f":"'Energy Consumed Breakdown MWh'!R64/1000","v":825.76101989351616},{"$f":"'Energy Consumed Breakdown MWh'!S64/1000","v":856.96069777045125},{"$f":"'Energy Consumed Breakdown MWh'!T64/1000","v":888.66958871658687},{"$f":"'Energy Consumed Breakdown MWh'!U64/1000","v":920.69512622853301},{"$f":"'Energy Consumed Breakdown MWh'!V64/1000","v":952.96822340391111},{"$f":"'Energy Consumed Breakdown MWh'!W64/1000","v":985.01939996778844},{"$f":"'Energy Consumed Breakdown MWh'!X64/1000","v":1016.9980426667451},{"$f":"'Energy Consumed Breakdown MWh'!Y64/1000","v":1049.0689410655821},{"$f":"'Energy Consumed Breakdown MWh'!Z64/1000","v":1081.2922134151972},{"$f":"'Energy Consumed Breakdown MWh'!AA64/1000","v":1113.5184966641161},{"$f":"'Energy Consumed Breakdown MWh'!AB64/1000","v":1145.8988472952212},{"$f":"'Energy Consumed Breakdown MWh'!AC64/1000","v":1175.456813566587},{"$f":"'Energy Consumed Breakdown MWh'!AD64/1000","v":1196.3698537221801}]
["Heat pumps - I & C",{"$f":"'Energy Consumed Breakdown MWh'!B65/1000","v":149.92839224489526},{"$f":"'Energy Consumed Breakdown MWh'!C65/1000","v":165.19013122664276},{"$f":"'Energy Consumed Breakdown MWh'!D65/1000","v":183.55436375694646},{"$f":"'Energy Consumed Breakdown MWh'!E65/1000","v":194.02557594388909},{"$f":"'Energy Consumed Breakdown MWh'!F65/1000","v":206.33280269100592},{"$f":"'Energy Consumed Breakdown MWh'!G65/1000","v":227.86513841643452},{"$f":"'Energy Consumed Breakdown MWh'!H65/1000","v":252.60697067521164},{"$f":"'Energy Consumed Breakdown MWh'!I65/1000","v":276.2931856638146},{"$f":"'Energy Consumed Breakdown MWh'!J65/1000","v":297.64256559170326},{"$f":"'Energy Consumed Breakdown MWh'!K65/1000","v":316.83535759878976},{"$f":"'Energy Consumed Breakdown MWh'!L65/1000","v":335.80300068472059},{"$f":"'Energy Consumed Breakdown MWh'!M65/1000","v":355.84659821656709},{"$f":"'Energy Consumed Breakdown MWh'!N65/1000","v":375.71035475424037},{"$f":"'Energy Consumed Breakdown MWh'!O65/1000","v":409.00057296837866},{"$f":"'Energy Consumed Breakdown MWh'!P65/1000","v":438.30726948579724},{"$f":"'Energy Consumed Breakdown MWh'!Q65/1000","v":476.64136298486403},{"$f":"'Energy Consumed Breakdown MWh'!R65/1000","v":501.71807929722047},{"$f":"'Energy Consumed Breakdown MWh'!S65/1000","v":523.97866389672322},{"$f":"'Energy Consumed Breakdown MWh'!T65/1000","v":542.51601085821562},{"$f":"'Energy Consumed Breakdown MWh'!U65/1000","v":559.95407087973206},{"$f":"'Energy Consumed Breakdown MWh'!V65/1000","v":577.03673109284819},{"$f":"'Energy Consumed Breakdown MWh'!W65/1000","v":593.68054118149428},{"$f":"'Energy Consumed Breakdown MWh'!X65/1000","v":609.91819269598977},{"$f":"'Energy Consumed Breakdown MWh'!Y65/1000","v":625.97870853194127},{"$f":"'Energy Consumed Breakdown MWh'!Z65/1000","v":642.14145147180182},{"$f":"'Energy Consumed Breakdown MWh'!AA65/1000","v":658.37421992033296},{"$f":"'Energy Consumed Breakdown MWh'!AB65/1000","v":674.58255219383113},{"$f":"'Energy Consumed Breakdown MWh'!AC65/1000","v":690.72908177639204},{"$f":"'Energy Consumed Breakdown MWh'!AD65/1000","v":694.38954487466071}]
["EV - cars & vans",{"$f":"'Energy Consumed Breakdown MWh'!B66/1000","v":275.78814262939073},{"$f":"'Energy Consumed Breakdown MWh'!C66/1000","v":411.74546402993229},{"$f":"'Energy Consumed Breakdown MWh'!D66/1000","v":605.0993951009018},{"$f":"'Energy Consumed Breakdown MWh'!E66/1000","v":856.66972656332769},{"$f":"'Energy Consumed Breakdown MWh'!F66/1000","v":1168.2386757687955},{"$f":"'Energy Consumed Breakdown MWh'!G66/1000","v":1533.3681636922583},{"$f":"'Energy Consumed Breakdown MWh'!H66/1000","v":1997.8869818871572},{"$f":"'Energy Consumed Breakdown MWh'!I66/1000","v":2543.8249618204954},{"$f":"'Energy Consumed Breakdown MWh'!J66/1000","v":3054.7990895714479},{"$f":"'Energy Consumed Breakdown MWh'!K66/1000","v":3528.5049348528319},{"$f":"'Energy Consumed Breakdown MWh'!L66/1000","v":3966.2973259977471},{"$f":"'Energy Consumed Breakdown MWh'!M66/1000","v":4367.6114556741495},{"$f":"'Energy Consumed Breakdown MWh'!N66/1000","v":4730.1754147102092},{"$f":"'Energy Consumed Breakdown MWh'!O66/1000","v":5053.5416719673112},{"$f":"'Energy Consumed Breakdown MWh'!P66/1000","v":5320.9530489096142},{"$f":"'Energy Consumed Breakdown MWh'!Q66/1000","v":5562.6538133872082},{"$f":"'Energy Consumed Breakdown MWh'!R66/1000","v":5778.2938435780588},{"$f":"'Energy Consumed Breakdown MWh'!S66/1000","v":5971.5844307957277},{"$f":"'Energy Consumed Breakdown MWh'!T66/1000","v":6138.9660031828662},{"$f":"'Energy Consumed Breakdown MWh'!U66/1000","v":6273.5878437550091},{"$f":"'Energy Consumed Breakdown MWh'!V66/1000","v":6386.9806311844777},{"$f":"'Energy Consumed Breakdown MWh'!W66/1000","v":6478.1756950969811},{"$f":"'Energy Consumed Breakdown MWh'!X66/1000","v":6552.3314970038182},{"$f":"'Energy Consumed Breakdown MWh'!Y66/1000","v":6611.665475111211},{"$f":"'Energy Consumed Breakdown MWh'!Z66/1000","v":6646.8177060434409},{"$f":"'Energy Consumed Breakdown MWh'!AA66/1000","v":6676.0528781832963},{"$f":"'Energy Consumed Breakdown MWh'!AB66/1000","v":6702.4637342920751},{"$f":"'Energy Consumed Breakdown MWh'!AC66/1000","v":6727.0656276536747},{"$f":"'Energy Consumed Breakdown MWh'!AD66/1000","v":6750.1269849983264}]
["Electric HGVs",{"$f":"'Energy Consumed Breakdown MWh'!B67/1000","v":7.3578745540348507},{"$f":"'Energy Consumed Breakdown MWh'!C67/1000","v":17.677019219969385},{"$f":"'Energy Consumed Breakdown MWh'!D67/1000","v":36.337544867899588},{"$f":"'Energy Consumed Breakdown MWh'!E67/1000","v":64.967324070248921},{"$f":"'Energy Consumed Breakdown MWh'!F67/1000","v":108.74168238474262},{"$f":"'Energy Consumed Breakdown MWh'!G67/1000","v":174.22907519490064},{"$f":"'Energy Consumed Breakdown MWh'!H67/1000","v":269.02627044312152},{"$f":"'Energy Consumed Breakdown MWh'!I67/1000","v":400.10581079196885},{"$f":"'Energy Consumed Breakdown MWh'!J67/1000","v":571.29272565414203},{"$f":"'Energy Consumed Breakdown MWh'!K67/1000","v":780.8522748857855},{"$f":"'Energy Consumed Breakdown MWh'!L67/1000","v":1021.8289831541204},{"$f":"'Energy Consumed Breakdown MWh'!M67/1000","v":1285.6921879967538},{"$f":"'Energy Consumed Breakdown MWh'!N67/1000","v":1567.1835307233075},{"$f":"'Energy Consumed Breakdown MWh'!O67/1000","v":1867.6337262622676},{"$f":"'Energy Consumed Breakdown MWh'!P67/1000","v":2193.3784815304734},{"$f":"'Energy Consumed Breakdown MWh'!Q67/1000","v":2548.4585028881502},{"$f":"'Energy Consumed Breakdown MWh'!R67/1000","v":2927.0536368075423},{"$f":"'Energy Consumed Breakdown MWh'!S67/1000","v":3312.8648949059493},{"$f":"'Energy Consumed Breakdown MWh'!T67/1000","v":3686.0080111400325},{"$f":"'Energy Consumed Breakdown MWh'!U67/1000","v":4029.9286952447901},{"$f":"'Energy Consumed Breakdown MWh'!V67/1000","v":4333.7984425406239},{"$f":"'Energy Consumed Breakdown MWh'!W67/1000","v":4592.097780323581},{"$f":"'Energy Consumed Breakdown MWh'!X67/1000","v":4803.2985292567982},{"$f":"'Energy Consumed Breakdown MWh'!Y67/1000","v":4968.9276747165777},{"$f":"'Energy Consumed Breakdown MWh'!Z67/1000","v":5093.2132617987136},{"$f":"'Energy Consumed Breakdown MWh'!AA67/1000","v":5182.7445323459706},{"$f":"'Energy Consumed Breakdown MWh'!AB67/1000","v":5245.6283048450769},{"$f":"'Energy Consumed Breakdown MWh'!AC67/1000","v":5289.9837379612745},{"$f":"'Energy Consumed Breakdown MWh'!AD67/1000","v":5322.543845933289}]
["Electric Buses",{"$f":"'Energy Consumed Breakdown MWh'!B68/1000","v":28.25670329452381},{"$f":"'Energy Consumed Breakdown MWh'!C68/1000","v":34.587752794823452},{"$f":"'Energy Consumed Breakdown MWh'!D68/1000","v":46.412356950757136},{"$f":"'Energy Consumed Breakdown MWh'!E68/1000","v":61.425101757546003},{"$f":"'Energy Consumed Breakdown MWh'!F68/1000","v":79.943087460991606},{"$f":"'Energy Consumed Breakdown MWh'!G68/1000","v":101.96615446519159},{"$f":"'Energy Consumed Breakdown MWh'!H68/1000","v":127.21233689742861},{"$f":"'Energy Consumed Breakdown MWh'!I68/1000","v":155.93845112623055},{"$f":"'Energy Consumed Breakdown MWh'!J68/1000","v":187.58824220023874},{"$f":"'Energy Consumed Breakdown MWh'!K68/1000","v":221.47672573397961},{"$f":"'Energy Consumed Breakdown MWh'!L68/1000","v":256.94665406768752},{"$f":"'Energy Consumed Breakdown MWh'!M68/1000","v":293.75884308584187},{"$f":"'Energy Consumed Breakdown MWh'!N68/1000","v":331.48058271021819},{"$f":"'Energy Consumed Breakdown MWh'!O68/1000","v":369.42636448516987},{"$f":"'Energy Consumed Breakdown MWh'!P68/1000","v":406.691695903903},{"$f":"'Energy Consumed Breakdown MWh'!Q68/1000","v":442.39973578085926},{"$f":"'Energy Consumed Breakdown MWh'!R68/1000","v":475.90110970932176},{"$f":"'Energy Consumed Breakdown MWh'!S68/1000","v":506.88353421569082},{"$f":"'Energy Consumed Breakdown MWh'!T68/1000","v":535.24971912887338},{"$f":"'Energy Consumed Breakdown MWh'!U68/1000","v":560.86058469846216},{"$f":"'Energy Consumed Breakdown MWh'!V68/1000","v":583.45772111700239},{"$f":"'Energy Consumed Breakdown MWh'!W68/1000","v":603.15557637262202},{"$f":"'Energy Consumed Breakdown MWh'!X68/1000","v":620.12862646734254},{"$f":"'Energy Consumed Breakdown MWh'!Y68/1000","v":634.58912683885592},{"$f":"'Energy Consumed Breakdown MWh'!Z68/1000","v":646.76011213903973},{"$f":"'Energy Consumed Breakdown MWh'!AA68/1000","v":656.85581383251008},{"$f":"'Energy Consumed Breakdown MWh'!AB68/1000","v":665.07009930397351},{"$f":"'Energy Consumed Breakdown MWh'!AC68/1000","v":671.57035979445311},{"$f":"'Energy Consumed Breakdown MWh'!AD68/1000","v":676.52373622725418}]
["Electrolysers",{"$f":"'Energy Consumed Breakdown MWh'!B69/1000","v":0},{"$f":"'Energy Consumed Breakdown MWh'!C69/1000","v":3.3820614607663901},{"$f":"'Energy Consumed Breakdown MWh'!D69/1000","v":3.9779362644252765},{"$f":"'Energy Consumed Breakdown MWh'!E69/1000","v":5.5934310210688789},{"$f":"'Energy Consumed Breakdown MWh'!F69/1000","v":29.996714268136977},{"$f":"'Energy Consumed Breakdown MWh'!G69/1000","v":56.689090715596656},{"$f":"'Energy Consumed Breakdown MWh'!H69/1000","v":90.809263554627336},{"$f":"'Energy Consumed Breakdown MWh'!I69/1000","v":125.32378089646338},{"$f":"'Energy Consumed Breakdown MWh'!J69/1000","v":177.03274055955833},{"$f":"'Energy Consumed Breakdown MWh'!K69/1000","v":235.07472276609741},{"$f":"'Energy Consumed Breakdown MWh'!L69/1000","v":300.90417721572334},{"$f":"'Energy Consumed Breakdown MWh'!M69/1000","v":367.37165903113629},{"$f":"'Energy Consumed Breakdown MWh'!N69/1000","v":372.52980289731994},{"$f":"'Energy Consumed Breakdown MWh'!O69/1000","v":378.59599808843478},{"$f":"'Energy Consumed Breakdown MWh'!P69/1000","v":386.31184873404186},{"$f":"'Energy Consumed Breakdown MWh'!Q69/1000","v":395.03731921777654},{"$f":"'Energy Consumed Breakdown MWh'!R69/1000","v":404.48348948935291},{"$f":"'Energy Consumed Breakdown MWh'!S69/1000","v":413.67216506808927},{"$f":"'Energy Consumed Breakdown MWh'!T69/1000","v":420.25903185793965},{"$f":"'Energy Consumed Breakdown MWh'!U69/1000","v":424.53582742623939},{"$f":"'Energy Consumed Breakdown MWh'!V69/1000","v":427.3122821371843},{"$f":"'Energy Consumed Breakdown MWh'!W69/1000","v":427.17937739113631},{"$f":"'Energy Consumed Breakdown MWh'!X69/1000","v":427.21668725024603},{"$f":"'Energy Consumed Breakdown MWh'!Y69/1000","v":455.8700535412961},{"$f":"'Energy Consumed Breakdown MWh'!Z69/1000","v":582.73699844780276},{"$f":"'Energy Consumed Breakdown MWh'!AA69/1000","v":746.63731413900268},{"$f":"'Energy Consumed Breakdown MWh'!AB69/1000","v":827.26731875007738},{"$f":"'Energy Consumed Breakdown MWh'!AC69/1000","v":964.16309055616534},{"$f":"'Energy Consumed Breakdown MWh'!AD69/1000","v":1023.4853274655244}]
["Large industry Fuel Switching",{"$f":"'Energy Consumed Breakdown MWh'!B70/1000","v":103.48641666674226},{"$f":"'Energy Consumed Breakdown MWh'!C70/1000","v":155.22962500011306},{"$f":"'Energy Consumed Breakdown MWh'!D70/1000","v":206.97283333348409},{"$f":"'Energy Consumed Breakdown MWh'!E70/1000","v":258.71604166685529},{"$f":"'Energy Consumed Breakdown MWh'!F70/1000","v":312.60275475687575},{"$f":"'Energy Consumed Breakdown MWh'!G70/1000","v":366.48946784689593},{"$f":"'Energy Consumed Breakdown MWh'!H70/1000","v":420.37618093691594},{"$f":"'Energy Consumed Breakdown MWh'!I70/1000","v":474.26289402693607},{"$f":"'Energy Consumed Breakdown MWh'!J70/1000","v":528.14960711695676},{"$f":"'Energy Consumed Breakdown MWh'!K70/1000","v":608.57239180792158},{"$f":"'Energy Consumed Breakdown MWh'!L70/1000","v":688.99517649888639},{"$f":"'Energy Consumed Breakdown MWh'!M70/1000","v":769.41796118985144},{"$f":"'Energy Consumed Breakdown MWh'!N70/1000","v":849.84074588081592},{"$f":"'Energy Consumed Breakdown MWh'!O70/1000","v":930.26353057178108},{"$f":"'Energy Consumed Breakdown MWh'!P70/1000","v":1010.1594155008227},{"$f":"'Energy Consumed Breakdown MWh'!Q70/1000","v":1090.0553004298638},{"$f":"'Energy Consumed Breakdown MWh'!R70/1000","v":1169.9511853589051},{"$f":"'Energy Consumed Breakdown MWh'!S70/1000","v":1249.8470702879472},{"$f":"'Energy Consumed Breakdown MWh'!T70/1000","v":1329.7429552169885},{"$f":"'Energy Consumed Breakdown MWh'!U70/1000","v":1392.0702914818985},{"$f":"'Energy Consumed Breakdown MWh'!V70/1000","v":1454.3976277468089},{"$f":"'Energy Consumed Breakdown MWh'!W70/1000","v":1516.7249640117191},{"$f":"'Energy Consumed Breakdown MWh'!X70/1000","v":1579.052300276629},{"$f":"'Energy Consumed Breakdown MWh'!Y70/1000","v":1641.3796365415392},{"$f":"'Energy Consumed Breakdown MWh'!Z70/1000","v":1934.261007923948},{"$f":"'Energy Consumed Breakdown MWh'!AA70/1000","v":2227.1423793063568},{"$f":"'Energy Consumed Breakdown MWh'!AB70/1000","v":2520.0237506887661},{"$f":"'Energy Consumed Breakdown MWh'!AC70/1000","v":2812.9051220711749},{"$f":"'Energy Consumed Breakdown MWh'!AD70/1000","v":3105.7864934535837}]
["Total demand",{"$f":"'Energy Consumed Breakdown MWh'!B71/1000","v":34440.429242597507},{"$f":"'Energy Consumed Breakdown MWh'!C71/1000","v":35069.991206766696},{"$f":"'Energy Consumed Breakdown MWh'!D71/1000","v":35710.769182090175},{"$f":"'Energy Consumed Breakdown MWh'!E71/1000","v":36294.02964790284},{"$f":"'Energy Consumed Breakdown MWh'!F71/1000","v":36830.64074630008},{"$f":"'Energy Consumed Breakdown MWh'!G71/1000","v":37459.496664237857},{"$f":"'Energy Consumed Breakdown MWh'!H71/1000","v":38228.440155367985},{"$f":"'Energy Consumed Breakdown MWh'!I71/1000","v":39129.969829358386},{"$f":"'Energy Consumed Breakdown MWh'!J71/1000","v":40096.77532622806},{"$f":"'Energy Consumed Breakdown MWh'!K71/1000","v":41085.768626135025},{"$f":"'Energy Consumed Breakdown MWh'!L71/1000","v":42063.393627239479},{"$f":"'Energy Consumed Breakdown MWh'!M71/1000","v":43034.797018635225},{"$f":"'Energy Consumed Breakdown MWh'!N71/1000","v":43923.17492050647},{"$f":"'Energy Consumed Breakdown MWh'!O71/1000","v":45232.204702828785},{"$f":"'Energy Consumed Breakdown MWh'!P71/1000","v":46102.891747763497},{"$f":"'Energy Consumed Breakdown MWh'!Q71/1000","v":46983.218928717433},{"$f":"'Energy Consumed Breakdown MWh'!R71/1000","v":47835.798567469923},{"$f":"'Energy Consumed Breakdown MWh'!S71/1000","v":48670.999499865946},{"$f":"'Energy Consumed Breakdown MWh'!T71/1000","v":49463.395326836515},{"$f":"'Energy Consumed Breakdown MWh'!U71/1000","v":50173.955125147164},{"$f":"'Energy Consumed Breakdown MWh'!V71/1000","v":50821.765752656975},{"$f":"'Energy Consumed Breakdown MWh'!W71/1000","v":51397.769360936705},{"$f":"'Energy Consumed Breakdown MWh'!X71/1000","v":51908.889092456462},{"$f":"'Energy Consumed Breakdown MWh'!Y71/1000","v":52387.488757633553},{"$f":"'Energy Consumed Breakdown MWh'!Z71/1000","v":53128.700262739374},{"$f":"'Energy Consumed Breakdown MWh'!AA71/1000","v":53865.375500951683},{"$f":"'Energy Consumed Breakdown MWh'!AB71/1000","v":54487.847533596039},{"$f":"'Energy Consumed Breakdown MWh'!AC71/1000","v":55141.726899308698},{"$f":"'Energy Consumed Breakdown MWh'!AD71/1000","v":55682.182710561254}]
[]
[]
["Net Zero Early Study: Contributions to Large load Energy Consumption GWh - NPg",2022,2023,2024,2025,2026,2027,2028,2029,2030,2031,2032,2033,2034,2035,2036,2037,2038,2039,2040,2041,2042,2043,2044,2045,2046,2047,2048,2049,2050]
["Domestic Underlying",{"$f":"'Energy Consumed Breakdown MWh'!B75/1000","v":12358.52608229842},{"$f":"'Energy Consumed Breakdown MWh'!C75/1000","v":11957.113141263058},{"$f":"'Energy Consumed Breakdown MWh'!D75/1000","v":11635.959138979495},{"$f":"'Energy Consumed Breakdown MWh'!E75/1000","v":11237.991779917997},{"$f":"'Energy Consumed Breakdown MWh'!F75/1000","v":10941.442270673571},{"$f":"'Energy Consumed Breakdown MWh'!G75/1000","v":10666.25945943327},{"$f":"'Energy Consumed Breakdown MWh'!H75/1000","v":10414.79926427781},{"$f":"'Energy Consumed Breakdown MWh'!I75/1000","v":10188.596705323611},{"$f":"'Energy Consumed Breakdown MWh'!J75/1000","v":10005.465952825743},{"$f":"'Energy Consumed Breakdown MWh'!K75/1000","v":9870.6769303702131},{"$f":"'Energy Consumed Breakdown MWh'!L75/1000","v":9771.692191072656},{"$f":"'Energy Consumed Breakdown MWh'!M75/1000","v":9771.0231999190564},{"$f":"'Energy Consumed Breakdown MWh'!N75/1000","v":9771.6636978632177},{"$f":"'Energy Consumed Breakdown MWh'!O75/1000","v":9768.9154756181088},{"$f":"'Energy Consumed Breakdown MWh'!P75/1000","v":9766.2128571003086},{"$f":"'Energy Consumed Breakdown MWh'!Q75/1000","v":9768.759020454474},{"$f":"'Energy Consumed Breakdown MWh'!R75/1000","v":9776.9338351995011},{"$f":"'Energy Consumed Breakdown MWh'!S75/1000","v":9783.0647115366028},{"$f":"'Energy Consumed Breakdown MWh'!T75/1000","v":9787.2839151528242},{"$f":"'Energy Consumed Breakdown MWh'!U75/1000","v":9788.7454066315659},{"$f":"'Energy Consumed Breakdown MWh'!V75/1000","v":9796.8779788642823},{"$f":"'Energy Consumed Breakdown MWh'!W75/1000","v":9817.1621280188483},{"$f":"'Energy Consumed Breakdown MWh'!X75/1000","v":9837.9356332291336},{"$f":"'Energy Consumed Breakdown MWh'!Y75/1000","v":9858.7969176494535},{"$f":"'Energy Consumed Breakdown MWh'!Z75/1000","v":9882.0027145373206},{"$f":"'Energy Consumed Breakdown MWh'!AA75/1000","v":9900.3806486929698},{"$f":"'Energy Consumed Breakdown MWh'!AB75/1000","v":9904.3821637501187},{"$f":"'Energy Consumed Breakdown MWh'!AC75/1000","v":9907.3199028130657},{"$f":"'Energy Consumed Breakdown MWh'!AD75/1000","v":9908.9769385310428}]
["I & C Underlying",{"$f":"'Energy Consumed Breakdown MWh'!B76/1000","v":23695.930663153769},{"$f":"'Energy Consumed Breakdown MWh'!C76/1000","v":23469.50644396821},{"$f":"'Energy Consumed Breakdown MWh'!D76/1000","v":23255.347684724711},{"$f":"'Energy Consumed Breakdown MWh'!E76/1000","v":23052.652166084932},{"$f":"'Energy Consumed Breakdown MWh'!F76/1000","v":22860.724444956235},{"$f":"'Energy Consumed Breakdown MWh'!G76/1000","v":22679.152564790187},{"$f":"'Energy Consumed Breakdown MWh'!H76/1000","v":22507.693897819092},{"$f":"'Energy Consumed Breakdown MWh'!I76/1000","v":22345.847118201964},{"$f":"'Energy Consumed Breakdown MWh'!J76/1000","v":22193.325812792049},{"$f":"'Energy Consumed Breakdown MWh'!K76/1000","v":22049.670211554476},{"$f":"'Energy Consumed Breakdown MWh'!L76/1000","v":21914.528696931251},{"$f":"'Energy Consumed Breakdown MWh'!M76/1000","v":21787.883735819221},{"$f":"'Energy Consumed Breakdown MWh'!N76/1000","v":21669.510784816197},{"$f":"'Energy Consumed Breakdown MWh'!O76/1000","v":21559.048571869829},{"$f":"'Energy Consumed Breakdown MWh'!P76/1000","v":21456.023607482857},{"$f":"'Energy Consumed Breakdown MWh'!Q76/1000","v":21359.956747245935},{"$f":"'Energy Consumed Breakdown MWh'!R76/1000","v":21270.582920740209},{"$f":"'Energy Consumed Breakdown MWh'!S76/1000","v":21187.612000284844},{"$f":"'Energy Consumed Breakdown MWh'!T76/1000","v":21110.687653574754},{"$f":"'Energy Consumed Breakdown MWh'!U76/1000","v":21039.279443189327},{"$f":"'Energy Consumed Breakdown MWh'!V76/1000","v":20972.934088744441},{"$f":"'Energy Consumed Breakdown MWh'!W76/1000","v":20911.267907521204},{"$f":"'Energy Consumed Breakdown MWh'!X76/1000","v":20853.881340063603},{"$f":"'Energy Consumed Breakdown MWh'!Y76/1000","v":20800.319055620879},{"$f":"'Energy Consumed Breakdown MWh'!Z76/1000","v":20750.38092615256},{"$f":"'Energy Consumed Breakdown MWh'!AA76/1000","v":20703.354125905214},{"$f":"'Energy Consumed Breakdown MWh'!AB76/1000","v":20658.919640752258},{"$f":"'Energy Consumed Breakdown MWh'!AC76/1000","v":20616.645128224591},{"$f":"'Energy Consumed Breakdown MWh'!AD76/1000","v":20576.093864782222}]
["Heat pumps - domestic",{"$f":"'Energy Consumed Breakdown MWh'!B77/1000","v":89.517676615043598},{"$f":"'Energy Consumed Breakdown MWh'!C77/1000","v":97.141293376783082},{"$f":"'Energy Consumed Breakdown MWh'!D77/1000","v":122.75052403241091},{"$f":"'Energy Consumed Breakdown MWh'!E77/1000","v":171.2422523507044},{"$f":"'Energy Consumed Breakdown MWh'!F77/1000","v":225.53336499125447},{"$f":"'Energy Consumed Breakdown MWh'!G77/1000","v":313.15659247210147},{"$f":"'Energy Consumed Breakdown MWh'!H77/1000","v":392.66569404827976},{"$f":"'Energy Consumed Breakdown MWh'!I77/1000","v":466.46649859575575},{"$f":"'Energy Consumed Breakdown MWh'!J77/1000","v":536.68925840511417},{"$f":"'Energy Consumed Breakdown MWh'!K77/1000","v":604.44582032785274},{"$f":"'Energy Consumed Breakdown MWh'!L77/1000","v":1538.2796841644058},{"$f":"'Energy Consumed Breakdown MWh'!M77/1000","v":2479.9555084541253},{"$f":"'Energy Consumed Breakdown MWh'!N77/1000","v":3382.6938985246134},{"$f":"'Energy Consumed Breakdown MWh'!O77/1000","v":4290.9927985830927},{"$f":"'Energy Consumed Breakdown MWh'!P77/1000","v":5194.8259046766125},{"$f":"'Energy Consumed Breakdown MWh'!Q77/1000","v":6083.8055576078368},{"$f":"'Energy Consumed Breakdown MWh'!R77/1000","v":6963.7588682034184},{"$f":"'Energy Consumed Breakdown MWh'!S77/1000","v":7820.0792815412633},{"$f":"'Energy Consumed Breakdown MWh'!T77/1000","v":8649.464332307205},{"$f":"'Energy Consumed Breakdown MWh'!U77/1000","v":9455.3476590003702},{"$f":"'Energy Consumed Breakdown MWh'!V77/1000","v":10227.924997590713},{"$f":"'Energy Consumed Breakdown MWh'!W77/1000","v":11001.571735357706},{"$f":"'Energy Consumed Breakdown MWh'!X77/1000","v":11771.050738112013},{"$f":"'Energy Consumed Breakdown MWh'!Y77/1000","v":12535.950168458958},{"$f":"'Energy Consumed Breakdown MWh'!Z77/1000","v":13252.442488941819},{"$f":"'Energy Consumed Breakdown MWh'!AA77/1000","v":13233.555399982577},{"$f":"'Energy Consumed Breakdown MWh'!AB77/1000","v":13202.082241582617},{"$f":"'Energy Consumed Breakdown MWh'!AC77/1000","v":13187.65799404825},{"$f":"'Energy Consumed Breakdown MWh'!AD77/1000","v":13155.296872516576}]
["Heat pumps - I & C",{"$f":"'Energy Consumed Breakdown MWh'!B78/1000","v":155.54959726313135},{"$f":"'Energy Consumed Breakdown MWh'!C78/1000","v":169.38064026490386},{"$f":"'Energy Consumed Breakdown MWh'!D78/1000","v":190.66555009699775},{"$f":"'Energy Consumed Breakdown MWh'!E78/1000","v":214.65844542532292},{"$f":"'Energy Consumed Breakdown MWh'!F78/1000","v":238.4842938458743},{"$f":"'Energy Consumed Breakdown MWh'!G78/1000","v":262.81106783449872},{"$f":"'Energy Consumed Breakdown MWh'!H78/1000","v":287.44727071261809},{"$f":"'Energy Consumed Breakdown MWh'!I78/1000","v":318.68168441607696},{"$f":"'Energy Consumed Breakdown MWh'!J78/1000","v":349.47963156141572},{"$f":"'Energy Consumed Breakdown MWh'!K78/1000","v":379.96843024587446},{"$f":"'Energy Consumed Breakdown MWh'!L78/1000","v":599.18063818783855},{"$f":"'Energy Consumed Breakdown MWh'!M78/1000","v":822.96820147519247},{"$f":"'Energy Consumed Breakdown MWh'!N78/1000","v":1031.2841849727695},{"$f":"'Energy Consumed Breakdown MWh'!O78/1000","v":1225.7604163138401},{"$f":"'Energy Consumed Breakdown MWh'!P78/1000","v":1435.4815591020738},{"$f":"'Energy Consumed Breakdown MWh'!Q78/1000","v":1639.3881907297514},{"$f":"'Energy Consumed Breakdown MWh'!R78/1000","v":1827.3773457953469},{"$f":"'Energy Consumed Breakdown MWh'!S78/1000","v":2006.4469298067909},{"$f":"'Energy Consumed Breakdown MWh'!T78/1000","v":2180.7216094743899},{"$f":"'Energy Consumed Breakdown MWh'!U78/1000","v":2352.7972565279774},{"$f":"'Energy Consumed Breakdown MWh'!V78/1000","v":2515.3629914810476},{"$f":"'Energy Consumed Breakdown MWh'!W78/1000","v":2676.2872359979606},{"$f":"'Energy Consumed Breakdown MWh'!X78/1000","v":2835.5938547688174},{"$f":"'Energy Consumed Breakdown MWh'!Y78/1000","v":2993.2656918231105},{"$f":"'Energy Consumed Breakdown MWh'!Z78/1000","v":3149.2390527943771},{"$f":"'Energy Consumed Breakdown MWh'!AA78/1000","v":3135.7792818139064},{"$f":"'Energy Consumed Breakdown MWh'!AB78/1000","v":3112.8402510909732},{"$f":"'Energy Consumed Breakdown MWh'!AC78/1000","v":3097.4324848462502},{"$f":"'Energy Consumed Breakdown MWh'!AD78/1000","v":3079.7899464093548}]
["EV - cars & vans",{"$f":"'Energy Consumed Breakdown MWh'!B79/1000","v":96.510161680162184},{"$f":"'Energy Consumed Breakdown MWh'!C79/1000","v":155.32860239278355},{"$f":"'Energy Consumed Breakdown MWh'!D79/1000","v":278.96090848374251},{"$f":"'Energy Consumed Breakdown MWh'!E79/1000","v":571.41849752321377},{"$f":"'Energy Consumed Breakdown MWh'!F79/1000","v":968.96229169793605},{"$f":"'Energy Consumed Breakdown MWh'!G79/1000","v":1439.7379415788296},{"$f":"'Energy Consumed Breakdown MWh'!H79/1000","v":1936.756832480979},{"$f":"'Energy Consumed Breakdown MWh'!I79/1000","v":2500.8265905772323},{"$f":"'Energy Consumed Breakdown MWh'!J79/1000","v":3170.2636532675847},{"$f":"'Energy Consumed Breakdown MWh'!K79/1000","v":3904.5973560713242},{"$f":"'Energy Consumed Breakdown MWh'!L79/1000","v":4883.2094685313104},{"$f":"'Energy Consumed Breakdown MWh'!M79/1000","v":5777.7008194513774},{"$f":"'Energy Consumed Breakdown MWh'!N79/1000","v":6608.5702106546869},{"$f":"'Energy Consumed Breakdown MWh'!O79/1000","v":7453.3841073656513},{"$f":"'Energy Consumed Breakdown MWh'!P79/1000","v":8254.2284064663672},{"$f":"'Energy Consumed Breakdown MWh'!Q79/1000","v":9317.5224381049611},{"$f":"'Energy Consumed Breakdown MWh'!R79/1000","v":10253.433894033264},{"$f":"'Energy Consumed Breakdown MWh'!S79/1000","v":10896.275871318614},{"$f":"'Energy Consumed Breakdown MWh'!T79/1000","v":11457.312574785761},{"$f":"'Energy Consumed Breakdown MWh'!U79/1000","v":11898.563736291808},{"$f":"'Energy Consumed Breakdown MWh'!V79/1000","v":12278.01581439909},{"$f":"'Energy Consumed Breakdown MWh'!W79/1000","v":12505.345920399444},{"$f":"'Energy Consumed Breakdown MWh'!X79/1000","v":12677.068857200915},{"$f":"'Energy Consumed Breakdown MWh'!Y79/1000","v":12794.059385217761},{"$f":"'Energy Consumed Breakdown MWh'!Z79/1000","v":12872.385175419317},{"$f":"'Energy Consumed Breakdown MWh'!AA79/1000","v":12906.381113714238},{"$f":"'Energy Consumed Breakdown MWh'!AB79/1000","v":12902.79823543105},{"$f":"'Energy Consumed Breakdown MWh'!AC79/1000","v":12880.802465627274},{"$f":"'Energy Consumed Breakdown MWh'!AD79/1000","v":12839.087225130352}]
["Electric HGVs",{"$f":"'Energy Consumed Breakdown MWh'!B80/1000","v":2.8930649638409851},{"$f":"'Energy Consumed Breakdown MWh'!C80/1000","v":13.697486894932826},{"$f":"'Energy Consumed Breakdown MWh'!D80/1000","v":32.413265793275521},{"$f":"'Energy Consumed Breakdown MWh'!E80/1000","v":59.040401658869087},{"$f":"'Energy Consumed Breakdown MWh'!F80/1000","v":93.578894491713484},{"$f":"'Energy Consumed Breakdown MWh'!G80/1000","v":136.02874429180872},{"$f":"'Energy Consumed Breakdown MWh'!H80/1000","v":267.18566215874563},{"$f":"'Energy Consumed Breakdown MWh'!I80/1000","v":480.72343243289981},{"$f":"'Energy Consumed Breakdown MWh'!J80/1000","v":772.76896623558287},{"$f":"'Energy Consumed Breakdown MWh'!K80/1000","v":1139.4489908638673},{"$f":"'Energy Consumed Breakdown MWh'!L80/1000","v":1576.8900497905877},{"$f":"'Energy Consumed Breakdown MWh'!M80/1000","v":2080.3930771027335},{"$f":"'Energy Consumed Breakdown MWh'!N80/1000","v":2578.4490818094164},{"$f":"'Energy Consumed Breakdown MWh'!O80/1000","v":3070.5541846875376},{"$f":"'Energy Consumed Breakdown MWh'!P80/1000","v":3556.20132775815},{"$f":"'Energy Consumed Breakdown MWh'!Q80/1000","v":4034.8802742864518},{"$f":"'Energy Consumed Breakdown MWh'!R80/1000","v":4534.9614964835882},{"$f":"'Energy Consumed Breakdown MWh'!S80/1000","v":4999.4685155642137},{"$f":"'Energy Consumed Breakdown MWh'!T80/1000","v":5428.3803456031028},{"$f":"'Energy Consumed Breakdown MWh'!U80/1000","v":5821.6760006750364},{"$f":"'Energy Consumed Breakdown MWh'!V80/1000","v":6179.3344948547983},{"$f":"'Energy Consumed Breakdown MWh'!W80/1000","v":6462.5459032405006},{"$f":"'Energy Consumed Breakdown MWh'!X80/1000","v":6695.1429371183995},{"$f":"'Energy Consumed Breakdown MWh'!Y80/1000","v":6877.1369118376215},{"$f":"'Energy Consumed Breakdown MWh'!Z80/1000","v":7008.539142747285},{"$f":"'Energy Consumed Breakdown MWh'!AA80/1000","v":7089.360945196524},{"$f":"'Energy Consumed Breakdown MWh'!AB80/1000","v":7134.1398822573847},{"$f":"'Energy Consumed Breakdown MWh'!AC80/1000","v":7178.809406022403},{"$f":"'Energy Consumed Breakdown MWh'!AD80/1000","v":7223.3699659527892}]
["Electric Buses",{"$f":"'Energy Consumed Breakdown MWh'!B81/1000","v":2.3142838768456286},{"$f":"'Energy Consumed Breakdown MWh'!C81/1000","v":10.721681862961482},{"$f":"'Energy Consumed Breakdown MWh'!D81/1000","v":25.222193958347546},{"$f":"'Energy Consumed Breakdown MWh'!E81/1000","v":45.815820163003849},{"$f":"'Energy Consumed Breakdown MWh'!F81/1000","v":72.502560476930341},{"$f":"'Energy Consumed Breakdown MWh'!G81/1000","v":105.28241490012712},{"$f":"'Energy Consumed Breakdown MWh'!H81/1000","v":146.06217014277394},{"$f":"'Energy Consumed Breakdown MWh'!I81/1000","v":196.19021233334976},{"$f":"'Energy Consumed Breakdown MWh'!J81/1000","v":254.93816969464427},{"$f":"'Energy Consumed Breakdown MWh'!K81/1000","v":321.57759561310371},{"$f":"'Energy Consumed Breakdown MWh'!L81/1000","v":395.37996863883058},{"$f":"'Energy Consumed Breakdown MWh'!M81/1000","v":471.50574290257123},{"$f":"'Energy Consumed Breakdown MWh'!N81/1000","v":549.64784108697347},{"$f":"'Energy Consumed Breakdown MWh'!O81/1000","v":627.74525645896256},{"$f":"'Energy Consumed Breakdown MWh'!P81/1000","v":702.85263336217895},{"$f":"'Energy Consumed Breakdown MWh'!Q81/1000","v":775.18316076258452},{"$f":"'Energy Consumed Breakdown MWh'!R81/1000","v":865.1798772106996},{"$f":"'Energy Consumed Breakdown MWh'!S81/1000","v":952.21279450323095},{"$f":"'Energy Consumed Breakdown MWh'!T81/1000","v":1036.2784240269757},{"$f":"'Energy Consumed Breakdown MWh'!U81/1000","v":1111.9775832401926},{"$f":"'Energy Consumed Breakdown MWh'!V81/1000","v":1179.3072153876253},{"$f":"'Energy Consumed Breakdown MWh'!W81/1000","v":1236.8773496866349},{"$f":"'Energy Consumed Breakdown MWh'!X81/1000","v":1284.6852702932092},{"$f":"'Energy Consumed Breakdown MWh'!Y81/1000","v":1322.7304574336679},{"$f":"'Energy Consumed Breakdown MWh'!Z81/1000","v":1354.5573822839497},{"$f":"'Energy Consumed Breakdown MWh'!AA81/1000","v":1380.1632491295113},{"$f":"'Energy Consumed Breakdown MWh'!AB81/1000","v":1399.5723640500121},{"$f":"'Energy Consumed Breakdown MWh'!AC81/1000","v":1412.7423498756514},{"$f":"'Energy Consumed Breakdown MWh'!AD81/1000","v":1419.6682684197847}]
["Electrolysers",{"$f":"'Energy Consumed Breakdown MWh'!B82/1000","v":0.70930041391514143},{"$f":"'Energy Consumed Breakdown MWh'!C82/1000","v":1.7444997056924385},{"$f":"'Energy Consumed Breakdown MWh'!D82/1000","v":2.6176350614248918},{"$f":"'Energy Consumed Breakdown MWh'!E82/1000","v":3.0776505278796815},{"$f":"'Energy Consumed Breakdown MWh'!F82/1000","v":3.7931956773048991},{"$f":"'Energy Consumed Breakdown MWh'!G82/1000","v":4.8174052944208086},{"$f":"'Energy Consumed Breakdown MWh'!H82/1000","v":5.5617821710196731},{"$f":"'Energy Consumed Breakdown MWh'!I82/1000","v":6.5905705468338764},{"$f":"'Energy Consumed Breakdown MWh'!J82/1000","v":8.0703923775273854},{"$f":"'Energy Consumed Breakdown MWh'!K82/1000","v":9.5714473690766013},{"$f":"'Energy Consumed Breakdown MWh'!L82/1000","v":39.949234637540563},{"$f":"'Energy Consumed Breakdown MWh'!M82/1000","v":70.884651569827867},{"$f":"'Energy Consumed Breakdown MWh'!N82/1000","v":100.58792195022001},{"$f":"'Energy Consumed Breakdown MWh'!O82/1000","v":129.90884319207186},{"$f":"'Energy Consumed Breakdown MWh'!P82/1000","v":158.19619014129847},{"$f":"'Energy Consumed Breakdown MWh'!Q82/1000","v":186.99644645140503},{"$f":"'Energy Consumed Breakdown MWh'!R82/1000","v":214.36182345109901},{"$f":"'Energy Consumed Breakdown MWh'!S82/1000","v":238.94359570181135},{"$f":"'Energy Consumed Breakdown MWh'!T82/1000","v":260.55831544653455},{"$f":"'Energy Consumed Breakdown MWh'!U82/1000","v":278.26890144577811},{"$f":"'Energy Consumed Breakdown MWh'!V82/1000","v":292.00086402594076},{"$f":"'Energy Consumed Breakdown MWh'!W82/1000","v":299.10740984929032},{"$f":"'Energy Consumed Breakdown MWh'!X82/1000","v":304.40356571872468},{"$f":"'Energy Consumed Breakdown MWh'!Y82/1000","v":308.67852741838453},{"$f":"'Energy Consumed Breakdown MWh'!Z82/1000","v":311.25136236402756},{"$f":"'Energy Consumed Breakdown MWh'!AA82/1000","v":313.1083416124776},{"$f":"'Energy Consumed Breakdown MWh'!AB82/1000","v":314.85640111411141},{"$f":"'Energy Consumed Breakdown MWh'!AC82/1000","v":314.58337061532757},{"$f":"'Energy Consumed Breakdown MWh'!AD82/1000","v":313.73612388422669}]
["Large industry Fuel Switching",{"$f":"'Energy Consumed Breakdown MWh'!B83/1000","v":4.0859703040834304E-14},{"$f":"'Energy Consumed Breakdown MWh'!C83/1000","v":133.89754965527402},{"$f":"'Energy Consumed Breakdown MWh'!D83/1000","v":267.79509931054781},{"$f":"'Energy Consumed Breakdown MWh'!E83/1000","v":401.69264896582189},{"$f":"'Energy Consumed Breakdown MWh'!F83/1000","v":535.59019862109574},{"$f":"'Energy Consumed Breakdown MWh'!G83/1000","v":669.48774827636964},{"$f":"'Energy Consumed Breakdown MWh'!H83/1000","v":899.12793370558438},{"$f":"'Energy Consumed Breakdown MWh'!I83/1000","v":1128.7681191347992},{"$f":"'Energy Consumed Breakdown MWh'!J83/1000","v":1358.4083045640141},{"$f":"'Energy Consumed Breakdown MWh'!K83/1000","v":1588.0484899932289},{"$f":"'Energy Consumed Breakdown MWh'!L83/1000","v":1817.6886754224442},{"$f":"'Energy Consumed Breakdown MWh'!M83/1000","v":2019.6621068749555},{"$f":"'Energy Consumed Breakdown MWh'!N83/1000","v":2221.6355383274667},{"$f":"'Energy Consumed Breakdown MWh'!O83/1000","v":2423.6089697799775},{"$f":"'Energy Consumed Breakdown MWh'!P83/1000","v":2625.5824012324888},{"$f":"'Energy Consumed Breakdown MWh'!Q83/1000","v":2827.5558326850014},{"$f":"'Energy Consumed Breakdown MWh'!R83/1000","v":3067.390484307778},{"$f":"'Energy Consumed Breakdown MWh'!S83/1000","v":3307.2251359305551},{"$f":"'Energy Consumed Breakdown MWh'!T83/1000","v":3547.0597875533331},{"$f":"'Energy Consumed Breakdown MWh'!U83/1000","v":3786.8944391761106},{"$f":"'Energy Consumed Breakdown MWh'!V83/1000","v":4026.7290907988868},{"$f":"'Energy Consumed Breakdown MWh'!W83/1000","v":4378.96491256425},{"$f":"'Energy Consumed Breakdown MWh'!X83/1000","v":4731.2007343296109},{"$f":"'Energy Consumed Breakdown MWh'!Y83/1000","v":5083.4365560949709},{"$f":"'Energy Consumed Breakdown MWh'!Z83/1000","v":5435.6723778603337},{"$f":"'Energy Consumed Breakdown MWh'!AA83/1000","v":5787.9081996256955},{"$f":"'Energy Consumed Breakdown MWh'!AB83/1000","v":5787.9081996256955},{"$f":"'Energy Consumed Breakdown MWh'!AC83/1000","v":5787.9081996256955},{"$f":"'Energy Consumed Breakdown MWh'!AD83/1000","v":5787.9081996256955}]
["Total demand",{"$f":"'Energy Consumed Breakdown MWh'!B84/1000","v":36401.950830265137},{"$f":"'Energy Consumed Breakdown MWh'!C84/1000","v":36008.531339384601},{"$f":"'Energy Consumed Breakdown MWh'!D84/1000","v":35811.732000440948},{"$f":"'Energy Consumed Breakdown MWh'!E84/1000","v":35757.589662617742},{"$f":"'Energy Consumed Breakdown MWh'!F84/1000","v":35940.611515431912},{"$f":"'Energy Consumed Breakdown MWh'!G84/1000","v":36276.733938871606},{"$f":"'Energy Consumed Breakdown MWh'!H84/1000","v":36857.300507516906},{"$f":"'Energy Consumed Breakdown MWh'!I84/1000","v":37632.690931562523},{"$f":"'Energy Consumed Breakdown MWh'!J84/1000","v":38649.410141723674},{"$f":"'Energy Consumed Breakdown MWh'!K84/1000","v":39868.00527240902},{"$f":"'Energy Consumed Breakdown MWh'!L84/1000","v":42536.798607376877},{"$f":"'Energy Consumed Breakdown MWh'!M84/1000","v":45281.977043569059},{"$f":"'Energy Consumed Breakdown MWh'!N84/1000","v":47914.04316000556},{"$f":"'Energy Consumed Breakdown MWh'!O84/1000","v":50549.918623869075},{"$f":"'Energy Consumed Breakdown MWh'!P84/1000","v":53149.604887322334},{"$f":"'Energy Consumed Breakdown MWh'!Q84/1000","v":55994.0476683284},{"$f":"'Energy Consumed Breakdown MWh'!R84/1000","v":58773.980545424907},{"$f":"'Energy Consumed Breakdown MWh'!S84/1000","v":61191.328836187946},{"$f":"'Energy Consumed Breakdown MWh'!T84/1000","v":63457.746957924879},{"$f":"'Energy Consumed Breakdown MWh'!U84/1000","v":65533.550426178153},{"$f":"'Energy Consumed Breakdown MWh'!V84/1000","v":67468.487536146829},{"$f":"'Energy Consumed Breakdown MWh'!W84/1000","v":69289.130502635831},{"$f":"'Energy Consumed Breakdown MWh'!X84/1000","v":70990.962930834416},{"$f":"'Energy Consumed Breakdown MWh'!Y84/1000","v":72574.3736715548},{"$f":"'Energy Consumed Breakdown MWh'!Z84/1000","v":74016.470623100991},{"$f":"'Energy Consumed Breakdown MWh'!AA84/1000","v":74449.991305673117},{"$f":"'Energy Consumed Breakdown MWh'!AB84/1000","v":74417.499379654226},{"$f":"'Energy Consumed Breakdown MWh'!AC84/1000","v":74383.901301698512},{"$f":"'Energy Consumed Breakdown MWh'!AD84/1000","v":74303.927405252049}]

{"sheet":"Domestic PV","index":16,"n_rows":32,"n_cols":33,"rows_kept":32,"cut":false,"hidden":false,"merged":[]}
["Domestic PV MW - NPg",2022,2023,2024,2025,2026,2027,2028,2029,2030,2031,2032,2033,2034,2035,2036,2037,2038,2039,2040,2041,2042,2043,2044,2045,2046,2047,2048,2049,2050,"Parameter","Licence","CHOSEN"]
["DFES 2023 - Consumer Transformation",477.172998816252,514.51080073832918,559.73719029378026,618.48255876889198,686.06343471869491,759.75914722053972,836.15666586861312,913.39683566617896,991.95776661382206,1095.1726140343708,1206.7738727963815,1307.3694312835096,1420.2448222972866,1530.0030468425721,1622.4080207276575,1739.2677091751998,1853.3745665198569,1978.3775377573415,2105.5954126649335,2240.062396121577,2374.0950507595162,2514.1773130963315,2647.817365389677,2789.2385041937187,2931.0625280168751,3059.1382912221225,3204.9771697461556,3346.1056725544568,3498.0711091046596,"Domestic PV MW","NPg"]
["DFES 2023 - System Transformation",477.172998816252,493.72083341335235,512.01976234610595,533.54332479298205,558.58962962493638,585.89721566897333,613.56559704478195,641.50895723649785,674.56939964132312,714.32105080559791,753.17317325230783,789.34905851814028,830.82982374801486,862.15803775477571,890.67202940757625,930.97112849367272,972.57153817427945,1019.7553950901026,1069.5265053334781,1124.7569884698273,1183.4285573357665,1244.4410991731404,1305.5066758227306,1372.6813262237324,1434.497191360123,1494.397516965857,1563.0455427279667,1631.1396249664381,1675.1538412137129,"Domestic PV MW","NPg"]
["DFES 2023 - Leading The Way",477.172998816252,514.51080073832918,559.73719029378026,618.48255876889198,686.06343471869491,759.75914722053972,836.15666586861312,913.39683566617896,991.95776661382206,1095.1726140343708,1206.7738727963815,1307.3694312835096,1420.2448222972866,1530.0030468425721,1622.4080207276575,1739.2677091751998,1853.3745665198569,1978.3775377573415,2105.5954126649335,2240.062396121577,2374.0950507595162,2514.1773130963315,2647.817365389677,2789.2385041937187,2931.0625280168751,3059.1382912221225,3204.9771697461556,3346.1056725544568,3498.0711091046596,"Domestic PV MW","NPg"]
["CCC 2020 - Balanced Net Zero",483.9984241955504,543.42253589590086,623.15268943319063,795.19796316547831,967.25868759042555,1138.4535357886562,1308.6690276971169,1477.4083201891908,1643.2631093487776,1821.379282280579,1997.4725737808376,2173.5337588080583,2349.1864690524926,2527.8358672455884,2714.642795775274,2904.0490959656863,3088.606849426068,3271.8375611921979,3462.0510858052648,3652.1318892457807,3842.2134711869603,4032.2948291593148,4222.3765497183485,4412.4563187994381,4602.5381246224424,4792.6194825804469,4982.7007870402813,5172.7818679465036,5362.8624689532662,"Domestic PV MW","NPg"]
["CT 2023 Policy Sensitivity",477.172998816252,514.51080073832918,559.73719029378026,618.48255876889198,686.06343471869491,759.75914722053972,836.15666586861312,913.39683566617896,991.95776661382206,1095.1726140343708,1206.7738727963815,1307.3694312835096,1420.2448222972866,1530.0030468425721,1622.4080207276575,1739.2677091751998,1853.3745665198569,1978.3775377573415,2105.5954126649335,2240.062396121577,2374.0950507595162,2514.1773130963315,2647.817365389677,2789.2385041937187,2931.0625280168751,3059.1382912221225,3204.9771697461556,3346.1056725544568,3498.0711091046596,"Domestic PV MW","NPg"]
["BV 2023 Policy Sensitivity",477.172998816252,514.51080073832918,559.73719029378026,618.48255876889198,686.06343471869491,759.75914722053972,836.15666586861312,913.39683566617896,991.95776661382206,1095.1726140343708,1206.7738727963815,1307.3694312835096,1420.2448222972866,1530.0030468425721,1622.4080207276575,1739.2677091751998,1853.3745665198569,1978.3775377573415,2105.5954126649335,2240.062396121577,2374.0950507595162,2514.1773130963315,2647.817365389677,2789.2385041937187,2931.0625280168751,3059.1382912221225,3204.9771697461556,3346.1056725544568,3498.0711091046596,"Domestic PV MW","NPg"]
["DFES 2023 - NPg Best View",477.172998816252,514.51080073832918,559.73719029378026,618.48255876889198,686.06343471869491,759.75914722053972,836.15666586861312,913.39683566617896,991.95776661382206,1095.1726140343708,1206.7738727963815,1307.3694312835096,1420.2448222972866,1530.0030468425721,1622.4080207276575,1739.2677091751998,1853.3745665198569,1978.3775377573415,2105.5954126649335,2240.062396121577,2374.0950507595162,2514.1773130963315,2647.817365389677,2789.2385041937187,2931.0625280168751,3059.1382912221225,3204.9771697461556,3346.1056725544568,3498.0711091046596,"Domestic PV MW","NPg"]
["NPg ED2 Planning Scenario - needs updating to old",477.172998816252,514.51080073832918,559.73719029378026,618.48255876889198,686.06343471869491,759.75914722053972,836.15666586861312,913.39683566617896,991.95776661382206,1095.1726140343708,1206.7738727963815,1307.3694312835096,1420.2448222972866,1530.0030468425721,1622.4080207276575,1739.2677091751998,1853.3745665198569,1978.3775377573415,2105.5954126649335,2240.062396121577,2374.0950507595162,2514.1773130963315,2647.817365389677,2789.2385041937187,2931.0625280168751,3059.1382912221225,3204.9771697461556,3346.1056725544568,3498.0711091046596,"Domestic PV MW","NPg"]
["DFES 2023 - Falling Short",477.172998816252,523.72040572612127,546.18671195189631,553.67720067961568,557.42346163843877,561.12491489098227,566.09597934629176,574.89285962449799,584.43488113496278,600.71555689084755,623.15747467120775,633.87029977931081,656.16820296468097,674.66618334692168,680.76780183031599,698.01967507091263,712.83886647419217,732.45771440865951,751.21755042246104,776.89786151620706,806.51847227605595,845.42094147262037,877.95189202339782,921.94399879190735,969.6479461779137,997.30626558597282,1049.0195906647971,1093.7072271593017,1150.5715313109511,"Domestic PV MW","NPg"]
[]
["Domestic PV MW - NPgN",2022,2023,2024,2025,2026,2027,2028,2029,2030,2031,2032,2033,2034,2035,2036,2037,2038,2039,2040,2041,2042,2043,2044,2045,2046,2047,2048,2049,2050,"Domestic PV MW"]
["DFES 2023 - Consumer Transformation",198.80273837606541,213.19769695081112,230.68625288423885,253.51101139864232,279.71728774223379,308.15771936566068,337.41641273526511,366.71113498243813,396.19285180834112,437.06378564345846,481.27799867348335,521.13227361487998,565.87741144620236,609.39161880881159,646.02164421249654,692.37723993260397,737.64574254574495,787.25122815255679,837.74558218611685,891.12477307702693,944.34060705987645,999.96902599387465,1053.0438561186925,1109.2227064726792,1165.569036239337,1216.4574632766987,1274.4162719281305,1330.5084883701879,1390.9155364375217,"Domestic PV MW","NPgN"]
["DFES 2023 - System Transformation",198.80273837606541,204.94110449316315,212.21891162881485,220.88329036347884,230.82235925954583,240.8848779233254,250.83178609173487,260.89906750444652,275.53059568140014,292.71990698495614,305.15679850352547,322.142664993994,337.56961645111431,345.21442673174539,361.85141416404264,376.67038176752311,395.55679239581491,413.87019469596174,435.65335868155381,457.64281890916203,482.77246842750139,505.50132692795859,531.92268443170235,558.87589525605858,579.67201260437912,607.88904580117878,633.62339200119118,662.57593798093569,662.57593798093569,"Domestic PV MW","NPgN"]
["DFES 2023 - Leading The Way",198.80273837606541,213.19769695081112,230.68625288423885,253.51101139864232,279.71728774223379,308.15771936566068,337.41641273526511,366.71113498243813,396.19285180834112,437.06378564345846,481.27799867348335,521.13227361487998,565.87741144620236,609.39161880881159,646.02164421249654,692.37723993260397,737.64574254574495,787.25122815255679,837.74558218611685,891.12477307702693,944.34060705987645,999.96902599387465,1053.0438561186925,1109.2227064726792,1165.569036239337,1216.4574632766987,1274.4162719281305,1330.5084883701879,1390.9155364375217,"Domestic PV MW","NPgN"]
["CCC 2020 - Balanced Net Zero",200.11774028913618,223.15027580128751,254.12303364804572,321.80336195971921,389.49242434758531,456.72162944084232,523.43067042560233,589.35655378939157,653.75189003321236,722.76377183763759,790.70205260118405,858.62372168872616,926.3284129107974,995.62327584631396,1069.2481486273923,1144.251761518907,1216.6829740927558,1288.4097744261517,1362.8972184555853,1437.3139580120501,1511.7312519794125,1586.1485460744464,1660.5659788447533,1734.9825795085426,1809.3998735260432,1883.8171676330865,1958.2341843742429,2032.6512011645111,2107.0686338074461,"Domestic PV MW","NPgN"]
["CT 2023 Policy Sensitivity",198.80273837606541,213.19769695081112,230.68625288423885,253.51101139864232,279.71728774223379,308.15771936566068,337.41641273526511,366.71113498243813,396.19285180834112,437.06378564345846,481.27799867348335,521.13227361487998,565.87741144620236,609.39161880881159,646.02164421249654,692.37723993260397,737.64574254574495,787.25122815255679,837.74558218611685,891.12477307702693,944.34060705987645,999.96902599387465,1053.0438561186925,1109.2227064726792,1165.569036239337,1216.4574632766987,1274.4162719281305,1330.5084883701879,1390.9155364375217,"Domestic PV MW","NPgN"]
["BV 2023 Policy Sensitivity",198.80273837606541,213.19769695081112,230.68625288423885,253.51101139864232,279.71728774223379,308.15771936566068,337.41641273526511,366.71113498243813,396.19285180834112,437.06378564345846,481.27799867348335,521.13227361487998,565.87741144620236,609.39161880881159,646.02164421249654,692.37723993260397,737.64574254574495,787.25122815255679,837.74558218611685,891.12477307702693,944.34060705987645,999.96902599387465,1053.0438561186925,1109.2227064726792,1165.569036239337,1216.4574632766987,1274.4162719281305,1330.5084883701879,1390.9155364375217,"Domestic PV MW","NPgN"]
["DFES 2023 - NPg Best View",198.80273837606541,213.19769695081112,230.68625288423885,253.51101139864232,279.71728774223379,308.15771936566068,337.41641273526511,366.71113498243813,396.19285180834112,437.06378564345846,481.27799867348335,521.13227361487998,565.87741144620236,609.39161880881159,646.02164421249654,692.37723993260397,737.64574254574495,787.25122815255679,837.74558218611685,891.12477307702693,944.34060705987645,999.96902599387465,1053.0438561186925,1109.2227064726792,1165.569036239337,1216.4574632766987,1274.4162719281305,1330.5084883701879,1390.9155364375217,"Domestic PV MW","NPgN"]
["NPg ED2 Planning Scenario - needs updating to old",198.80273837606541,213.19769695081112,230.68625288423885,253.51101139864232,279.71728774223379,308.15771936566068,337.41641273526511,366.71113498243813,396.19285180834112,437.06378564345846,481.27799867348335,521.13227361487998,565.87741144620236,609.39161880881159,646.02164421249654,692.37723993260397,737.64574254574495,787.25122815255679,837.74558218611685,891.12477307702693,944.34060705987645,999.96902599387465,1053.0438561186925,1109.2227064726792,1165.569036239337,1216.4574632766987,1274.4162719281305,1330.5084883701879,1390.9155364375217,"Domestic PV MW","NPgN"]
["DFES 2023 - Falling Short",198.80273837606541,216.93706279805289,225.19095065409536,227.31820614686822,227.88990748645116,228.40049089078272,229.3734296992474,231.81880198814832,234.48642874232149,240.81508666712418,249.59760826418849,253.72162132800648,262.46327171450758,269.69340745129421,271.98402803183683,278.73064506943939,284.50694142388062,292.20094491679646,299.55448717521915,309.66648558833157,321.34528640561211,336.72395737552938,349.56698103041947,366.97616520066174,385.86225862455251,396.77708695872064,417.26465953378806,434.95709166772019,457.4943681736417,"Domestic PV MW","NPgN"]
[]
["Domestic PV MW - NPgY",2022,2023,2024,2025,2026,2027,2028,2029,2030,2031,2032,2033,2034,2035,2036,2037,2038,2039,2040,2041,2042,2043,2044,2045,2046,2047,2048,2049,2050,"Domestic PV MW","NPgY"]
["DFES 2023 - Consumer Transformation",278.3702604401866,301.313103787518,329.05093740954146,364.97154737024971,406.34614697646111,451.60142785487903,498.74025313334801,546.68570068374083,595.764914805481,658.10882839091221,725.49587412289816,786.23715766862949,854.36741085108429,920.6114280337606,976.38637651516092,1046.8904692425958,1115.7288239741119,1191.1263096047846,1267.8498304788166,1348.93762304455,1429.75444369964,1514.2082871024568,1594.7735092709845,1680.0157977210395,1765.4934917775383,1842.680827945424,1930.5608978180251,2015.5971841842686,2107.1555726671377,"Domestic PV MW","NPgY"]
["DFES 2023 - System Transformation",278.3702604401866,288.7797289201892,299.8008507172911,312.66003442950324,327.76727036539052,345.01233774564787,362.73381095304711,380.60988973205133,399.03880395992292,421.60114382064171,448.01637474878237,467.20639352414634,493.26020729690049,516.94361102303037,528.82061524353355,554.30074672614967,577.01474577846454,605.88520039414084,633.87314665192434,667.11416956066535,700.65608890826502,738.93977224518176,773.58399139102823,813.80543096767371,854.82517875574388,886.50847116467833,929.4221507267755,968.56368698550227,1012.5779032327772,"Domestic PV MW","NPgY"]
["DFES 2023 - Leading The Way",278.3702604401866,301.313103787518,329.05093740954146,364.97154737024971,406.34614697646111,451.60142785487903,498.74025313334801,546.68570068374083,595.764914805481,658.10882839091221,725.49587412289816,786.23715766862949,854.36741085108429,920.6114280337606,976.38637651516092,1046.8904692425958,1115.7288239741119,1191.1263096047846,1267.8498304788166,1348.93762304455,1429.75444369964,1514.2082871024568,1594.7735092709845,1680.0157977210395,1765.4934917775383,1842.680827945424,1930.5608978180251,2015.5971841842686,2107.1555726671377,"Domestic PV MW","NPgY"]
["CCC 2020 - Balanced Net Zero",283.88068390641422,320.27226009461333,369.02965578514488,473.3946012057591,577.76626324284018,681.73190634781383,785.23835727151459,888.05176639979936,989.5112193155652,1098.6155104429415,1206.7705211796535,1314.9100371193324,1422.8580561416954,1532.2125913992743,1645.3946471478819,1759.7973344467791,1871.923875333312,1983.4277867660462,2099.1538673496793,2214.8179312337306,2330.4822192075476,2446.1462830848686,2561.8105708735952,2677.4737392908955,2793.138251096399,2908.8023149473606,3024.4666026660384,3140.1306667819927,3255.7938351458197,"Domestic PV MW","NPgY"]
["CT 2023 Policy Sensitivity",278.3702604401866,301.313103787518,329.05093740954146,364.97154737024971,406.34614697646111,451.60142785487903,498.74025313334801,546.68570068374083,595.764914805481,658.10882839091221,725.49587412289816,786.23715766862949,854.36741085108429,920.6114280337606,976.38637651516092,1046.8904692425958,1115.7288239741119,1191.1263096047846,1267.8498304788166,1348.93762304455,1429.75444369964,1514.2082871024568,1594.7735092709845,1680.0157977210395,1765.4934917775383,1842.680827945424,1930.5608978180251,2015.5971841842686,2107.1555726671377,"Domestic PV MW","NPgY"]
["BV 2023 Policy Sensitivity",278.3702604401866,301.313103787518,329.05093740954146,364.97154737024971,406.34614697646111,451.60142785487903,498.74025313334801,546.68570068374083,595.764914805481,658.10882839091221,725.49587412289816,786.23715766862949,854.36741085108429,920.6114280337606,976.38637651516092,1046.8904692425958,1115.7288239741119,1191.1263096047846,1267.8498304788166,1348.93762304455,1429.75444369964,1514.2082871024568,1594.7735092709845,1680.0157977210395,1765.4934917775383,1842.680827945424,1930.5608978180251,2015.5971841842686,2107.1555726671377,"Domestic PV MW","NPgY"]
["DFES 2023 - NPg Best View",278.3702604401866,301.313103787518,329.05093740954146,364.97154737024971,406.34614697646111,451.60142785487903,498.74025313334801,546.68570068374083,595.764914805481,658.10882839091221,725.49587412289816,786.23715766862949,854.36741085108429,920.6114280337606,976.38637651516092,1046.8904692425958,1115.7288239741119,1191.1263096047846,1267.8498304788166,1348.93762304455,1429.75444369964,1514.2082871024568,1594.7735092709845,1680.0157977210395,1765.4934917775383,1842.680827945424,1930.5608978180251,2015.5971841842686,2107.1555726671377,"Domestic PV MW","NPgY"]
["NPg ED2 Planning Scenario - needs updating to old",278.3702604401866,301.313103787518,329.05093740954146,364.97154737024971,406.34614697646111,451.60142785487903,498.74025313334801,546.68570068374083,595.764914805481,658.10882839091221,725.49587412289816,786.23715766862949,854.36741085108429,920.6114280337606,976.38637651516092,1046.8904692425958,1115.7288239741119,1191.1263096047846,1267.8498304788166,1348.93762304455,1429.75444369964,1514.2082871024568,1594.7735092709845,1680.0157977210395,1765.4934917775383,1842.680827945424,1930.5608978180251,2015.5971841842686,2107.1555726671377,"Domestic PV MW","NPgY"]
["DFES 2023 - Falling Short",278.3702604401866,306.78334292806841,320.99576129780098,326.35899453274749,329.53355415198763,332.72442400019952,336.72254964704439,343.07405763634966,349.94845239264134,359.9004702237234,373.55986640701923,380.14867845130436,393.70493125017339,404.97277589562748,408.78377379847916,419.28903000147318,428.3319250503115,440.256769491863,451.66306324724195,467.23137592787549,485.17318587044389,508.69698409709093,528.38491099297835,554.96783359124561,583.78568755336119,600.52917862725224,631.75493113100902,658.75013549158155,693.07716313730941,"Domestic PV MW","NPgY"]

{"sheet":"Large I&C Solar Generation","index":17,"n_rows":32,"n_cols":33,"rows_kept":32,"cut":false,"hidden":false,"merged":[]}
["Large Solar MW - NPg",2022,2023,2024,2025,2026,2027,2028,2029,2030,2031,2032,2033,2034,2035,2036,2037,2038,2039,2040,2041,2042,2043,2044,2045,2046,2047,2048,2049,2050,"Parameter","Licence","CHOSEN"]
["DFES 2023 - Consumer Transformation",378.97451764963301,977.16366642773028,1342.0588201093349,1715.6883203533712,1809.3684991956691,1912.6966663443759,2037.5588046211926,2184.2904147141753,2369.1442033869289,2545.6342923204879,2732.0543355236236,2904.5811223745704,3102.4060578193157,3254.7935240317966,3391.3141382458762,3488.4622701188391,3587.912707562255,3696.917765732981,3846.9056271965601,3999.4916263043242,4153.7588814675328,4305.1739379400306,4447.8528417666585,4584.4840250070101,4723.2645096800861,4874.1263049565505,5011.7051412149858,5157.4270851241763,5298.0461484479729,"Large Solar MW","NPg"]
["DFES 2023 - System Transformation",378.97451764963301,971.81420254189561,1327.8815687090098,1687.1451543785192,1761.2345227614617,1839.6850254516776,1933.8386231306026,2043.8261668618816,2185.2242791905619,2328.2324175606004,2480.7127893405859,2618.9242638744245,2782.16370769479,2899.5243161798871,3001.4889772317974,3064.130127246458,3129.7199135847277,3204.6882799448463,3319.359094971287,3435.1118017989393,3551.5629821257426,3663.6651494696107,3766.0757436993508,3860.8872610914286,3955.5186567010232,4061.9754671437777,4152.4287647859728,4248.9836079667966,4338.7261532034936,"Large Solar MW","NPg"]
["DFES 2023 - Leading The Way",378.97451764963301,1162.8066770856249,1713.3448414251243,2272.617352327055,2448.3515311693527,2633.2896983180594,2827.5468365948764,3031.5464466878593,3251.6192353606129,3472.9883242941723,3711.7613674973081,3936.3101543482549,4166.4840897930007,4358.7045560054812,4507.9181702195601,4625.311302092523,4737.2337395359391,4907.4767977066658,5105.3146591702443,5298.876658278009,5502.524913441217,5702.9809699137149,5834.4808737403428,5922.6760569806938,6013.3255416537704,6116.3353369302349,6206.3501731886709,6304.816117097861,6398.4701804216584,"Large Solar MW","NPg"]
["CCC 2020 - Balanced Net Zero",734.18266428612765,756.97376143239444,803.9854500122334,854.71637952415551,905.17952851325936,956.25622391106185,1019.8309791561292,1096.3060139099775,1201.887247609568,1321.0257904380519,1449.2817305445642,1563.5658393710919,1703.4108684521889,1791.6127594489631,1852.5819177821959,1872.2835451878364,1896.6873568579272,1929.8786320209247,2000.9047007724821,2071.624403319569,2141.9042399337141,2211.7452129347853,2266.1771046624272,2320.2694351437217,2374.0182166209415,2427.4259333720129,2480.4921910091662,2533.2171600332445,2585.601096195518,"Large Solar MW","NPg"]
["CT 2023 Policy Sensitivity",378.97451764963301,977.16366642773028,1342.0588201093349,1715.6883203533712,1809.3684991956691,1912.6966663443759,2037.5588046211926,2184.2904147141753,2369.1442033869289,2545.6342923204879,2732.0543355236236,2904.5811223745704,3102.4060578193157,3254.7935240317966,3391.3141382458762,3488.4622701188391,3587.912707562255,3696.917765732981,3846.9056271965601,3999.4916263043242,4153.7588814675328,4305.1739379400306,4447.8528417666585,4584.4840250070101,4723.2645096800861,4874.1263049565505,5011.7051412149858,5157.4270851241763,5298.0461484479729,"Large Solar MW","NPg"]
["BV 2023 Policy Sensitivity",378.97451764963301,1162.8066770856249,1713.3448414251243,2272.617352327055,2448.3515311693527,2633.2896983180594,2827.5468365948764,3031.5464466878593,3251.6192353606129,3472.9883242941723,3711.7613674973081,3936.3101543482549,4166.4840897930007,4358.7045560054812,4507.9181702195601,4625.311302092523,4737.2337395359391,4907.4767977066658,5105.3146591702443,5298.876658278009,5502.524913441217,5702.9809699137149,5834.4808737403428,5922.6760569806938,6013.3255416537704,6116.3353369302349,6206.3501731886709,6304.816117097861,6398.4701804216584,"Large Solar MW","NPg"]
["DFES 2023 - NPg Best View",378.97451764963301,1162.8066770856249,1713.3448414251243,2272.617352327055,2448.3515311693527,2633.2896983180594,2827.5468365948764,3031.5464466878593,3251.6192353606129,3472.9883242941723,3711.7613674973081,3936.3101543482549,4166.4840897930007,4358.7045560054812,4507.9181702195601,4625.311302092523,4737.2337395359391,4907.4767977066658,5105.3146591702443,5298.876658278009,5502.524913441217,5702.9809699137149,5834.4808737403428,5922.6760569806938,6013.3255416537704,6116.3353369302349,6206.3501731886709,6304.816117097861,6398.4701804216584,"Large Solar MW","NPg"]
["NPg ED2 Planning Scenario - needs updating to old",378.97451764963301,1162.8066770856249,1713.3448414251243,2272.617352327055,2448.3515311693527,2633.2896983180594,2827.5468365948764,3031.5464466878593,3251.6192353606129,3472.9883242941723,3711.7613674973081,3936.3101543482549,4166.4840897930007,4358.7045560054812,4507.9181702195601,4625.311302092523,4737.2337395359391,4907.4767977066658,5105.3146591702443,5298.876658278009,5502.524913441217,5702.9809699137149,5834.4808737403428,5922.6760569806938,6013.3255416537704,6116.3353369302349,6206.3501731886709,6304.816117097861,6398.4701804216584,"Large Solar MW","NPg"]
["DFES 2023 - Falling Short",378.97451764963301,791.71047917946601,962.91116015423677,1132.1616732799007,1163.3852153813818,1203.850073551022,1250.2126582822707,1307.8209587927431,1377.6918702482658,1451.3314744772838,1539.0317649076669,1624.588490545199,1732.1753503282498,1813.9935572645413,1878.908371112313,1906.407180202882,1940.9251711307679,1998.0114698131806,2090.7083518448303,2183.301235022177,2273.0275463839662,2357.754600300058,2458.0288827360855,2556.6352646496898,2655.3969081464925,2779.7360927198215,2882.7519382761943,2976.4244970707059,3056.5696942679965,"Large Solar MW","NPg"]
[]
["Large Solar MW - NPgN",2022,2023,2024,2025,2026,2027,2028,2029,2030,2031,2032,2033,2034,2035,2036,2037,2038,2039,2040,2041,2042,2043,2044,2045,2046,2047,2048,2049,2050,"Large Solar MW"]
["DFES 2023 - Consumer Transformation",146.16983418992422,486.09241756134816,730.2235401067652,977.86021076369491,1019.1137138172828,1064.3779858041503,1119.3762441074168,1184.2815060480996,1266.7736005196159,1345.2888243020705,1428.3184949635968,1504.7147593111276,1593.1681450373421,1659.6828182506563,1718.3851965731974,1758.3350785097443,1799.1950854532611,1844.4470606769228,1909.0032565048627,1974.5636041237515,2040.7588556844007,2105.7927501893646,2166.1263178133204,2224.0319845111235,2282.7735205398239,2346.2934765343994,2404.5134580629724,2465.9447110657329,2525.3279711151104,"Large Solar MW","NPgN"]
["DFES 2023 - System Transformation",146.16983418992422,484.17464405321334,725.01876698964111,967.1768300150477,1000.8053856936793,1036.2304343998492,1078.9317319496788,1128.9727390588093,1193.7414991204841,1258.9763905534469,1328.5390621349275,1391.3185184007805,1466.03823794087,1518.6417962738803,1563.6257032562005,1589.8631175858459,1617.2672831685188,1648.9843113557176,1699.4939680934458,1750.398121346939,1801.5419415915569,1850.924334329979,1895.2244314731836,1936.4743398595836,1977.631705184047,2023.4659903764609,2062.9139239173774,2104.7619201381922,2143.8793064362703,"Large Solar MW","NPgN"]
["DFES 2023 - Leading The Way",146.16983418992422,614.78751155257623,987.61372808922124,1363.9454927373788,1444.3609957909666,1528.5792677778343,1616.7025260811008,1708.9447880217838,1808.2468824933001,1908.1871062757548,2016.203776937281,2117.430041284812,2221.3244270110267,2306.8571002243402,2371.6124785468814,2421.2263604834284,2468.0403674269455,2542.5253426506074,2629.9235384785466,2715.0408860974358,2804.8091376580846,2893.2480321630483,2948.2475997870047,2983.0362664848076,3018.7988025135082,3059.4837585080836,3094.995740036657,3133.872993039417,3170.8342530887949,"Large Solar MW","NPgN"]
["CCC 2020 - Balanced Net Zero",353.08111422671539,364.82165162271036,387.55460897668638,412.06231264081737,436.44083884218054,461.15877896382739,491.89504999281513,528.86747911583495,579.88672969575828,637.48145398828547,699.53616999171425,754.92311673147651,822.53282712900773,865.33227347607146,894.69661352713103,904.22492917229135,916.25578264659589,932.55209507202005,966.9143879586926,1001.1377979623358,1035.1510659199623,1068.9547463775898,1095.4033194487124,1121.6897118388586,1147.8123985464856,1173.7720727541125,1199.5690117347478,1225.2029382153812,1250.6734362865054,"Large Solar MW","NPgN"]
["CT 2023 Policy Sensitivity",146.16983418992422,486.09241756134816,730.2235401067652,977.86021076369491,1019.1137138172828,1064.3779858041503,1119.3762441074168,1184.2815060480996,1266.7736005196159,1345.2888243020705,1428.3184949635968,1504.7147593111276,1593.1681450373421,1659.6828182506563,1718.3851965731974,1758.3350785097443,1799.1950854532611,1844.4470606769228,1909.0032565048627,1974.5636041237515,2040.7588556844007,2105.7927501893646,2166.1263178133204,2224.0319845111235,2282.7735205398239,2346.2934765343994,2404.5134580629724,2465.9447110657329,2525.3279711151104,"Large Solar MW","NPgN"]
["BV 2023 Policy Sensitivity",146.16983418992422,614.78751155257623,987.61372808922124,1363.9454927373788,1444.3609957909666,1528.5792677778343,1616.7025260811008,1708.9447880217838,1808.2468824933001,1908.1871062757548,2016.203776937281,2117.430041284812,2221.3244270110267,2306.8571002243402,2371.6124785468814,2421.2263604834284,2468.0403674269455,2542.5253426506074,2629.9235384785466,2715.0408860974358,2804.8091376580846,2893.2480321630483,2948.2475997870047,2983.0362664848076,3018.7988025135082,3059.4837585080836,3094.995740036657,3133.872993039417,3170.8342530887949,"Large Solar MW","NPgN"]
["DFES 2023 - NPg Best View",146.16983418992422,614.78751155257623,987.61372808922124,1363.9454927373788,1444.3609957909666,1528.5792677778343,1616.7025260811008,1708.9447880217838,1808.2468824933001,1908.1871062757548,2016.203776937281,2117.430041284812,2221.3244270110267,2306.8571002243402,2371.6124785468814,2421.2263604834284,2468.0403674269455,2542.5253426506074,2629.9235384785466,2715.0408860974358,2804.8091376580846,2893.2480321630483,2948.2475997870047,2983.0362664848076,3018.7988025135082,3059.4837585080836,3094.995740036657,3133.872993039417,3170.8342530887949,"Large Solar MW","NPgN"]
["NPg ED2 Planning Scenario - needs updating to old",146.16983418992422,614.78751155257623,987.61372808922124,1363.9454927373788,1444.3609957909666,1528.5792677778343,1616.7025260811008,1708.9447880217838,1808.2468824933001,1908.1871062757548,2016.203776937281,2117.430041284812,2221.3244270110267,2306.8571002243402,2371.6124785468814,2421.2263604834284,2468.0403674269455,2542.5253426506074,2629.9235384785466,2715.0408860974358,2804.8091376580846,2893.2480321630483,2948.2475997870047,2983.0362664848076,3018.7988025135082,3059.4837585080836,3094.995740036657,3133.872993039417,3170.8342530887949,"Large Solar MW","NPgN"]
["DFES 2023 - Falling Short",146.16983418992422,357.38661514165426,469.83475831629869,581.69876447856109,595.65599424763832,613.95963192743568,634.95457742077019,661.09509640885403,692.94779537393447,726.33727688945464,766.2139968863745,805.08063865943632,854.40912865640337,891.17559080765591,919.11658538177983,929.70311921312953,943.08104515621199,967.2457282465341,1007.9731582856351,1048.6253944250516,1087.498484079792,1124.3578372823138,1167.9718698169095,1211.4892896841993,1255.0326842522111,1309.3113100789312,1355.0750396879487,1395.6211451524507,1430.4708574053057,"Large Solar MW","NPgN"]
[]
["Large Solar MW - NPgY",2022,2023,2024,2025,2026,2027,2028,2029,2030,2031,2032,2033,2034,2035,2036,2037,2038,2039,2040,2041,2042,2043,2044,2045,2046,2047,2048,2049,2050,"Large Solar MW","NPgY"]
["DFES 2023 - Consumer Transformation",232.8046834597088,491.07124886638206,611.83528000256968,737.82810958967627,790.25478537838626,848.3186805402255,918.1825605137758,1000.0089086660755,1102.370602867313,1200.3454680184175,1303.7358405600269,1399.866363063443,1509.2379127819738,1595.1107057811403,1672.928941672679,1730.1271916090948,1788.717622108994,1852.470705056058,1937.9023706916976,2024.928022180573,2113.0000257831316,2199.381187750666,2281.7265239533376,2360.4520404958862,2440.4909891402617,2527.8328284221511,2607.1916831520134,2691.4823740584434,2772.7181773328621,"Large Solar MW","NPgY"]
["DFES 2023 - System Transformation",232.8046834597088,487.63955848868227,602.86280171936869,719.96832436347154,760.42913706778234,803.45459105182829,854.90689118092371,914.85342780307235,991.48278007007798,1069.2560270071535,1152.1737272056582,1227.6057454736438,1316.1254697539202,1380.8825199060066,1437.8632739755972,1474.2670096606123,1512.4526304162091,1555.7039685891286,1619.8651268778412,1684.7136804520003,1750.0210405341859,1812.7408151396319,1870.851312226167,1924.4129212318453,1977.8869515169761,2038.5094767673165,2089.5148408685959,2144.2216878286044,2194.8468467672228,"Large Solar MW","NPgY"]
["DFES 2023 - Leading The Way",232.8046834597088,548.01916553304864,725.73111333590293,908.67185958967616,1003.9905353783862,1104.7104305402252,1210.8443105137758,1322.6016586660753,1443.3723528673127,1564.8012180184173,1695.5575905600269,1818.8801130634429,1945.1596627819738,2051.8474557811405,2136.3056916726791,2204.084941609095,2269.193372108994,2364.9514550560584,2475.3911206916982,2583.8357721805733,2697.7157757831324,2809.7329377506667,2886.2332739533381,2939.6397904958858,2994.5267391402617,3056.8515784221513,3111.3544331520138,3170.943124058444,3227.635927332863,"Large Solar MW","NPgY"]
["CCC 2020 - Balanced Net Zero",381.10155005941232,392.15210980968408,416.43084103554702,442.65406688333815,468.73868967107882,495.09744494723446,527.93592916331409,567.43853479414247,622.00051791380963,683.54433644976643,749.74556055285007,808.64272263961539,880.87804132318126,926.28048597289148,957.88530425506497,968.05861601554489,980.43157421133117,997.3265369489045,1033.9903128137896,1070.4866053572332,1106.7531740137515,1142.7904665571955,1170.7737852137145,1198.5797233048631,1226.2058180744559,1253.6538606179004,1280.9231792744183,1308.0142218178632,1334.9276599090126,"Large Solar MW","NPgY"]
["CT 2023 Policy Sensitivity",232.8046834597088,491.07124886638206,611.83528000256968,737.82810958967627,790.25478537838626,848.3186805402255,918.1825605137758,1000.0089086660755,1102.370602867313,1200.3454680184175,1303.7358405600269,1399.866363063443,1509.2379127819738,1595.1107057811403,1672.928941672679,1730.1271916090948,1788.717622108994,1852.470705056058,1937.9023706916976,2024.928022180573,2113.0000257831316,2199.381187750666,2281.7265239533376,2360.4520404958862,2440.4909891402617,2527.8328284221511,2607.1916831520134,2691.4823740584434,2772.7181773328621,"Large Solar MW","NPgY"]
["BV 2023 Policy Sensitivity",232.8046834597088,548.01916553304864,725.73111333590293,908.67185958967616,1003.9905353783862,1104.7104305402252,1210.8443105137758,1322.6016586660753,1443.3723528673127,1564.8012180184173,1695.5575905600269,1818.8801130634429,1945.1596627819738,2051.8474557811405,2136.3056916726791,2204.084941609095,2269.193372108994,2364.9514550560584,2475.3911206916982,2583.8357721805733,2697.7157757831324,2809.7329377506667,2886.2332739533381,2939.6397904958858,2994.5267391402617,3056.8515784221513,3111.3544331520138,3170.943124058444,3227.635927332863,"Large Solar MW","NPgY"]
["DFES 2023 - NPg Best View",232.8046834597088,548.01916553304864,725.73111333590293,908.67185958967616,1003.9905353783862,1104.7104305402252,1210.8443105137758,1322.6016586660753,1443.3723528673127,1564.8012180184173,1695.5575905600269,1818.8801130634429,1945.1596627819738,2051.8474557811405,2136.3056916726791,2204.084941609095,2269.193372108994,2364.9514550560584,2475.3911206916982,2583.8357721805733,2697.7157757831324,2809.7329377506667,2886.2332739533381,2939.6397904958858,2994.5267391402617,3056.8515784221513,3111.3544331520138,3170.943124058444,3227.635927332863,"Large Solar MW","NPgY"]
["NPg ED2 Planning Scenario - needs updating to old",232.8046834597088,548.01916553304864,725.73111333590293,908.67185958967616,1003.9905353783862,1104.7104305402252,1210.8443105137758,1322.6016586660753,1443.3723528673127,1564.8012180184173,1695.5575905600269,1818.8801130634429,1945.1596627819738,2051.8474557811405,2136.3056916726791,2204.084941609095,2269.193372108994,2364.9514550560584,2475.3911206916982,2583.8357721805733,2697.7157757831324,2809.7329377506667,2886.2332739533381,2939.6397904958858,2994.5267391402617,3056.8515784221513,3111.3544331520138,3170.943124058444,3227.635927332863,"Large Solar MW","NPgY"]
["DFES 2023 - Falling Short",232.8046834597088,434.32386403781175,493.07640183793802,550.46290880133949,567.72922113374352,589.89044162358641,615.2580808615005,646.72586238388919,684.74407487433132,724.99419758782926,772.8177680212923,819.50785188576253,877.76622167184655,922.81796645688553,959.79178573053309,976.70406098975252,997.84412597455582,1030.7657415666465,1082.7351935591953,1134.6758405971257,1185.5290623041744,1233.3967630177442,1290.0570129191758,1345.1459749654905,1400.3642238942814,1470.4247826408903,1527.6768985882456,1580.8033519182552,1626.0988368626909,"Large Solar MW","NPgY"]

{"sheet":"Wind Generation","index":18,"n_rows":32,"n_cols":33,"rows_kept":32,"cut":false,"hidden":false,"merged":[]}
["Wind MW - NPg",2022,2023,2024,2025,2026,2027,2028,2029,2030,2031,2032,2033,2034,2035,2036,2037,2038,2039,2040,2041,2042,2043,2044,2045,2046,2047,2048,2049,2050,"Parameter","Licence","CHOSEN"]
["DFES 2023 - Consumer Transformation",1297.6827047779452,1310.9407047779453,1324.1987047779453,1337.4567047779453,1350.7147047779454,1364.999604777945,1466.1666047779452,1573.6686047779451,1698.0656047779453,1831.0256047779449,1972.6976047779449,2123.3996047779451,2283.673604777945,2464.5506047779454,2656.9536047779447,2861.5896047779447,3079.2246047779449,3310.6546047779448,3538.3306047779447,3761.472604777945,3986.9786047779448,4213.8736047779439,4409.1406047779456,4602.2686047779453,4694.0076047779457,4720.4136047779448,4746.9516047779452,4771.4956047779451,4776.9936047779447,"Wind MW","NPg"]
["DFES 2023 - System Transformation",1297.6827047779452,1306.2057047779454,1314.7287047779453,1323.2517047779452,1331.7747047779453,1340.2977047779455,1357.5497047779454,1375.2308547779453,1419.1528547779453,1463.5578547779451,1508.4418547779451,1553.8178547779453,1599.7018547779453,1646.0938547779451,1693.1158547779451,1740.6648547779453,1788.7648547779452,1837.4198547779451,1886.635854777945,1936.7438547779452,1987.4568547779454,2038.7728547779452,2090.7038547779453,2143.2578547779453,2196.5838547779449,2250.5598547779455,2305.1988547779456,2360.5218547779455,2416.5288547779455,"Wind MW","NPg"]
["DFES 2023 - Leading The Way",1297.6827047779452,1306.2057047779454,1314.7287047779453,1323.2517047779452,1331.7747047779453,1340.2977047779455,1408.0648547779451,1480.4878547779454,1571.4928547779455,1667.1898547779454,1767.8558547779453,1873.7638547779452,1985.6388547779457,2110.3158547779453,2241.5808547779452,2379.8268547779453,2525.4298547779449,2678.8078547779451,2840.3908547779452,2999.2678547779451,3159.8948547779446,3321.6528547779453,3463.2318547779446,3603.6668547779445,3678.9328547779451,3712.2828547779454,3745.9748547779454,3778.6228547779451,3799.2428547779464,"Wind MW","NPg"]
["CCC 2020 - Balanced Net Zero",1388.6105277534753,1411.6159549433578,1476.5199176306583,1552.6919671344103,1639.7979471658068,1732.2463627586121,1841.1534477825337,1956.8418342326886,2090.6335449079029,2233.1037414177226,2384.6464736649664,2545.8201713460057,2717.2236584753327,2910.6777301289508,3116.432218613133,3335.2535012305889,3567.9477180027202,3815.3774623551126,4059.1759557216292,4298.1070299559369,4539.5703088703003,4782.5034815303552,4991.5235983843804,5198.2326959407856,5296.2351952397066,5324.178652920582,5352.2555487013324,5378.1813429372896,5383.679718720874,"Wind MW","NPg"]
["CT 2023 Policy Sensitivity",1297.6827047779452,1310.9407047779453,1324.1987047779453,1337.4567047779453,1350.7147047779454,1364.999604777945,1466.1666047779452,1573.6686047779451,1698.0656047779453,1831.0256047779449,1972.6976047779449,2123.3996047779451,2283.673604777945,2464.5506047779454,2656.9536047779447,2861.5896047779447,3079.2246047779449,3310.6546047779448,3538.3306047779447,3761.472604777945,3986.9786047779448,4213.8736047779439,4409.1406047779456,4602.2686047779453,4694.0076047779457,4720.4136047779448,4746.9516047779452,4771.4956047779451,4776.9936047779447,"Wind MW","NPg"]
["BV 2023 Policy Sensitivity",1297.6827047779452,1310.9407047779453,1324.1987047779453,1337.4567047779453,1350.7147047779454,1364.999604777945,1466.1666047779452,1573.6686047779451,1698.0656047779453,1831.0256047779449,1972.6976047779449,2123.3996047779451,2283.673604777945,2464.5506047779454,2656.9536047779447,2861.5896047779447,3079.2246047779449,3310.6546047779448,3538.3306047779447,3761.472604777945,3986.9786047779448,4213.8736047779439,4409.1406047779456,4602.2686047779453,4694.0076047779457,4720.4136047779448,4746.9516047779452,4771.4956047779451,4776.9936047779447,"Wind MW","NPg"]
["DFES 2023 - NPg Best View",1297.6827047779452,1310.9407047779453,1324.1987047779453,1337.4567047779453,1350.7147047779454,1364.999604777945,1466.1666047779452,1573.6686047779451,1698.0656047779453,1831.0256047779449,1972.6976047779449,2123.3996047779451,2283.673604777945,2464.5506047779454,2656.9536047779447,2861.5896047779447,3079.2246047779449,3310.6546047779448,3538.3306047779447,3761.472604777945,3986.9786047779448,4213.8736047779439,4409.1406047779456,4602.2686047779453,4694.0076047779457,4720.4136047779448,4746.9516047779452,4771.4956047779451,4776.9936047779447,"Wind MW","NPg"]
["NPg ED2 Planning Scenario - needs updating to old (Being Revised)",1297.6827047779452,1310.9407047779453,1324.1987047779453,1337.4567047779453,1350.7147047779454,1364.999604777945,1466.1666047779452,1573.6686047779451,1698.0656047779453,1831.0256047779449,1972.6976047779449,2123.3996047779451,2283.673604777945,2464.5506047779454,2656.9536047779447,2861.5896047779447,3079.2246047779449,3310.6546047779448,3538.3306047779447,3761.472604777945,3986.9786047779448,4213.8736047779439,4409.1406047779456,4602.2686047779453,4694.0076047779457,4720.4136047779448,4746.9516047779452,4771.4956047779451,4776.9936047779447,"Wind MW","NPg"]
["DFES 2023 - Falling Short",1297.6827047779452,1301.4707047779452,1305.2587047779452,1309.0467047779453,1312.8347047779453,1316.6227047779453,1322.1737047779454,1327.7487047779455,1343.2247047779454,1373.5377047779452,1408.8197047779452,1444.1257047779454,1469.5887047779456,1495.0787047779456,1520.7231047779455,1546.6731047779456,1572.6611047779456,1598.6791047779457,1624.7231047779455,1650.7921047779455,1676.8951047779456,1703.0281047779454,1729.1911047779454,1755.3771047779455,1781.6021047779454,1807.8571047779458,1834.1831047779458,1860.634104777946,1887.107104777946,"Wind MW","NPg"]
[]
["Wind MW - NPgN",2022,2023,2024,2025,2026,2027,2028,2029,2030,2031,2032,2033,2034,2035,2036,2037,2038,2039,2040,2041,2042,2043,2044,2045,2046,2047,2048,2049,2050,"Wind MW"]
["DFES 2023 - Consumer Transformation",579.89105244713039,591.53905244713042,603.18705244713044,614.83505244713047,626.48305244713049,638.1310524471304,680.84605244713043,726.29005244713039,779.01605244713039,835.62605244713041,896.08705244713019,960.41505244713039,1028.8420524471305,1106.1220524471305,1188.3430524471303,1275.8090524471304,1368.8520524471305,1467.8140524471305,1565.1300524471305,1660.4690524471305,1756.8000524471308,1853.7050524471304,1936.956052447131,2019.2610524471309,2057.8540524471309,2068.2710524471304,2078.7200524471309,2088.2770524471307,2089.6070524471311,"Wind MW","NPgN"]
["DFES 2023 - System Transformation",579.89105244713039,587.37905244713045,594.86705244713039,602.35505244713045,609.84305244713039,617.33105244713045,624.76505244713042,632.31005244713049,651.01905244713043,669.93105244713047,689.05305244713031,708.3860524471304,727.93805244713042,747.70905244713049,767.70705244713042,787.93205244713045,808.39505244713041,829.09705244713041,850.04105244713048,871.4440524471305,893.12005244713043,915.05305244713065,937.2530524471307,959.72005244713068,982.49405244713046,1005.5490524471304,1028.8900524471308,1052.5260524471305,1076.4570524471305,"Wind MW","NPgN"]
["DFES 2023 - Leading The Way",579.89105244713039,587.37905244713045,594.86705244713039,602.35505244713045,609.84305244713039,617.33105244713045,646.50305244713036,677.27205244713036,716.00305244713036,756.71205244713042,799.52205244713048,844.54105244713048,892.33905244713048,945.65605244713049,1001.7860524471305,1060.8980524471303,1123.1570524471301,1188.7380524471303,1257.8290524471304,1325.7300524471302,1394.3620524471303,1463.4540524471304,1523.8260524471302,1583.6780524471303,1615.4280524471305,1629.0850524471305,1642.8690524471303,1656.1770524471303,1664.275052447131,"Wind MW","NPgN"]
["CCC 2020 - Balanced Net Zero",620.84257839850386,630.24507504048415,657.44144843868787,689.30070516105593,725.80348963576489,764.57515150611982,810.3366408697525,858.97807914945849,915.30781288480455,975.27418736368975,1039.0690629504024,1106.9295989958164,1179.1101098896074,1260.6307656295892,1347.350770352052,1439.5955966139752,1537.7076037823999,1642.0531264091069,1744.8319826859888,1845.5191847259296,1947.2572765948694,2049.5951057760876,2137.5058977963126,2224.4107122699411,2265.1244419638097,2276.0603063773005,2287.0283291364995,2297.0582897849654,2298.3884246428634,"Wind MW","NPgN"]
["CT 2023 Policy Sensitivity",579.89105244713039,591.53905244713042,603.18705244713044,614.83505244713047,626.48305244713049,638.1310524471304,680.84605244713043,726.29005244713039,779.01605244713039,835.62605244713041,896.08705244713019,960.41505244713039,1028.8420524471305,1106.1220524471305,1188.3430524471303,1275.8090524471304,1368.8520524471305,1467.8140524471305,1565.1300524471305,1660.4690524471305,1756.8000524471308,1853.7050524471304,1936.956052447131,2019.2610524471309,2057.8540524471309,2068.2710524471304,2078.7200524471309,2088.2770524471307,2089.6070524471311,"Wind MW","NPgN"]
["BV 2023 Policy Sensitivity",579.89105244713039,591.53905244713042,603.18705244713044,614.83505244713047,626.48305244713049,638.1310524471304,680.84605244713043,726.29005244713039,779.01605244713039,835.62605244713041,896.08705244713019,960.41505244713039,1028.8420524471305,1106.1220524471305,1188.3430524471303,1275.8090524471304,1368.8520524471305,1467.8140524471305,1565.1300524471305,1660.4690524471305,1756.8000524471308,1853.7050524471304,1936.956052447131,2019.2610524471309,2057.8540524471309,2068.2710524471304,2078.7200524471309,2088.2770524471307,2089.6070524471311,"Wind MW","NPgN"]
["DFES 2023 - NPg Best View",579.89105244713039,591.53905244713042,603.18705244713044,614.83505244713047,626.48305244713049,638.1310524471304,680.84605244713043,726.29005244713039,779.01605244713039,835.62605244713041,896.08705244713019,960.41505244713039,1028.8420524471305,1106.1220524471305,1188.3430524471303,1275.8090524471304,1368.8520524471305,1467.8140524471305,1565.1300524471305,1660.4690524471305,1756.8000524471308,1853.7050524471304,1936.956052447131,2019.2610524471309,2057.8540524471309,2068.2710524471304,2078.7200524471309,2088.2770524471307,2089.6070524471311,"Wind MW","NPgN"]
["NPg ED2 Planning Scenario - needs updating to old",579.89105244713039,591.53905244713042,603.18705244713044,614.83505244713047,626.48305244713049,638.1310524471304,680.84605244713043,726.29005244713039,779.01605244713039,835.62605244713041,896.08705244713019,960.41505244713039,1028.8420524471305,1106.1220524471305,1188.3430524471303,1275.8090524471304,1368.8520524471305,1467.8140524471305,1565.1300524471305,1660.4690524471305,1756.8000524471308,1853.7050524471304,1936.956052447131,2019.2610524471309,2057.8540524471309,2068.2710524471304,2078.7200524471309,2088.2770524471307,2089.6070524471311,"Wind MW","NPgN"]
["DFES 2023 - Falling Short",579.89105244713039,583.21905244713048,586.54705244713045,589.87505244713043,593.2030524471304,596.53105244713049,598.92205244713045,601.32405244713038,607.9920524471305,621.0540524471304,636.25805244713035,651.47105244713043,662.44305244713041,673.42605244713059,684.42505244713061,695.43005244713061,706.45405244713061,717.48905244713058,728.53605244713049,739.59305244713039,750.6660524471306,761.75005244713054,772.8480524471305,783.9590524471306,795.08105244713056,806.2200524471308,817.4170524471308,828.71405244713071,840.01605244713062,"Wind MW","NPgN"]
[]
["Wind MW - NPgY",2022,2023,2024,2025,2026,2027,2028,2029,2030,2031,2032,2033,2034,2035,2036,2037,2038,2039,2040,2041,2042,2043,2044,2045,2046,2047,2048,2049,2050,"Wind MW","NPgY"]
["DFES 2023 - Consumer Transformation",717.79165233081483,719.40165233081484,721.01165233081485,722.62165233081487,724.23165233081488,726.86855233081474,785.32055233081473,847.37855233081473,919.04955233081478,995.39955233081457,1076.6105523308147,1162.9845523308147,1254.8315523308147,1358.4285523308147,1468.6105523308147,1585.7805523308143,1710.3725523308144,1842.8405523308143,1973.2005523308142,2101.0035523308143,2230.178552330814,2360.1685523308138,2472.1845523308143,2583.0075523308146,2636.1535523308144,2652.1425523308144,2668.2315523308139,2683.218552330814,2687.3865523308136,"Wind MW","NPgY"]
["DFES 2023 - System Transformation",717.79165233081483,718.82665233081491,719.86165233081488,720.89665233081485,721.93165233081481,722.9666523308149,732.78465233081499,742.92080233081481,768.13380233081477,793.62680233081471,819.38880233081488,845.43180233081489,871.76380233081477,898.38480233081475,925.40880233081464,952.73280233081482,980.36980233081476,1008.3228023308147,1036.5948023308147,1065.2998023308148,1094.3368023308149,1123.7198023308144,1153.4508023308147,1183.5378023308147,1214.0898023308146,1245.0108023308148,1276.3088023308151,1307.995802330815,1340.071802330815,"Wind MW","NPgY"]
["DFES 2023 - Leading The Way",717.79165233081483,718.82665233081491,719.86165233081488,720.89665233081485,721.93165233081481,722.9666523308149,761.56180233081488,803.21580233081488,855.489802330815,910.47780233081494,968.33380233081493,1029.2228023308148,1093.2998023308151,1164.6598023308147,1239.7948023308147,1318.9288023308147,1402.2728023308148,1490.0698023308146,1582.5618023308148,1673.5378023308151,1765.5328023308145,1858.1988023308149,1939.4058023308144,2019.9888023308145,2063.5048023308145,2083.1978023308152,2103.1058023308151,2122.4458023308148,2134.9678023308152,"Wind MW","NPgY"]
["CCC 2020 - Balanced Net Zero",767.76794935497151,781.37087990287364,819.07846919197027,863.3912619733544,913.99445753004204,967.6712112524923,1030.8168069127812,1097.8637550832302,1175.3257320230982,1257.829554054033,1345.5774107145639,1438.8905723501896,1538.1135485857251,1650.0469644993616,1769.0814482610808,1895.6579046166135,2030.2401142203203,2173.3243359460057,2314.3439730356404,2452.5878452300071,2592.3130322754309,2732.908375754268,2854.0177005880678,2973.8219836708445,3031.110753275897,3048.1183465432809,3065.2272195648325,3081.1230531523242,3085.2912940780107,"Wind MW","NPgY"]
["CT 2023 Policy Sensitivity",717.79165233081483,719.40165233081484,721.01165233081485,722.62165233081487,724.23165233081488,726.86855233081474,785.32055233081473,847.37855233081473,919.04955233081478,995.39955233081457,1076.6105523308147,1162.9845523308147,1254.8315523308147,1358.4285523308147,1468.6105523308147,1585.7805523308143,1710.3725523308144,1842.8405523308143,1973.2005523308142,2101.0035523308143,2230.178552330814,2360.1685523308138,2472.1845523308143,2583.0075523308146,2636.1535523308144,2652.1425523308144,2668.2315523308139,2683.218552330814,2687.3865523308136,"Wind MW","NPgY"]
["BV 2023 Policy Sensitivity",717.79165233081483,719.40165233081484,721.01165233081485,722.62165233081487,724.23165233081488,726.86855233081474,785.32055233081473,847.37855233081473,919.04955233081478,995.39955233081457,1076.6105523308147,1162.9845523308147,1254.8315523308147,1358.4285523308147,1468.6105523308147,1585.7805523308143,1710.3725523308144,1842.8405523308143,1973.2005523308142,2101.0035523308143,2230.178552330814,2360.1685523308138,2472.1845523308143,2583.0075523308146,2636.1535523308144,2652.1425523308144,2668.2315523308139,2683.218552330814,2687.3865523308136,"Wind MW","NPgY"]
["DFES 2023 - NPg Best View",717.79165233081483,719.40165233081484,721.01165233081485,722.62165233081487,724.23165233081488,726.86855233081474,785.32055233081473,847.37855233081473,919.04955233081478,995.39955233081457,1076.6105523308147,1162.9845523308147,1254.8315523308147,1358.4285523308147,1468.6105523308147,1585.7805523308143,1710.3725523308144,1842.8405523308143,1973.2005523308142,2101.0035523308143,2230.178552330814,2360.1685523308138,2472.1845523308143,2583.0075523308146,2636.1535523308144,2652.1425523308144,2668.2315523308139,2683.218552330814,2687.3865523308136,"Wind MW","NPgY"]
["NPg ED2 Planning Scenario - needs updating to old",717.79165233081483,719.40165233081484,721.01165233081485,722.62165233081487,724.23165233081488,726.86855233081474,785.32055233081473,847.37855233081473,919.04955233081478,995.39955233081457,1076.6105523308147,1162.9845523308147,1254.8315523308147,1358.4285523308147,1468.6105523308147,1585.7805523308143,1710.3725523308144,1842.8405523308143,1973.2005523308142,2101.0035523308143,2230.178552330814,2360.1685523308138,2472.1845523308143,2583.0075523308146,2636.1535523308144,2652.1425523308144,2668.2315523308139,2683.218552330814,2687.3865523308136,"Wind MW","NPgY"]
["DFES 2023 - Falling Short",717.79165233081483,718.25165233081486,718.7116523308149,719.17165233081482,719.63165233081486,720.0916523308149,723.25165233081498,726.42465233081498,735.23265233081486,752.48365233081495,772.56165233081481,792.654652330815,807.1456523308151,821.65265233081504,836.29805233081493,851.24305233081498,866.20705233081515,881.19005233081509,896.18705233081505,911.19905233081499,926.22905233081497,941.27805233081483,956.34305233081488,971.41805233081504,986.521052330815,1001.637052330815,1016.766052330815,1031.9200523308152,1047.0910523308153,"Wind MW","NPgY"]

{"sheet":"Biomass Generation","index":19,"n_rows":32,"n_cols":33,"rows_kept":32,"cut":false,"hidden":false,"merged":[]}
["Biomass MW - NPg",2022,2023,2024,2025,2026,2027,2028,2029,2030,2031,2032,2033,2034,2035,2036,2037,2038,2039,2040,2041,2042,2043,2044,2045,2046,2047,2048,2049,2050,"Parameter","Licence","CHOSEN"]
["DFES 2023 - Consumer Transformation",669.19900000000007,674.971,680.74300000000005,686.5150000000001,692.28700000000003,698.05900000000008,674.46100000000001,674.57500000000005,656.65657835425691,657.13150654049878,657.66040383881318,602.2629092663783,602.89254890722907,554.41389450254076,555.07951355143973,526.6809667786772,527.39695699884442,499.04518345654481,499.85112219683367,471.60728687867982,472.48518443506589,390.35139174171388,391.32643369983111,363.23730983628633,364.29510443291537,365.39607431920257,366.55101331756271,367.74552966477643,369.00121100567253,"Biomass MW","NPg"]
["DFES 2023 - System Transformation",669.19900000000007,682.18599999999992,695.173,708.15999999999985,721.14699999999993,734.13399999999979,712.62899999999991,713.05899999999986,701.87999999999977,702.38999999999987,703.00199999999973,681.97299999999996,682.46600000000001,670.22399999999993,670.75,650.89267718487054,652.94710138444577,629.19349619075774,631.52855977311197,608.12035689669085,610.70727633538536,587.55092931530396,590.39690049194849,593.38319135998267,542.54788572811071,545.82201186053373,549.24005562515094,552.82720260759675,556.55826722223708,"Biomass MW","NPg"]
["DFES 2023 - Leading The Way",669.19900000000007,682.18599999999992,695.173,708.15999999999985,721.14699999999993,734.13399999999979,709.59299999999985,709.88299999999981,695.62899999999991,695.95499999999981,696.33399999999983,676.726,677.01800000000003,649.31318117153671,650.44293458426296,622.52291393854671,623.75700763461373,595.90894580499469,597.28695713325601,569.63318410709962,517.16801129062583,489.65096001505395,491.28802308126524,463.91848737869293,465.70666395870819,467.58119111804041,469.53487297507962,471.5821012930453,473.71208224952261,"Biomass MW","NPg"]
["CCC 2020 - Balanced Net Zero",675.3673500000001,675.3673500000001,675.3673500000001,675.3673500000001,675.3673500000001,675.3673500000001,675.3673500000001,675.3673500000001,675.3673500000001,666.31937494406407,641.03356967167576,615.74776439928769,590.4619591268995,565.17615385451131,539.89034858212301,514.60454330973494,489.31873803734663,464.03293276495839,438.7471274925702,413.46132222018196,388.17551694779365,362.88971167540552,337.60390640301716,312.31810113062897,287.03229585824067,261.74649058585254,236.46068531346427,211.17488004107605,211.17488004107585,"Biomass MW","NPg"]
["CT 2023 Policy Sensitivity",669.19900000000007,674.971,680.74300000000005,686.5150000000001,692.28700000000003,698.05900000000008,674.46100000000001,674.57500000000005,659.66532087959365,660.02632077744056,660.42834339095157,618.31989318530077,618.79849153471889,581.94915347724429,582.45510030377181,560.8689473211648,561.41318201564582,539.86258205328113,540.47518794053633,519.00663340950041,519.67393625097475,457.24283270518049,457.98397643485077,436.63302035538618,437.43706558240848,438.27392898196217,439.15181509718036,440.05978453721912,441.01424638834396,"Biomass MW","NPg"]
["BV 2023 Policy Sensitivity",669.19900000000007,682.18599999999992,695.173,708.15999999999985,721.14699999999993,734.13399999999979,709.59299999999985,709.88299999999981,695.62899999999991,695.95499999999981,696.33399999999983,676.726,677.01800000000003,654.08349670152415,654.94223888276554,633.71982064571625,634.65787341057546,613.4901521277452,614.5375988010428,593.51755929460467,553.63800997338615,532.72189467996441,533.96625038845093,513.16226385117875,514.52148316352555,515.94633882093569,517.43136112798697,518.98748947552326,520.60651932041162,"Biomass MW","NPg"]
["DFES 2023 - NPg Best View",669.19900000000007,682.18599999999992,695.173,708.15999999999985,721.14699999999993,734.13399999999979,709.59299999999985,709.88299999999981,695.62899999999991,695.95499999999981,696.33399999999983,676.726,677.01800000000003,649.31318117153671,650.44293458426296,622.52291393854671,623.75700763461373,595.90894580499469,597.28695713325601,569.63318410709962,517.16801129062583,489.65096001505395,491.28802308126524,463.91848737869293,465.70666395870819,467.58119111804041,469.53487297507962,471.5821012930453,473.71208224952261,"Biomass MW","NPg"]
["NPg ED2 Planning Scenario - needs updating to old",669.19900000000007,682.18599999999992,695.173,708.15999999999985,721.14699999999993,734.13399999999979,709.59299999999985,709.88299999999981,695.62899999999991,695.95499999999981,696.33399999999983,676.726,677.01800000000003,649.31318117153671,650.44293458426296,622.52291393854671,623.75700763461373,595.90894580499469,597.28695713325601,569.63318410709962,517.16801129062583,489.65096001505395,491.28802308126524,463.91848737869293,465.70666395870819,467.58119111804041,469.53487297507962,471.5821012930453,473.71208224952261,"Biomass MW","NPg"]
["DFES 2023 - Falling Short",669.19900000000007,689.40100000000007,709.60300000000007,729.80500000000006,750.00699999999995,770.20900000000006,770.79100000000005,770.79100000000005,770.79100000000005,770.79100000000005,770.79100000000005,770.79100000000005,770.79100000000005,770.79100000000005,770.79100000000005,770.79100000000005,770.79100000000005,741.16800000000012,741.16800000000012,741.16800000000012,741.16800000000012,741.16800000000012,741.16800000000012,741.16800000000012,741.16800000000012,741.16800000000012,741.16800000000012,741.16800000000012,741.16800000000012,"Biomass MW","NPg"]
[]
["Biomass MW - NPgN",2022,2023,2024,2025,2026,2027,2028,2029,2030,2031,2032,2033,2034,2035,2036,2037,2038,2039,2040,2041,2042,2043,2044,2045,2046,2047,2048,2049,2050,"Biomass MW"]
["DFES 2023 - Consumer Transformation",483.20400000000001,484.88400000000001,486.56400000000002,488.24400000000003,489.92399999999998,491.60400000000004,483.20400000000001,483.20400000000001,474.14757835425695,474.4905065404987,474.87240383881311,434.87190926637822,435.32654890722893,400.32189450254066,400.80251355143969,380.29696677867707,380.81395699884428,360.34218345654472,360.92412219683359,340.53028687867976,341.16418443506575,281.85839174171377,282.56243369983099,262.28030983628622,263.04410443291522,263.83907431920244,264.67301331756261,265.53552966477628,266.44221100567239,"Biomass MW","NPgN"]
["DFES 2023 - System Transformation",483.20400000000001,486.98399999999998,490.76399999999995,494.54399999999993,498.3239999999999,502.10399999999987,493.84299999999985,493.98299999999983,489.67099999999982,489.83599999999984,490.03199999999981,483.20400000000001,483.20400000000001,483.20400000000001,483.20400000000001,469.9856771848705,471.46910138444576,454.31749619075771,456.00355977311204,439.10135689669079,440.96927633538542,424.248929315304,426.30390049194853,428.46019135998267,391.75388572811073,394.11801186053373,396.586055625151,399.17620260759679,401.87026722223715,"Biomass MW","NPgN"]
["DFES 2023 - Leading The Way",483.20400000000001,486.98399999999998,490.76399999999995,494.54399999999993,498.3239999999999,502.10399999999987,492.68999999999988,492.7829999999999,487.30499999999989,487.40999999999991,487.53199999999987,483.20400000000001,483.20400000000001,468.84518117153675,469.66093458426292,449.50091393854666,450.39200763461378,430.28394580499469,431.27895713325603,411.31118410709962,373.42801129062593,353.55896001505403,354.74102308126533,334.97848737869299,336.26966395870829,337.62319111804049,339.0338729750797,340.5121012930453,342.05008224952269,"Biomass MW","NPgN"]
["CCC 2020 - Balanced Net Zero",483.20515000000012,483.20515000000012,483.20515000000012,483.20515000000012,483.20515000000012,483.20515000000012,483.20515000000012,483.20515000000012,483.20515000000012,474.99799973700073,452.06199448626944,429.1259892355385,406.18998398480744,383.25397873407627,360.3179734833451,337.3819682326141,314.44596298188287,291.50995773115176,268.57395248042064,245.6379472296895,222.7019419789583,199.76593672822725,176.82993147749599,153.89392622676488,130.95792097603371,108.02191572530262,85.085910474571477,62.149905223840335,62.149905223840193,"Biomass MW","NPgN"]
["CT 2023 Policy Sensitivity",483.20400000000001,484.88400000000001,486.56400000000002,488.24400000000003,489.92399999999998,491.60400000000004,483.20400000000001,483.20400000000001,474.14757835425695,474.4905065404987,474.87240383881311,434.87190926637822,435.32654890722893,400.32189450254066,400.80251355143969,380.29696677867707,380.81395699884428,360.34218345654472,360.92412219683359,340.53028687867976,341.16418443506575,281.85839174171377,282.56243369983099,262.28030983628622,263.04410443291522,263.83907431920244,264.67301331756261,265.53552966477628,266.44221100567239,"Biomass MW","NPgN"]
["BV 2023 Policy Sensitivity",483.20400000000001,486.98399999999998,490.76399999999995,494.54399999999993,498.3239999999999,502.10399999999987,492.68999999999988,492.7829999999999,487.30499999999989,487.40999999999991,487.53199999999987,483.20400000000001,483.20400000000001,468.84518117153675,469.66093458426292,449.50091393854666,450.39200763461378,430.28394580499469,431.27895713325603,411.31118410709962,373.42801129062593,353.55896001505403,354.74102308126533,334.97848737869299,336.26966395870829,337.62319111804049,339.0338729750797,340.5121012930453,342.05008224952269,"Biomass MW","NPgN"]
["DFES 2023 - NPg Best View",483.20400000000001,486.98399999999998,490.76399999999995,494.54399999999993,498.3239999999999,502.10399999999987,492.68999999999988,492.7829999999999,487.30499999999989,487.40999999999991,487.53199999999987,483.20400000000001,483.20400000000001,468.84518117153675,469.66093458426292,449.50091393854666,450.39200763461378,430.28394580499469,431.27895713325603,411.31118410709962,373.42801129062593,353.55896001505403,354.74102308126533,334.97848737869299,336.26966395870829,337.62319111804049,339.0338729750797,340.5121012930453,342.05008224952269,"Biomass MW","NPgN"]
["NPg ED2 Planning Scenario - needs updating to old",483.20400000000001,486.98399999999998,490.76399999999995,494.54399999999993,498.3239999999999,502.10399999999987,492.68999999999988,492.7829999999999,487.30499999999989,487.40999999999991,487.53199999999987,483.20400000000001,483.20400000000001,468.84518117153675,469.66093458426292,449.50091393854666,450.39200763461378,430.28394580499469,431.27895713325603,411.31118410709962,373.42801129062593,353.55896001505403,354.74102308126533,334.97848737869299,336.26966395870829,337.62319111804049,339.0338729750797,340.5121012930453,342.05008224952269,"Biomass MW","NPgN"]
["DFES 2023 - Falling Short",483.20400000000001,489.084,494.964,500.84399999999999,506.72399999999999,512.60400000000004,512.827,512.827,512.827,512.827,512.827,512.827,512.827,512.827,512.827,512.827,512.827,483.20400000000001,483.20400000000001,483.20400000000001,483.20400000000001,483.20400000000001,483.20400000000001,483.20400000000001,483.20400000000001,483.20400000000001,483.20400000000001,483.20400000000001,483.20400000000001,"Biomass MW","NPgN"]
[]
["Biomass MW - NPgY",2022,2023,2024,2025,2026,2027,2028,2029,2030,2031,2032,2033,2034,2035,2036,2037,2038,2039,2040,2041,2042,2043,2044,2045,2046,2047,2048,2049,2050,"Biomass MW","NPgY"]
["DFES 2023 - Consumer Transformation",185.995,190.08699999999999,194.17900000000003,198.27100000000002,202.36300000000006,206.45500000000007,191.25700000000006,191.37100000000007,182.50899999999999,182.64100000000005,182.78800000000007,167.39100000000008,167.56600000000012,154.09200000000007,154.2770000000001,146.38400000000007,146.58300000000008,138.70300000000006,138.92700000000008,131.07700000000008,131.32100000000011,108.49300000000011,108.76400000000011,100.95700000000011,101.25100000000013,101.55700000000013,101.87800000000011,102.21000000000012,102.55900000000013,"Biomass MW","NPgY"]
["DFES 2023 - System Transformation",185.995,195.202,204.40899999999999,213.61599999999996,222.82299999999998,232.02999999999997,218.786,219.07599999999999,212.20899999999997,212.55399999999997,212.96999999999997,198.76900000000001,199.262,187.01999999999998,187.54599999999999,180.90699999999998,181.47800000000001,174.87599999999998,175.52499999999998,169.01900000000003,169.73799999999997,163.30199999999994,164.09299999999996,164.92299999999994,150.79399999999995,151.70399999999998,152.65399999999994,153.65099999999993,154.68799999999993,"Biomass MW","NPgY"]
["DFES 2023 - Leading The Way",185.995,195.202,204.40899999999999,213.61599999999996,222.82299999999998,232.02999999999997,216.90299999999993,217.09999999999997,208.32399999999998,208.54499999999993,208.80199999999999,193.52199999999999,193.81399999999999,180.46799999999996,180.78199999999998,173.02199999999999,173.36499999999995,165.62499999999997,166.00799999999992,158.32199999999995,143.7399999999999,136.09199999999993,136.54699999999988,128.93999999999994,129.43699999999993,129.95799999999991,130.50099999999992,131.06999999999996,131.66199999999995,"Biomass MW","NPgY"]
["CCC 2020 - Balanced Net Zero",192.16219999999998,192.16219999999998,192.16219999999998,192.16219999999998,192.16219999999998,192.16219999999998,192.16219999999998,192.16219999999998,192.16219999999998,191.3213752070634,188.97157518540629,186.62177516374922,184.27197514209212,181.92217512043501,179.57237509877794,177.22257507712084,174.87277505546373,172.52297503380663,170.17317501214956,167.82337499049248,165.47357496883535,163.12377494717828,160.7739749255212,158.42417490386407,156.074374882207,153.72457486054992,151.37477483889279,149.02497481723572,149.02497481723566,"Biomass MW","NPgY"]
["CT 2023 Policy Sensitivity",185.995,190.08699999999999,194.17900000000003,198.27100000000002,202.36300000000006,206.45500000000007,191.25700000000006,191.37100000000007,185.5177425253367,185.53581423694186,185.55593955213851,183.44798391892255,183.47194262748997,181.62725897470364,181.65258675233207,180.57198054248769,180.59922501680151,179.52039859673644,179.55106574370276,178.47634653082071,178.50975181590903,175.38444096346674,175.42154273501976,174.35271051909999,174.39296114949326,174.43485466275976,174.47880177961773,174.52425487244281,174.57203538267157,"Biomass MW","NPgY"]
["BV 2023 Policy Sensitivity",185.995,195.202,204.40899999999999,213.61599999999996,222.82299999999998,232.02999999999997,216.90299999999993,217.09999999999997,208.32399999999998,208.54499999999993,208.80199999999999,193.52199999999999,193.81399999999999,185.23831552998735,185.28130429850262,184.21890670716954,184.26586577596169,183.20620632275057,183.25864166778672,182.20637518750505,180.20999868276024,179.16293466491032,179.22522730718563,178.18377647248579,178.25181920481731,178.3231477028952,178.3974881529073,178.47538818247799,178.55643707088896,"Biomass MW","NPgY"]
["DFES 2023 - NPg Best View",185.995,195.202,204.40899999999999,213.61599999999996,222.82299999999998,232.02999999999997,216.90299999999993,217.09999999999997,208.32399999999998,208.54499999999993,208.80199999999999,193.52199999999999,193.81399999999999,180.46799999999996,180.78199999999998,173.02199999999999,173.36499999999995,165.62499999999997,166.00799999999992,158.32199999999995,143.7399999999999,136.09199999999993,136.54699999999988,128.93999999999994,129.43699999999993,129.95799999999991,130.50099999999992,131.06999999999996,131.66199999999995,"Biomass MW","NPgY"]
["NPg ED2 Planning Scenario - needs updating to old",185.995,195.202,204.40899999999999,213.61599999999996,222.82299999999998,232.02999999999997,216.90299999999993,217.09999999999997,208.32399999999998,208.54499999999993,208.80199999999999,193.52199999999999,193.81399999999999,180.46799999999996,180.78199999999998,173.02199999999999,173.36499999999995,165.62499999999997,166.00799999999992,158.32199999999995,143.7399999999999,136.09199999999993,136.54699999999988,128.93999999999994,129.43699999999993,129.95799999999991,130.50099999999992,131.06999999999996,131.66199999999995,"Biomass MW","NPgY"]
["DFES 2023 - Falling Short",185.995,200.31700000000001,214.63900000000001,228.96100000000001,243.28299999999999,257.60500000000002,257.96400000000006,257.96400000000006,257.96400000000006,257.96400000000006,257.96400000000006,257.96400000000006,257.96400000000006,257.96400000000006,257.96400000000006,257.96400000000006,257.96400000000006,257.96400000000006,257.96400000000006,257.96400000000006,257.96400000000006,257.96400000000006,257.96400000000006,257.96400000000006,257.96400000000006,257.96400000000006,257.96400000000006,257.96400000000006,257.96400000000006,"Biomass MW","NPgY"]

{"sheet":"Storage","index":20,"n_rows":182,"n_cols":33,"rows_kept":182,"cut":false,"hidden":false,"merged":[]}
["Storage MW - NPg",2022,2023,2024,2025,2026,2027,2028,2029,2030,2031,2032,2033,2034,2035,2036,2037,2038,2039,2040,2041,2042,2043,2044,2045,2046,2047,2048,2049,2050,"Parameter","Licence","CHOSEN"]
["DFES 2023 - Consumer Transformation",201.81894921473571,438.38836163736846,666.66932284699942,896.29022042213421,912.23423973117644,928.57120552123195,949.04555306692976,967.04756521918227,1056.6791767434045,1081.0803234849618,1110.653707270721,1156.5059115877568,1195.7534287392227,1269.1089272105269,1325.2196801912153,1391.2566524449448,1485.7405978374281,1567.6523808256447,1653.2507829990429,1726.3653211851242,1806.1319824411744,1863.1644775382538,1930.5111813734491,1990.6654032681627,2094.7095187938558,2161.2021244808693,2230.872058786154,2321.7396145865423,2398.8136783001246,"Storage MW","NPg"]
["DFES 2023 - System Transformation",196.85790286968111,398.94420463599852,598.31007129642353,798.15626488134717,803.31096989432024,808.34345191520288,814.65845394689131,820.06797896434739,826.63175151642417,833.39353532474195,844.04049418020873,866.14515719285328,939.71666363435497,949.89059661875388,1059.4453096029488,1075.3195442530896,1089.0857545640238,1102.0361165655554,1115.0165621137351,1194.687243917873,1265.7540343618039,1280.5147910146525,1327.7755353826944,1343.1706363684243,1359.459696649787,1376.100120738166,1393.6935524334608,1412.0014921462748,1431.1202167813005,"Storage MW","NPg"]
["DFES 2023 - Leading The Way",200.97089732711277,345.84561405422892,482.8142801391142,621.19607727547714,637.80995261091039,697.88789313881603,719.61875094283573,748.29694988519304,777.43593398558698,808.5384893292935,840.51281282854438,897.4290318875635,1005.5390622959671,1087.8409648949337,1153.4870379499969,1205.1158044942242,1261.3240429785269,1353.3789632669004,1410.1178778843014,1472.6004531069723,1554.1628525243777,1619.8268438262594,1687.6763478648832,1775.1981455327355,1877.5217240715008,1955.1837647892858,2036.4298347013637,2142.0541755182589,2232.1042003122943,"Storage MW","NPg"]
["CCC 2020 - Balanced Net Zero",266.22984721447023,355.2046552912102,564.37961353974686,590.74231785919505,609.64091469987284,629.02227059098595,652.51835328135553,673.34939913375104,837.40893686158915,864.7966678810327,899.20572295392265,959.53379753489935,1004.8587702663198,1123.8466564898395,1187.3873242365908,1277.0640540377508,1419.6685542371586,1538.3268170273604,1667.2402936538106,1743.1348230412937,1844.7488792526601,1899.4064311765665,1965.8800501391897,2022.5726903874533,2165.6028356139141,2228.0661581534969,2292.0028239093781,2397.5026646692259,2466.1234742756078,"Storage MW","NPg"]
["CT 2023 Policy Sensitivity",201.81894921473571,438.38836163736846,666.66932284699942,896.29022042213421,912.23423973117644,928.57120552123195,949.04555306692976,967.04756521918227,1056.6791767434045,1081.0803234849618,1110.653707270721,1156.5059115877568,1195.7534287392227,1269.1089272105269,1325.2196801912153,1391.2566524449448,1485.7405978374281,1567.6523808256447,1653.2507829990429,1726.3653211851242,1806.1319824411744,1863.1644775382538,1930.5111813734491,1990.6654032681627,2094.7095187938558,2161.2021244808693,2230.872058786154,2321.7396145865423,2398.8136783001246,"Storage MW","NPg"]
["BV 2023 Policy Sensitivity",201.81894921473571,481.12569184073641,775.03719045148034,1076.2624150786662,1117.1387218114805,1156.7700931053723,1192.756646975587,1219.4816469615189,1333.1710086015078,1356.3843323065553,1387.7967030664936,1441.0124167028373,1477.104463849658,1571.0589933421477,1628.1488855278878,1710.2615180997454,1827.7800508471655,1942.2957351656528,2054.8129064503114,2137.6124310430332,2237.85425275222,2307.4845163890786,2374.9895797335621,2426.959145343114,2538.3600794529934,2598.632944175999,2663.1197788011646,2756.5971788978468,2830.8872883754452,"Storage MW","NPg"]
["DFES 2023 - NPg Best View",201.81894921473571,481.12569184073641,775.03719045148034,1076.2624150786662,1117.1387218114805,1156.7700931053723,1192.756646975587,1219.4816469615189,1333.1710086015078,1356.3843323065553,1387.7967030664936,1441.0124167028373,1477.104463849658,1571.0589933421477,1628.1488855278878,1710.2615180997454,1827.7800508471655,1942.2957351656528,2054.8129064503114,2137.6124310430332,2237.85425275222,2307.4845163890786,2374.9895797335621,2426.959145343114,2538.3600794529934,2598.632944175999,2663.1197788011646,2756.5971788978468,2830.8872883754452,"Storage MW","NPg"]
["NPg ED2 Planning Scenario - needs updating to old",201.81894921473571,481.12569184073641,775.03719045148034,1076.2624150786662,1117.1387218114805,1156.7700931053723,1192.756646975587,1219.4816469615189,1333.1710086015078,1356.3843323065553,1387.7967030664936,1441.0124167028373,1477.104463849658,1571.0589933421477,1628.1488855278878,1710.2615180997454,1827.7800508471655,1942.2957351656528,2054.8129064503114,2137.6124310430332,2237.85425275222,2307.4845163890786,2374.9895797335621,2426.959145343114,2538.3600794529934,2598.632944175999,2663.1197788011646,2756.5971788978468,2830.8872883754452,"Storage MW","NPg"]
["DFES 2023 - Falling Short",198.2516516238295,248.65425406094232,295.67943596788064,342.99351396794782,497.65648195617132,503.01362224311214,509.38820946020815,513.25439256241316,546.40547325927537,551.35025424982234,556.28750109073167,563.84215662915949,582.55131481379374,590.13363650865483,599.17806846827068,609.1200040662975,620.49031666060364,629.0632804368164,674.43444706487628,683.44419767736963,690.5086416757706,698.41459100842667,706.13070273689505,769.73492616239412,815.16430912709359,824.05752799626612,931.06999071947371,968.22991656801571,981.04989508577478,"Storage MW","NPg"]
[]
["Storage MW - NPgN",2022,2023,2024,2025,2026,2027,2028,2029,2030,2031,2032,2033,2034,2035,2036,2037,2038,2039,2040,2041,2042,2043,2044,2045,2046,2047,2048,2049,2050,"Storage MW"]
["DFES 2023 - Consumer Transformation",72.807534964644574,168.86784388097817,264.36982117581431,360.40944985642875,366.68907568285113,373.26125367215252,381.41188219391972,388.36370049344248,426.03790110459425,435.74113761114597,449.1026007279545,474.61073542499366,488.82431894998092,539.31729084216818,569.9887138272793,607.46121186357902,645.70128805866671,682.91473454575771,738.25469531961176,778.07605051525809,825.82048622737375,848.51176896995878,880.66692269607734,904.59474686231817,945.12910114780857,971.38530122982593,999.1068782962534,1045.9194262616586,1076.5940952403307,"Storage MW","NPgN"]
["DFES 2023 - System Transformation",71.326046983989144,147.32609740104726,223.12538075841826,299.11754586184787,301.17044103507914,303.17425353761064,305.68787211050983,307.83818585959841,310.44994849568849,313.14047344840321,319.31647184987565,335.8823518120235,339.75501630152837,343.80573374639221,399.06624528571569,407.33062828368185,412.81456484843784,417.96877585892912,423.13630505511787,493.43875795263142,531.10458263230521,536.9796582703957,575.20163272694663,581.32483222643168,587.8054766764651,594.42656722060542,601.42904894893445,608.71401252409566,616.32232374612397,"Storage MW","NPgN"]
["DFES 2023 - Leading The Way",72.554286236231079,123.51588741102455,173.75901343860139,224.56193312866887,231.17598071631122,238.10598200766248,246.75330973102876,263.01528505795767,277.0309854107312,287.83490206423164,301.51798069245621,336.29049422939283,392.30385698504432,449.32660718109241,487.60069517642881,508.14988747709384,530.5251041928625,572.57727101803164,595.14928646215105,620.0076805089866,664.6032167045646,690.72293248564301,717.71130333948634,762.97904618356506,792.521115008062,823.2008778227181,855.52765050427081,909.71080289648671,945.54784891938243,"Storage MW","NPgN"]
["CCC 2020 - Balanced Net Zero",95.370941191919243,137.6558298922609,152.29388203348665,171.11694543599694,178.57916243930555,186.36816877552707,195.72866039226284,203.81363203370609,276.80525516476388,287.70602647205681,304.40902913011166,342.35460795592081,357.61301238272847,452.14009376304432,487.45285504253377,547.39048629724448,607.83843980506072,666.66263946805839,765.088886503293,808.31971242147335,878.84734662786093,900.58667009741407,933.54005430379425,956.08244436794928,1013.3699238466136,1037.8092142512555,1063.2321976653154,1128.7815027530401,1156.0666920875656,"Storage MW","NPgN"]
["CT 2023 Policy Sensitivity",72.807534964644574,168.86784388097817,264.36982117581431,360.40944985642875,366.68907568285113,373.26125367215252,381.41188219391972,388.36370049344248,426.03790110459425,435.74113761114597,449.1026007279545,474.61073542499366,488.82431894998092,539.31729084216818,569.9887138272793,607.46121186357902,645.70128805866671,682.91473454575771,738.25469531961176,778.07605051525809,825.82048622737375,848.51176896995878,880.66692269607734,904.59474686231817,945.12910114780857,971.38530122982593,999.1068782962534,1045.9194262616586,1076.5940952403307,"Storage MW","NPgN"]
["BV 2023 Policy Sensitivity",72.807534964644574,191.92973296133576,318.22603976383505,446.09123983766796,459.03509872836395,472.10058001495474,484.75637655014884,494.43622302620759,544.72712441751219,554.23544668821432,568.9019665362556,599.57566672892995,612.45687555208406,680.43147093702214,711.46482159669574,759.91396249353863,808.67060930705759,861.44898214167245,937.1886705088873,980.8423044318223,1041.7353154771918,1069.5369681102111,1101.3460607703239,1121.2133856587479,1164.5908190448017,1187.5114278636252,1212.3544506044686,1263.2527671207763,1291.8097435861105,"Storage MW","NPgN"]
["DFES 2023 - NPg Best View",72.807534964644574,191.92973296133576,318.22603976383505,446.09123983766796,459.03509872836395,472.10058001495474,484.75637655014884,494.43622302620759,544.72712441751219,554.23544668821432,568.9019665362556,599.57566672892995,612.45687555208406,680.43147093702214,711.46482159669574,759.91396249353863,808.67060930705759,861.44898214167245,937.1886705088873,980.8423044318223,1041.7353154771918,1069.5369681102111,1101.3460607703239,1121.2133856587479,1164.5908190448017,1187.5114278636252,1212.3544506044686,1263.2527671207763,1291.8097435861105,"Storage MW","NPgN"]
["NPg ED2 Planning Scenario - needs updating to old",72.807534964644574,191.92973296133576,318.22603976383505,446.09123983766796,459.03509872836395,472.10058001495474,484.75637655014884,494.43622302620759,544.72712441751219,554.23544668821432,568.9019665362556,599.57566672892995,612.45687555208406,680.43147093702214,711.46482159669574,759.91396249353863,808.67060930705759,861.44898214167245,937.1886705088873,980.8423044318223,1041.7353154771918,1069.5369681102111,1101.3460607703239,1121.2133856587479,1164.5908190448017,1187.5114278636252,1212.3544506044686,1263.2527671207763,1291.8097435861105,"Storage MW","NPgN"]
["DFES 2023 - Falling Short",71.742253945930273,89.449880604477571,107.21906415777811,125.10490745934455,135.32831214222361,137.46337918004156,140.00573271634482,141.54496519602827,171.66248472143002,173.6349978820277,175.60108866043558,178.61679508950112,192.85129425802043,195.87612739115411,199.48578621693886,203.45411095503718,207.9930221302281,211.41316720180683,214.6674250117261,218.2607933260382,221.07137306481974,224.21985724288416,227.29006611092422,286.50591848050283,289.87810251276221,293.12036743586128,394.97948732722881,426.72105552367418,433.85585875037469,"Storage MW","NPgN"]
[]
["Storage MW - NPgY",2022,2023,2024,2025,2026,2027,2028,2029,2030,2031,2032,2033,2034,2035,2036,2037,2038,2039,2040,2041,2042,2043,2044,2045,2046,2047,2048,2049,2050,"Storage MW","NPgY"]
["DFES 2023 - Consumer Transformation",129.01141425009112,269.52051775639029,402.29950167118517,535.88077056570546,545.54516404832532,555.30995184907943,567.63367087301003,578.6838647257398,630.64127563881016,645.33918587381572,661.55110654276666,681.89517616276316,706.92910978924169,729.7916363683587,755.23096636393598,783.79544058136594,840.03930977876144,884.73764627988692,914.99608767943118,948.28927066986603,980.31149621380064,1014.652708568295,1049.8442586773717,1086.0706564058446,1149.5804176460474,1189.8168232510434,1231.7651804899006,1275.8201883248835,1322.2195830597939,"Storage MW","NPgY"]
["DFES 2023 - System Transformation",125.53185588569197,251.61810723495128,375.18469053800533,499.03871901949935,502.1405288592411,505.16919837759229,508.97058183638143,512.22979310474898,516.18180302073574,520.25306187633873,524.72402233033313,530.26280538082972,599.9616473328266,606.08486287236167,660.37906431723297,667.98891596940769,676.27118971558593,684.06734070662617,691.88025705861719,701.24848596524157,734.64945172949876,743.53513274425666,752.57390265574782,761.84580414199274,771.65421997332203,781.67355351756055,792.26450348452624,803.28747962217926,814.79789303517657,"Storage MW","NPgY"]
["DFES 2023 - Leading The Way",128.4166110908817,222.32972664320437,309.05526670051285,396.63414414680824,406.6339718945992,459.78191113115355,472.86544121180691,485.28166482723543,500.40494857485578,520.70358726506186,538.99483213608823,561.13853765817066,613.23520531092277,638.51435771384115,665.886342773568,696.96591701713032,730.79893878566452,780.80169224886868,814.96859142215021,852.59277259798569,889.55963581981314,929.10391134061638,969.96504452539671,1012.2190993491703,1085.0006090634388,1131.9828869665678,1180.9021841970928,1232.3433726217722,1286.5563513929119,"Storage MW","NPgY"]
["CCC 2020 - Balanced Net Zero",170.85890602255097,217.54882539894933,412.08573150626023,419.62537242319809,431.06175226056735,442.65410181545894,456.78969288909275,469.53576710004495,560.60368169682533,577.0906414089759,594.79669382381098,617.17918957897859,647.2457578835913,671.70656272679503,699.9344691940571,729.67356774050643,811.83011443209784,871.66417755930206,902.15140715051757,934.8151106198203,965.90153262479919,998.81976107915227,1032.3399958353955,1066.4902460195042,1152.2329117673003,1190.2569439022416,1228.7706262440624,1268.7211619161858,1310.0567821880422,"Storage MW","NPgY"]
["CT 2023 Policy Sensitivity",129.01141425009112,269.52051775639029,402.29950167118517,535.88077056570546,545.54516404832532,555.30995184907943,567.63367087301003,578.6838647257398,630.64127563881016,645.33918587381572,661.55110654276666,681.89517616276316,706.92910978924169,729.7916363683587,755.23096636393598,783.79544058136594,840.03930977876144,884.73764627988692,914.99608767943118,948.28927066986603,980.31149621380064,1014.652708568295,1049.8442586773717,1086.0706564058446,1149.5804176460474,1189.8168232510434,1231.7651804899006,1275.8201883248835,1322.2195830597939,"Storage MW","NPgY"]
["BV 2023 Policy Sensitivity",129.01141425009112,289.19595887940068,456.81115068764529,630.17117524099831,658.10362308311653,684.66951309041747,708.0002704254382,725.04542393531142,788.44388418399546,802.14888561834084,818.89473653023811,841.43674997390735,864.64758829757398,890.62752240512555,916.6840639311921,950.34755560620692,1019.1094415401078,1080.8467530239805,1117.6242359414241,1156.7701266112108,1196.1189372750282,1237.9475482788675,1273.6435189632384,1305.7457596843662,1373.7692604081917,1411.1215163123736,1450.7653281966959,1493.3444117770705,1539.0775447893348,"Storage MW","NPgY"]
["DFES 2023 - NPg Best View",129.01141425009112,289.19595887940068,456.81115068764529,630.17117524099831,658.10362308311653,684.66951309041747,708.0002704254382,725.04542393531142,788.44388418399546,802.14888561834084,818.89473653023811,841.43674997390735,864.64758829757398,890.62752240512555,916.6840639311921,950.34755560620692,1019.1094415401078,1080.8467530239805,1117.6242359414241,1156.7701266112108,1196.1189372750282,1237.9475482788675,1273.6435189632384,1305.7457596843662,1373.7692604081917,1411.1215163123736,1450.7653281966959,1493.3444117770705,1539.0775447893348,"Storage MW","NPgY"]
["NPg ED2 Planning Scenario - needs updating to old",129.01141425009112,289.19595887940068,456.81115068764529,630.17117524099831,658.10362308311653,684.66951309041747,708.0002704254382,725.04542393531142,788.44388418399546,802.14888561834084,818.89473653023811,841.43674997390735,864.64758829757398,890.62752240512555,916.6840639311921,950.34755560620692,1019.1094415401078,1080.8467530239805,1117.6242359414241,1156.7701266112108,1196.1189372750282,1237.9475482788675,1273.6435189632384,1305.7457596843662,1373.7692604081917,1411.1215163123736,1450.7653281966959,1493.3444117770705,1539.0775447893348,"Storage MW","NPgY"]
["DFES 2023 - Falling Short",126.50939767789924,159.20437345646474,188.46037181010254,217.88860650860329,362.32816981394768,365.55024306307058,369.38247674386332,371.70942736638489,374.74298853784535,377.71525636779461,380.68641243029606,385.22536153965831,389.70002055577334,394.25750911750072,399.69228225133185,405.66589311126029,412.49729453037554,417.6501132350096,459.76702205315019,465.18340435133143,469.43726861095092,474.19473376554254,478.84063662597089,483.22900768189129,525.28620661433138,530.93716056040478,536.09050339224484,541.50886104434153,547.19403633540014,"Storage MW","NPgY"]
[]
[]
[]
["BREAKDOWN FOLLOWS"]
["Domestic Storage MW - NPg",2022,2023,2024,2025,2026,2027,2028,2029,2030,2031,2032,2033,2034,2035,2036,2037,2038,2039,2040,2041,2042,2043,2044,2045,2046,2047,2048,2049,2050]
["DFES 2023 - Consumer Transformation",4.7695881457219924,11.665288015714504,16.983063852362534,22.915800258784905,31.747261876486739,42.513821648296165,55.46748446300181,70.708666951300501,88.573947441899776,108.45762127369889,131.48770230815273,155.91843291724936,183.44202571573771,213.20493710142722,243.94591601777194,279.31825056016351,316.80397617080973,358.01973801077588,402.1336464828272,450.3273820304446,501.55646169935756,555.95760048416787,613.04926487188675,673.20348676660024,736.58462060714203,802.57345853013112,872.15696934867856,945.24593628641742,1022.3199999999999]
["DFES 2023 - System Transformation",4.7695881457219924,7.6053194820049681,9.8836015365498398,12.408531055390601,15.233390229563835,18.507653176066079,22.398533521699257,26.808270934078472,31.814311069071429,37.119990222239295,43.290033587587118,49.474851265883672,56.561041309136826,64.087809066495254,71.358207798521789,80.112723606243975,89.300642437326218,99.696032109902319,110.69854384186078,122.99274477786328,135.9812635063939,149.89386229483611,164.46888179512433,179.86398278085437,196.06933314260738,212.7097572309863,230.27533228079218,248.55527536497442,267.67399999999998]
["DFES 2023 - Leading The Way",4.7695881457219924,12.941543252232837,19.140608437091856,26.111812125535803,36.334822730648312,48.935249937825404,64.016640413398818,81.880073352404594,102.70997881981341,125.88960912600626,152.81607906209308,181.31098824623916,213.41621142663294,248.1356568413006,283.92776800182804,324.87382202816019,368.52361520400109,416.59215277927922,467.90551208547117,524.10638030573489,583.77546378702687,647.11292253851059,713.77208973834331,783.93842795238538,857.96975114706515,935.07053915428855,1016.2401971209084,1101.6069752059641,1191.6569999999997]
["CCC 2020 - Balanced Net Zero",7.8399859590000016,12.646275385000001,18.489282116000002,26.931182898999996,38.718414187,52.528522339000006,68.504375550999995,86.574965762000005,106.77579700000001,129.646530318,155.17296412499996,183.000058209,213.12781263500005,245.556227353,280.35631041599999,317.691380299,357.09278394500001,398.72383989299999,443.22362042099996,490.37200062200009,540.04826680799999,592.07489895100002,646.38088896199997,703.072748972,762.15047891000006,823.61407879399997,887.46354859200005,953.69888839800001,1022.3200981300001]
["CT 2023 Policy Sensitivity",4.7695881457219924,11.665288015714504,16.983063852362534,22.915800258784905,31.747261876486739,42.513821648296165,55.46748446300181,70.708666951300501,88.573947441899776,108.45762127369889,131.48770230815273,155.91843291724936,183.44202571573771,213.20493710142722,243.94591601777194,279.31825056016351,316.80397617080973,358.01973801077588,402.1336464828272,450.3273820304446,501.55646169935756,555.95760048416787,613.04926487188675,673.20348676660024,736.58462060714203,802.57345853013112,872.15696934867856,945.24593628641742,1022.3199999999999]
["BV 2023 Policy Sensitivity",4.7695881457219924,12.941543252232837,19.140608437091856,26.111812125535803,36.334822730648312,48.935249937825404,64.016640413398818,81.880073352404594,102.70997881981341,125.88960912600626,152.81607906209308,181.31098824623916,213.41621142663294,248.1356568413006,283.92776800182804,324.87382202816019,368.52361520400109,416.59215277927922,467.90551208547117,524.10638030573489,583.77546378702687,647.11292253851059,713.77208973834331,783.93842795238538,857.96975114706515,935.07053915428855,1016.2401971209084,1101.6069752059641,1191.6569999999997]
["DFES 2023 - NPg Best View",4.7695881457219924,12.941543252232837,19.140608437091856,26.111812125535803,36.334822730648312,48.935249937825404,64.016640413398818,81.880073352404594,102.70997881981341,125.88960912600626,152.81607906209308,181.31098824623916,213.41621142663294,248.1356568413006,283.92776800182804,324.87382202816019,368.52361520400109,416.59215277927922,467.90551208547117,524.10638030573489,583.77546378702687,647.11292253851059,713.77208973834331,783.93842795238538,857.96975114706515,935.07053915428855,1016.2401971209084,1101.6069752059641,1191.6569999999997]
["NPg ED2 Planning Scenario - needs updating to old",4.7695881457219924,12.941543252232837,19.140608437091856,26.111812125535803,36.334822730648312,48.935249937825404,64.016640413398818,81.880073352404594,102.70997881981341,125.88960912600626,152.81607906209308,181.31098824623916,213.41621142663294,248.1356568413006,283.92776800182804,324.87382202816019,368.52361520400109,416.59215277927922,467.90551208547117,524.10638030573489,583.77546378702687,647.11292253851059,713.77208973834331,783.93842795238538,857.96975114706515,935.07053915428855,1016.2401971209084,1101.6069752059641,1191.6569999999997]
["DFES 2023 - Falling Short",4.7695881457219924,6.7845908324214097,8.8627381094498237,10.858077980132913,13.015910540282658,15.576330130321832,18.094975053316904,20.370840584538975,22.938665357463357,25.567285588949463,28.513551556640344,31.266214888770747,34.507688525405257,37.879282509220758,41.314116506616003,45.061281760068454,49.149110206224393,53.657993404242802,58.678707647983089,64.045775544206407,70.117133887405458,76.673956317624572,83.699806716244012,90.986134609310625,98.789535690319667,106.93717858268104,115.45180423844511,124.4054331553541,133.846]
[]
["Domestic Storage MW - NPgN",2022,2023,2024,2025,2026,2027,2028,2029,2030,2031,2032,2033,2034,2035,2036,2037,2038,2039,2040,2041,2042,2043,2044,2045,2046,2047,2048,2049,2050]
["DFES 2023 - Consumer Transformation",1.8913942386248819,4.6270212195452665,6.7351708409563402,9.0909815298539822,12.594969579366815,16.869599861743172,22.011954491113503,28.064009941683871,35.157385798436685,43.053633141085122,52.201735965916583,61.90792132178337,72.842484844847476,84.6704676060791,96.889377784901583,110.94665905898624,125.8488433363474,142.23528595751364,159.772602023693,178.93599870995061,199.30500987266336,220.94375009034076,243.65164168220619,267.57946584844706,292.79504949945255,319.0512495814699,346.73825725320251,375.82433102132785,406.49899999999991]
["DFES 2023 - System Transformation",1.8913942386248819,3.0174124094098067,3.9203759643862024,4.922749481340202,6.043706319051565,7.3442311918308745,8.888201090308014,10.638599797365837,12.627269466622367,14.735352557277142,17.185439432357963,19.642799939390351,22.458546903431767,25.450398257479442,28.341444634157373,31.822794764812038,35.475414737627212,39.607636816536314,43.983992486236545,48.87203095103709,54.035703530912194,59.5715160232402,65.368134258314811,71.491333757799865,77.93849423998941,84.559584784129754,91.550923854263289,98.824688777971673,106.43299999999998]
["DFES 2023 - Leading The Way",1.8913942386248819,5.1323394311088926,7.5936737763360282,10.358404764896656,14.416106460410694,19.416960323462813,25.404501115450614,32.497186007417397,40.767562890186163,49.973817118253955,60.669077514488599,71.988823937590382,84.745520187716636,98.542584262105791,112.76686958477582,129.04297687828276,146.39481547066669,165.50321857345284,185.9050118930887,208.25072313896126,231.98047287604015,257.16957563695939,283.68181175528633,311.59409514555477,341.04431604365215,371.72407885830819,404.02028676167777,437.99195397710406,473.82899999999989]
["CCC 2020 - Balanced Net Zero",3.1173622920000001,5.0284556920000005,7.3517722060000006,10.708469951999998,15.395349563000002,20.88657246,27.238946386999999,34.424236872999998,42.456561153999999,51.550501123999986,61.700409885999989,72.765115142000013,84.744616900000025,97.638915154999992,111.47624436199999,126.32154377699999,141.98846597600001,158.54195021899997,176.23610661199999,194.98340838700003,214.73585691700001,235.42286605199996,257.01620134199999,279.55821451200006,303.04890551900002,327.48827436099998,352.87632105200004,379.21304560799996,406.49844800000005]
["CT 2023 Policy Sensitivity",1.8913942386248819,4.6270212195452665,6.7351708409563402,9.0909815298539822,12.594969579366815,16.869599861743172,22.011954491113503,28.064009941683871,35.157385798436685,43.053633141085122,52.201735965916583,61.90792132178337,72.842484844847476,84.6704676060791,96.889377784901583,110.94665905898624,125.8488433363474,142.23528595751364,159.772602023693,178.93599870995061,199.30500987266336,220.94375009034076,243.65164168220619,267.57946584844706,292.79504949945255,319.0512495814699,346.73825725320251,375.82433102132785,406.49899999999991]
["BV 2023 Policy Sensitivity",1.8913942386248819,5.1323394311088926,7.5936737763360282,10.358404764896656,14.416106460410694,19.416960323462813,25.404501115450614,32.497186007417397,40.767562890186163,49.973817118253955,60.669077514488599,71.988823937590382,84.745520187716636,98.542584262105791,112.76686958477582,129.04297687828276,146.39481547066669,165.50321857345284,185.9050118930887,208.25072313896126,231.98047287604015,257.16957563695939,283.68181175528633,311.59409514555477,341.04431604365215,371.72407885830819,404.02028676167777,437.99195397710406,473.82899999999989]
["DFES 2023 - NPg Best View",1.8913942386248819,5.1323394311088926,7.5936737763360282,10.358404764896656,14.416106460410694,19.416960323462813,25.404501115450614,32.497186007417397,40.767562890186163,49.973817118253955,60.669077514488599,71.988823937590382,84.745520187716636,98.542584262105791,112.76686958477582,129.04297687828276,146.39481547066669,165.50321857345284,185.9050118930887,208.25072313896126,231.98047287604015,257.16957563695939,283.68181175528633,311.59409514555477,341.04431604365215,371.72407885830819,404.02028676167777,437.99195397710406,473.82899999999989]
["NPg ED2 Planning Scenario - needs updating to old",1.8913942386248819,5.1323394311088926,7.5936737763360282,10.358404764896656,14.416106460410694,19.416960323462813,25.404501115450614,32.497186007417397,40.767562890186163,49.973817118253955,60.669077514488599,71.988823937590382,84.745520187716636,98.542584262105791,112.76686958477582,129.04297687828276,146.39481547066669,165.50321857345284,185.9050118930887,208.25072313896126,231.98047287604015,257.16957563695939,283.68181175528633,311.59409514555477,341.04431604365215,371.72407885830819,404.02028676167777,437.99195397710406,473.82899999999989]
["DFES 2023 - Falling Short",1.8913942386248819,2.6900941253777257,3.5148990849827584,4.3076823930640131,5.1634004092655177,6.1797791683227903,7.1797557869856874,8.0828612382759459,9.1038141452674211,10.149863002240766,11.319561431361267,12.414470977907859,13.703072981000691,15.043615029716145,16.409434670612644,17.899851270881239,19.525768786812062,21.320281627113058,23.316054980451739,25.45235020825584,27.865695684956592,30.474529102046212,33.268633438146701,36.16659027529289,39.271483446717468,42.513748369816518,45.901617388186857,49.463608446412785,53.219000000000001]
[]
["Domestic Storage MW - NPgY",2022,2023,2024,2025,2026,2027,2028,2029,2030,2031,2032,2033,2034,2035,2036,2037,2038,2039,2040,2041,2042,2043,2044,2045,2046,2047,2048,2049,2050]
["DFES 2023 - Consumer Transformation",2.8781939070971103,7.0382667961692373,10.247893011406195,13.824818728930925,19.152292297119924,25.644221786552993,33.455529971888303,42.644657009616623,53.416561643463098,65.403988132613776,79.285966342236151,94.010511595465985,110.59954087089022,128.53446949534813,147.05653823287037,168.37159150117725,190.95513283446232,215.78445205326224,242.36104445913423,271.39138332049401,302.25145182669422,335.01385039382706,369.39762318968053,405.62402091815318,443.78957110768948,483.52220894866122,525.41871209547605,569.42160526508962,615.82100000000003]
["DFES 2023 - System Transformation",2.8781939070971103,4.5879070725951614,5.9632255721636378,7.4857815740503986,9.1896839105122705,11.163421984235203,13.510332431391243,16.169671136712637,19.187041602449064,22.384637664962156,26.104594155229158,29.832051326493321,34.102494405705059,38.637410809015805,43.01676316436442,48.289928841431944,53.825227699699006,60.088395293366013,66.714551355624238,74.12071382682619,81.9455599754817,90.322346271595919,99.100747536809536,108.37264902305451,118.13083890261797,128.15017244685654,138.7244084265289,149.73058658700276,161.24100000000001]
["DFES 2023 - Leading The Way",2.8781939070971103,7.8092038211239441,11.546934660755827,15.753407360639146,21.918716270237621,29.518289614362594,38.612139297948197,49.382887344987203,61.942415929627245,75.915792007752302,92.147001547604475,109.32216430864879,128.67069123891631,149.59307257919482,171.16089841705224,195.83084514987743,222.12879973333438,251.0889342058264,282.00050019238245,315.8556571667736,351.79499091098671,389.94334690155119,430.09027798305698,472.34433280683055,516.92543510341307,563.34646029598036,612.21991035923065,663.61502122886009,717.82799999999986]
["CCC 2020 - Balanced Net Zero",4.7226236670000015,7.6178196930000004,11.137509910000002,16.222712946999998,23.323064623999997,31.641949879000002,41.265429163999997,52.150728889,64.319235846000012,78.09602919400001,93.47255423899999,110.23494306699999,128.38319573500002,147.91731219799999,168.880066054,191.36983652200004,215.10431796899999,240.18188967400005,266.98751380900001,295.38859223500003,325.31240989100002,356.65203289900001,389.36468761999998,423.51453445999999,459.10157339100004,496.12580443299998,534.58722754000007,574.48584278999999,615.82165013000008]
["CT 2023 Policy Sensitivity",2.8781939070971103,7.0382667961692373,10.247893011406195,13.824818728930925,19.152292297119924,25.644221786552993,33.455529971888303,42.644657009616623,53.416561643463098,65.403988132613776,79.285966342236151,94.010511595465985,110.59954087089022,128.53446949534813,147.05653823287037,168.37159150117725,190.95513283446232,215.78445205326224,242.36104445913423,271.39138332049401,302.25145182669422,335.01385039382706,369.39762318968053,405.62402091815318,443.78957110768948,483.52220894866122,525.41871209547605,569.42160526508962,615.82100000000003]
["BV 2023 Policy Sensitivity",2.8781939070971103,7.8092038211239441,11.546934660755827,15.753407360639146,21.918716270237621,29.518289614362594,38.612139297948197,49.382887344987203,61.942415929627245,75.915792007752302,92.147001547604475,109.32216430864879,128.67069123891631,149.59307257919482,171.16089841705224,195.83084514987743,222.12879973333438,251.0889342058264,282.00050019238245,315.8556571667736,351.79499091098671,389.94334690155119,430.09027798305698,472.34433280683055,516.92543510341307,563.34646029598036,612.21991035923065,663.61502122886009,717.82799999999986]
["DFES 2023 - NPg Best View",2.8781939070971103,7.8092038211239441,11.546934660755827,15.753407360639146,21.918716270237621,29.518289614362594,38.612139297948197,49.382887344987203,61.942415929627245,75.915792007752302,92.147001547604475,109.32216430864879,128.67069123891631,149.59307257919482,171.16089841705224,195.83084514987743,222.12879973333438,251.0889342058264,282.00050019238245,315.8556571667736,351.79499091098671,389.94334690155119,430.09027798305698,472.34433280683055,516.92543510341307,563.34646029598036,612.21991035923065,663.61502122886009,717.82799999999986]
["NPg ED2 Planning Scenario - needs updating to old",2.8781939070971103,7.8092038211239441,11.546934660755827,15.753407360639146,21.918716270237621,29.518289614362594,38.612139297948197,49.382887344987203,61.942415929627245,75.915792007752302,92.147001547604475,109.32216430864879,128.67069123891631,149.59307257919482,171.16089841705224,195.83084514987743,222.12879973333438,251.0889342058264,282.00050019238245,315.8556571667736,351.79499091098671,389.94334690155119,430.09027798305698,472.34433280683055,516.92543510341307,563.34646029598036,612.21991035923065,663.61502122886009,717.82799999999986]
["DFES 2023 - Falling Short",2.8781939070971103,4.0944967070436835,5.3478390244670653,6.5503955870689001,7.852510131017139,9.3965509619990417,10.915219266331217,12.287979346263029,13.834851212195938,15.417422586708698,17.193990125279075,18.85174391086289,20.80461554440457,22.835667479504615,24.904681836003355,27.161430489187214,29.623341419412334,32.337711777129748,35.36265266753135,38.59342533595057,42.25143820244886,46.199427215578353,50.431173278097312,54.819544334017735,59.518052243602192,64.423430212864531,69.550186850258243,74.941824708941326,80.626999999999995]
[]
["Large scale storage MW - NPg",2022,2023,2024,2025,2026,2027,2028,2029,2030,2031,2032,2033,2034,2035,2036,2037,2038,2039,2040,2041,2042,2043,2044,2045,2046,2047,2048,2049,2050]
["DFES 2023 - Consumer Transformation",189.33465000000001,408.93442435627196,628.5341987125438,848.13397306881586,848.13397306881586,848.13397306881586,848.13397306881586,848.13397306881586,914.72658910614814,914.72658910614814,917.38665442523939,929.4422541885674,932.96862853673701,968.34855236458657,982.77728672353351,1001.3595561863333,1044.1539152360026,1076.9232957815893,1112.2713744934827,1130.0874369168214,1156.6880901077345,1156.6880901077345,1165.5968340331719,1165.5968340331719,1206.0001109692334,1206.5038787332576,1206.5038787332576,1224.1956098202911,1224.1956098202911]
["DFES 2023 - System Transformation",189.33465000000001,385.33811555603796,581.34158111207591,777.34504666811392,777.34504666811392,777.34504666811392,777.34504666811392,777.34504666811392,777.34504666811392,777.34504666811392,780.57028888535399,793.47125775431448,857.31428033890461,857.31428033890461,956.07199926544445,959.29724148268451,959.29724148268451,959.29724148268451,959.29724148268451,1024.3836709199577,1081.8376178168646,1081.8376178168646,1114.0893949408226,1114.0893949408226,1114.0893949408226,1114.0893949408226,1114.0893949408226,1114.0893949408226,1114.0893949408226]
["DFES 2023 - Leading The Way",189.33465000000001,317.13046693384126,444.92628386768251,572.72210080152377,572.72210080152377,615.37674555150454,615.37674555150454,623.44905227420702,627.48520563555826,631.4139746094902,633.02843595403078,653.1688412271734,721.92572584174786,762.24689792164691,782.42726111306706,782.42726111306706,782.42726111306706,819.4052477030616,819.4052477030616,819.4052477030616,839.5860145098178,839.5860145098178,839.5860145098178,856.94147396362803,885.00410949171442,885.56536220227622,885.56536220227622,905.74612900903242,905.7461290090323]
["CCC 2020 - Balanced Net Zero",250.67515018645648,324.76973064082824,524.73827114165374,538.57068786566151,538.56949572699898,538.570337447866,538.56988219524351,538.56950817268512,677.25449966623262,677.25402445791804,682.25340829159359,705.38851484395946,712.38818314457171,790.73499139232649,808.53453637068117,848.79382804030251,937.79306386154281,1006.8936301010813,1085.1709112100775,1106.8123201814353,1156.813181810578,1156.8127452792151,1167.6340787087993,1167.6348589470631,1251.3275694864333,1252.3272921420164,1252.3280646131598,1291.5057077913925,1291.5053076657741]
["CT 2023 Policy Sensitivity",189.33465000000001,408.93442435627196,628.5341987125438,848.13397306881586,848.13397306881586,848.13397306881586,848.13397306881586,848.13397306881586,914.72658910614814,914.72658910614814,917.38665442523939,929.4422541885674,932.96862853673701,968.34855236458657,982.77728672353351,1001.3595561863333,1044.1539152360026,1076.9232957815893,1112.2713744934827,1130.0874369168214,1156.6880901077345,1156.6880901077345,1165.5968340331719,1165.5968340331719,1206.0001109692334,1206.5038787332576,1206.5038787332576,1224.1956098202911,1224.1956098202911]
["BV 2023 Policy Sensitivity",189.33465000000001,450.39549932312161,734.74452173229542,1024.9101558585969,1048.4508942949583,1069.9114323634269,1083.295911027076,1089.3966484100486,1177.0823895863377,1172.5986100754342,1173.2012734670716,1188.556203974658,1184.3454779362771,1235.3678987563342,1245.7246400761501,1274.8088503731371,1334.4737292125485,1392.9942353530944,1448.0616323421073,1467.5555484994397,1506.1913583311111,1509.8528069042163,1509.3524075268285,1491.1556349223388,1528.2655410884477,1511.4376178042298,1494.6683709760382,1502.6921352120492,1486.9322198956122]
["DFES 2023 - NPg Best View",189.33465000000001,450.39549932312161,734.74452173229542,1024.9101558585969,1048.4508942949583,1069.9114323634269,1083.295911027076,1089.3966484100486,1177.0823895863377,1172.5986100754342,1173.2012734670716,1188.556203974658,1184.3454779362771,1235.3678987563342,1245.7246400761501,1274.8088503731371,1334.4737292125485,1392.9942353530944,1448.0616323421073,1467.5555484994397,1506.1913583311111,1509.8528069042163,1509.3524075268285,1491.1556349223388,1528.2655410884477,1511.4376178042298,1494.6683709760382,1502.6921352120492,1486.9322198956122]
["NPg ED2 Planning Scenario - needs updating to old",189.33465000000001,450.39549932312161,734.74452173229542,1024.9101558585969,1048.4508942949583,1069.9114323634269,1083.295911027076,1089.3966484100486,1177.0823895863377,1172.5986100754342,1173.2012734670716,1188.556203974658,1184.3454779362771,1235.3678987563342,1245.7246400761501,1274.8088503731371,1334.4737292125485,1392.9942353530944,1448.0616323421073,1467.5555484994397,1506.1913583311111,1509.8528069042163,1509.3524075268285,1491.1556349223388,1528.2655410884477,1511.4376178042298,1494.6683709760382,1502.6921352120492,1486.9322198956122]
["DFES 2023 - Falling Short",189.33465000000001,232.55722478939342,275.77979957878682,319.0023743681802,467.80152788938733,467.80152788938733,467.80152788938733,467.80152788938733,495.90696830411258,495.90696830411258,495.90696830411258,495.90696830411258,507.17167388115683,507.17167388115683,507.17167388115683,507.17167388115683,507.17167388115683,507.17167388115683,544.37591512402491,544.37591512402491,544.37591512402491,544.37591512402491,544.37591512402491,600.69381065645734,638.18663890297057,638.93221487978144,737.38574162314774,765.54750556575823,768.92691723887151]
[]
["Large scale storage MW - NPgN",2022,2023,2024,2025,2026,2027,2028,2029,2030,2031,2032,2033,2034,2035,2036,2037,2038,2039,2040,2041,2042,2043,2044,2045,2046,2047,2048,2049,2050]
["DFES 2023 - Consumer Transformation",68.335999999999999,160.38446326674068,252.43292653348129,344.48138980022196,344.48138980022196,344.48138980022196,344.48138980022196,344.48138980022196,372.78815953947554,372.78815953947554,375.4482248585669,387.50382462189486,387.50382462189486,422.88374844974442,436.95984537387443,455.5421148366741,473.19846246153355,490.85481008639294,526.20288879828604,544.01895122162477,570.61960441253802,570.61960441253802,579.52834833797556,579.52834833797556,594.7432370728244,594.7432370728244,594.7432370728244,612.43496815985793,612.43496815985793]
["DFES 2023 - System Transformation",68.335999999999999,142.79867218245766,217.26134436491535,291.72401654737303,291.72401654737303,291.72401654737303,291.72401654737303,291.72401654737303,291.72401654737303,291.72401654737303,294.94925876461309,307.85022763357358,307.85022763357364,307.85022763357364,358.80905466596778,362.03429688320784,362.03429688320784,362.03429688320784,362.03429688320784,426.53269074357593,458.78511291597727,458.78511291597727,491.03689003993526,491.03689003993526,491.03689003993526,491.03689003993526,491.03689003993526,491.03689003993526,491.03689003993526]
["DFES 2023 - Leading The Way",68.335999999999999,114.92827809587575,161.52055619175144,208.11283428762724,208.11283428762724,208.11283428762724,208.11283428762724,216.18514101032972,220.22129437168093,220.22129437168093,221.83575571622146,241.9761609893641,282.33365844951521,322.65483052941426,342.8351937208343,342.8351937208343,342.8351937208343,362.97559899397703,362.97559899397703,362.97559899397703,383.15636580073323,383.15636580073323,383.15636580073323,400.51182525454351,400.51182525454351,400.51182525454351,400.51182525454351,420.69259206129976,420.69259206129976]
["CCC 2020 - Balanced Net Zero",89.673438173899541,128.77101480556868,139.74038602610997,153.57139695764411,153.57109657304321,153.57133230533967,153.57117610267861,153.57109440916946,216.25633824408186,216.25618041747151,221.25597934064069,244.39050333260536,244.39038599948984,322.73810382169972,339.83712001203048,380.09650455232571,419.19599156827502,458.29605074720729,536.57357539366035,558.21520345079057,608.21561776868862,608.21538957833411,619.03692028589865,619.03729718005366,652.73020375208193,652.73012531472375,652.73049264308884,691.90833006456739,691.90811700709276]
["CT 2023 Policy Sensitivity",68.335999999999999,160.38446326674068,252.43292653348129,344.48138980022196,344.48138980022196,344.48138980022196,344.48138980022196,344.48138980022196,372.78815953947554,372.78815953947554,375.4482248585669,387.50382462189486,387.50382462189486,422.88374844974442,436.95984537387443,455.5421148366741,473.19846246153355,490.85481008639294,526.20288879828604,544.01895122162477,570.61960441253802,570.61960441253802,579.52834833797556,579.52834833797556,594.7432370728244,594.7432370728244,594.7432370728244,612.43496815985793,612.43496815985793]
["BV 2023 Policy Sensitivity",68.335999999999999,182.94103413553464,305.43064218612233,428.89575654641845,435.00627596469093,440.77335568130451,444.43333753211397,446.12073626725356,485.86720576064403,484.36228463937505,486.78024911829596,502.38785331002413,499.2333458811288,550.12581188857177,562.55846134341664,589.89854764733718,615.62181157560519,646.12112506636845,699.00445411816588,717.47048070917833,753.85897065897939,755.41897800617164,760.17731633914195,752.13235783729772,765.95568842561806,758.1965344297854,750.70877987256438,767.60068606319942,760.32061650563799]
["DFES 2023 - NPg Best View",68.335999999999999,182.94103413553464,305.43064218612233,428.89575654641845,435.00627596469093,440.77335568130451,444.43333753211397,446.12073626725356,485.86720576064403,484.36228463937505,486.78024911829596,502.38785331002413,499.2333458811288,550.12581188857177,562.55846134341664,589.89854764733718,615.62181157560519,646.12112506636845,699.00445411816588,717.47048070917833,753.85897065897939,755.41897800617164,760.17731633914195,752.13235783729772,765.95568842561806,758.1965344297854,750.70877987256438,767.60068606319942,760.32061650563799]
["NPg ED2 Planning Scenario - needs updating to old",68.335999999999999,182.94103413553464,305.43064218612233,428.89575654641845,435.00627596469093,440.77335568130451,444.43333753211397,446.12073626725356,485.86720576064403,484.36228463937505,486.78024911829596,502.38785331002413,499.2333458811288,550.12581188857177,562.55846134341664,589.89854764733718,615.62181157560519,646.12112506636845,699.00445411816588,717.47048070917833,753.85897065897939,755.41897800617164,760.17731633914195,752.13235783729772,765.95568842561806,758.1965344297854,750.70877987256438,767.60068606319942,760.32061650563799]
["DFES 2023 - Falling Short",68.335999999999999,84.590594657488879,100.84518931497777,117.09978397246667,124.9850778763976,124.9850778763976,124.9850778763976,124.9850778763976,153.09051829112286,153.09051829112286,153.09051829112286,153.09051829112286,164.35522386816709,164.35522386816709,164.35522386816709,164.35522386816709,164.35522386816709,164.35522386816709,164.35522386816709,164.35522386816709,164.35522386816709,164.35522386816709,164.35522386816709,220.67311940059952,220.8871488065634,220.8871488065634,319.34067554992964,347.50243949254008,350.88185116565336]
[]
["Large scale storage MW - NPgY",2022,2023,2024,2025,2026,2027,2028,2029,2030,2031,2032,2033,2034,2035,2036,2037,2038,2039,2040,2041,2042,2043,2044,2045,2046,2047,2048,2049,2050]
["DFES 2023 - Consumer Transformation",120.99865,248.54996108953125,376.10127217906251,503.6525832685939,503.6525832685939,503.6525832685939,503.6525832685939,503.6525832685939,541.93842956667254,541.93842956667254,541.93842956667254,541.93842956667254,545.46480391484215,545.46480391484215,545.81744134965913,545.81744134965913,570.95545277446899,586.0684856951965,586.0684856951965,586.0684856951965,586.0684856951965,586.0684856951965,586.0684856951965,586.0684856951965,611.25687389640905,611.76064166043318,611.76064166043318,611.76064166043318,611.76064166043318]
["DFES 2023 - System Transformation",120.99865,242.5394433735803,364.08023674716054,485.6210301207409,485.6210301207409,485.6210301207409,485.6210301207409,485.6210301207409,485.6210301207409,485.6210301207409,485.6210301207409,485.6210301207409,549.46405270533103,549.46405270533103,597.26294459947667,597.26294459947667,597.26294459947667,597.26294459947667,597.26294459947667,597.85098017638165,623.05250490088736,623.05250490088736,623.05250490088736,623.05250490088736,623.05250490088736,623.05250490088736,623.05250490088736,623.05250490088736,623.05250490088736]
["DFES 2023 - Leading The Way",120.99865,202.20218883796551,283.40572767593108,364.60926651389656,364.60926651389656,407.26391126387728,407.26391126387728,407.26391126387728,407.26391126387728,411.19268023780933,411.19268023780938,411.19268023780933,439.59206739223271,439.59206739223271,439.59206739223271,439.59206739223271,439.59206739223271,456.42964870908457,456.42964870908463,456.42964870908452,456.42964870908457,456.42964870908457,456.42964870908457,456.42964870908452,484.49228423717091,485.05353694773265,485.05353694773265,485.05353694773265,485.0535369477326]
["CCC 2020 - Balanced Net Zero",161.00171201255694,195.99871583525956,384.9978851155438,384.99929090801743,384.9983991539558,384.99900514252636,384.99870609256493,384.99841376351571,460.99816142215076,460.99784404044652,460.99742895095295,460.99801151135409,467.9977971450819,467.99688757062671,468.69741635865068,468.69732348797686,518.59707229326773,548.59757935387393,548.59733581641706,548.59711673064476,548.59756404188931,548.59735570088083,548.59715842290063,548.59756176700944,598.59736573435134,599.59716682729265,599.59757197007104,599.59737772682524,599.59719065868148]
["CT 2023 Policy Sensitivity",120.99865,248.54996108953125,376.10127217906251,503.6525832685939,503.6525832685939,503.6525832685939,503.6525832685939,503.6525832685939,541.93842956667254,541.93842956667254,541.93842956667254,541.93842956667254,545.46480391484215,545.46480391484215,545.81744134965913,545.81744134965913,570.95545277446899,586.0684856951965,586.0684856951965,586.0684856951965,586.0684856951965,586.0684856951965,586.0684856951965,586.0684856951965,611.25687389640905,611.76064166043318,611.76064166043318,611.76064166043318,611.76064166043318]
["BV 2023 Policy Sensitivity",120.99865,267.45446518758695,429.31387954617304,596.01439931217851,613.44461833026742,629.13807668212235,638.86257349496213,643.27591214279494,691.21518382569366,688.23632543605913,686.42102434877563,686.16835066463398,685.11213205514832,685.2420868677624,683.16617873273344,684.91030272579997,718.85191763694331,746.87311028672593,749.05717822394126,750.08506779026152,752.33238767213174,754.43382889804479,749.17509118768658,739.02327708504095,762.30985266282971,753.24108337444432,743.95959110347394,735.09144914884973,726.61160338997422]
["DFES 2023 - NPg Best View",120.99865,267.45446518758695,429.31387954617304,596.01439931217851,613.44461833026742,629.13807668212235,638.86257349496213,643.27591214279494,691.21518382569366,688.23632543605913,686.42102434877563,686.16835066463398,685.11213205514832,685.2420868677624,683.16617873273344,684.91030272579997,718.85191763694331,746.87311028672593,749.05717822394126,750.08506779026152,752.33238767213174,754.43382889804479,749.17509118768658,739.02327708504095,762.30985266282971,753.24108337444432,743.95959110347394,735.09144914884973,726.61160338997422]
["NPg ED2 Planning Scenario - needs updating to old",120.99865,267.45446518758695,429.31387954617304,596.01439931217851,613.44461833026742,629.13807668212235,638.86257349496213,643.27591214279494,691.21518382569366,688.23632543605913,686.42102434877563,686.16835066463398,685.11213205514832,685.2420868677624,683.16617873273344,684.91030272579997,718.85191763694331,746.87311028672593,749.05717822394126,750.08506779026152,752.33238767213174,754.43382889804479,749.17509118768658,739.02327708504095,762.30985266282971,753.24108337444432,743.95959110347394,735.09144914884973,726.61160338997422]
["DFES 2023 - Falling Short",120.99865,147.96663013190454,174.93461026380905,201.90259039571353,342.81645001298972,342.81645001298972,342.81645001298972,342.81645001298972,342.81645001298972,342.81645001298972,342.81645001298972,342.81645001298972,342.81645001298972,342.81645001298972,342.81645001298972,342.81645001298972,342.81645001298972,342.81645001298972,380.02069125585786,380.02069125585786,380.02069125585786,380.02069125585786,380.02069125585786,380.02069125585786,417.29949009640711,418.04506607321809,418.04506607321809,418.04506607321809,418.04506607321809]
[]
[]
["I&C behind the meter storage MW - NPg",2022,2023,2024,2025,2026,2027,2028,2029,2030,2031,2032,2033,2034,2035,2036,2037,2038,2039,2040,2041,2042,2043,2044,2045,2046,2047,2048,2049,2050]
["DFES 2023 - Consumer Transformation",201.81894921473571,438.38836163736846,666.66932284699942,896.29022042213421,912.23423973117644,928.57120552123195,949.04555306692976,967.04756521918227,1056.6791767434045,1081.0803234849618,1110.653707270721,1156.5059115877568,1195.7534287392227,1269.1089272105269,1325.2196801912153,1391.2566524449448,1485.7405978374281,1567.6523808256447,1653.2507829990429,1726.3653211851242,1806.1319824411744,1863.1644775382538,1930.5111813734491,1990.6654032681627,2094.7095187938558,2161.2021244808693,2230.872058786154,2321.7396145865423,2398.8136783001246]
["DFES 2023 - System Transformation",196.85790286968111,398.94420463599852,598.31007129642353,798.15626488134717,803.31096989432024,808.34345191520288,814.65845394689131,820.06797896434739,826.63175151642417,833.39353532474195,844.04049418020873,866.14515719285328,939.71666363435497,949.89059661875388,1059.4453096029488,1075.3195442530896,1089.0857545640238,1102.0361165655554,1115.0165621137351,1194.687243917873,1265.7540343618039,1280.5147910146525,1327.7755353826944,1343.1706363684243,1359.459696649787,1376.100120738166,1393.6935524334608,1412.0014921462748,1431.1202167813005]
["DFES 2023 - Leading The Way",200.97089732711277,345.84561405422892,482.8142801391142,621.19607727547714,637.80995261091039,697.88789313881603,719.61875094283573,748.29694988519304,777.43593398558698,808.5384893292935,840.51281282854438,897.4290318875635,1005.5390622959671,1087.8409648949337,1153.4870379499969,1205.1158044942242,1261.3240429785269,1353.3789632669004,1410.1178778843014,1472.6004531069723,1554.1628525243777,1619.8268438262594,1687.6763478648832,1775.1981455327355,1877.5217240715008,1955.1837647892858,2036.4298347013637,2142.0541755182589,2232.1042003122943]
["CCC 2020 - Balanced Net Zero",266.22984721447023,355.2046552912102,564.37961353974686,590.74231785919505,609.64091469987284,629.02227059098595,652.51835328135553,673.34939913375104,837.40893686158915,864.7966678810327,899.20572295392265,959.53379753489935,1004.8587702663198,1123.8466564898395,1187.3873242365908,1277.0640540377508,1419.6685542371586,1538.3268170273604,1667.2402936538106,1743.1348230412937,1844.7488792526601,1899.4064311765665,1965.8800501391897,2022.5726903874533,2165.6028356139141,2228.0661581534969,2292.0028239093781,2397.5026646692259,2466.1234742756078]
["CT 2023 Policy Sensitivity",201.81894921473571,438.38836163736846,666.66932284699942,896.29022042213421,912.23423973117644,928.57120552123195,949.04555306692976,967.04756521918227,1056.6791767434045,1081.0803234849618,1110.653707270721,1156.5059115877568,1195.7534287392227,1269.1089272105269,1325.2196801912153,1391.2566524449448,1485.7405978374281,1567.6523808256447,1653.2507829990429,1726.3653211851242,1806.1319824411744,1863.1644775382538,1930.5111813734491,1990.6654032681627,2094.7095187938558,2161.2021244808693,2230.872058786154,2321.7396145865423,2398.8136783001246]
["BV 2023 Policy Sensitivity",201.81894921473571,481.12569184073641,775.03719045148034,1076.2624150786662,1117.1387218114805,1156.7700931053723,1192.756646975587,1219.4816469615189,1333.1710086015078,1356.3843323065553,1387.7967030664936,1441.0124167028373,1477.104463849658,1571.0589933421477,1628.1488855278878,1710.2615180997454,1827.7800508471655,1942.2957351656528,2054.8129064503114,2137.6124310430332,2237.85425275222,2307.4845163890786,2374.9895797335621,2426.959145343114,2538.3600794529934,2598.632944175999,2663.1197788011646,2756.5971788978468,2830.8872883754452]
["DFES 2023 - NPg Best View",201.81894921473571,481.12569184073641,775.03719045148034,1076.2624150786662,1117.1387218114805,1156.7700931053723,1192.756646975587,1219.4816469615189,1333.1710086015078,1356.3843323065553,1387.7967030664936,1441.0124167028373,1477.104463849658,1571.0589933421477,1628.1488855278878,1710.2615180997454,1827.7800508471655,1942.2957351656528,2054.8129064503114,2137.6124310430332,2237.85425275222,2307.4845163890786,2374.9895797335621,2426.959145343114,2538.3600794529934,2598.632944175999,2663.1197788011646,2756.5971788978468,2830.8872883754452]
["NPg ED2 Planning Scenario - needs updating to old",201.81894921473571,481.12569184073641,775.03719045148034,1076.2624150786662,1117.1387218114805,1156.7700931053723,1192.756646975587,1219.4816469615189,1333.1710086015078,1356.3843323065553,1387.7967030664936,1441.0124167028373,1477.104463849658,1571.0589933421477,1628.1488855278878,1710.2615180997454,1827.7800508471655,1942.2957351656528,2054.8129064503114,2137.6124310430332,2237.85425275222,2307.4845163890786,2374.9895797335621,2426.959145343114,2538.3600794529934,2598.632944175999,2663.1197788011646,2756.5971788978468,2830.8872883754452]
["DFES 2023 - Falling Short",198.2516516238295,248.65425406094232,295.67943596788064,342.99351396794782,497.65648195617132,503.01362224311214,509.38820946020815,513.25439256241316,546.40547325927537,551.35025424982234,556.28750109073167,563.84215662915949,582.55131481379374,590.13363650865483,599.17806846827068,609.1200040662975,620.49031666060364,629.0632804368164,674.43444706487628,683.44419767736963,690.5086416757706,698.41459100842667,706.13070273689505,769.73492616239412,815.16430912709359,824.05752799626612,931.06999071947371,968.22991656801571,981.04989508577478]
[]
["I&C behind the meter storage MW - NPgN",2022,2023,2024,2025,2026,2027,2028,2029,2030,2031,2032,2033,2034,2035,2036,2037,2038,2039,2040,2041,2042,2043,2044,2045,2046,2047,2048,2049,2050]
["DFES 2023 - Consumer Transformation",72.807534964644574,168.86784388097817,264.36982117581431,360.40944985642875,366.68907568285113,373.26125367215252,381.41188219391972,388.36370049344248,426.03790110459425,435.74113761114597,449.1026007279545,474.61073542499366,488.82431894998092,539.31729084216818,569.9887138272793,607.46121186357902,645.70128805866671,682.91473454575771,738.25469531961176,778.07605051525809,825.82048622737375,848.51176896995878,880.66692269607734,904.59474686231817,945.12910114780857,971.38530122982593,999.1068782962534,1045.9194262616586,1076.5940952403307]
["DFES 2023 - System Transformation",71.326046983989144,147.32609740104726,223.12538075841826,299.11754586184787,301.17044103507914,303.17425353761064,305.68787211050983,307.83818585959841,310.44994849568849,313.14047344840321,319.31647184987565,335.8823518120235,339.75501630152837,343.80573374639221,399.06624528571569,407.33062828368185,412.81456484843784,417.96877585892912,423.13630505511787,493.43875795263142,531.10458263230521,536.9796582703957,575.20163272694663,581.32483222643168,587.8054766764651,594.42656722060542,601.42904894893445,608.71401252409566,616.32232374612397]
["DFES 2023 - Leading The Way",72.554286236231079,123.51588741102455,173.75901343860139,224.56193312866887,231.17598071631122,238.10598200766248,246.75330973102876,263.01528505795767,277.0309854107312,287.83490206423164,301.51798069245621,336.29049422939283,392.30385698504432,449.32660718109241,487.60069517642881,508.14988747709384,530.5251041928625,572.57727101803164,595.14928646215105,620.0076805089866,664.6032167045646,690.72293248564301,717.71130333948634,762.97904618356506,792.521115008062,823.2008778227181,855.52765050427081,909.71080289648671,945.54784891938243]
["CCC 2020 - Balanced Net Zero",95.370941191919243,137.6558298922609,152.29388203348665,171.11694543599694,178.57916243930555,186.36816877552707,195.72866039226284,203.81363203370609,276.80525516476388,287.70602647205681,304.40902913011166,342.35460795592081,357.61301238272847,452.14009376304432,487.45285504253377,547.39048629724448,607.83843980506072,666.66263946805839,765.088886503293,808.31971242147335,878.84734662786093,900.58667009741407,933.54005430379425,956.08244436794928,1013.3699238466136,1037.8092142512555,1063.2321976653154,1128.7815027530401,1156.0666920875656]
["CT 2023 Policy Sensitivity",72.807534964644574,168.86784388097817,264.36982117581431,360.40944985642875,366.68907568285113,373.26125367215252,381.41188219391972,388.36370049344248,426.03790110459425,435.74113761114597,449.1026007279545,474.61073542499366,488.82431894998092,539.31729084216818,569.9887138272793,607.46121186357902,645.70128805866671,682.91473454575771,738.25469531961176,778.07605051525809,825.82048622737375,848.51176896995878,880.66692269607734,904.59474686231817,945.12910114780857,971.38530122982593,999.1068782962534,1045.9194262616586,1076.5940952403307]
["BV 2023 Policy Sensitivity",72.807534964644574,191.92973296133576,318.22603976383505,446.09123983766796,459.03509872836395,472.10058001495474,484.75637655014884,494.43622302620759,544.72712441751219,554.23544668821432,568.9019665362556,599.57566672892995,612.45687555208406,680.43147093702214,711.46482159669574,759.91396249353863,808.67060930705759,861.44898214167245,937.1886705088873,980.8423044318223,1041.7353154771918,1069.5369681102111,1101.3460607703239,1121.2133856587479,1164.5908190448017,1187.5114278636252,1212.3544506044686,1263.2527671207763,1291.8097435861105]
["DFES 2023 - NPg Best View",72.807534964644574,191.92973296133576,318.22603976383505,446.09123983766796,459.03509872836395,472.10058001495474,484.75637655014884,494.43622302620759,544.72712441751219,554.23544668821432,568.9019665362556,599.57566672892995,612.45687555208406,680.43147093702214,711.46482159669574,759.91396249353863,808.67060930705759,861.44898214167245,937.1886705088873,980.8423044318223,1041.7353154771918,1069.5369681102111,1101.3460607703239,1121.2133856587479,1164.5908190448017,1187.5114278636252,1212.3544506044686,1263.2527671207763,1291.8097435861105]
["NPg ED2 Planning Scenario - needs updating to old",72.807534964644574,191.92973296133576,318.22603976383505,446.09123983766796,459.03509872836395,472.10058001495474,484.75637655014884,494.43622302620759,544.72712441751219,554.23544668821432,568.9019665362556,599.57566672892995,612.45687555208406,680.43147093702214,711.46482159669574,759.91396249353863,808.67060930705759,861.44898214167245,937.1886705088873,980.8423044318223,1041.7353154771918,1069.5369681102111,1101.3460607703239,1121.2133856587479,1164.5908190448017,1187.5114278636252,1212.3544506044686,1263.2527671207763,1291.8097435861105]
["DFES 2023 - Falling Short",71.742253945930273,89.449880604477571,107.21906415777811,125.10490745934455,135.32831214222361,137.46337918004156,140.00573271634482,141.54496519602827,171.66248472143002,173.6349978820277,175.60108866043558,178.61679508950112,192.85129425802043,195.87612739115411,199.48578621693886,203.45411095503718,207.9930221302281,211.41316720180683,214.6674250117261,218.2607933260382,221.07137306481974,224.21985724288416,227.29006611092422,286.50591848050283,289.87810251276221,293.12036743586128,394.97948732722881,426.72105552367418,433.85585875037469]
[]
["I&C behind the meter storage MW - NPgY",2022,2023,2024,2025,2026,2027,2028,2029,2030,2031,2032,2033,2034,2035,2036,2037,2038,2039,2040,2041,2042,2043,2044,2045,2046,2047,2048,2049,2050]
["DFES 2023 - Consumer Transformation",129.01141425009112,269.52051775639029,402.29950167118517,535.88077056570546,545.54516404832532,555.30995184907943,567.63367087301003,578.6838647257398,630.64127563881016,645.33918587381572,661.55110654276666,681.89517616276316,706.92910978924169,729.7916363683587,755.23096636393598,783.79544058136594,840.03930977876144,884.73764627988692,914.99608767943118,948.28927066986603,980.31149621380064,1014.652708568295,1049.8442586773717,1086.0706564058446,1149.5804176460474,1189.8168232510434,1231.7651804899006,1275.8201883248835,1322.2195830597939]
["DFES 2023 - System Transformation",125.53185588569197,251.61810723495128,375.18469053800533,499.03871901949935,502.1405288592411,505.16919837759229,508.97058183638143,512.22979310474898,516.18180302073574,520.25306187633873,524.72402233033313,530.26280538082972,599.9616473328266,606.08486287236167,660.37906431723297,667.98891596940769,676.27118971558593,684.06734070662617,691.88025705861719,701.24848596524157,734.64945172949876,743.53513274425666,752.57390265574782,761.84580414199274,771.65421997332203,781.67355351756055,792.26450348452624,803.28747962217926,814.79789303517657]
["DFES 2023 - Leading The Way",128.4166110908817,222.32972664320437,309.05526670051285,396.63414414680824,406.6339718945992,459.78191113115355,472.86544121180691,485.28166482723543,500.40494857485578,520.70358726506186,538.99483213608823,561.13853765817066,613.23520531092277,638.51435771384115,665.886342773568,696.96591701713032,730.79893878566452,780.80169224886868,814.96859142215021,852.59277259798569,889.55963581981314,929.10391134061638,969.96504452539671,1012.2190993491703,1085.0006090634388,1131.9828869665678,1180.9021841970928,1232.3433726217722,1286.5563513929119]
["CCC 2020 - Balanced Net Zero",170.85890602255097,217.54882539894933,412.08573150626023,419.62537242319809,431.06175226056735,442.65410181545894,456.78969288909275,469.53576710004495,560.60368169682533,577.0906414089759,594.79669382381098,617.17918957897859,647.2457578835913,671.70656272679503,699.9344691940571,729.67356774050643,811.83011443209784,871.66417755930206,902.15140715051757,934.8151106198203,965.90153262479919,998.81976107915227,1032.3399958353955,1066.4902460195042,1152.2329117673003,1190.2569439022416,1228.7706262440624,1268.7211619161858,1310.0567821880422]
["CT 2023 Policy Sensitivity",129.01141425009112,269.52051775639029,402.29950167118517,535.88077056570546,545.54516404832532,555.30995184907943,567.63367087301003,578.6838647257398,630.64127563881016,645.33918587381572,661.55110654276666,681.89517616276316,706.92910978924169,729.7916363683587,755.23096636393598,783.79544058136594,840.03930977876144,884.73764627988692,914.99608767943118,948.28927066986603,980.31149621380064,1014.652708568295,1049.8442586773717,1086.0706564058446,1149.5804176460474,1189.8168232510434,1231.7651804899006,1275.8201883248835,1322.2195830597939]
["BV 2023 Policy Sensitivity",129.01141425009112,289.19595887940068,456.81115068764529,630.17117524099831,658.10362308311653,684.66951309041747,708.0002704254382,725.04542393531142,788.44388418399546,802.14888561834084,818.89473653023811,841.43674997390735,864.64758829757398,890.62752240512555,916.6840639311921,950.34755560620692,1019.1094415401078,1080.8467530239805,1117.6242359414241,1156.7701266112108,1196.1189372750282,1237.9475482788675,1273.6435189632384,1305.7457596843662,1373.7692604081917,1411.1215163123736,1450.7653281966959,1493.3444117770705,1539.0775447893348]
["DFES 2023 - NPg Best View",129.01141425009112,289.19595887940068,456.81115068764529,630.17117524099831,658.10362308311653,684.66951309041747,708.0002704254382,725.04542393531142,788.44388418399546,802.14888561834084,818.89473653023811,841.43674997390735,864.64758829757398,890.62752240512555,916.6840639311921,950.34755560620692,1019.1094415401078,1080.8467530239805,1117.6242359414241,1156.7701266112108,1196.1189372750282,1237.9475482788675,1273.6435189632384,1305.7457596843662,1373.7692604081917,1411.1215163123736,1450.7653281966959,1493.3444117770705,1539.0775447893348]
["NPg ED2 Planning Scenario - needs updating to old",129.01141425009112,289.19595887940068,456.81115068764529,630.17117524099831,658.10362308311653,684.66951309041747,708.0002704254382,725.04542393531142,788.44388418399546,802.14888561834084,818.89473653023811,841.43674997390735,864.64758829757398,890.62752240512555,916.6840639311921,950.34755560620692,1019.1094415401078,1080.8467530239805,1117.6242359414241,1156.7701266112108,1196.1189372750282,1237.9475482788675,1273.6435189632384,1305.7457596843662,1373.7692604081917,1411.1215163123736,1450.7653281966959,1493.3444117770705,1539.0775447893348]
["DFES 2023 - Falling Short",126.50939767789924,159.20437345646474,188.46037181010254,217.88860650860329,362.32816981394768,365.55024306307058,369.38247674386332,371.70942736638489,374.74298853784535,377.71525636779461,380.68641243029606,385.22536153965831,389.70002055577334,394.25750911750072,399.69228225133185,405.66589311126029,412.49729453037554,417.6501132350096,459.76702205315019,465.18340435133143,469.43726861095092,474.19473376554254,478.84063662597089,483.22900768189129,525.28620661433138,530.93716056040478,536.09050339224484,541.50886104434153,547.19403633540014]
[]
[]
["Large scale storage MW - NPg",2022,2023,2024,2025,2026,2027,2028,2029,2030,2031,2032,2033,2034,2035,2036,2037,2038,2039,2040,2041,2042,2043,2044,2045,2046,2047,2048,2049,2050]
["DFES 2023 - Consumer Transformation",189.33465000000001,408.93442435627196,628.5341987125438,848.13397306881586,848.13397306881586,848.13397306881586,848.13397306881586,848.13397306881586,914.72658910614814,914.72658910614814,917.38665442523939,929.4422541885674,932.96862853673701,968.34855236458657,982.77728672353351,1001.3595561863333,1044.1539152360026,1076.9232957815893,1112.2713744934827,1130.0874369168214,1156.6880901077345,1156.6880901077345,1165.5968340331719,1165.5968340331719,1206.0001109692334,1206.5038787332576,1206.5038787332576,1224.1956098202911,1224.1956098202911]
["DFES 2023 - System Transformation",189.33465000000001,385.33811555603796,581.34158111207591,777.34504666811392,777.34504666811392,777.34504666811392,777.34504666811392,777.34504666811392,777.34504666811392,777.34504666811392,780.57028888535399,793.47125775431448,857.31428033890461,857.31428033890461,956.07199926544445,959.29724148268451,959.29724148268451,959.29724148268451,959.29724148268451,1024.3836709199577,1081.8376178168646,1081.8376178168646,1114.0893949408226,1114.0893949408226,1114.0893949408226,1114.0893949408226,1114.0893949408226,1114.0893949408226,1114.0893949408226]
["DFES 2023 - Leading The Way",189.33465000000001,317.13046693384126,444.92628386768251,572.72210080152377,572.72210080152377,615.37674555150454,615.37674555150454,623.44905227420702,627.48520563555826,631.4139746094902,633.02843595403078,653.1688412271734,721.92572584174786,762.24689792164691,782.42726111306706,782.42726111306706,782.42726111306706,819.4052477030616,819.4052477030616,819.4052477030616,839.5860145098178,839.5860145098178,839.5860145098178,856.94147396362803,885.00410949171442,885.56536220227622,885.56536220227622,905.74612900903242,905.7461290090323]
["CCC 2020 - Balanced Net Zero",250.67515018645648,324.76973064082824,524.73827114165374,538.57068786566151,538.56949572699898,538.570337447866,538.56988219524351,538.56950817268512,677.25449966623262,677.25402445791804,682.25340829159359,705.38851484395946,712.38818314457171,790.73499139232649,808.53453637068117,848.79382804030251,937.79306386154281,1006.8936301010813,1085.1709112100775,1106.8123201814353,1156.813181810578,1156.8127452792151,1167.6340787087993,1167.6348589470631,1251.3275694864333,1252.3272921420164,1252.3280646131598,1291.5057077913925,1291.5053076657741]
["CT 2023 Policy Sensitivity",189.33465000000001,408.93442435627196,628.5341987125438,848.13397306881586,848.13397306881586,848.13397306881586,848.13397306881586,848.13397306881586,914.72658910614814,914.72658910614814,917.38665442523939,929.4422541885674,932.96862853673701,968.34855236458657,982.77728672353351,1001.3595561863333,1044.1539152360026,1076.9232957815893,1112.2713744934827,1130.0874369168214,1156.6880901077345,1156.6880901077345,1165.5968340331719,1165.5968340331719,1206.0001109692334,1206.5038787332576,1206.5038787332576,1224.1956098202911,1224.1956098202911]
["BV 2023 Policy Sensitivity",189.33465000000001,450.39549932312161,734.74452173229542,1024.9101558585969,1048.4508942949583,1069.9114323634269,1083.295911027076,1089.3966484100486,1177.0823895863377,1172.5986100754342,1173.2012734670716,1188.556203974658,1184.3454779362771,1235.3678987563342,1245.7246400761501,1274.8088503731371,1334.4737292125485,1392.9942353530944,1448.0616323421073,1467.5555484994397,1506.1913583311111,1509.8528069042163,1509.3524075268285,1491.1556349223388,1528.2655410884477,1511.4376178042298,1494.6683709760382,1502.6921352120492,1486.9322198956122]
["DFES 2023 - NPg Best View",189.33465000000001,450.39549932312161,734.74452173229542,1024.9101558585969,1048.4508942949583,1069.9114323634269,1083.295911027076,1089.3966484100486,1177.0823895863377,1172.5986100754342,1173.2012734670716,1188.556203974658,1184.3454779362771,1235.3678987563342,1245.7246400761501,1274.8088503731371,1334.4737292125485,1392.9942353530944,1448.0616323421073,1467.5555484994397,1506.1913583311111,1509.8528069042163,1509.3524075268285,1491.1556349223388,1528.2655410884477,1511.4376178042298,1494.6683709760382,1502.6921352120492,1486.9322198956122]
["NPg ED2 Planning Scenario - needs updating to old",189.33465000000001,450.39549932312161,734.74452173229542,1024.9101558585969,1048.4508942949583,1069.9114323634269,1083.295911027076,1089.3966484100486,1177.0823895863377,1172.5986100754342,1173.2012734670716,1188.556203974658,1184.3454779362771,1235.3678987563342,1245.7246400761501,1274.8088503731371,1334.4737292125485,1392.9942353530944,1448.0616323421073,1467.5555484994397,1506.1913583311111,1509.8528069042163,1509.3524075268285,1491.1556349223388,1528.2655410884477,1511.4376178042298,1494.6683709760382,1502.6921352120492,1486.9322198956122]
["DFES 2023 - Falling Short",189.33465000000001,232.55722478939342,275.77979957878682,319.0023743681802,467.80152788938733,467.80152788938733,467.80152788938733,467.80152788938733,495.90696830411258,495.90696830411258,495.90696830411258,495.90696830411258,507.17167388115683,507.17167388115683,507.17167388115683,507.17167388115683,507.17167388115683,507.17167388115683,544.37591512402491,544.37591512402491,544.37591512402491,544.37591512402491,544.37591512402491,600.69381065645734,638.18663890297057,638.93221487978144,737.38574162314774,765.54750556575823,768.92691723887151]
[]
["Large scale storage MW - NPgN",2022,2023,2024,2025,2026,2027,2028,2029,2030,2031,2032,2033,2034,2035,2036,2037,2038,2039,2040,2041,2042,2043,2044,2045,2046,2047,2048,2049,2050]
["DFES 2023 - Consumer Transformation",68.335999999999999,160.38446326674068,252.43292653348129,344.48138980022196,344.48138980022196,344.48138980022196,344.48138980022196,344.48138980022196,372.78815953947554,372.78815953947554,375.4482248585669,387.50382462189486,387.50382462189486,422.88374844974442,436.95984537387443,455.5421148366741,473.19846246153355,490.85481008639294,526.20288879828604,544.01895122162477,570.61960441253802,570.61960441253802,579.52834833797556,579.52834833797556,594.7432370728244,594.7432370728244,594.7432370728244,612.43496815985793,612.43496815985793]
["DFES 2023 - System Transformation",68.335999999999999,142.79867218245766,217.26134436491535,291.72401654737303,291.72401654737303,291.72401654737303,291.72401654737303,291.72401654737303,291.72401654737303,291.72401654737303,294.94925876461309,307.85022763357358,307.85022763357364,307.85022763357364,358.80905466596778,362.03429688320784,362.03429688320784,362.03429688320784,362.03429688320784,426.53269074357593,458.78511291597727,458.78511291597727,491.03689003993526,491.03689003993526,491.03689003993526,491.03689003993526,491.03689003993526,491.03689003993526,491.03689003993526]
["DFES 2023 - Leading The Way",68.335999999999999,114.92827809587575,161.52055619175144,208.11283428762724,208.11283428762724,208.11283428762724,208.11283428762724,216.18514101032972,220.22129437168093,220.22129437168093,221.83575571622146,241.9761609893641,282.33365844951521,322.65483052941426,342.8351937208343,342.8351937208343,342.8351937208343,362.97559899397703,362.97559899397703,362.97559899397703,383.15636580073323,383.15636580073323,383.15636580073323,400.51182525454351,400.51182525454351,400.51182525454351,400.51182525454351,420.69259206129976,420.69259206129976]
["CCC 2020 - Balanced Net Zero",89.673438173899541,128.77101480556868,139.74038602610997,153.57139695764411,153.57109657304321,153.57133230533967,153.57117610267861,153.57109440916946,216.25633824408186,216.25618041747151,221.25597934064069,244.39050333260536,244.39038599948984,322.73810382169972,339.83712001203048,380.09650455232571,419.19599156827502,458.29605074720729,536.57357539366035,558.21520345079057,608.21561776868862,608.21538957833411,619.03692028589865,619.03729718005366,652.73020375208193,652.73012531472375,652.73049264308884,691.90833006456739,691.90811700709276]
["CT 2023 Policy Sensitivity",68.335999999999999,160.38446326674068,252.43292653348129,344.48138980022196,344.48138980022196,344.48138980022196,344.48138980022196,344.48138980022196,372.78815953947554,372.78815953947554,375.4482248585669,387.50382462189486,387.50382462189486,422.88374844974442,436.95984537387443,455.5421148366741,473.19846246153355,490.85481008639294,526.20288879828604,544.01895122162477,570.61960441253802,570.61960441253802,579.52834833797556,579.52834833797556,594.7432370728244,594.7432370728244,594.7432370728244,612.43496815985793,612.43496815985793]
["BV 2023 Policy Sensitivity",68.335999999999999,182.94103413553464,305.43064218612233,428.89575654641845,435.00627596469093,440.77335568130451,444.43333753211397,446.12073626725356,485.86720576064403,484.36228463937505,486.78024911829596,502.38785331002413,499.2333458811288,550.12581188857177,562.55846134341664,589.89854764733718,615.62181157560519,646.12112506636845,699.00445411816588,717.47048070917833,753.85897065897939,755.41897800617164,760.17731633914195,752.13235783729772,765.95568842561806,758.1965344297854,750.70877987256438,767.60068606319942,760.32061650563799]
["DFES 2023 - NPg Best View",68.335999999999999,182.94103413553464,305.43064218612233,428.89575654641845,435.00627596469093,440.77335568130451,444.43333753211397,446.12073626725356,485.86720576064403,484.36228463937505,486.78024911829596,502.38785331002413,499.2333458811288,550.12581188857177,562.55846134341664,589.89854764733718,615.62181157560519,646.12112506636845,699.00445411816588,717.47048070917833,753.85897065897939,755.41897800617164,760.17731633914195,752.13235783729772,765.95568842561806,758.1965344297854,750.70877987256438,767.60068606319942,760.32061650563799]
["NPg ED2 Planning Scenario - needs updating to old",68.335999999999999,182.94103413553464,305.43064218612233,428.89575654641845,435.00627596469093,440.77335568130451,444.43333753211397,446.12073626725356,485.86720576064403,484.36228463937505,486.78024911829596,502.38785331002413,499.2333458811288,550.12581188857177,562.55846134341664,589.89854764733718,615.62181157560519,646.12112506636845,699.00445411816588,717.47048070917833,753.85897065897939,755.41897800617164,760.17731633914195,752.13235783729772,765.95568842561806,758.1965344297854,750.70877987256438,767.60068606319942,760.32061650563799]
["DFES 2023 - Falling Short",68.335999999999999,84.590594657488879,100.84518931497777,117.09978397246667,124.9850778763976,124.9850778763976,124.9850778763976,124.9850778763976,153.09051829112286,153.09051829112286,153.09051829112286,153.09051829112286,164.35522386816709,164.35522386816709,164.35522386816709,164.35522386816709,164.35522386816709,164.35522386816709,164.35522386816709,164.35522386816709,164.35522386816709,164.35522386816709,164.35522386816709,220.67311940059952,220.8871488065634,220.8871488065634,319.34067554992964,347.50243949254008,350.88185116565336]
[]
["Large scale storage MW - NPgY",2022,2023,2024,2025,2026,2027,2028,2029,2030,2031,2032,2033,2034,2035,2036,2037,2038,2039,2040,2041,2042,2043,2044,2045,2046,2047,2048,2049,2050]
["DFES 2023 - Consumer Transformation",120.99865,248.54996108953125,376.10127217906251,503.6525832685939,503.6525832685939,503.6525832685939,503.6525832685939,503.6525832685939,541.93842956667254,541.93842956667254,541.93842956667254,541.93842956667254,545.46480391484215,545.46480391484215,545.81744134965913,545.81744134965913,570.95545277446899,586.0684856951965,586.0684856951965,586.0684856951965,586.0684856951965,586.0684856951965,586.0684856951965,586.0684856951965,611.25687389640905,611.76064166043318,611.76064166043318,611.76064166043318,611.76064166043318]
["DFES 2023 - System Transformation",120.99865,242.5394433735803,364.08023674716054,485.6210301207409,485.6210301207409,485.6210301207409,485.6210301207409,485.6210301207409,485.6210301207409,485.6210301207409,485.6210301207409,485.6210301207409,549.46405270533103,549.46405270533103,597.26294459947667,597.26294459947667,597.26294459947667,597.26294459947667,597.26294459947667,597.85098017638165,623.05250490088736,623.05250490088736,623.05250490088736,623.05250490088736,623.05250490088736,623.05250490088736,623.05250490088736,623.05250490088736,623.05250490088736]
["DFES 2023 - Leading The Way",120.99865,202.20218883796551,283.40572767593108,364.60926651389656,364.60926651389656,407.26391126387728,407.26391126387728,407.26391126387728,407.26391126387728,411.19268023780933,411.19268023780938,411.19268023780933,439.59206739223271,439.59206739223271,439.59206739223271,439.59206739223271,439.59206739223271,456.42964870908457,456.42964870908463,456.42964870908452,456.42964870908457,456.42964870908457,456.42964870908457,456.42964870908452,484.49228423717091,485.05353694773265,485.05353694773265,485.05353694773265,485.0535369477326]
["CCC 2020 - Balanced Net Zero",161.00171201255694,195.99871583525956,384.9978851155438,384.99929090801743,384.9983991539558,384.99900514252636,384.99870609256493,384.99841376351571,460.99816142215076,460.99784404044652,460.99742895095295,460.99801151135409,467.9977971450819,467.99688757062671,468.69741635865068,468.69732348797686,518.59707229326773,548.59757935387393,548.59733581641706,548.59711673064476,548.59756404188931,548.59735570088083,548.59715842290063,548.59756176700944,598.59736573435134,599.59716682729265,599.59757197007104,599.59737772682524,599.59719065868148]
["CT 2023 Policy Sensitivity",120.99865,248.54996108953125,376.10127217906251,503.6525832685939,503.6525832685939,503.6525832685939,503.6525832685939,503.6525832685939,541.93842956667254,541.93842956667254,541.93842956667254,541.93842956667254,545.46480391484215,545.46480391484215,545.81744134965913,545.81744134965913,570.95545277446899,586.0684856951965,586.0684856951965,586.0684856951965,586.0684856951965,586.0684856951965,586.0684856951965,586.0684856951965,611.25687389640905,611.76064166043318,611.76064166043318,611.76064166043318,611.76064166043318]
["BV 2023 Policy Sensitivity",120.99865,267.45446518758695,429.31387954617304,596.01439931217851,613.44461833026742,629.13807668212235,638.86257349496213,643.27591214279494,691.21518382569366,688.23632543605913,686.42102434877563,686.16835066463398,685.11213205514832,685.2420868677624,683.16617873273344,684.91030272579997,718.85191763694331,746.87311028672593,749.05717822394126,750.08506779026152,752.33238767213174,754.43382889804479,749.17509118768658,739.02327708504095,762.30985266282971,753.24108337444432,743.95959110347394,735.09144914884973,726.61160338997422]
["DFES 2023 - NPg Best View",120.99865,267.45446518758695,429.31387954617304,596.01439931217851,613.44461833026742,629.13807668212235,638.86257349496213,643.27591214279494,691.21518382569366,688.23632543605913,686.42102434877563,686.16835066463398,685.11213205514832,685.2420868677624,683.16617873273344,684.91030272579997,718.85191763694331,746.87311028672593,749.05717822394126,750.08506779026152,752.33238767213174,754.43382889804479,749.17509118768658,739.02327708504095,762.30985266282971,753.24108337444432,743.95959110347394,735.09144914884973,726.61160338997422]
["NPg ED2 Planning Scenario - needs updating to old",120.99865,267.45446518758695,429.31387954617304,596.01439931217851,613.44461833026742,629.13807668212235,638.86257349496213,643.27591214279494,691.21518382569366,688.23632543605913,686.42102434877563,686.16835066463398,685.11213205514832,685.2420868677624,683.16617873273344,684.91030272579997,718.85191763694331,746.87311028672593,749.05717822394126,750.08506779026152,752.33238767213174,754.43382889804479,749.17509118768658,739.02327708504095,762.30985266282971,753.24108337444432,743.95959110347394,735.09144914884973,726.61160338997422]
["DFES 2023 - Falling Short",120.99865,147.96663013190454,174.93461026380905,201.90259039571353,342.81645001298972,342.81645001298972,342.81645001298972,342.81645001298972,342.81645001298972,342.81645001298972,342.81645001298972,342.81645001298972,342.81645001298972,342.81645001298972,342.81645001298972,342.81645001298972,342.81645001298972,342.81645001298972,380.02069125585786,380.02069125585786,380.02069125585786,380.02069125585786,380.02069125585786,380.02069125585786,417.29949009640711,418.04506607321809,418.04506607321809,418.04506607321809,418.04506607321809]
[]
[]
["Below are NPg GW values"]
["Storage GW - NPg",2022,2023,2024,2025,2026,2027,2028,2029,2030,2031,2032,2033,2034,2035,2036,2037,2038,2039,2040,2041,2042,2043,2044,2045,2046,2047,2048,2049,2050]
["DFES 2023 - Consumer Transformation",{"$f":"B2/1000","v":0.2018189492147357},0.43838836163736844,0.66666932284699942,0.89629022042213424,0.91223423973117646,0.92857120552123196,0.94904555306692973,0.96704756521918223,1.0566791767434045,1.0810803234849617,1.110653707270721,1.1565059115877567,1.1957534287392226,1.2691089272105269,1.3252196801912153,1.3912566524449448,1.4857405978374281,1.5676523808256448,1.653250782999043,1.7263653211851242,1.8061319824411743,1.8631644775382539,1.930511181373449,1.9906654032681628,2.0947095187938558,2.1612021244808695,2.2308720587861539,2.3217396145865421,2.3988136783001246]
["DFES 2023 - System Transformation",{"$f":"B3/1000","v":0.19685790286968111},0.3989442046359985,0.59831007129642355,0.79815626488134717,0.80331096989432027,0.80834345191520285,0.81465845394689129,0.82006797896434735,0.82663175151642421,0.83339353532474192,0.84404049418020877,0.86614515719285323,0.93971666363435502,0.94989059661875386,1.0594453096029488,1.0753195442530896,1.0890857545640238,1.1020361165655554,1.1150165621137351,1.1946872439178731,1.2657540343618039,1.2805147910146524,1.3277755353826945,1.3431706363684244,1.3594596966497869,1.376100120738166,1.3936935524334608,1.4120014921462749,1.4311202167813006]
["DFES 2023 - Leading The Way",{"$f":"B4/1000","v":0.20097089732711276},0.34584561405422892,0.4828142801391142,0.6211960772754771,0.63780995261091034,0.69788789313881605,0.71961875094283578,0.74829694988519302,0.77743593398558697,0.80853848932929351,0.8405128128285444,0.89742903188756351,1.0055390622959672,1.0878409648949336,1.1534870379499969,1.2051158044942243,1.2613240429785268,1.3533789632669004,1.4101178778843013,1.4726004531069723,1.5541628525243778,1.6198268438262593,1.6876763478648831,1.7751981455327355,1.8775217240715008,1.9551837647892858,2.0364298347013636,2.1420541755182589,2.2321042003122944]
["CCC 2020 - Balanced Net Zero",{"$f":"B5/1000","v":0.26622984721447024},0.3552046552912102,0.56437961353974686,0.59074231785919507,0.6096409146998728,0.62902227059098592,0.65251835328135555,0.67334939913375103,0.83740893686158913,0.86479666788103271,0.89920572295392265,0.95953379753489931,1.0048587702663199,1.1238466564898395,1.1873873242365907,1.2770640540377507,1.4196685542371585,1.5383268170273605,1.6672402936538107,1.7431348230412937,1.8447488792526601,1.8994064311765664,1.9658800501391898,2.0225726903874532,2.1656028356139139,2.2280661581534971,2.2920028239093782,2.3975026646692257,2.4661234742756077]
["CT 2023 Policy Sensitivity",{"$f":"B6/1000","v":0.2018189492147357},0.43838836163736844,0.66666932284699942,0.89629022042213424,0.91223423973117646,0.92857120552123196,0.94904555306692973,0.96704756521918223,1.0566791767434045,1.0810803234849617,1.110653707270721,1.1565059115877567,1.1957534287392226,1.2691089272105269,1.3252196801912153,1.3912566524449448,1.4857405978374281,1.5676523808256448,1.653250782999043,1.7263653211851242,1.8061319824411743,1.8631644775382539,1.930511181373449,1.9906654032681628,2.0947095187938558,2.1612021244808695,2.2308720587861539,2.3217396145865421,2.3988136783001246]
["BV 2023 Policy Sensitivity",{"$f":"B7/1000","v":0.2018189492147357},0.48112569184073639,0.77503719045148034,1.0762624150786662,1.1171387218114806,1.1567700931053724,1.192756646975587,1.2194816469615188,1.3331710086015078,1.3563843323065552,1.3877967030664935,1.4410124167028373,1.477104463849658,1.5710589933421477,1.6281488855278878,1.7102615180997454,1.8277800508471655,1.9422957351656527,2.0548129064503113,2.1376124310430331,2.2378542527522201,2.3074845163890787,2.3749895797335623,2.4269591453431141,2.5383600794529935,2.598632944175999,2.6631197788011645,2.7565971788978469,2.830887288375445]
["DFES 2023 - NPg Best View",{"$f":"B8/1000","v":0.2018189492147357},0.48112569184073639,0.77503719045148034,1.0762624150786662,1.1171387218114806,1.1567700931053724,1.192756646975587,1.2194816469615188,1.3331710086015078,1.3563843323065552,1.3877967030664935,1.4410124167028373,1.477104463849658,1.5710589933421477,1.6281488855278878,1.7102615180997454,1.8277800508471655,1.9422957351656527,2.0548129064503113,2.1376124310430331,2.2378542527522201,2.3074845163890787,2.3749895797335623,2.4269591453431141,2.5383600794529935,2.598632944175999,2.6631197788011645,2.7565971788978469,2.830887288375445]
["NPg ED2 Planning Scenario - needs updating to old",{"$f":"B9/1000","v":0.2018189492147357},0.48112569184073639,0.77503719045148034,1.0762624150786662,1.1171387218114806,1.1567700931053724,1.192756646975587,1.2194816469615188,1.3331710086015078,1.3563843323065552,1.3877967030664935,1.4410124167028373,1.477104463849658,1.5710589933421477,1.6281488855278878,1.7102615180997454,1.8277800508471655,1.9422957351656527,2.0548129064503113,2.1376124310430331,2.2378542527522201,2.3074845163890787,2.3749895797335623,2.4269591453431141,2.5383600794529935,2.598632944175999,2.6631197788011645,2.7565971788978469,2.830887288375445]
["DFES 2023 - Falling Short",{"$f":"B10/1000","v":0.19825165162382949},0.24865425406094233,0.29567943596788065,0.34299351396794781,0.49765648195617129,0.50301362224311219,0.50938820946020813,0.51325439256241312,0.54640547325927535,0.55135025424982231,0.55628750109073166,0.56384215662915949,0.58255131481379374,0.5901336365086548,0.59917806846827071,0.60912000406629752,0.62049031666060361,0.62906328043681636,0.67443444706487632,0.68344419767736964,0.69050864167577064,0.69841459100842662,0.70613070273689504,0.76973492616239414,0.81516430912709359,0.82405752799626608,0.93106999071947372,0.96822991656801571,0.98104989508577478]

{"sheet":"Total Renewable Generation","index":21,"n_rows":46,"n_cols":33,"rows_kept":46,"cut":false,"hidden":false,"merged":[]}
["Total Renewable Generation MW - NPg",2022,2023,2024,2025,2026,2027,2028,2029,2030,2031,2032,2033,2034,2035,2036,2037,2038,2039,2040,2041,2042,2043,2044,2045,2046,2047,2048,2049,2050,"Parameter","Licence","CHOSEN"]
["DFES 2023 - Consumer Transformation",3017.1022212438306,3674.6109719440046,4104.4723151810613,4556.5919839002081,4737.6448386923093,4935.4944183428615,5216.5140752677507,5550.3168551582994,5922.2261531329532,6337.3860176733024,6779.6822169367633,7150.2400677024034,7624.0240338017775,8020.5360701548543,8444.1902773029178,8835.9815508506617,9269.4438358588995,9707.8770917248112,10214.672766836273,10697.676914082525,11212.93972144006,11649.806247556018,12123.010245634112,12566.77244381496,12940.884746907821,13248.05927527582,13559.950929056648,13873.356892121352,14173.552073336248,"Total Renewable Generation MW","NPg"]
["DFES 2023 - System Transformation",3017.1022212438306,3651.3055407331931,4048.3696358330608,4451.8535839494471,4573.6860571643429,4702.1419458985965,4821.2189249533303,4978.8014788763248,5187.6190336098307,5416.8948231441427,5655.3503173708386,5855.7336771705104,6108.4818862207503,6292.7327087126087,6472.0663614173191,6603.8472877029471,6762.3079079213985,6910.2765260036522,7126.9955148558229,7325.3585019434031,7553.98217057484,7755.4735327360004,7973.9696747919743,8191.7611334530884,8350.9740885671999,8574.8773507481128,8792.3497179170336,9016.2407903187759,9210.173616417389,"Total Renewable Generation MW","NPg"]
["DFES 2023 - Leading The Way",3017.1022212438306,3863.0879826018991,4481.5503364968499,5122.2650158738916,5388.2768706659926,5669.608550316545,5986.8913572414349,6344.2821371319833,6722.9098567523797,7146.8127931064882,7601.599095071635,8016.4784404097099,8475.0647668682323,8876.8626387975346,9253.5189803094254,9600.4467799842132,9975.6131684683533,10398.265136046946,10887.69888374638,11348.434093284632,11794.919830269304,12270.341097803044,12679.37711698923,13022.77190333105,13333.044588407298,13600.089674048344,13872.375070687853,14147.488745723307,14416.723226553786,"Total Renewable Generation MW","NPg"]
["CCC 2020 - Balanced Net Zero",3515.0460365259919,3620.449781099142,3812.749717173685,4113.2608056297213,4424.8999532621565,4741.7232963526385,5086.592740600574,5449.6960037723156,5857.0799218000393,6289.9188155028805,6722.7375657178927,7151.2301278255272,7615.1430710190662,8052.2393742050654,8482.3820091398848,8886.7824307096216,9304.8981835777449,9744.98165825666,10225.992532508841,10701.632137791981,11178.858404574046,11657.105701182372,12086.045208398966,12512.344364922392,12829.610393196817,13076.48384516391,13323.186098075443,13567.429899229242,13816.226862890813,"Total Renewable Generation MW","NPg"]
["CT 2023 Policy Sensitivity",3017.1022212438306,3674.6109719440046,4104.4723151810613,4556.5919839002081,4737.6448386923093,4935.4944183428615,5216.5140752677507,5550.3168551582994,5925.23489565829,6340.2808319102442,6782.4501564889015,7166.2970516213254,7639.9299764292664,8048.0713291295579,8471.5658640552501,8870.1695313931486,9303.4600608757028,9748.6944903215481,10255.296832579974,10745.076260613347,11260.128473255969,11716.697688519485,12189.66778836913,12640.16815433406,13014.026708057314,13320.937129938582,13632.551730836265,13945.671146993795,14245.56510871892,"Total Renewable Generation MW","NPg"]
["BV 2023 Policy Sensitivity",3017.1022212438306,3867.8229826018992,4491.0203364968493,5136.4700158738924,5407.2168706659932,5694.3104503165441,6044.9931072414347,6437.4628871319837,6849.48260675238,7310.6485431064875,7806.4408450716346,8266.1141904097094,8773.0995168682311,9235.867704327522,9673.3910346079265,10093.406436691383,10540.308784244316,11047.693092369696,11602.889275414167,12134.523218472135,12658.473578952066,13205.632782467956,13667.964094296416,14070.617429803537,14396.934157612115,14656.585571751239,14921.248308840759,15187.766883905786,15441.368413624674,"Total Renewable Generation MW","NPg"]
["DFES 2023 - NPg Best View",3017.1022212438306,3867.8229826018992,4491.0203364968493,5136.4700158738924,5407.2168706659932,5694.3104503165441,6044.9931072414347,6437.4628871319837,6849.48260675238,7310.6485431064875,7806.4408450716346,8266.1141904097094,8773.0995168682311,9231.0973887975342,9668.891730309424,10082.209529984213,10529.407918468354,11030.111886046947,11585.638633746379,12110.638843284631,12622.003580269306,13162.561847803045,13625.28586698923,14021.373653331051,14348.119338407298,14608.220424048342,14873.351820687851,15140.361495723308,15394.473976553785,"Total Renewable Generation MW","NPg"]
["NPg ED2 Planning Scenario - needs updating to old",3017.1022212438306,3867.8229826018992,4491.0203364968493,5136.4700158738924,5407.2168706659932,5694.3104503165441,6044.9931072414347,6437.4628871319837,6849.48260675238,7310.6485431064875,7806.4408450716346,8266.1141904097094,8773.0995168682311,9231.0973887975342,9668.891730309424,10082.209529984213,10529.407918468354,11030.111886046947,11585.638633746379,12110.638843284631,12622.003580269306,13162.561847803045,13625.28586698923,14021.373653331051,14348.119338407298,14608.220424048342,14873.351820687851,15140.361495723308,15394.473976553785,"Total Renewable Generation MW","NPg"]
["DFES 2023 - Falling Short",3017.1022212438306,3502.1163896835333,3721.5141768840786,3923.9849787374615,3984.6845817977655,4054.5796932199501,4112.3003424065082,4184.4665231951867,4279.6684561611746,4400.176736146077,4545.9149443568194,4677.7884951024553,4833.4522580708763,4959.5084453894087,5056.4402777205742,5127.4219600517408,5203.0461423829056,5276.371288999786,5413.9560070452371,5558.3922013163301,5703.9591234379677,5853.8516465506236,6012.9698795374279,6181.9183682195435,6354.7899591023524,6533.2374630837403,6714.5006337189379,6879.5768290079541,7043.3803303568939,"Total Renewable Generation MW","NPg"]
[]
["Total Renewable Generation- NPgN",2022,2023,2024,2025,2026,2027,2028,2029,2030,2031,2032,2033,2034,2035,2036,2037,2038,2039,2040,2041,2042,2043,2044,2045,2046,2047,2048,2049,2050,"Total Renewable Generation MW"]
["DFES 2023 - Consumer Transformation",1416.2466250131201,1786.3643669592898,2061.5422454381346,2345.5668746094675,2426.6368540066469,2513.9587576169415,2632.9607092898123,2773.0436934776681,2929.0050831293443,3105.6361689331579,3294.0359499230235,3434.950994639516,3637.3871578379039,3790.067384009139,3968.3344067842645,4121.8593376681565,4301.8178374449799,4475.444524733155,4688.665013334944,4882.7977165265875,5099.4376996264737,5257.9842203720827,5455.6526600789748,5632.079053267219,5786.8647136592072,5912.8360665774317,6040.6737957557962,6169.0067815478269,6291.4367710054348,"Total Renewable Generation MW","NPgN"]
["DFES 2023 - System Transformation",1416.2466250131201,1773.8845009935067,2033.3831310655862,2295.5812728256569,2350.5245974003556,2407.3888647703052,2459.200070488544,2527.0118590103857,2620.8881472490148,2722.4683499855328,2823.8649130855829,2916.2152358419048,3025.9929068391148,3106.0922754527564,3187.7921698673736,3235.9352289853696,3304.2532293959098,3357.9150546895671,3452.9199389952423,3530.3963495999224,3630.2957388015743,3707.7026430203719,3802.7620688439647,3895.6724789227555,3943.7776559636668,4043.3321004853042,4134.4084239908498,4231.5211131738552,4297.4355640865742,"Total Renewable Generation MW","NPgN"]
["DFES 2023 - Leading The Way",1416.2466250131201,1912.7539609505175,2314.4454334205907,2724.9776565831512,2842.9751359803308,2967.0105395906257,3104.3824912634964,3257.0164754513521,3419.1562867487714,3600.8964443663431,3796.1923280578944,3978.1138673468222,4174.7143909043589,4342.9004526518183,4501.3156097907704,4636.3430668017081,4791.6896700544339,4961.3710690552889,5169.4576302450496,5356.0283957286929,5529.9163084557167,5723.3805706191069,5893.2030314340927,6024.4680127833099,6149.841055158684,6256.6569653499528,6365.5774373869981,6475.6021351497802,6582.8884242229697,"Total Renewable Generation MW","NPgN"]
["CCC 2020 - Balanced Net Zero",1669.8862096023117,1714.2760585199196,1795.3773689271284,1919.6328013543803,2048.41008800395,2179.4444942503169,2323.0214913041386,2474.9412907497172,2647.0211721844735,2825.7066343324182,2996.8958076376084,3165.4825884516181,3350.4088002201206,3521.4687629366481,3688.5536475043245,3842.7216279349636,4002.68430721001,4172.4381656642918,4361.4341769509474,4548.1095234271415,4735.6246650868825,4923.5306793441605,5089.6623040543509,5254.6316518651638,5373.2541327999224,5461.9398555952057,5550.5103134903229,5637.9925184284521,5739.5612332688497,"Total Renewable Generation MW","NPgN"]
["CT 2023 Policy Sensitivity",1416.2466250131201,1786.3643669592898,2061.5422454381346,2345.5668746094675,2426.6368540066469,2513.9587576169415,2632.9607092898123,2773.0436934776681,2929.0050831293443,3105.6361689331579,3294.0359499230235,3434.950994639516,3637.3871578379039,3790.067384009139,3968.3344067842645,4121.8593376681565,4301.8178374449799,4475.444524733155,4688.665013334944,4882.7977165265875,5099.4376996264737,5257.9842203720827,5455.6526600789748,5632.079053267219,5786.8647136592072,5912.8360665774317,6040.6737957557962,6169.0067815478269,6291.4367710054348,"Total Renewable Generation MW","NPgN"]
["BV 2023 Policy Sensitivity",1416.2466250131201,1916.9139609505175,2322.7654334205904,2737.4576565831517,2859.6151359803312,2987.8105395906255,3138.7254912634967,3306.0344754513521,3482.1692867487714,3679.8104443663433,3892.757328057894,4093.9878673468224,4311.2173909043586,4503.3664526518187,4687.8726097907702,4851.2540668017082,5037.3846700544345,5240.4470690552898,5476.7586302450509,5690.7673957286925,5892.3543084557186,6113.6315706191072,6306.3330314340938,6460.0510127833104,6592.2670551586843,6695.8429653499534,6801.4284373869987,6907.7021351497806,7008.22042422297,"Total Renewable Generation MW","NPgN"]
["DFES 2023 - NPg Best View",1416.2466250131201,1916.9139609505175,2322.7654334205904,2737.4576565831517,2859.6151359803312,2987.8105395906255,3138.7254912634967,3306.0344754513521,3482.1692867487714,3679.8104443663433,3892.757328057894,4093.9878673468224,4311.2173909043586,4503.3664526518187,4687.8726097907702,4851.2540668017082,5037.3846700544345,5240.4470690552898,5476.7586302450509,5690.7673957286925,5892.3543084557186,6113.6315706191072,6306.3330314340938,6460.0510127833104,6592.2670551586843,6695.8429653499534,6801.4284373869987,6907.7021351497806,7008.22042422297,"Total Renewable Generation MW","NPgN"]
["NPg ED2 Planning Scenario - needs updating to old",1416.2466250131201,1916.9139609505175,2322.7654334205904,2737.4576565831517,2859.6151359803312,2987.8105395906255,3138.7254912634967,3306.0344754513521,3482.1692867487714,3679.8104443663433,3892.757328057894,4093.9878673468224,4311.2173909043586,4503.3664526518187,4687.8726097907702,4851.2540668017082,5037.3846700544345,5240.4470690552898,5476.7586302450509,5690.7673957286925,5892.3543084557186,6113.6315706191072,6306.3330314340938,6460.0510127833104,6592.2670551586843,6695.8429653499534,6801.4284373869987,6907.7021351497806,7008.22042422297,"Total Renewable Generation MW","NPgN"]
["DFES 2023 - Falling Short",1416.2466250131201,1654.867930386838,1784.8401614175243,1908.10062307256,1931.8987541812198,1959.9811752653491,1984.4550595671481,2015.3469508441328,2056.5482765633865,2109.3414160037091,2173.216657597693,2231.4323124345733,2300.4864528180415,2355.4770507060807,2396.718665860747,2425.0678167296996,2455.2560390272229,2468.536725610461,2527.6746979079849,2589.5059324605136,2651.139822932535,2714.4718471049732,2782.0359032944593,2854.0825073319916,2927.6429953238944,3003.9834494847828,3081.440751668868,3151.0282892673017,3219.8182780260781,"Total Renewable Generation MW","NPgN"]
[]
["Total Renewable Generation- NPgY",2022,2023,2024,2025,2026,2027,2028,2029,2030,2031,2032,2033,2034,2035,2036,2037,2038,2039,2040,2041,2042,2043,2044,2045,2046,2047,2048,2049,2050,"Total Renewable Generation MW","NPgY"]
["DFES 2023 - Consumer Transformation",1600.8555962307105,1888.2466049847151,2042.9300697429262,2211.0251092907406,2311.0079846856629,2421.5356607259196,2583.5533659779389,2777.2731616806313,2993.2210700036085,3231.7498487401444,3485.6462670137398,3715.2890730628869,3986.6368759638731,4230.4686861457158,4475.8558705186542,4714.1222131825043,4967.6259984139206,5232.432566991657,5526.0077535013279,5814.8791975559379,6113.5020218135851,6391.8220271839364,6667.3575855551362,6934.6933905477408,7154.0200332486147,7335.2232086983895,7519.2771333008513,7704.3501105735259,7882.1153023308134,"Total Renewable Generation MW","NPgY"]
["DFES 2023 - System Transformation",1600.8555962307105,1877.4210397396866,2014.9865047674748,2156.2723111237897,2223.1614597639878,2294.7530811282909,2362.0188544647863,2451.7896198659387,2566.7308863608159,2694.42647315861,2831.4854042852558,2939.5184413286051,3082.488979381636,3186.6404332598518,3284.2741915499455,3367.9120587175771,3458.0546785254887,3552.3614713140846,3674.0755758605806,3794.9621523434812,3923.6864317732657,4047.7708897156285,4171.2076059480096,4296.0886545303329,4407.196432603534,4531.5452502628095,4657.9412939261847,4784.7196771449208,4912.7380523308148,"Total Renewable Generation MW","NPgY"]
["DFES 2023 - Leading The Way",1600.8555962307105,1950.3340216513818,2167.1049030762597,2397.2873592907404,2545.3017346856618,2702.5980107259188,2882.508865977939,3087.2656616806312,3303.7535700036087,3545.9163487401447,3805.4067670137401,4038.3645730628873,4300.3503759638725,4533.9621861457153,4752.2033705186541,4964.1037131825051,5183.9234984139202,5436.8940669916574,5718.2412535013291,5992.4056975559388,6265.0035218135863,6546.9605271839382,6786.174085555137,6998.3038905477397,7183.2035332486139,7343.4327086983903,7506.7976333008537,7671.8866105735269,7833.8348023308163,"Total Renewable Generation MW","NPgY"]
["CCC 2020 - Balanced Net Zero",1845.1598269236802,1906.1737225792224,2017.3723482465566,2193.6280042753406,2376.4898652582069,2562.2788021023212,2763.5712492964353,2974.7547130225985,3210.0587496155658,3464.2121811704624,3725.8417580802843,3985.7475393739087,4264.7342707989455,4530.7706112684173,4793.8283616355593,5044.0608027746575,5302.2138763677358,5572.5434925923691,5864.5583555578942,6153.5226143648406,6443.2337394871629,6733.5750218382109,6996.3829043446158,7257.7127130572271,7456.3562603968958,7614.5439895687041,7772.6757845851207,7929.4373808007904,8076.6656296219644,"Total Renewable Generation MW","NPgY"]
["CT 2023 Policy Sensitivity",1600.8555962307105,1888.2466049847151,2042.9300697429262,2211.0251092907406,2311.0079846856629,2421.5356607259196,2583.5533659779389,2777.2731616806313,2996.2298125289453,3234.6446629770862,3488.4142065658784,3731.3460569818094,4002.5428185913629,4258.0039451204193,4503.2314572709865,4748.3101937249921,5001.642223430722,5273.249965588393,5566.6318192450308,5862.2785440867583,6160.6907736294943,6458.7134681474026,6734.0151282901561,7008.0891010668402,7227.1619943981077,7408.1010633611495,7591.8779350804698,7776.6643654459685,7954.1283377134851,"Total Renewable Generation MW","NPgY"]
["BV 2023 Policy Sensitivity",1600.8555962307105,1950.9090216513816,2168.2549030762593,2399.0123592907407,2547.601734685662,2706.4999107259187,2906.2676159779385,3131.4284116806311,3367.3133200036086,3630.8380987401442,3913.6835170137401,4172.1263230628865,4461.8821259638726,4732.5012516757033,4985.5184248171563,5242.1523698896744,5502.9241141898819,5807.2460233144075,6126.1306451691153,6443.7558227434429,6766.1192704963469,7092.0012118488485,7361.6310628623223,7610.5664170202263,7804.6671024534317,7960.7426064012843,8119.8198714537602,8280.0647487560054,8433.1479894017048,"Total Renewable Generation MW","NPgY"]
["DFES 2023 - NPg Best View",1600.8555962307105,1950.9090216513816,2168.2549030762593,2399.0123592907407,2547.601734685662,2706.4999107259187,2906.2676159779385,3131.4284116806311,3367.3133200036086,3630.8380987401442,3913.6835170137401,4172.1263230628865,4461.8821259638726,4727.7309361457155,4981.0191205186538,5230.9554631825049,5492.0232484139196,5789.6648169916571,6108.8800035013282,6419.8714475559382,6729.649271813586,7048.9302771839375,7318.9528355551365,7561.3226405477399,7755.8522832486142,7912.3774586983891,8071.9233833008529,8232.659360573527,8386.2535523308161,"Total Renewable Generation MW","NPgY"]
["NPg ED2 Planning Scenario - needs updating to old",1600.8555962307105,1950.9090216513816,2168.2549030762593,2399.0123592907407,2547.601734685662,2706.4999107259187,2906.2676159779385,3131.4284116806311,3367.3133200036086,3630.8380987401442,3913.6835170137401,4172.1263230628865,4461.8821259638726,4727.7309361457155,4981.0191205186538,5230.9554631825049,5492.0232484139196,5789.6648169916571,6108.8800035013282,6419.8714475559382,6729.649271813586,7048.9302771839375,7318.9528355551365,7561.3226405477399,7755.8522832486142,7912.3774586983891,8071.9233833008529,8232.659360573527,8386.2535523308161,"Total Renewable Generation MW","NPgY"]
["DFES 2023 - Falling Short",1600.8555962307105,1847.2484592966953,1936.674015466554,2015.8843556649017,2052.7858276165457,2094.598517954601,2127.8452828393597,2169.1195723510536,2223.1201795977877,2290.8353201423674,2372.6982867591264,2446.356182667882,2532.9658052528353,2604.0313946833285,2659.7216118598271,2702.3541433220407,2747.7901033556827,2807.8345633893246,2886.2813091372523,2968.8862688558161,3052.8193005054331,3139.37979944565,3230.9339762429686,3327.8358608875515,3427.146963778458,3529.2540135989575,3633.05988205007,3728.5485397406524,3823.5620523308157,"Total Renewable Generation MW","NPgY"]
[]
[]
["Total Renewable Generation GW - NPg",2022,2023,2024,2025,2026,2027,2028,2029,2030,2031,2032,2033,2034,2035,2036,2037,2038,2039,2040,2041,2042,2043,2044,2045,2046,2047,2048,2049,2050]
["DFES 2023 - Consumer Transformation",{"$f":"B2/1000","v":3.0171022212438308},3.6746109719440048,4.1044723151810611,4.5565919839002085,4.7376448386923098,4.935494418342862,5.2165140752677503,5.5503168551582993,5.9222261531329528,6.3373860176733023,6.779682216936763,7.1502400677024038,7.6240240338017777,8.0205360701548543,8.4441902773029174,8.8359815508506614,9.2694438358588993,9.7078770917248107,10.214672766836273,10.697676914082525,11.21293972144006,11.649806247556018,12.123010245634111,12.56677244381496,12.940884746907821,13.24805927527582,13.559950929056647,13.873356892121352,14.173552073336248]
["DFES 2023 - System Transformation",{"$f":"B3/1000","v":3.0171022212438308},3.6513055407331931,4.048369635833061,4.4518535839494469,4.573686057164343,4.7021419458985969,4.8212189249533299,4.9788014788763251,5.1876190336098311,5.4168948231441423,5.6553503173708384,5.8557336771705106,6.1084818862207504,6.2927327087126086,6.4720663614173191,6.6038472877029468,6.7623079079213984,6.9102765260036518,7.1269955148558228,7.3253585019434029,7.55398217057484,7.7554735327360005,7.9739696747919746,8.1917611334530882,8.3509740885672006,8.5748773507481122,8.792349717917034,9.0162407903187756,9.2101736164173893]
["DFES 2023 - Leading The Way",{"$f":"B4/1000","v":3.0171022212438308},3.8630879826018991,4.4815503364968503,5.1222650158738912,5.3882768706659929,5.6696085503165454,5.9868913572414346,6.3442821371319829,6.7229098567523797,7.1468127931064886,7.6015990950716352,8.0164784404097098,8.4750647668682326,8.8768626387975349,9.2535189803094262,9.6004467799842139,9.9756131684683531,10.398265136046946,10.88769888374638,11.348434093284631,11.794919830269304,12.270341097803044,12.67937711698923,13.02277190333105,13.333044588407297,13.600089674048345,13.872375070687852,14.147488745723306,14.416723226553787]
["CCC 2020 - Balanced Net Zero",{"$f":"B5/1000","v":3.5150460365259919},3.6204497810991421,3.812749717173685,4.1132608056297215,4.4248999532621562,4.7417232963526388,5.0865927406005742,5.4496960037723152,5.8570799218000396,6.2899188155028805,6.7227375657178925,7.151230127825527,7.615143071019066,8.0522393742050653,8.4823820091398847,8.886782430709621,9.3048981835777447,9.7449816582566609,10.22599253250884,10.701632137791981,11.178858404574047,11.657105701182372,12.086045208398966,12.512344364922392,12.829610393196818,13.07648384516391,13.323186098075443,13.567429899229243,13.816226862890813]
["CT 2023 Policy Sensitivity",{"$f":"B6/1000","v":3.0171022212438308},3.6746109719440048,4.1044723151810611,4.5565919839002085,4.7376448386923098,4.935494418342862,5.2165140752677503,5.5503168551582993,5.9252348956582903,6.3402808319102437,6.7824501564889017,7.1662970516213251,7.6399299764292667,8.0480713291295576,8.4715658640552505,8.8701695313931488,9.3034600608757021,9.7486944903215473,10.255296832579974,10.745076260613347,11.260128473255969,11.716697688519485,12.18966778836913,12.640168154334059,13.014026708057314,13.320937129938581,13.632551730836266,13.945671146993794,14.245565108718919]
["BV 2023 Policy Sensitivity",{"$f":"B7/1000","v":3.0171022212438308},3.8678229826018993,4.4910203364968488,5.1364700158738925,5.4072168706659935,5.6943104503165438,6.0449931072414351,6.4374628871319839,6.84948260675238,7.3106485431064874,7.8064408450716343,8.2661141904097093,8.773099516868232,9.2358677043275215,9.6733910346079259,10.093406436691383,10.540308784244317,11.047693092369697,11.602889275414167,12.134523218472136,12.658473578952066,13.205632782467955,13.667964094296416,14.070617429803537,14.396934157612115,14.656585571751238,14.921248308840759,15.187766883905786,15.441368413624675]
["DFES 2023 - NPg Best View",{"$f":"B8/1000","v":3.0171022212438308},3.8678229826018993,4.4910203364968488,5.1364700158738925,5.4072168706659935,5.6943104503165438,6.0449931072414351,6.4374628871319839,6.84948260675238,7.3106485431064874,7.8064408450716343,8.2661141904097093,8.773099516868232,9.2310973887975347,9.6688917303094239,10.082209529984214,10.529407918468355,11.030111886046948,11.585638633746379,12.110638843284631,12.622003580269306,13.162561847803044,13.62528586698923,14.021373653331052,14.348119338407297,14.608220424048342,14.873351820687851,15.140361495723308,15.394473976553785]
["NPg ED2 Planning Scenario - needs updating to old",{"$f":"B9/1000","v":3.0171022212438308},3.8678229826018993,4.4910203364968488,5.1364700158738925,5.4072168706659935,5.6943104503165438,6.0449931072414351,6.4374628871319839,6.84948260675238,7.3106485431064874,7.8064408450716343,8.2661141904097093,8.773099516868232,9.2310973887975347,9.6688917303094239,10.082209529984214,10.529407918468355,11.030111886046948,11.585638633746379,12.110638843284631,12.622003580269306,13.162561847803044,13.62528586698923,14.021373653331052,14.348119338407297,14.608220424048342,14.873351820687851,15.140361495723308,15.394473976553785]
["DFES 2023 - Falling Short",{"$f":"B10/1000","v":3.0171022212438308},3.5021163896835334,3.7215141768840785,3.9239849787374617,3.9846845817977656,4.0545796932199503,4.1123003424065079,4.1844665231951863,4.2796684561611746,4.4001767361460766,4.5459149443568192,4.6777884951024555,4.8334522580708761,4.9595084453894085,5.0564402777205739,5.1274219600517412,5.203046142382906,5.276371288999786,5.4139560070452371,5.5583922013163303,5.7039591234379676,5.8538516465506234,6.0129698795374278,6.1819183682195433,6.3547899591023524,6.53323746308374,6.7145006337189379,6.879576829007954,7.0433803303568938]
[]
["BREAKDOWN  BELOW - But use combined category above for publication"]

{"sheet":"Total Non Renewable Generation","index":22,"n_rows":32,"n_cols":33,"rows_kept":32,"cut":false,"hidden":false,"merged":[]}
["Total Non Renewable GenerationMW - NPg",2022,2023,2024,2025,2026,2027,2028,2029,2030,2031,2032,2033,2034,2035,2036,2037,2038,2039,2040,2041,2042,2043,2044,2045,2046,2047,2048,2049,2050,"Parameter","Licence","CHOSEN"]
["DFES 2023 - Consumer Transformation",1653.2599999999998,1687.9137099999998,1718.5674200000001,1749.2211299999999,1805.0400399999999,1903.3899499999995,1976.9619499999999,2042.2319500000003,2053.8289500000001,2019.5692842167155,1938.5649080282901,1798.9052567876897,1604.6390658346386,1383.052852510928,1185.2523582435288,1020.688642451785,878.96586340054944,749.34396126012859,607.21153892706991,456.14362878483257,316.12585812864666,228.69455126250375,201.77888670000976,179.75748036806851,137.90917804700402,91.114368879285323,22.637222831892743,0,0,"Total Non Renewable Generation MW","NPg"]
["DFES 2023 - System Transformation",1653.2599999999998,1706.1151599999998,1754.9703199999999,1803.8254799999997,1847.9724399999996,1934.7973999999992,2011.1123999999995,2079.1214,2093.4613999999992,2077.7503999999999,2038.0331369728688,1902.0380802265872,1712.3736432504052,1519.5142063103817,1328.856781940324,1159.9442572833179,1012.4677063319647,872.81020793496839,710.62797691654896,534.19700358066575,366.78714021205917,168.66523375740491,146.76241876274634,125.84771613091175,92.740816257162138,47.82997950859459,0,0,0,"Total Non Renewable Generation MW","NPg"]
["DFES 2023 - Leading The Way",1653.2599999999998,1706.1151599999998,1754.9703199999999,1803.8254799999997,1803.8844399999998,1832.8813999999995,1855.4493999999997,1878.4283999999998,1867.2423999999996,1791.1429386755885,1632.3142104415808,1390.5453531466351,901.15929495527689,280.18174134213848,268.46363189278441,252.36782748373298,231.96795674468277,217.77298529668835,205.19954944158479,188.71713557346794,168.66112518209167,147.75669398854029,124.80002942604634,106.01562309410504,70.320320773040564,30.405511605321855,0,0,0,"Total Non Renewable Generation MW","NPg"]
["CCC 2020 - Balanced Net Zero",2041.0465553176023,2189.3967987053729,2330.0955104943068,2444.1220574460235,2541.1293335108526,2632.9806079353398,2717.4713444655176,2792.4695964870639,2805.5588351204628,2786.4971234428158,2737.6401874112198,2626.3788988792603,2457.3486078239866,2250.6089214491458,2039.0663811557647,1861.6738336232308,1785.836391131071,1675.9235959354501,1567.4150647753927,1463.173209493463,1364.5595870504235,1251.5023022164009,1139.4304337420981,1033.644005153629,937.81762578640644,856.63598196483133,784.00431831927096,718.31101099341959,617.98433249671859,"Total Non Renewable Generation MW","NPg"]
["CT 2023 Policy Sensitivity",1653.2599999999998,1687.9137099999998,1718.5674200000001,1749.2211299999999,1805.0400399999999,1903.3899499999995,1976.9619499999999,2042.2319500000003,2053.8289500000001,2032.0452214804986,1978.0746887827991,1867.6467056473737,1706.3541665581261,1589.4485462834052,1498.1941715522364,1420.5641132697008,1352.2601257752008,1290.9697672083935,1225.5157743541602,1154.7351131890523,1085.9896146270362,1041.2330512625037,1025.4923867000098,1012.6149803680685,988.14267804700398,960.77786887928528,925.56972283189282,913.952,913.952,"Total Non Renewable Generation MW","NPg"]
["BV 2023 Policy Sensitivity",1653.2599999999998,1706.1151599999998,1754.9703199999999,1803.8254799999997,1803.8844399999998,1832.8813999999995,1855.4493999999997,1878.4283999999998,1867.2423999999996,1815.588373823771,1693.6417343540415,1563.8320673390913,1340.2793359297127,1063.9947413421385,1057.1416318927843,1047.7288274837331,1035.7999567446827,1027.4989852966883,1020.1465494415849,1010.804135573468,1000.5111251820917,989.78269398854036,978.00102942604633,968.36062309410499,950.04132077304064,929.55651160532193,913.952,913.952,913.952,"Total Non Renewable Generation MW","NPg"]
["DFES 2023 - NPg Best View",1653.2599999999998,1706.1151599999998,1754.9703199999999,1803.8254799999997,1803.8844399999998,1832.8813999999995,1855.4493999999997,1878.4283999999998,1867.2423999999996,1791.1429386755885,1632.3142104415808,1390.5453531466351,901.15929495527689,280.18174134213848,268.46363189278441,252.36782748373298,231.96795674468277,217.77298529668835,205.19954944158479,188.71713557346794,168.66112518209167,147.75669398854029,124.80002942604634,106.01562309410504,70.320320773040564,30.405511605321855,0,0,0,"Total Non Renewable Generation MW","NPg"]
["NPg ED2 Planning Scenario - needs updating to old",1653.2599999999998,1706.1151599999998,1754.9703199999999,1803.8254799999997,1803.8844399999998,1832.8813999999995,1855.4493999999997,1878.4283999999998,1867.2423999999996,1791.1429386755885,1632.3142104415808,1390.5453531466351,901.15929495527689,280.18174134213848,268.46363189278441,252.36782748373298,231.96795674468277,217.77298529668835,205.19954944158479,188.71713557346794,168.66112518209167,147.75669398854029,124.80002942604634,106.01562309410504,70.320320773040564,30.405511605321855,0,0,0,"Total Non Renewable Generation MW","NPg"]
["DFES 2023 - Falling Short",1653.2599999999998,1758.8914600000001,1860.5229199999999,1962.1543799999999,2126.6412399999999,2287.4301,2423.1921000000002,2554.2231000000002,2625.2851000000001,2728.4750999999997,2810.7361000000005,2837.5010999999995,2844.6280999999999,2828.4101000000001,2788.9661000000001,2766.3990999999996,2751.4871000000003,2723.6700999999998,2696.9071000000004,2658.4011,2616.0211000000004,2567.8480999999997,2530.0391000000004,2483.1981000000001,2438.0250999999998,2395.6140999999998,2345.9501,2302.4880999999996,2231.3434928512274,"Total Non Renewable Generation MW","NPg"]
[]
["Total Non Renewable GenerationMW - NPgN",2022,2023,2024,2025,2026,2027,2028,2029,2030,2031,2032,2033,2034,2035,2036,2037,2038,2039,2040,2041,2042,2043,2044,2045,2046,2047,2048,2049,2050,"Total Non Renewable Generation MW"]
["DFES 2023 - Consumer Transformation",578.53899999999976,590.97824333333313,603.41748666666649,615.85672999999974,666.49713999999972,714.95654999999965,750.73554999999988,782.4165499999998,788.40554999999972,778.27838421671538,752.71600802829005,697.70035678768977,614.88222637327965,524.56528986670605,461.07003210444032,408.72221005753903,364.42241384077977,323.38780456669258,273.50074592549936,218.8563064774612,164.31336805543759,127.28105126250372,111.54038670000978,98.662980368068489,74.190678047004042,46.825868879285323,11.617722831892765,0,0,"Total Non Renewable Generation MW","NPgN"]
["DFES 2023 - System Transformation",578.53899999999976,592.28029333333313,606.02158666666639,619.76287999999977,664.62883999999963,707.46079999999961,743.95779999999968,776.35279999999966,783.06079999999952,776.94279999999958,760.54841197286885,706.32435522658727,625.78091825040542,555.65408698643387,492.82489912150999,434.28826820934592,383.22870009246924,335.30649456180652,279.91362723525265,219.32012459356855,160.9077184591244,86.561233757404992,75.320418762746385,64.586716130911839,47.595816257162205,24.54697950859466,0,0,0,"Total Non Renewable Generation MW","NPgN"]
["DFES 2023 - Leading The Way",578.53899999999976,592.28029333333313,606.02158666666639,619.76287999999977,642.85383999999965,657.1247999999996,667.71279999999956,678.50679999999966,673.24279999999953,647.39321367558841,587.45908544158056,513.87902246596866,352.84342425455543,150.0427413421385,143.18963189278432,133.77682748373303,121.84795674468285,113.54698529668835,106.19454944158485,96.852135573467947,86.559125182091776,75.830693988540318,64.049029426046374,54.408623094105053,36.089320773040626,15.604511605321896,0,0,0,"Total Non Renewable Generation MW","NPgN"]
["CCC 2020 - Balanced Net Zero",805.6461659001576,872.98091725332483,940.81120460277054,995.65356278847082,1042.208438318356,1086.2520185739731,1126.7125949089454,1162.5502396258448,1169.2463712369499,1161.9746642176415,1142.2052723925169,1090.3457711502988,1009.7184874962888,911.61971929502829,811.89359750199014,729.50324154589975,692.48033550219407,634.32400683351318,577.1449120222735,522.63470252215552,471.44928000666812,410.99267745354621,351.38207222412325,296.12330472461349,245.71838096551312,204.88048080251076,169.43563749833001,138.61750413879818,92.802024652037375,"Total Non Renewable Generation MW","NPgN"]
["CT 2023 Policy Sensitivity",578.53899999999976,590.97824333333313,603.41748666666649,615.85672999999974,666.49713999999972,714.95654999999965,750.73554999999988,782.4165499999998,788.40554999999972,778.27838421671538,752.71600802829005,697.70035678768977,614.88222637327965,524.56528986670605,461.07003210444032,408.72221005753903,364.42241384077977,323.38780456669258,273.50074592549936,218.8563064774612,164.31336805543759,127.28105126250372,111.54038670000978,98.662980368068489,74.190678047004042,46.825868879285323,11.617722831892765,0,0,"Total Non Renewable Generation MW","NPgN"]
["BV 2023 Policy Sensitivity",578.53899999999976,592.28029333333313,606.02158666666639,619.76287999999977,642.85383999999965,657.1247999999996,667.71279999999956,678.50679999999966,673.24279999999953,647.39321367558841,587.45908544158056,513.87902246596866,352.84342425455543,150.0427413421385,143.18963189278432,133.77682748373303,121.84795674468285,113.54698529668835,106.19454944158485,96.852135573467947,86.559125182091776,75.830693988540318,64.049029426046374,54.408623094105053,36.089320773040626,15.604511605321896,0,0,0,"Total Non Renewable Generation MW","NPgN"]
["DFES 2023 - NPg Best View",578.53899999999976,592.28029333333313,606.02158666666639,619.76287999999977,642.85383999999965,657.1247999999996,667.71279999999956,678.50679999999966,673.24279999999953,647.39321367558841,587.45908544158056,513.87902246596866,352.84342425455543,150.0427413421385,143.18963189278432,133.77682748373303,121.84795674468285,113.54698529668835,106.19454944158485,96.852135573467947,86.559125182091776,75.830693988540318,64.049029426046374,54.408623094105053,36.089320773040626,15.604511605321896,0,0,0,"Total Non Renewable Generation MW","NPgN"]
["NPg ED2 Planning Scenario - needs updating to old",578.53899999999976,592.28029333333313,606.02158666666639,619.76287999999977,642.85383999999965,657.1247999999996,667.71279999999956,678.50679999999966,673.24279999999953,647.39321367558841,587.45908544158056,513.87902246596866,352.84342425455543,150.0427413421385,143.18963189278432,133.77682748373303,121.84795674468285,113.54698529668835,106.19454944158485,96.852135573467947,86.559125182091776,75.830693988540318,64.049029426046374,54.408623094105053,36.089320773040626,15.604511605321896,0,0,0,"Total Non Renewable Generation MW","NPgN"]
["DFES 2023 - Falling Short",578.53899999999976,610.46469333333312,642.39038666666647,674.31607999999983,755.19793999999979,834.43179999999984,899.50279999999998,962.41579999999988,1019.4097999999999,1069.1827999999998,1108.7288000000001,1121.3947999999998,1124.4647999999997,1116.1407999999997,1097.0598,1086.4317999999998,1079.3598,1067.3397999999997,1055.7148,1038.0367999999999,1018.9248,997.03079999999966,980.28679999999997,959.24479999999983,939.91879999999992,922.08780000000002,900.86279999999988,883.59379999999987,863.47644285122738,"Total Non Renewable Generation MW","NPgN"]
[]
["Total Non Renewable GenerationMW - NPgY",2022,2023,2024,2025,2026,2027,2028,2029,2030,2031,2032,2033,2034,2035,2036,2037,2038,2039,2040,2041,2042,2043,2044,2045,2046,2047,2048,2049,2050,"Total Non Renewable Generation MW","NPgY"]
["DFES 2023 - Consumer Transformation",1074.721,1096.9354666666668,1115.1499333333336,1133.3644000000002,1138.5429000000001,1188.4333999999999,1226.2264,1259.8154000000004,1265.4234000000001,1241.2909,1185.8489,1101.2049,989.75683946135882,858.48756264422195,724.18232613908833,611.96643239424589,514.54344955976967,425.95615669343601,333.71079300157055,237.2873223073714,151.81249007320906,101.41350000000001,90.238500000000002,81.094500000000011,63.718499999999977,44.288499999999999,11.019499999999979,0,0,"Total Non Renewable Generation MW","NPgY"]
["DFES 2023 - System Transformation",1074.721,1113.8348666666668,1148.9487333333334,1184.0626,1183.3435999999999,1227.3365999999996,1267.1545999999998,1302.7686000000001,1310.4005999999999,1300.8076000000001,1277.484725,1195.7137250000001,1086.5927249999997,963.86011932394786,836.03188281881398,725.65598907397202,629.23900623949544,537.50371337316187,430.71434968129631,314.8768789870972,205.87942175293475,82.103999999999914,71.44199999999995,61.260999999999918,45.144999999999932,23.282999999999934,0,0,0,"Total Non Renewable Generation MW","NPgY"]
["DFES 2023 - Leading The Way",1074.721,1113.8348666666668,1148.9487333333334,1184.0626,1161.0306,1175.7565999999999,1187.7366000000002,1199.9216000000001,1193.9996000000001,1143.7497250000001,1044.8551250000003,876.66633068066653,548.31587070072146,130.13899999999998,125.27400000000006,118.59099999999995,110.11999999999992,104.226,99.004999999999939,91.864999999999981,82.101999999999904,71.925999999999959,60.750999999999955,51.606999999999985,34.230999999999938,14.800999999999959,0,0,0,"Total Non Renewable Generation MW","NPgY"]
["CCC 2020 - Balanced Net Zero",1235.4003894174448,1316.4158814520479,1389.2843058915364,1448.4684946575526,1498.9208951924966,1546.7285893613666,1590.7587495565722,1629.9193568612191,1636.3124638835129,1624.5224592251741,1595.4349150187031,1536.0331277289615,1447.6301203276976,1338.9892021541177,1227.1727836537746,1132.1705920773311,1093.3560556288769,1041.599589101937,990.27015275311919,940.53850697130747,893.11030704375548,840.50962476285486,788.04836151797485,737.52070042901551,692.09924482089332,651.75550116232057,614.56868082094093,579.69350685462143,525.18230784468119,"Total Non Renewable Generation MW","NPgY"]
["CT 2023 Policy Sensitivity",1074.721,1096.9354666666668,1115.1499333333336,1133.3644000000002,1138.5429000000001,1188.4333999999999,1226.2264,1259.8154000000004,1265.4234000000001,1253.7668372637831,1225.3586807545091,1169.9463488596839,1091.4719401848465,1064.8832564166992,1037.1241394477961,1011.8419032121618,987.83771193442101,967.58196264170101,952.0150284286608,935.8788067115911,921.67624657159854,913.952,913.952,913.952,913.952,913.952,913.952,913.952,913.952,"Total Non Renewable Generation MW","NPgY"]
["BV 2023 Policy Sensitivity",1074.721,1113.8348666666668,1148.9487333333334,1184.0626,1161.0306,1175.7565999999999,1187.7366000000002,1199.9216000000001,1193.9996000000001,1168.1951601481826,1106.182648912461,1049.9530448731225,987.43591167515729,913.952,913.952,913.952,913.952,913.952,913.952,913.952,913.952,913.952,913.952,913.952,913.952,913.952,913.952,913.952,913.952,"Total Non Renewable Generation MW","NPgY"]
["DFES 2023 - NPg Best View",1074.721,1113.8348666666668,1148.9487333333334,1184.0626,1161.0306,1175.7565999999999,1187.7366000000002,1199.9216000000001,1193.9996000000001,1143.7497250000001,1044.8551250000003,876.66633068066653,548.31587070072146,130.13899999999998,125.27400000000006,118.59099999999995,110.11999999999992,104.226,99.004999999999939,91.864999999999981,82.101999999999904,71.925999999999959,60.750999999999955,51.606999999999985,34.230999999999938,14.800999999999959,0,0,0,"Total Non Renewable Generation MW","NPgY"]
["NPg ED2 Planning Scenario - needs updating to old",1074.721,1113.8348666666668,1148.9487333333334,1184.0626,1161.0306,1175.7565999999999,1187.7366000000002,1199.9216000000001,1193.9996000000001,1143.7497250000001,1044.8551250000003,876.66633068066653,548.31587070072146,130.13899999999998,125.27400000000006,118.59099999999995,110.11999999999992,104.226,99.004999999999939,91.864999999999981,82.101999999999904,71.925999999999959,60.750999999999955,51.606999999999985,34.230999999999938,14.800999999999959,0,0,0,"Total Non Renewable Generation MW","NPgY"]
["DFES 2023 - Falling Short",1074.721,1148.4267666666669,1218.1325333333334,1287.8383000000001,1371.4433000000004,1452.9983000000002,1523.6893,1591.8073000000004,1605.8753000000002,1659.2923000000001,1702.0073000000004,1716.1062999999999,1720.1632999999999,1712.2693000000002,1691.9063000000001,1679.9673,1672.1273000000001,1656.3303000000001,1641.1923000000002,1620.3643000000002,1597.0963000000004,1570.8173000000002,1549.7523000000003,1523.9533000000004,1498.1063000000001,1473.5263,1445.0873000000001,1418.8942999999999,1367.8670500000001,"Total Non Renewable Generation MW","NPgY"]

{"sheet":"Total Generation","index":23,"n_rows":46,"n_cols":33,"rows_kept":46,"cut":false,"hidden":false,"merged":[]}
["Total Generation MW - NPg",2022,2023,2024,2025,2026,2027,2028,2029,2030,2031,2032,2033,2034,2035,2036,2037,2038,2039,2040,2041,2042,2043,2044,2045,2046,2047,2048,2049,2050,"Parameter","Licence","CHOSEN"]
["DFES 2023 - Consumer Transformation",4670.3622212438304,5362.5246819440054,5823.0397351810607,6305.813113900208,6542.6848786923092,6838.8843683428604,7193.4760252677515,7592.5488051582997,7976.0551031329524,8356.9553018900187,8718.2471249650534,8949.1453244900913,9228.6630996364147,9403.5889226657819,9629.4426355464475,9856.6701933024451,10148.40969925945,10457.22105298494,10821.884305763342,11153.820542867357,11529.065579568705,11878.500798818523,12324.789132334121,12746.529924183029,13078.793924954825,13339.173644155107,13582.58815188854,13873.356892121352,14173.552073336248,"Total Generation MW","NPg"]
["DFES 2023 - System Transformation",4670.3622212438304,5357.4207007331934,5803.3399558330611,6255.6790639494466,6421.6584971643424,6636.939345898596,6832.3313249533294,7057.9228788763239,7281.0804336098299,7494.6452231441426,7693.3834543437079,7757.7717573970976,7820.8555294711559,7812.2469150229899,7800.9231433576424,7763.7915449862649,7774.7756142533635,7783.0867339386205,7837.6234917723723,7859.5555055240693,7920.7693107868981,7924.1387664934045,8120.7320935547204,8317.6088495839995,8443.7149048243627,8622.7073302567078,8792.3497179170336,9016.2407903187759,9210.173616417389,"Total Generation MW","NPg"]
["DFES 2023 - Leading The Way",4670.3622212438304,5569.2031426018993,6236.5206564968503,6926.0904958738911,7192.1613106659925,7502.4899503165443,7842.3407572414344,8222.7105371319831,8590.1522567523789,8937.9557317820763,9233.9133055132152,9407.0237935563455,9376.2240618235082,9157.0443801396723,9521.9826122022096,9852.8146074679462,10207.581125213037,10616.038121343634,11092.898433187964,11537.1512288581,11963.580955451394,12418.097791791586,12804.177146415277,13128.787526425154,13403.364909180338,13630.495185653665,13872.375070687853,14147.488745723307,14416.723226553786,"Total Generation MW","NPg"]
["CCC 2020 - Balanced Net Zero",5556.0925918435942,5809.8465798045145,6142.8452276679918,6557.3828630757444,6966.0292867730095,7374.7039042879778,7804.0640850660911,8242.1656002593791,8662.6387569205017,9076.4159389456963,9460.3777531291125,9777.6090267047875,10072.491678843053,10302.848295654212,10521.448390295649,10748.456264332852,11090.734574708817,11420.905254192112,11793.407597284233,12164.805347285444,12543.417991624468,12908.608003398773,13225.475642141064,13545.98837007602,13767.428018983224,13933.119827128739,14107.190416394715,14285.740910222663,14434.211195387532,"Total Generation MW","NPg"]
["CT 2023 Policy Sensitivity",4670.3622212438304,5362.5246819440054,5823.0397351810607,6305.813113900208,6542.6848786923092,6838.8843683428604,7193.4760252677515,7592.5488051582997,7979.0638456582892,8372.3260533907414,8760.5248452717024,9033.9437572686984,9346.2841429873934,9637.5198754129633,9969.7600356074872,10290.733644662851,10655.720186650902,11039.664257529941,11480.812606934134,11899.811373802397,12346.118087883004,12757.93073978199,13215.160175069141,13652.783134702127,14002.16938610432,14281.714998817866,14558.121453668158,14859.623146993796,15159.517108718919,"Total Generation MW","NPg"]
["BV 2023 Policy Sensitivity",4670.3622212438304,5573.938142601899,6245.9906564968496,6940.2954958738919,7211.101310665993,7527.1918503165434,7900.4425072414351,8315.8912871319844,8716.7250067523801,9126.2369169302583,9500.0825794256762,9829.9462577487993,10113.378852797945,10299.86244566966,10730.532666500712,11141.135264175115,11576.108740988999,12075.192077666386,12623.035824855751,13145.327354045603,13658.984704134156,14195.415476456496,14645.965123722463,15038.978052897641,15346.975478385157,15586.142083356561,15835.200308840758,16101.718883905785,16355.320413624675,"Total Generation MW","NPg"]
["DFES 2023 - NPg Best View",4670.3622212438304,5573.938142601899,6245.9906564968496,6940.2954958738919,7211.101310665993,7527.1918503165434,7900.4425072414351,8315.8912871319844,8716.7250067523801,9101.7914817820765,9438.7550555132148,9656.6595435563431,9674.2588118235071,9511.2791301396719,9937.3553622022082,10334.577357467946,10761.375875213038,11247.884871343635,11790.838183187963,12299.355978858099,12790.664705451396,13310.318541791585,13750.085896415276,14127.389276425154,14418.439659180338,14638.625935653665,14873.351820687851,15140.361495723308,15394.473976553785,"Total Generation MW","NPg"]
["NPg ED2 Planning Scenario - needs updating to old",4670.3622212438304,5573.938142601899,6245.9906564968496,6940.2954958738919,7211.101310665993,7527.1918503165434,7900.4425072414351,8315.8912871319844,8716.7250067523801,9101.7914817820765,9438.7550555132148,9656.6595435563431,9674.2588118235071,9511.2791301396719,9937.3553622022082,10334.577357467946,10761.375875213038,11247.884871343635,11790.838183187963,12299.355978858099,12790.664705451396,13310.318541791585,13750.085896415276,14127.389276425154,14418.439659180338,14638.625935653665,14873.351820687851,15140.361495723308,15394.473976553785,"Total Generation MW","NPg"]
["DFES 2023 - Falling Short",4670.3622212438304,5261.0078496835331,5582.037096884078,5886.1393587374623,6111.3258217977655,6342.0097932199496,6535.4924424065084,6738.6896231951869,6904.9535561611738,7128.6518361460767,7356.6510443568204,7515.2895951024548,7678.0803580708762,7787.9185453894088,7845.4063777205738,7893.8210600517405,7954.5332423829059,8000.0413889997853,8110.8631070452375,8216.7933013163292,8319.9802234379677,8421.6997465506229,8543.0089795374279,8665.1164682195431,8792.8150591023514,8928.851563083741,9060.4507337189389,9182.0649290079527,9274.7238232081218,"Total Generation MW","NPg"]
[]
["Total Generation- NPgN",2022,2023,2024,2025,2026,2027,2028,2029,2030,2031,2032,2033,2034,2035,2036,2037,2038,2039,2040,2041,2042,2043,2044,2045,2046,2047,2048,2049,2050,"Total Generation MW"]
["DFES 2023 - Consumer Transformation",1994.7856250131199,2377.3426102926228,2664.9597321048013,2961.4236046094675,3093.1339940066464,3228.9153076169414,3383.6962592898121,3555.460243477668,3717.4106331293442,3883.9145531498734,4046.7519579513137,4132.6513514272056,4252.2693842111839,4314.6326738758453,4429.404438888705,4530.5815477256956,4666.2402512857598,4798.8323292998475,4962.1657592604433,5101.6540230040482,5263.7510676819111,5385.2652716345865,5567.1930467789844,5730.742033635288,5861.0553917062116,5959.6619354567174,6052.2915185876891,6169.0067815478269,6291.4367710054348,"Total Generation MW","NPgN"]
["DFES 2023 - System Transformation",1994.7856250131199,2366.1647943268399,2639.4047177322527,2915.3441528256567,3015.153437400355,3114.849664770305,3203.1578704885437,3303.3646590103854,3403.9489472490141,3499.4111499855326,3584.4133250584518,3622.539591068492,3651.77382508952,3661.7463624391903,3680.6170689888836,3670.2234971947155,3687.4819294883791,3693.2215492513737,3732.8335662304949,3749.7164741934907,3791.2034572606985,3794.2638767777767,3878.0824876067109,3960.2591950536676,3991.3734722208292,4067.8790799938988,4134.4084239908498,4231.5211131738552,4297.4355640865742,"Total Generation MW","NPgN"]
["DFES 2023 - Leading The Way",1994.7856250131199,2505.0342542838507,2920.467020087257,3344.740536583151,3485.8289759803306,3624.1353395906253,3772.0952912634957,3935.5232754513518,4092.399086748771,4248.289658041931,4383.651413499475,4491.992889812791,4527.5578151589143,4492.9431939939568,4644.5052416835551,4770.1198942854408,4913.5376267991169,5074.9180543519769,5275.6521796866346,5452.8805313021612,5616.4754336378082,5799.2112646076475,5957.252060860139,6078.8766358774146,6185.9303759317245,6272.2614769552747,6365.5774373869981,6475.6021351497802,6582.8884242229697,"Total Generation MW","NPgN"]
["CCC 2020 - Balanced Net Zero",2475.5323755024692,2587.2569757732444,2736.1885735298988,2915.2863641428512,3090.618526322306,3265.69651282429,3449.7340862130841,3637.491530375562,3816.2675434214234,3987.6812985500596,4139.1010800301256,4255.8283596019173,4360.1272877164092,4433.0884822316766,4500.4472450063149,4572.2248694808632,4695.1646427122041,4806.7621724978053,4938.5790889732207,5070.7442259492973,5207.0739450935507,5334.5233567977066,5441.0443762784744,5550.7549565897771,5618.9725137654359,5666.8203363977163,5719.9459509886528,5776.6100225672499,5832.363257920887,"Total Generation MW","NPgN"]
["CT 2023 Policy Sensitivity",1994.7856250131199,2377.3426102926228,2664.9597321048013,2961.4236046094675,3093.1339940066464,3228.9153076169414,3383.6962592898121,3555.460243477668,3717.4106331293442,3883.9145531498734,4046.7519579513137,4132.6513514272056,4252.2693842111839,4314.6326738758453,4429.404438888705,4530.5815477256956,4666.2402512857598,4798.8323292998475,4962.1657592604433,5101.6540230040482,5263.7510676819111,5385.2652716345865,5567.1930467789844,5730.742033635288,5861.0553917062116,5959.6619354567174,6052.2915185876891,6169.0067815478269,6291.4367710054348,"Total Generation MW","NPgN"]
["BV 2023 Policy Sensitivity",1994.7856250131199,2509.1942542838506,2928.7870200872567,3357.2205365831514,3502.4689759803309,3644.9353395906251,3806.4382912634965,3984.5412754513518,4155.4120867487709,4327.2036580419317,4480.2164134994746,4607.8668898127908,4664.060815158914,4653.4091939939572,4831.0622416835549,4985.0308942854408,5159.2326267991175,5353.9940543519779,5582.9531796866358,5787.6195313021608,5978.9134336378102,6189.4622646076477,6370.38206086014,6514.4596358774152,6628.3563759317249,6711.4474769552753,6801.4284373869987,6907.7021351497806,7008.22042422297,"Total Generation MW","NPgN"]
["DFES 2023 - NPg Best View",1994.7856250131199,2509.1942542838506,2928.7870200872567,3357.2205365831514,3502.4689759803309,3644.9353395906251,3806.4382912634965,3984.5412754513518,4155.4120867487709,4327.2036580419317,4480.2164134994746,4607.8668898127908,4664.060815158914,4653.4091939939572,4831.0622416835549,4985.0308942854408,5159.2326267991175,5353.9940543519779,5582.9531796866358,5787.6195313021608,5978.9134336378102,6189.4622646076477,6370.38206086014,6514.4596358774152,6628.3563759317249,6711.4474769552753,6801.4284373869987,6907.7021351497806,7008.22042422297,"Total Generation MW","NPgN"]
["NPg ED2 Planning Scenario - needs updating to old",1994.7856250131199,2509.1942542838506,2928.7870200872567,3357.2205365831514,3502.4689759803309,3644.9353395906251,3806.4382912634965,3984.5412754513518,4155.4120867487709,4327.2036580419317,4480.2164134994746,4607.8668898127908,4664.060815158914,4653.4091939939572,4831.0622416835549,4985.0308942854408,5159.2326267991175,5353.9940543519779,5582.9531796866358,5787.6195313021608,5978.9134336378102,6189.4622646076477,6370.38206086014,6514.4596358774152,6628.3563759317249,6711.4474769552753,6801.4284373869987,6907.7021351497806,7008.22042422297,"Total Generation MW","NPgN"]
["DFES 2023 - Falling Short",1994.7856250131199,2265.3326237201709,2427.2305480841906,2582.4167030725598,2687.0966941812194,2794.4129752653489,2883.9578595671483,2977.7627508441328,3075.9580765633864,3178.5242160037087,3281.9454575976933,3352.8271124345729,3424.9512528180412,3471.6178507060804,3493.778465860747,3511.4996167296995,3534.615839027223,3535.8765256104607,3583.3894979079851,3627.5427324605134,3670.0646229325348,3711.5026471049728,3762.3227032944592,3813.3273073319915,3867.5617953238943,3926.071249484783,3982.3035516688678,4034.6220892673018,4083.2947208773057,"Total Generation MW","NPgN"]
[]
["Total Generation- NPgY",2022,2023,2024,2025,2026,2027,2028,2029,2030,2031,2032,2033,2034,2035,2036,2037,2038,2039,2040,2041,2042,2043,2044,2045,2046,2047,2048,2049,2050,"Total Generation MW","NPgY"]
["DFES 2023 - Consumer Transformation",2675.5765962307105,2985.1820716513821,3158.0800030762598,3344.3895092907405,3449.5508846856628,3609.9690607259195,3809.779765977939,4037.0885616806318,4258.6444700036081,4473.0407487401444,4671.4951670137398,4816.4939730628867,4976.3937154252317,5088.9562487899375,5200.0381966577424,5326.0886455767504,5482.1694479736907,5658.3887236850933,5859.7185465028988,6052.1665198633091,6265.3145118867942,6493.235527183936,6757.5960855551366,7015.787890547741,7217.7385332486147,7379.5117086983892,7530.2966333008517,7704.3501105735259,7882.1153023308134,"Total Generation MW","NPgY"]
["DFES 2023 - System Transformation",2675.5765962307105,2991.2559064063535,3163.9352381008084,3340.3349111237894,3406.5050597639874,3522.0896811282905,3629.1734544647861,3754.5582198659386,3877.1314863608159,3995.23407315861,4108.970129285256,4135.2321663286057,4169.081704381636,4150.5005525837996,4120.3060743687593,4093.5680477915494,4087.2936847649844,4089.8651846872463,4104.789925541877,4109.8390313305781,4129.5658535262,4129.8748897156283,4242.6496059480096,4357.3496545303324,4452.3414326035336,4554.8282502628099,4657.9412939261847,4784.7196771449208,4912.7380523308148,"Total Generation MW","NPgY"]
["DFES 2023 - Leading The Way",2675.5765962307105,3064.1688883180486,3316.0536364095933,3581.3499592907401,3706.3323346856619,3878.354610725919,4070.2454659779391,4287.1872616806313,4497.7531700036088,4689.6660737401453,4850.2618920137402,4915.0309037435536,4848.6662466645939,4664.1011861457155,4877.4773705186544,5082.6947131825054,5294.0434984139201,5541.120066991657,5817.2462535013292,6084.2706975559386,6347.1055218135862,6618.8865271839386,6846.9250855551372,7049.9108905477397,7217.4345332486137,7358.2337086983907,7506.7976333008537,7671.8866105735269,7833.8348023308163,"Total Generation MW","NPgY"]
["CCC 2020 - Balanced Net Zero",3080.5602163411249,3222.58960403127,3406.656654138093,3642.0964989328932,3875.4107604507035,4109.0073914636878,4354.3299988530071,4604.6740698838175,4846.3712134990783,5088.7346403956362,5321.2766730989879,5521.7806671028702,5712.3643911266427,5869.7598134225354,6021.0011452893341,6176.2313948519886,6395.5699319966125,6614.1430816943066,6854.8285083110131,7094.0611213361481,7336.3440465309186,7574.0846466010662,7784.4312658625904,7995.2334134862431,8148.4555052177893,8266.299490731024,8387.2444654060619,8509.1308876554122,8601.8479374666458,"Total Generation MW","NPgY"]
["CT 2023 Policy Sensitivity",2675.5765962307105,2985.1820716513821,3158.0800030762598,3344.3895092907405,3449.5508846856628,3609.9690607259195,3809.779765977939,4037.0885616806318,4261.653212528945,4488.4115002408689,4713.7728873203878,4901.2924058414937,5094.0147587762094,5322.887201537118,5540.3555967187822,5760.1520969371541,5989.4799353651433,6240.8319282300945,6518.6468476736918,6798.1573507983494,7082.3670202010926,7372.6654681474029,7647.9671282901563,7922.0411010668404,8141.1139943981079,8322.0530633611488,8505.82993508047,8690.6163654459688,8868.0803377134853,"Total Generation MW","NPgY"]
["BV 2023 Policy Sensitivity",2675.5765962307105,3064.7438883180484,3317.2036364095929,3583.0749592907405,3708.632334685662,3882.2565107259188,4094.0042159779387,4331.3500116806317,4561.3129200036092,4799.0332588883266,5019.8661659262016,5222.0793679360086,5449.3180376390301,5646.4532516757035,5899.4704248171565,6156.1043698896747,6416.8761141898822,6721.1980233144077,7040.0826451691155,7357.7078227434431,7680.0712704963471,8005.9532118488487,8275.5830628623225,8524.5184170202265,8718.619102453431,8874.6946064012845,9033.7718714537605,9194.0167487560047,9347.0999894017041,"Total Generation MW","NPgY"]
["DFES 2023 - NPg Best View",2675.5765962307105,3064.7438883180484,3317.2036364095929,3583.0749592907405,3708.632334685662,3882.2565107259188,4094.0042159779387,4331.3500116806317,4561.3129200036092,4774.5878237401448,4958.5386420137402,5048.7926537435533,5010.197996664594,4857.8699361457157,5106.2931205186542,5349.5464631825052,5602.1432484139195,5893.8908169916567,6207.8850035013284,6511.736447555938,6811.7512718135858,7120.8562771839379,7379.7038355551367,7612.9296405477398,7790.083283248614,7927.1784586983895,8071.9233833008529,8232.659360573527,8386.2535523308161,"Total Generation MW","NPgY"]
["NPg ED2 Planning Scenario - needs updating to old",2675.5765962307105,3064.7438883180484,3317.2036364095929,3583.0749592907405,3708.632334685662,3882.2565107259188,4094.0042159779387,4331.3500116806317,4561.3129200036092,4774.5878237401448,4958.5386420137402,5048.7926537435533,5010.197996664594,4857.8699361457157,5106.2931205186542,5349.5464631825052,5602.1432484139195,5893.8908169916567,6207.8850035013284,6511.736447555938,6811.7512718135858,7120.8562771839379,7379.7038355551367,7612.9296405477398,7790.083283248614,7927.1784586983895,8071.9233833008529,8232.659360573527,8386.2535523308161,"Total Generation MW","NPgY"]
["DFES 2023 - Falling Short",2675.5765962307105,2995.6752259633622,3154.8065487998874,3303.722655664902,3424.2291276165461,3547.5968179546012,3651.5345828393597,3760.926872351054,3828.9954795977878,3950.1276201423675,4074.7055867591271,4162.4624826678819,4253.129105252835,4316.3006946833284,4351.6279118598268,4382.321443322041,4419.9174033556828,4464.1648633893246,4527.4736091372524,4589.2505688558158,4649.9156005054338,4710.1970994456497,4780.6862762429691,4851.7891608875516,4925.2532637784579,5002.7803135989579,5078.1471820500701,5147.4428397406518,5191.429102330816,"Total Generation MW","NPgY"]
[]
[]
["Total Generation GW - NPg",2022,2023,2024,2025,2026,2027,2028,2029,2030,2031,2032,2033,2034,2035,2036,2037,2038,2039,2040,2041,2042,2043,2044,2045,2046,2047,2048,2049,2050]
["DFES 2023 - Consumer Transformation",{"$f":"B2/1000","v":4.6703622212438303},5.3625246819440058,5.8230397351810605,6.305813113900208,6.5426848786923095,6.8388843683428604,7.1934760252677519,7.5925488051582999,7.9760551031329525,8.356955301890018,8.7182471249650533,8.9491453244900914,9.2286630996364138,9.4035889226657812,9.6294426355464466,9.8566701933024454,10.148409699259449,10.45722105298494,10.821884305763342,11.153820542867358,11.529065579568705,11.878500798818523,12.324789132334121,12.746529924183029,13.078793924954825,13.339173644155107,13.58258815188854,13.873356892121352,14.173552073336248]
["DFES 2023 - System Transformation",4.6703622212438303,5.3574207007331935,5.8033399558330609,6.2556790639494464,6.4216584971643424,6.6369393458985959,6.8323313249533291,7.0579228788763242,7.28108043360983,7.4946452231441425,7.6933834543437083,7.7577717573970979,7.8208555294711557,7.8122469150229898,7.8009231433576423,7.7637915449862644,7.7747756142533637,7.78308673393862,7.8376234917723719,7.8595555055240691,7.9207693107868984,7.9241387664934049,8.1207320935547198,8.3176088495839995,8.4437149048243629,8.6227073302567074,8.792349717917034,9.0162407903187756,9.2101736164173893]
["DFES 2023 - Leading The Way",4.6703622212438303,5.5692031426018991,6.2365206564968503,6.9260904958738907,7.1921613106659921,7.5024899503165443,7.8423407572414341,8.2227105371319826,8.5901522567523791,8.9379557317820755,9.2339133055132159,9.4070237935563448,9.3762240618235086,9.1570443801396717,9.5219826122022102,9.8528146074679466,10.207581125213038,10.616038121343633,11.092898433187964,11.5371512288581,11.963580955451395,12.418097791791586,12.804177146415277,13.128787526425155,13.403364909180338,13.630495185653665,13.872375070687852,14.147488745723306,14.416723226553787]
["CCC 2020 - Balanced Net Zero",5.5560925918435942,5.8098465798045149,6.1428452276679915,6.5573828630757447,6.9660292867730096,7.3747039042879781,7.8040640850660914,8.2421656002593799,8.6626387569205026,9.0764159389456971,9.4603777531291122,9.7776090267047877,10.072491678843052,10.302848295654211,10.521448390295649,10.748456264332852,11.090734574708817,11.420905254192112,11.793407597284233,12.164805347285444,12.543417991624468,12.908608003398772,13.225475642141063,13.545988370076021,13.767428018983225,13.93311982712874,14.107190416394715,14.285740910222662,14.434211195387531]
["CT 2023 Policy Sensitivity",4.6703622212438303,5.3625246819440058,5.8230397351810605,6.305813113900208,6.5426848786923095,6.8388843683428604,7.1934760252677519,7.5925488051582999,7.9790638456582892,8.3723260533907418,8.7605248452717017,9.0339437572686982,9.3462841429873933,9.6375198754129627,9.9697600356074876,10.290733644662851,10.655720186650901,11.039664257529941,11.480812606934133,11.899811373802397,12.346118087883003,12.75793073978199,13.215160175069141,13.652783134702128,14.00216938610432,14.281714998817867,14.558121453668159,14.859623146993796,15.159517108718919]
["BV 2023 Policy Sensitivity",4.6703622212438303,5.5739381426018992,6.2459906564968497,6.9402954958738921,7.2111013106659927,7.5271918503165436,7.9004425072414355,8.3158912871319846,8.7167250067523803,9.1262369169302584,9.5000825794256762,9.8299462577487997,10.113378852797945,10.29986244566966,10.730532666500713,11.141135264175114,11.576108740989,12.075192077666387,12.623035824855751,13.145327354045603,13.658984704134156,14.195415476456496,14.645965123722462,15.03897805289764,15.346975478385156,15.586142083356561,15.835200308840758,16.101718883905786,16.355320413624675]
["DFES 2023 - NPg Best View",4.6703622212438303,5.5739381426018992,6.2459906564968497,6.9402954958738921,7.2111013106659927,7.5271918503165436,7.9004425072414355,8.3158912871319846,8.7167250067523803,9.101791481782076,9.438755055513214,9.6566595435563425,9.674258811823508,9.5112791301396715,9.9373553622022079,10.334577357467946,10.761375875213037,11.247884871343635,11.790838183187963,12.299355978858099,12.790664705451396,13.310318541791585,13.750085896415277,14.127389276425154,14.418439659180338,14.638625935653664,14.873351820687851,15.140361495723308,15.394473976553785]
["NPg ED2 Planning Scenario - needs updating to old",4.6703622212438303,5.5739381426018992,6.2459906564968497,6.9402954958738921,7.2111013106659927,7.5271918503165436,7.9004425072414355,8.3158912871319846,8.7167250067523803,9.101791481782076,9.438755055513214,9.6566595435563425,9.674258811823508,9.5112791301396715,9.9373553622022079,10.334577357467946,10.761375875213037,11.247884871343635,11.790838183187963,12.299355978858099,12.790664705451396,13.310318541791585,13.750085896415277,14.127389276425154,14.418439659180338,14.638625935653664,14.873351820687851,15.140361495723308,15.394473976553785]
["DFES 2023 - Falling Short",{"$f":"B10/1000","v":4.6703622212438303},5.2610078496835335,5.5820370968840782,5.886139358737462,6.1113258217977657,6.3420097932199493,6.5354924424065084,6.7386896231951869,6.9049535561611739,7.1286518361460764,7.3566510443568207,7.5152895951024545,7.6780803580708765,7.7879185453894086,7.8454063777205736,7.8938210600517404,7.9545332423829063,8.0000413889997848,8.1108631070452368,8.2167933013163292,8.3199802234379678,8.4216997465506225,8.5430089795374275,8.6651164682195425,8.7928150591023506,8.9288515630837413,9.0604507337189393,9.1820649290079519,9.2747238232081219]
[]
["BREAKDOWN  BELOW - But use combined category above for publication"]

{"sheet":"Cumul Abs Constraints CF-","index":24,"n_rows":100,"n_cols":33,"rows_kept":100,"cut":false,"hidden":false,"merged":[]}
["No. of Constraints - NPg",2022,2023,2024,2025,2026,2027,2028,2029,2030,2031,2032,2033,2034,2035,2036,2037,2038,2039,2040,2041,2042,2043,2044,2045,2046,2047,2048,2049,2050,"Parameter","Licence","CHOSEN"]
["DFES 2023 - Consumer Transformation",{"$f":"SUM(B13,B24)","v":8},9,11,12,14,17,20,26,33,44,52,63,69,83,110,149,171,188,211,226,237,260,280,288,301,312,326,337,345,"No. of Constraints","NPg"]
["DFES 2023 - System Transformation",{"$f":"SUM(B14,B25)","v":8},9,11,12,14,18,19,29,36,46,57,64,75,90,109,130,150,167,189,203,217,235,251,268,295,308,323,344,360,"No. of Constraints","NPg"]
["DFES 2023 - Leading The Way",{"$f":"SUM(B15,B26)","v":8},9,11,12,14,17,23,30,39,64,88,124,156,183,205,228,249,271,287,296,304,315,326,331,331,331,329,328,327,"No. of Constraints","NPg"]
["CCC 2020 - Balanced Net Zero",{"$f":"SUM(B16,B27)","v":10},11,11,11,12,14,18,22,30,46,61,88,115,149,170,189,206,233,245,260,270,287,301,305,311,321,325,327,329,"No. of Constraints","NPg"]
["CT 2023 Policy Sensitivity",{"$f":"SUM(B17,B28)","v":8},9,11,13,14,16,19,25,38,47,52,62,72,89,119,152,180,209,230,252,278,303,318,328,350,361,373,386,400,"No. of Constraints","NPg"]
["BV 2023 Policy Sensitivity",{"$f":"SUM(B18,B29)","v":8},9,11,12,13,15,17,21,30,39,47,56,67,76,100,129,161,185,211,238,253,277,298,313,329,345,360,371,383,"No. of Constraints","NPg"]
["DFES 2023 - NPg Best View",{"$f":"SUM(B19,B30)","v":8},9,11,12,14,17,19,28,34,47,55,65,72,85,105,136,160,186,205,216,229,245,265,283,295,302,313,327,334,"No. of Constraints","NPg"]
["NPg ED2 Planning Scenario - needs updating to old",{"$f":"SUM(B20,B31)","v":10},11,11,11,11,13,16,20,27,41,55,74,99,136,161,180,198,220,240,248,260,273,283,296,300,304,313,313,313,"No. of Constraints","NPg"]
["DFES 2023 - Falling Short",{"$f":"SUM(B21,B32)","v":8},9,11,12,13,15,16,18,26,36,42,48,52,66,74,82,88,95,100,105,111,117,120,126,129,134,136,139,141,"No. of Constraints","NPg"]
[]
["No. of Constraints - NPgN",2022,2023,2024,2025,2026,2027,2028,2029,2030,2031,2032,2033,2034,2035,2036,2037,2038,2039,2040,2041,2042,2043,2044,2045,2046,2047,2048,2049,2050,"No. of Constraints"]
["DFES 2023 - Consumer Transformation",{"$f":"SUM(B47,B81)","v":1},1,1,1,2,3,4,6,10,13,14,15,15,19,26,44,50,54,63,69,73,78,86,90,95,102,108,112,115,"No. of Constraints","NPgN"]
["DFES 2023 - System Transformation",{"$f":"SUM(B48,B82)","v":1},1,1,1,2,3,3,8,10,11,15,15,17,19,26,35,45,50,54,63,66,73,78,85,95,101,108,118,123,"No. of Constraints","NPgN"]
["DFES 2023 - Leading The Way",{"$f":"SUM(B49,B83)","v":1},1,1,1,2,3,7,9,13,19,23,39,51,59,67,74,77,87,90,94,99,105,109,111,110,110,109,109,109,"No. of Constraints","NPgN"]
["CCC 2020 - Balanced Net Zero",{"$f":"SUM(B50,B84)","v":2},2,2,2,2,4,5,7,9,16,20,29,39,51,58,64,68,77,82,88,93,100,106,106,110,111,112,113,113,"No. of Constraints","NPgN"]
["CT 2023 Policy Sensitivity",{"$f":"SUM(B51,B85)","v":1},1,1,1,2,3,4,6,10,11,13,15,18,21,30,46,54,63,70,77,89,97,104,111,117,120,126,129,133,"No. of Constraints","NPgN"]
["BV 2023 Policy Sensitivity",{"$f":"SUM(B52,B86)","v":1},1,1,1,1,3,4,5,7,9,11,15,16,18,26,36,49,57,65,74,82,90,97,103,110,117,120,126,131,"No. of Constraints","NPgN"]
["DFES 2023 - NPg Best View",{"$f":"SUM(B53,B87)","v":1},1,1,1,2,3,3,7,10,14,14,15,16,19,22,39,47,53,61,66,70,74,81,87,92,96,104,108,111,"No. of Constraints","NPgN"]
["NPg ED2 Planning Scenario - needs updating to old",{"$f":"SUM(B54,B88)","v":2},2,2,2,2,3,5,7,9,16,20,26,36,48,58,60,67,73,80,84,88,94,98,105,106,107,109,109,109,"No. of Constraints","NPgN"]
["DFES 2023 - Falling Short",{"$f":"SUM(B55,B89)","v":1},1,1,1,1,3,3,3,6,9,11,12,12,17,18,21,23,24,25,26,27,27,27,28,29,33,34,35,35,"No. of Constraints","NPgN"]
[]
["No. of Constraints - NPgY",2022,2023,2024,2025,2026,2027,2028,2029,2030,2031,2032,2033,2034,2035,2036,2037,2038,2039,2040,2041,2042,2043,2044,2045,2046,2047,2048,2049,2050,"No. of Constraints","NPgY"]
["DFES 2023 - Consumer Transformation",{"$f":"SUM(B58,B92)","v":7},8,10,11,12,14,16,20,23,31,38,48,54,64,84,105,121,134,148,157,164,182,194,198,206,210,218,225,230,"No. of Constraints","NPgY"]
["DFES 2023 - System Transformation",{"$f":"SUM(B59,B93)","v":7},8,10,11,12,15,16,21,26,35,42,49,58,71,83,95,105,117,135,140,151,162,173,183,200,207,215,226,237,"No. of Constraints","NPgY"]
["DFES 2023 - Leading The Way",{"$f":"SUM(B60,B94)","v":7},8,10,11,12,14,16,21,26,45,65,85,105,124,138,154,172,184,197,202,205,210,217,220,221,221,220,219,218,"No. of Constraints","NPgY"]
["CCC 2020 - Balanced Net Zero",{"$f":"SUM(B61,B95)","v":8},9,9,9,10,10,13,15,21,30,41,59,76,98,112,125,138,156,163,172,177,187,195,199,201,210,213,214,216,"No. of Constraints","NPgY"]
["CT 2023 Policy Sensitivity",{"$f":"SUM(B62,B96)","v":7},8,10,12,12,13,15,19,28,36,39,47,54,68,89,106,126,146,160,175,189,206,214,217,233,241,247,257,267,"No. of Constraints","NPgY"]
["BV 2023 Policy Sensitivity",{"$f":"SUM(B63,B97)","v":7},8,10,11,12,12,13,16,23,30,36,41,51,58,74,93,112,128,146,164,171,187,201,210,219,228,240,245,252,"No. of Constraints","NPgY"]
["DFES 2023 - NPg Best View",{"$f":"SUM(B64,B98)","v":7},8,10,11,12,14,16,21,24,33,41,50,56,66,83,97,113,133,144,150,159,171,184,196,203,206,209,219,223,"No. of Constraints","NPgY"]
["NPg ED2 Planning Scenario - needs updating to old",{"$f":"SUM(B65,B99)","v":8},9,9,9,9,10,11,13,18,25,35,48,63,88,103,120,131,147,160,164,172,179,185,191,194,197,204,204,204,"No. of Constraints","NPgY"]
["DFES 2023 - Falling Short",{"$f":"SUM(B66,B100)","v":7},8,10,11,12,12,13,15,20,27,31,36,40,49,56,61,65,71,75,79,84,90,93,98,100,101,102,104,106,"No. of Constraints","NPgY"]
[]
["Primary Constraints"]
["No. of Primary Constraints - NPg",2022,2023,2024,2025,2026,2027,2028,2029,2030,2031,2032,2033,2034,2035,2036,2037,2038,2039,2040,2041,2042,2043,2044,2045,2046,2047,2048,2049,2050]
["DFES 2023 - Consumer Transformation",{"$f":"SUM(B47,B58)","v":8},9,11,12,14,17,20,26,33,43,51,62,68,78,98,128,148,163,184,199,209,230,246,253,262,271,284,295,302]
["DFES 2023 - System Transformation",{"$f":"SUM(B48,B59)","v":8},9,11,12,14,18,19,29,36,45,56,62,73,84,97,113,128,143,164,177,191,207,221,235,257,269,281,298,311]
["DFES 2023 - Leading The Way",{"$f":"SUM(B49,B60)","v":8},9,11,12,14,17,23,30,39,62,84,110,137,158,180,202,219,239,251,259,266,274,284,289,289,289,287,286,285]
["CCC 2020 - Balanced Net Zero",{"$f":"SUM(B50,B61)","v":8},9,9,9,10,12,15,19,27,42,56,80,101,128,148,165,180,202,210,223,233,250,261,265,270,278,281,281,283]
["CT 2023 Policy Sensitivity",{"$f":"SUM(B51,B62)","v":8},9,11,13,14,16,19,25,38,46,50,60,70,84,104,129,156,182,202,222,244,264,276,286,304,313,323,334,346]
["BV 2023 Policy Sensitivity",{"$f":"SUM(B52,B63)","v":8},9,11,12,13,15,17,21,30,39,45,54,64,71,93,111,137,161,184,210,222,243,262,271,286,300,311,321,330]
["DFES 2023 - NPg Best View",{"$f":"SUM(B53,B64)","v":8},9,11,12,14,17,19,28,34,46,54,64,70,80,94,118,138,162,179,189,202,216,235,248,258,263,272,285,292]
["NPg ED2 Planning Scenario - needs updating to old",{"$f":"SUM(B54,B65)","v":8},9,9,9,9,11,13,17,24,38,51,66,87,117,140,157,173,191,205,212,223,236,245,257,261,264,272,272,272]
["DFES 2023 - Falling Short",{"$f":"SUM(B55,B66)","v":8},9,11,12,13,15,16,18,26,36,42,46,50,63,69,77,83,89,93,96,101,105,107,111,113,117,118,121,123]
[]
["No. of  Primary Constraints - NPgN",2022,2023,2024,2025,2026,2027,2028,2029,2030,2031,2032,2033,2034,2035,2036,2037,2038,2039,2040,2041,2042,2043,2044,2045,2046,2047,2048,2049,2050]
["DFES 2023 - Consumer Transformation",1,1,1,1,2,3,4,6,10,13,14,15,15,18,23,36,42,45,54,60,64,68,74,78,81,87,93,97,99]
["DFES 2023 - System Transformation",1,1,1,1,2,3,3,8,10,11,15,15,17,18,23,30,37,42,46,54,57,64,68,73,81,87,93,101,105]
["DFES 2023 - Leading The Way",1,1,1,1,2,3,7,9,13,19,23,33,44,50,58,65,67,75,78,81,86,90,94,96,95,95,94,94,94]
["CCC 2020 - Balanced Net Zero",0,0,0,0,0,2,2,4,6,13,17,25,32,42,49,55,59,65,69,73,78,85,90,90,93,94,94,94,94]
["CT 2023 Policy Sensitivity",1,1,1,1,2,3,4,6,10,11,13,15,18,20,26,38,46,54,61,67,76,83,89,96,100,103,108,110,113]
["BV 2023 Policy Sensitivity",1,1,1,1,1,3,4,5,7,9,11,15,16,17,24,31,41,49,56,65,71,77,84,88,95,100,102,108,111]
["DFES 2023 - NPg Best View",1,1,1,1,2,3,3,7,10,14,14,15,16,18,21,33,39,45,52,57,61,64,71,75,79,82,89,93,96]
["NPg ED2 Planning Scenario - needs updating to old",0,0,0,0,0,1,2,4,6,13,17,22,30,40,49,51,58,63,67,70,73,79,83,89,90,91,93,93,93]
["DFES 2023 - Falling Short",1,1,1,1,1,3,3,3,6,9,11,12,12,16,17,20,22,22,23,24,25,25,25,25,25,28,29,30,30]
[]
["No. of  Primary Constraints - NPgY",2022,2023,2024,2025,2026,2027,2028,2029,2030,2031,2032,2033,2034,2035,2036,2037,2038,2039,2040,2041,2042,2043,2044,2045,2046,2047,2048,2049,2050]
["DFES 2023 - Consumer Transformation",7,8,10,11,12,14,16,20,23,30,37,47,53,60,75,92,106,118,130,139,145,162,172,175,181,184,191,198,203]
["DFES 2023 - System Transformation",7,8,10,11,12,15,16,21,26,34,41,47,56,66,74,83,91,101,118,123,134,143,153,162,176,182,188,197,206]
["DFES 2023 - Leading The Way",7,8,10,11,12,14,16,21,26,43,61,77,93,108,122,137,152,164,173,178,180,184,190,193,194,194,193,192,191]
["CCC 2020 - Balanced Net Zero",8,9,9,9,10,10,13,15,21,29,39,55,69,86,99,110,121,137,141,150,155,165,171,175,177,184,187,187,189]
["CT 2023 Policy Sensitivity",7,8,10,12,12,13,15,19,28,35,37,45,52,64,78,91,110,128,141,155,168,181,187,190,204,210,215,224,233]
["BV 2023 Policy Sensitivity",7,8,10,11,12,12,13,16,23,30,34,39,48,54,69,80,96,112,128,145,151,166,178,183,191,200,209,213,219]
["DFES 2023 - NPg Best View",7,8,10,11,12,14,16,21,24,32,40,49,54,62,73,85,99,117,127,132,141,152,164,173,179,181,183,192,196]
["NPg ED2 Planning Scenario - needs updating to old",8,9,9,9,9,10,11,13,18,25,34,44,57,77,91,106,115,128,138,142,150,157,162,168,171,173,179,179,179]
["DFES 2023 - Falling Short",7,8,10,11,12,12,13,15,20,27,31,34,38,47,52,57,61,67,70,72,76,80,82,86,88,89,89,91,93]
[]
["Supply Point Constraints"]
["No. of SP Constraints - NPg",2022,2023,2024,2025,2026,2027,2028,2029,2030,2031,2032,2033,2034,2035,2036,2037,2038,2039,2040,2041,2042,2043,2044,2045,2046,2047,2048,2049,2050]
["DFES 2023 - Consumer Transformation",{"$f":"SUM(B81,B92)","v":0},0,0,0,0,0,0,0,0,1,1,1,1,5,12,21,23,25,27,27,28,30,34,35,39,41,42,42,43]
["DFES 2023 - System Transformation",{"$f":"SUM(B82,B93)","v":0},0,0,0,0,0,0,0,0,1,1,2,2,6,12,17,22,24,25,26,26,28,30,33,38,39,42,46,49]
["DFES 2023 - Leading The Way",{"$f":"SUM(B83,B94)","v":0},0,0,0,0,0,0,0,0,2,4,14,19,25,25,26,30,32,36,37,38,41,42,42,42,42,42,42,42]
["CCC 2020 - Balanced Net Zero"]
["CT 2023 Policy Sensitivity"]
["BV 2023 Policy Sensitivity"]
["DFES 2023 - NPg Best View"]
["NPg ED2 Planning Scenario - needs updating to old",{"$f":"SUM(B88,B99)","v":2},2,2,2,2,2,3,3,3,3,4,8,12,19,21,23,25,29,35,36,37,37,38,39,39,40,41,41,41]
["DFES 2023 - Falling Short",{"$f":"SUM(B89,B100)","v":0},0,0,0,0,0,0,0,0,0,0,2,2,3,5,5,5,6,7,9,10,12,13,15,16,17,18,18,18]
[]
["No. of SP Constraints - NPgN",2022,2023,2024,2025,2026,2027,2028,2029,2030,2031,2032,2033,2034,2035,2036,2037,2038,2039,2040,2041,2042,2043,2044,2045,2046,2047,2048,2049,2050]
["DFES 2023 - Consumer Transformation",0,0,0,0,0,0,0,0,0,0,0,0,0,1,3,8,8,9,9,9,9,10,12,12,14,15,15,15,16]
["DFES 2023 - System Transformation",0,0,0,0,0,0,0,0,0,0,0,0,0,1,3,5,8,8,8,9,9,9,10,12,14,14,15,17,18]
["DFES 2023 - Leading The Way",0,0,0,0,0,0,0,0,0,0,0,6,7,9,9,9,10,12,12,13,13,15,15,15,15,15,15,15,15]
["CCC 2020 - Balanced Net Zero",2,2,2,2,2,2,3,3,3,3,3,4,7,9,9,9,9,12,13,15,15,15,16,16,17,17,18,19,19]
["CT 2023 Policy Sensitivity",0,0,0,0,0,0,0,0,0,0,0,0,0,1,4,8,8,9,9,10,13,14,15,15,17,17,18,19,20]
["BV 2023 Policy Sensitivity",0,0,0,0,0,0,0,0,0,0,0,0,0,1,2,5,8,8,9,9,11,13,13,15,15,17,18,18,20]
["DFES 2023 - NPg Best View",0,0,0,0,0,0,0,0,0,0,0,0,0,1,1,6,8,8,9,9,9,10,10,12,13,14,15,15,15]
["NPg ED2 Planning Scenario - needs updating to old",2,2,2,2,2,2,3,3,3,3,3,4,6,8,9,9,9,10,13,14,15,15,15,16,16,16,16,16,16]
["DFES 2023 - Falling Short",0,0,0,0,0,0,0,0,0,0,0,0,0,1,1,1,1,2,2,2,2,2,2,3,4,5,5,5,5]
[]
["No. of SP Constraints - NPgY",2022,2023,2024,2025,2026,2027,2028,2029,2030,2031,2032,2033,2034,2035,2036,2037,2038,2039,2040,2041,2042,2043,2044,2045,2046,2047,2048,2049,2050]
["DFES 2023 - Consumer Transformation",0,0,0,0,0,0,0,0,0,1,1,1,1,4,9,13,15,16,18,18,19,20,22,23,25,26,27,27,27]
["DFES 2023 - System Transformation",0,0,0,0,0,0,0,0,0,1,1,2,2,5,9,12,14,16,17,17,17,19,20,21,24,25,27,29,31]
["DFES 2023 - Leading The Way",0,0,0,0,0,0,0,0,0,2,4,8,12,16,16,17,20,20,24,24,25,26,27,27,27,27,27,27,27]
["CCC 2020 - Balanced Net Zero",0,0,0,0,0,0,0,0,0,1,2,4,7,12,13,15,17,19,22,22,22,22,24,24,24,26,26,27,27]
["CT 2023 Policy Sensitivity",0,0,0,0,0,0,0,0,0,1,2,2,2,4,11,15,16,18,19,20,21,25,27,27,29,31,32,33,34]
["BV 2023 Policy Sensitivity",0,0,0,0,0,0,0,0,0,0,2,2,3,4,5,13,16,16,18,19,20,21,23,27,28,28,31,32,33]
["DFES 2023 - NPg Best View",0,0,0,0,0,0,0,0,0,1,1,1,2,4,10,12,14,16,17,18,18,19,20,23,24,25,26,27,27]
["NPg ED2 Planning Scenario - needs updating to old",0,0,0,0,0,0,0,0,0,0,1,4,6,11,12,14,16,19,22,22,22,22,23,23,23,24,25,25,25]
["DFES 2023 - Falling Short",0,0,0,0,0,0,0,0,0,0,0,2,2,2,4,4,4,4,5,7,8,10,11,12,12,12,13,13,13]

{"sheet":"Cumul Abs Constraints CF+","index":25,"n_rows":100,"n_cols":33,"rows_kept":100,"cut":false,"hidden":false,"merged":[]}
["No. of Constraints CF+- NPg",2022,2023,2024,2025,2026,2027,2028,2029,2030,2031,2032,2033,2034,2035,2036,2037,2038,2039,2040,2041,2042,2043,2044,2045,2046,2047,2048,2049,2050,"Parameter","Licence","CHOSEN"]
["DFES 2023 - Consumer Transformation",{"$f":"SUM(B13,B24)","v":0},0,0,0,0,0,0,0,0,0,0,0,0,0,0,0,0,0,0,0,0,0,0,0,0,0,0,0,0,"No. of Constraints CF+","NPg"]
["DFES 2023 - System Transformation",{"$f":"SUM(B14,B25)","v":0},0,0,0,0,0,0,0,0,0,0,0,0,0,0,0,0,0,0,0,0,0,0,0,0,0,0,0,0,"No. of Constraints CF+","NPg"]
["DFES 2023 - Leading The Way",{"$f":"SUM(B15,B26)","v":0},0,0,0,0,0,0,0,0,0,0,0,0,0,0,0,0,0,0,0,0,0,0,0,0,0,0,0,0,"No. of Constraints CF+","NPg"]
["CCC 2020 - Balanced Net Zero",{"$f":"SUM(B16,B27)","v":0},0,0,0,0,0,0,0,0,0,0,0,0,0,0,0,0,0,0,0,0,0,0,0,0,0,0,0,0,"No. of Constraints CF+","NPg"]
["CT 2023 Policy Sensitivity",{"$f":"SUM(B17,B28)","v":0},0,0,0,0,0,0,0,0,0,0,0,0,0,0,0,0,0,0,0,0,0,0,0,0,0,0,0,0,"No. of Constraints CF+","NPg"]
["BV 2023 Policy Sensitivity",{"$f":"SUM(B18,B29)","v":0},0,0,0,0,0,0,0,0,0,0,0,0,0,0,0,0,0,0,0,0,0,0,0,0,0,0,0,0,"No. of Constraints CF+","NPg"]
["DFES 2023 - NPg Best View",{"$f":"SUM(B19,B30)","v":8},9,10,12,12,15,16,21,27,33,43,51,59,71,85,107,138,160,181,199,207,226,244,258,274,288,301,309,316,"No. of Constraints CF+","NPg"]
["NPg ED2 Planning Scenario - needs updating to old",{"$f":"SUM(B20,B31)","v":0},0,0,0,0,0,0,0,0,0,0,0,0,0,0,0,0,0,0,0,0,0,0,0,0,0,0,0,0,"No. of Constraints CF+","NPg"]
["DFES 2023 - Falling Short",{"$f":"SUM(B21,B32)","v":0},0,0,0,0,0,0,0,0,0,0,0,0,0,0,0,0,0,0,0,0,0,0,0,0,0,0,0,0,"No. of Constraints CF+","NPg"]
[]
["No. of Constraints CF+- NPgN",2022,2023,2024,2025,2026,2027,2028,2029,2030,2031,2032,2033,2034,2035,2036,2037,2038,2039,2040,2041,2042,2043,2044,2045,2046,2047,2048,2049,2050,"No. of Constraints CF+"]
["DFES 2023 - Consumer Transformation",{"$f":"SUM(B47,B81)","v":0},0,0,0,0,0,0,0,0,0,0,0,0,0,0,0,0,0,0,0,0,0,0,0,0,0,0,0,0,"No. of Constraints CF+","NPgN"]
["DFES 2023 - System Transformation",{"$f":"SUM(B48,B82)","v":0},0,0,0,0,0,0,0,0,0,0,0,0,0,0,0,0,0,0,0,0,0,0,0,0,0,0,0,0,"No. of Constraints CF+","NPgN"]
["DFES 2023 - Leading The Way",{"$f":"SUM(B49,B83)","v":0},0,0,0,0,0,0,0,0,0,0,0,0,0,0,0,0,0,0,0,0,0,0,0,0,0,0,0,0,"No. of Constraints CF+","NPgN"]
["CCC 2020 - Balanced Net Zero",{"$f":"SUM(B50,B84)","v":0},0,0,0,0,0,0,0,0,0,0,0,0,0,0,0,0,0,0,0,0,0,0,0,0,0,0,0,0,"No. of Constraints CF+","NPgN"]
["CT 2023 Policy Sensitivity",{"$f":"SUM(B51,B85)","v":0},0,0,0,0,0,0,0,0,0,0,0,0,0,0,0,0,0,0,0,0,0,0,0,0,0,0,0,0,"No. of Constraints CF+","NPgN"]
["BV 2023 Policy Sensitivity",{"$f":"SUM(B52,B86)","v":0},0,0,0,0,0,0,0,0,0,0,0,0,0,0,0,0,0,0,0,0,0,0,0,0,0,0,0,0,"No. of Constraints CF+","NPgN"]
["DFES 2023 - NPg Best View",{"$f":"SUM(B53,B87)","v":1},1,1,1,1,3,3,5,7,9,13,14,14,17,19,27,42,49,54,60,64,71,77,79,85,93,98,102,105,"No. of Constraints CF+","NPgN"]
["NPg ED2 Planning Scenario - needs updating to old",{"$f":"SUM(B54,B88)","v":0},0,0,0,0,0,0,0,0,0,0,0,0,0,0,0,0,0,0,0,0,0,0,0,0,0,0,0,0,"No. of Constraints CF+","NPgN"]
["DFES 2023 - Falling Short",{"$f":"SUM(B55,B89)","v":0},0,0,0,0,0,0,0,0,0,0,0,0,0,0,0,0,0,0,0,0,0,0,0,0,0,0,0,0,"No. of Constraints CF+","NPgN"]
[]
["No. of Constraints CF+ - NPgY",2022,2023,2024,2025,2026,2027,2028,2029,2030,2031,2032,2033,2034,2035,2036,2037,2038,2039,2040,2041,2042,2043,2044,2045,2046,2047,2048,2049,2050,"No. of Constraints CF+","NPgY"]
["DFES 2023 - Consumer Transformation",{"$f":"SUM(B58,B92)","v":0},0,0,0,0,0,0,0,0,0,0,0,0,0,0,0,0,0,0,0,0,0,0,0,0,0,0,0,0,"No. of Constraints CF+","NPgY"]
["DFES 2023 - System Transformation",{"$f":"SUM(B59,B93)","v":0},0,0,0,0,0,0,0,0,0,0,0,0,0,0,0,0,0,0,0,0,0,0,0,0,0,0,0,0,"No. of Constraints CF+","NPgY"]
["DFES 2023 - Leading The Way",{"$f":"SUM(B60,B94)","v":0},0,0,0,0,0,0,0,0,0,0,0,0,0,0,0,0,0,0,0,0,0,0,0,0,0,0,0,0,"No. of Constraints CF+","NPgY"]
["CCC 2020 - Balanced Net Zero",{"$f":"SUM(B61,B95)","v":0},0,0,0,0,0,0,0,0,0,0,0,0,0,0,0,0,0,0,0,0,0,0,0,0,0,0,0,0,"No. of Constraints CF+","NPgY"]
["CT 2023 Policy Sensitivity",{"$f":"SUM(B62,B96)","v":0},0,0,0,0,0,0,0,0,0,0,0,0,0,0,0,0,0,0,0,0,0,0,0,0,0,0,0,0,"No. of Constraints CF+","NPgY"]
["BV 2023 Policy Sensitivity",{"$f":"SUM(B63,B97)","v":0},0,0,0,0,0,0,0,0,0,0,0,0,0,0,0,0,0,0,0,0,0,0,0,0,0,0,0,0,"No. of Constraints CF+","NPgY"]
["DFES 2023 - NPg Best View",{"$f":"SUM(B64,B98)","v":7},8,9,11,11,12,13,16,20,24,30,37,45,54,66,80,96,111,127,139,143,155,167,179,189,195,203,207,211,"No. of Constraints CF+","NPgY"]
["NPg ED2 Planning Scenario - needs updating to old",{"$f":"SUM(B65,B99)","v":0},0,0,0,0,0,0,0,0,0,0,0,0,0,0,0,0,0,0,0,0,0,0,0,0,0,0,0,0,"No. of Constraints CF+","NPgY"]
["DFES 2023 - Falling Short",{"$f":"SUM(B66,B100)","v":0},0,0,0,0,0,0,0,0,0,0,0,0,0,0,0,0,0,0,0,0,0,0,0,0,0,0,0,0,"No. of Constraints CF+","NPgY"]
[]
["Primary Constraints with price driven customer flexibility"]
["No. of Constraints CF+- NPg",2022,2023,2024,2025,2026,2027,2028,2029,2030,2031,2032,2033,2034,2035,2036,2037,2038,2039,2040,2041,2042,2043,2044,2045,2046,2047,2048,2049,2050]
["DFES 2023 - Consumer Transformation",{"$f":"SUM(B47,B58)","v":0},0,0,0,0,0,0,0,0,0,0,0,0,0,0,0,0,0,0,0,0,0,0,0,0,0,0,0,0]
["DFES 2023 - System Transformation",{"$f":"SUM(B48,B59)","v":0},0,0,0,0,0,0,0,0,0,0,0,0,0,0,0,0,0,0,0,0,0,0,0,0,0,0,0,0]
["DFES 2023 - Leading The Way",{"$f":"SUM(B49,B60)","v":0},0,0,0,0,0,0,0,0,0,0,0,0,0,0,0,0,0,0,0,0,0,0,0,0,0,0,0,0]
["CCC 2020 - Balanced Net Zero",{"$f":"SUM(B50,B61)","v":0},0,0,0,0,0,0,0,0,0,0,0,0,0,0,0,0,0,0,0,0,0,0,0,0,0,0,0,0]
["CT 2023 Policy Sensitivity",{"$f":"SUM(B51,B62)","v":0},0,0,0,0,0,0,0,0,0,0,0,0,0,0,0,0,0,0,0,0,0,0,0,0,0,0,0,0]
["BV 2023 Policy Sensitivity",{"$f":"SUM(B52,B63)","v":0},0,0,0,0,0,0,0,0,0,0,0,0,0,0,0,0,0,0,0,0,0,0,0,0,0,0,0,0]
["DFES 2023 - NPg Best View",{"$f":"SUM(B53,B64)","v":8},9,10,12,12,15,16,21,27,33,43,50,58,67,80,95,118,136,156,173,181,199,215,228,243,254,262,269,275]
["NPg ED2 Planning Scenario - needs updating to old",{"$f":"SUM(B54,B65)","v":0},0,0,0,0,0,0,0,0,0,0,0,0,0,0,0,0,0,0,0,0,0,0,0,0,0,0,0,0]
["DFES 2023 - Falling Short",{"$f":"SUM(B55,B66)","v":0},0,0,0,0,0,0,0,0,0,0,0,0,0,0,0,0,0,0,0,0,0,0,0,0,0,0,0,0]
[]
["No. of Constraints CF+- NPgN",2022,2023,2024,2025,2026,2027,2028,2029,2030,2031,2032,2033,2034,2035,2036,2037,2038,2039,2040,2041,2042,2043,2044,2045,2046,2047,2048,2049,2050]
["DFES 2023 - Consumer Transformation"]
["DFES 2023 - System Transformation"]
["DFES 2023 - Leading The Way"]
["CCC 2020 - Balanced Net Zero"]
["CT 2023 Policy Sensitivity"]
["BV 2023 Policy Sensitivity"]
["DFES 2023 - NPg Best View",1,1,1,1,1,3,3,5,7,9,13,14,14,16,18,25,35,41,46,51,55,62,67,69,74,80,84,87,90]
["NPg ED2 Planning Scenario - needs updating to old"]
["DFES 2023 - Falling Short"]
[]
["No. of Constraints CF+ - NPgY",2022,2023,2024,2025,2026,2027,2028,2029,2030,2031,2032,2033,2034,2035,2036,2037,2038,2039,2040,2041,2042,2043,2044,2045,2046,2047,2048,2049,2050]
["DFES 2023 - Consumer Transformation"]
["DFES 2023 - System Transformation"]
["DFES 2023 - Leading The Way"]
["CCC 2020 - Balanced Net Zero"]
["CT 2023 Policy Sensitivity"]
["BV 2023 Policy Sensitivity"]
["DFES 2023 - NPg Best View",7,8,9,11,11,12,13,16,20,24,30,36,44,51,62,70,83,95,110,122,126,137,148,159,169,174,178,182,185]
["NPg ED2 Planning Scenario - needs updating to old"]
["DFES 2023 - Falling Short"]
[]
["Supply Point Constraints with price driven customer flexibility"]
["No. of Constraints CF+ - NPg",2022,2023,2024,2025,2026,2027,2028,2029,2030,2031,2032,2033,2034,2035,2036,2037,2038,2039,2040,2041,2042,2043,2044,2045,2046,2047,2048,2049,2050]
["DFES 2023 - Consumer Transformation"]
["DFES 2023 - System Transformation"]
["DFES 2023 - Leading The Way"]
["CCC 2020 - Balanced Net Zero"]
["CT 2023 Policy Sensitivity"]
["BV 2023 Policy Sensitivity"]
["DFES 2023 - NPg Best View",{"$f":"SUM(B87,B98)","v":0},0,0,0,0,0,0,0,0,0,0,1,1,4,5,12,20,24,25,26,26,27,29,30,31,34,39,40,41]
["NPg ED2 Planning Scenario - needs updating to old"]
["DFES 2023 - Falling Short"]
[]
["No. of Constraints CF+ - NPgN",2022,2023,2024,2025,2026,2027,2028,2029,2030,2031,2032,2033,2034,2035,2036,2037,2038,2039,2040,2041,2042,2043,2044,2045,2046,2047,2048,2049,2050]
["DFES 2023 - Consumer Transformation"]
["DFES 2023 - System Transformation"]
["DFES 2023 - Leading The Way"]
["CCC 2020 - Balanced Net Zero"]
["CT 2023 Policy Sensitivity"]
["BV 2023 Policy Sensitivity"]
["DFES 2023 - NPg Best View",0,0,0,0,0,0,0,0,0,0,0,0,0,1,1,2,7,8,8,9,9,9,10,10,11,13,14,15,15]
["NPg ED2 Planning Scenario - needs updating to old"]
["DFES 2023 - Falling Short"]
[]
["No. of Constraints CF+ - NPgY",2022,2023,2024,2025,2026,2027,2028,2029,2030,2031,2032,2033,2034,2035,2036,2037,2038,2039,2040,2041,2042,2043,2044,2045,2046,2047,2048,2049,2050]
["DFES 2023 - Consumer Transformation"]
["DFES 2023 - System Transformation"]
["DFES 2023 - Leading The Way"]
["CCC 2020 - Balanced Net Zero"]
["CT 2023 Policy Sensitivity"]
["BV 2023 Policy Sensitivity"]
["DFES 2023 - NPg Best View",0,0,0,0,0,0,0,0,0,0,0,1,1,3,4,10,13,16,17,17,17,18,19,20,20,21,25,25,26]
["NPg ED2 Planning Scenario - needs updating to old"]
["DFES 2023 - Falling Short"]

{"sheet":"Annual New Constraints CF-","index":26,"n_rows":100,"n_cols":33,"rows_kept":100,"cut":false,"hidden":false,"merged":[]}
["No. of New Constraints - NPg",2022,2023,2024,2025,2026,2027,2028,2029,2030,2031,2032,2033,2034,2035,2036,2037,2038,2039,2040,2041,2042,2043,2044,2045,2046,2047,2048,2049,2050,"Parameter","Licence","CHOSEN"]
["DFES 2023 - Consumer Transformation",{"$f":"SUM(B13,B24)","v":2},2,1,2,3,3,6,5,11,8,11,6,14,27,39,22,17,23,15,11,23,20,8,13,11,14,11,8,0,"No. of New Constraints","NPg"]
["DFES 2023 - System Transformation",{"$f":"SUM(B14,B25)","v":0},0,0,0,0,0,0,0,0,0,0,0,0,0,0,0,0,0,0,0,0,0,0,0,0,0,0,0,0,"No. of New Constraints","NPg"]
["DFES 2023 - Leading The Way",{"$f":"SUM(B15,B26)","v":2},2,1,2,3,4,7,9,25,24,36,32,27,22,23,21,22,16,9,8,11,11,5,1,0,0,0,0,0,"No. of New Constraints","NPg"]
["CCC 2020 - Balanced Net Zero",{"$f":"SUM(B16,B27)","v":7},1,0,0,1,2,4,2,9,16,15,27,27,33,21,19,17,27,12,15,10,17,14,4,6,10,4,2,2,"No. of New Constraints","NPg"]
["CT 2023 Policy Sensitivity",{"$f":"SUM(B17,B28)","v":2},2,2,1,2,2,6,13,9,5,10,10,17,30,33,28,29,21,22,26,25,15,10,22,11,12,13,14,0,"No. of New Constraints","NPg"]
["BV 2023 Policy Sensitivity",{"$f":"SUM(B18,B29)","v":2},2,1,1,2,1,4,9,9,8,9,11,9,24,29,32,24,26,27,15,24,21,15,16,16,15,11,12,0,"No. of New Constraints","NPg"]
["DFES 2023 - NPg Best View",{"$f":"SUM(B19,B30)","v":2},2,1,2,3,2,8,5,13,8,10,7,13,20,31,24,26,19,11,13,16,20,18,12,7,11,14,7,0,"No. of New Constraints","NPg"]
["NPg ED2 Planning Scenario - needs updating to old",{"$f":"SUM(B20,B31)","v":2},2,1,2,3,2,8,5,13,8,10,7,13,20,31,24,26,19,11,13,16,20,18,12,7,11,14,7,0,"No. of New Constraints","NPg"]
["DFES 2023 - Falling Short",{"$f":"SUM(B21,B32)","v":2},2,1,1,2,1,2,7,10,6,6,4,14,8,8,6,7,5,5,6,6,3,6,3,5,2,3,2,0,"No. of New Constraints","NPg"]
[]
["No. of New Constraints - NPgN",2022,2023,2024,2025,2026,2027,2028,2029,2030,2031,2032,2033,2034,2035,2036,2037,2038,2039,2040,2041,2042,2043,2044,2045,2046,2047,2048,2049,2050,"No. of New Constraints"]
["DFES 2023 - Consumer Transformation",{"$f":"SUM(B47,B81)","v":0},0,0,1,1,1,2,2,3,1,1,0,4,7,18,6,4,9,6,4,5,8,4,5,7,6,4,3,0,"No. of New Constraints","NPgN"]
["DFES 2023 - System Transformation",{"$f":"SUM(B48,B82)","v":0},0,0,0,0,0,0,0,0,0,0,0,0,0,0,0,0,0,0,0,0,0,0,0,0,0,0,0,0,"No. of New Constraints","NPgN"]
["DFES 2023 - Leading The Way",{"$f":"SUM(B49,B83)","v":0},0,0,1,1,2,2,4,6,4,16,12,8,8,7,3,10,3,4,5,6,4,2,0,0,0,0,0,0,"No. of New Constraints","NPgN"]
["CCC 2020 - Balanced Net Zero",{"$f":"SUM(B50,B84)","v":2},0,0,0,0,2,1,0,2,7,4,9,10,12,7,6,4,9,5,6,5,7,6,0,4,1,1,1,0,"No. of New Constraints","NPgN"]
["CT 2023 Policy Sensitivity",{"$f":"SUM(B51,B85)","v":0},0,0,1,1,0,2,4,1,2,2,3,3,9,16,8,9,7,7,12,8,7,7,6,3,6,3,4,0,"No. of New Constraints","NPgN"]
["BV 2023 Policy Sensitivity",{"$f":"SUM(B52,B86)","v":0},0,0,0,2,0,1,2,2,2,4,1,2,8,10,13,8,8,9,8,8,7,6,7,7,3,6,5,0,"No. of New Constraints","NPgN"]
["DFES 2023 - NPg Best View",{"$f":"SUM(B53,B87)","v":0},0,0,1,1,0,3,2,4,0,1,1,3,3,17,8,6,8,5,4,4,7,6,5,4,8,4,3,0,"No. of New Constraints","NPgN"]
["NPg ED2 Planning Scenario - needs updating to old",{"$f":"SUM(B54,B88)","v":0},0,0,1,1,0,3,2,4,0,1,1,3,3,17,8,6,8,5,4,4,7,6,5,4,8,4,3,0,"No. of New Constraints","NPgN"]
["DFES 2023 - Falling Short",{"$f":"SUM(B55,B89)","v":0},0,0,0,2,0,0,2,3,2,1,0,5,1,3,2,1,1,1,1,0,0,1,1,4,1,1,0,0,"No. of New Constraints","NPgN"]
[]
["No. of New Constraints - NPgY",2022,2023,2024,2025,2026,2027,2028,2029,2030,2031,2032,2033,2034,2035,2036,2037,2038,2039,2040,2041,2042,2043,2044,2045,2046,2047,2048,2049,2050,"No. of New Constraints","NPgY"]
["DFES 2023 - Consumer Transformation",{"$f":"SUM(B58,B92)","v":2},2,1,1,2,2,4,3,8,7,10,6,10,20,21,16,13,14,9,7,18,12,4,8,4,8,7,5,0,"No. of New Constraints","NPgY"]
["DFES 2023 - System Transformation",{"$f":"SUM(B59,B93)","v":0},0,0,0,0,0,0,0,0,0,0,0,0,0,0,0,0,0,0,0,0,0,0,0,0,0,0,0,0,"No. of New Constraints","NPgY"]
["DFES 2023 - Leading The Way",{"$f":"SUM(B60,B94)","v":2},2,1,1,2,2,5,5,19,20,20,20,19,14,16,18,12,13,5,3,5,7,3,1,0,0,0,0,0,"No. of New Constraints","NPgY"]
["CCC 2020 - Balanced Net Zero",{"$f":"SUM(B61,B95)","v":5},1,0,0,1,0,3,2,7,9,11,18,17,21,14,13,13,18,7,9,5,10,8,4,2,9,3,1,2,"No. of New Constraints","NPgY"]
["CT 2023 Policy Sensitivity",{"$f":"SUM(B62,B96)","v":2},2,2,0,1,2,4,9,8,3,8,7,14,21,17,20,20,14,15,14,17,8,3,16,8,6,10,10,0,"No. of New Constraints","NPgY"]
["BV 2023 Policy Sensitivity",{"$f":"SUM(B63,B97)","v":2},2,1,1,0,1,3,7,7,6,5,10,7,16,19,19,16,18,18,7,16,14,9,9,9,12,5,7,0,"No. of New Constraints","NPgY"]
["DFES 2023 - NPg Best View",{"$f":"SUM(B64,B98)","v":2},2,1,1,2,2,5,3,9,8,9,6,10,17,14,16,20,11,6,9,12,13,12,7,3,3,10,4,0,"No. of New Constraints","NPgY"]
["NPg ED2 Planning Scenario - needs updating to old",{"$f":"SUM(B65,B99)","v":2},2,1,1,2,2,5,3,9,8,9,6,10,17,14,16,20,11,6,9,12,13,12,7,3,3,10,4,0,"No. of New Constraints","NPgY"]
["DFES 2023 - Falling Short",{"$f":"SUM(B66,B100)","v":2},2,1,1,0,1,2,5,7,4,5,4,9,7,5,4,6,4,4,5,6,3,5,2,1,1,2,2,0,"No. of New Constraints","NPgY"]
[]
["Primary Constraints"]
["No. of New Constraints - NPg",2022,2023,2024,2025,2026,2027,2028,2029,2030,2031,2032,2033,2034,2035,2036,2037,2038,2039,2040,2041,2042,2043,2044,2045,2046,2047,2048,2049,2050]
["DFES 2023 - Consumer Transformation",{"$f":"SUM(B47,B58)","v":1},2,1,2,3,3,6,5,10,8,11,6,10,20,30,20,15,21,15,10,21,16,7,9,9,13,11,7,0]
["DFES 2023 - System Transformation",{"$f":"SUM(B48,B59)","v":0},0,0,0,0,0,0,0,0,0,0,0,0,0,0,0,0,0,0,0,0,0,0,0,0,0,0,0,0]
["DFES 2023 - Leading The Way",{"$f":"SUM(B49,B60)","v":1},2,1,2,3,4,7,9,23,22,26,27,21,22,22,17,20,12,8,7,8,10,5,1,0,0,0,0,0]
["CCC 2020 - Balanced Net Zero",{"$f":"SUM(B50,B61)","v":5},1,0,0,1,2,3,2,9,15,14,24,21,26,20,17,15,22,8,13,10,17,11,4,5,8,3,0,2]
["CT 2023 Policy Sensitivity",{"$f":"SUM(B51,B62)","v":1},2,2,1,2,2,6,13,8,4,10,10,14,20,25,27,26,20,20,22,20,12,10,18,9,10,11,12,0]
["BV 2023 Policy Sensitivity",{"$f":"SUM(B52,B63)","v":1},2,1,1,2,1,4,9,9,6,9,10,7,22,18,26,24,23,26,12,21,19,9,15,14,11,10,9,0]
["DFES 2023 - NPg Best View",{"$f":"SUM(B53,B64)","v":1},2,1,2,3,2,8,5,12,8,10,6,10,14,24,20,24,17,10,13,14,19,13,10,5,9,13,7,0]
["NPg ED2 Planning Scenario - needs updating to old",{"$f":"SUM(B54,B65)","v":1},2,1,2,3,2,8,5,12,8,10,6,10,14,24,20,24,17,10,13,14,19,13,10,5,9,13,7,0]
["DFES 2023 - Falling Short",{"$f":"SUM(B55,B66)","v":1},2,1,1,2,1,2,7,10,6,4,4,13,6,8,6,6,4,3,5,4,2,4,2,4,1,3,2,0]
[]
["No. of New Constraints - NPgN",2022,2023,2024,2025,2026,2027,2028,2029,2030,2031,2032,2033,2034,2035,2036,2037,2038,2039,2040,2041,2042,2043,2044,2045,2046,2047,2048,2049,2050]
["DFES 2023 - Consumer Transformation",0,0,0,1,1,1,2,2,3,1,1,0,3,5,13,6,3,9,6,4,4,6,4,3,6,6,4,2,0]
["DFES 2023 - System Transformation",0,0,0,0,0,0,0,0,0,0,0,0,0,0,0,0,0,0,0,0,0,0,0,0,0,0,0,0,0]
["DFES 2023 - Leading The Way",0,0,0,1,1,2,2,4,6,4,10,11,6,8,7,2,8,3,3,5,4,4,2,0,0,0,0,0,0]
["CCC 2020 - Balanced Net Zero",0,0,0,0,0,2,0,0,2,7,4,8,7,10,7,6,4,6,4,4,5,7,5,0,3,1,0,0,0]
["CT 2023 Policy Sensitivity",0,0,0,1,1,0,2,4,1,2,2,3,2,6,12,8,8,7,6,9,7,6,7,4,3,5,2,3,0]
["BV 2023 Policy Sensitivity",0,0,0,0,2,0,1,2,2,2,4,1,1,7,7,10,8,7,9,6,6,7,4,7,5,2,6,3,0]
["DFES 2023 - NPg Best View",0,0,0,1,1,0,3,2,4,0,1,1,2,3,12,6,6,7,5,4,3,7,4,4,3,7,4,3,0]
["NPg ED2 Planning Scenario - needs updating to old",0,0,0,1,1,0,3,2,4,0,1,1,2,3,12,6,6,7,5,4,3,7,4,4,3,7,4,3,0]
["DFES 2023 - Falling Short",0,0,0,0,2,0,0,2,3,2,1,0,4,1,3,2,0,1,1,1,0,0,0,0,3,1,1,0,0]
[]
["No. of New Constraints - NPgY",2022,2023,2024,2025,2026,2027,2028,2029,2030,2031,2032,2033,2034,2035,2036,2037,2038,2039,2040,2041,2042,2043,2044,2045,2046,2047,2048,2049,2050]
["DFES 2023 - Consumer Transformation",1,2,1,1,2,2,4,3,7,7,10,6,7,15,17,14,12,12,9,6,17,10,3,6,3,7,7,5,0]
["DFES 2023 - System Transformation",0,0,0,0,0,0,0,0,0,0,0,0,0,0,0,0,0,0,0,0,0,0,0,0,0,0,0,0,0]
["DFES 2023 - Leading The Way",1,2,1,1,2,2,5,5,17,18,16,16,15,14,15,15,12,9,5,2,4,6,3,1,0,0,0,0,0]
["CCC 2020 - Balanced Net Zero",5,1,0,0,1,0,3,2,7,8,10,16,14,16,13,11,11,16,4,9,5,10,6,4,2,7,3,0,2]
["CT 2023 Policy Sensitivity",1,2,2,0,1,2,4,9,7,2,8,7,12,14,13,19,18,13,14,13,13,6,3,14,6,5,9,9,0]
["BV 2023 Policy Sensitivity",1,2,1,1,0,1,3,7,7,4,5,9,6,15,11,16,16,16,17,6,15,12,5,8,9,9,4,6,0]
["DFES 2023 - NPg Best View",1,2,1,1,2,2,5,3,8,8,9,5,8,11,12,14,18,10,5,9,11,12,9,6,2,2,9,4,0]
["NPg ED2 Planning Scenario - needs updating to old",1,2,1,1,2,2,5,3,8,8,9,5,8,11,12,14,18,10,5,9,11,12,9,6,2,2,9,4,0]
["DFES 2023 - Falling Short",1,2,1,1,0,1,2,5,7,4,3,4,9,5,5,4,6,3,2,4,4,2,4,2,1,0,2,2,0]
[]
["Supply Point Constraints"]
["No. of New Constraints - NPg",2022,2023,2024,2025,2026,2027,2028,2029,2030,2031,2032,2033,2034,2035,2036,2037,2038,2039,2040,2041,2042,2043,2044,2045,2046,2047,2048,2049,2050]
["DFES 2023 - Consumer Transformation",{"$f":"SUM(B81,B92)","v":1},0,0,0,0,0,0,0,1,0,0,0,4,7,9,2,2,2,0,1,2,4,1,4,2,1,0,1,0]
["DFES 2023 - System Transformation",{"$f":"SUM(B82,B93)","v":0},0,0,0,0,0,0,0,0,0,0,0,0,0,0,0,0,0,0,0,0,0,0,0,0,0,0,0,0]
["DFES 2023 - Leading The Way",{"$f":"SUM(B83,B94)","v":1},0,0,0,0,0,0,0,2,2,10,5,6,0,1,4,2,4,1,1,3,1,0,0,0,0,0,0,0]
["CCC 2020 - Balanced Net Zero",{"$f":"SUM(B84,B95)","v":2},0,0,0,0,0,1,0,0,1,1,3,6,7,1,2,2,5,4,2,0,0,3,0,1,2,1,2,0]
["CT 2023 Policy Sensitivity",{"$f":"SUM(B85,B96)","v":1},0,0,0,0,0,0,0,1,1,0,0,3,10,8,1,3,1,2,4,5,3,0,4,2,2,2,2,0]
["BV 2023 Policy Sensitivity",{"$f":"SUM(B86,B97)","v":1},0,0,0,0,0,0,0,0,2,0,1,2,2,11,6,0,3,1,3,3,2,6,1,2,4,1,3,0]
["DFES 2023 - NPg Best View",{"$f":"SUM(B87,B98)","v":1},0,0,0,0,0,0,0,1,0,0,1,3,6,7,4,2,2,1,0,2,1,5,2,2,2,1,0,0]
["NPg ED2 Planning Scenario - needs updating to old",{"$f":"SUM(B88,B99)","v":1},0,0,0,0,0,0,0,1,0,0,1,3,6,7,4,2,2,1,0,2,1,5,2,2,2,1,0,0]
["DFES 2023 - Falling Short",{"$f":"SUM(B89,B100)","v":1},0,0,0,0,0,0,0,0,0,2,0,1,2,0,0,1,1,2,1,2,1,2,1,1,1,0,0,0]
[]
["No. of New Constraints - NPgN",2022,2023,2024,2025,2026,2027,2028,2029,2030,2031,2032,2033,2034,2035,2036,2037,2038,2039,2040,2041,2042,2043,2044,2045,2046,2047,2048,2049,2050]
["DFES 2023 - Consumer Transformation",0,0,0,0,0,0,0,0,0,0,0,0,1,2,5,0,1,0,0,0,1,2,0,2,1,0,0,1,0]
["DFES 2023 - System Transformation",0,0,0,0,0,0,0,0,0,0,0,0,0,0,0,0,0,0,0,0,0,0,0,0,0,0,0,0,0]
["DFES 2023 - Leading The Way",0,0,0,0,0,0,0,0,0,0,6,1,2,0,0,1,2,0,1,0,2,0,0,0,0,0,0,0,0]
["CCC 2020 - Balanced Net Zero",2,0,0,0,0,0,1,0,0,0,0,1,3,2,0,0,0,3,1,2,0,0,1,0,1,0,1,1,0]
["CT 2023 Policy Sensitivity",0,0,0,0,0,0,0,0,0,0,0,0,1,3,4,0,1,0,1,3,1,1,0,2,0,1,1,1,0]
["BV 2023 Policy Sensitivity",0,0,0,0,0,0,0,0,0,0,0,0,1,1,3,3,0,1,0,2,2,0,2,0,2,1,0,2,0]
["DFES 2023 - NPg Best View",0,0,0,0,0,0,0,0,0,0,0,0,1,0,5,2,0,1,0,0,1,0,2,1,1,1,0,0,0]
["NPg ED2 Planning Scenario - needs updating to old",0,0,0,0,0,0,0,0,0,0,0,0,1,0,5,2,0,1,0,0,1,0,2,1,1,1,0,0,0]
["DFES 2023 - Falling Short",0,0,0,0,0,0,0,0,0,0,0,0,1,0,0,0,1,0,0,0,0,0,1,1,1,0,0,0,0]
[]
["No. of New Constraints - NPgY",2022,2023,2024,2025,2026,2027,2028,2029,2030,2031,2032,2033,2034,2035,2036,2037,2038,2039,2040,2041,2042,2043,2044,2045,2046,2047,2048,2049,2050]
["DFES 2023 - Consumer Transformation",1,0,0,0,0,0,0,0,1,0,0,0,3,5,4,2,1,2,0,1,1,2,1,2,1,1,0,0,0]
["DFES 2023 - System Transformation",0,0,0,0,0,0,0,0,0,0,0,0,0,0,0,0,0,0,0,0,0,0,0,0,0,0,0,0,0]
["DFES 2023 - Leading The Way",1,0,0,0,0,0,0,0,2,2,4,4,4,0,1,3,0,4,0,1,1,1,0,0,0,0,0,0,0]
["CCC 2020 - Balanced Net Zero",0,0,0,0,0,0,0,0,0,1,1,2,3,5,1,2,2,2,3,0,0,0,2,0,0,2,0,1,0]
["CT 2023 Policy Sensitivity",1,0,0,0,0,0,0,0,1,1,0,0,2,7,4,1,2,1,1,1,4,2,0,2,2,1,1,1,0]
["BV 2023 Policy Sensitivity",1,0,0,0,0,0,0,0,0,2,0,1,1,1,8,3,0,2,1,1,1,2,4,1,0,3,1,1,0]
["DFES 2023 - NPg Best View",1,0,0,0,0,0,0,0,1,0,0,1,2,6,2,2,2,1,1,0,1,1,3,1,1,1,1,0,0]
["NPg ED2 Planning Scenario - needs updating to old",1,0,0,0,0,0,0,0,1,0,0,1,2,6,2,2,2,1,1,0,1,1,3,1,1,1,1,0,0]
["DFES 2023 - Falling Short",1,0,0,0,0,0,0,0,0,0,2,0,0,2,0,0,0,1,2,1,2,1,1,0,0,1,0,0,0]

{"sheet":"Annual New Constraints CF+","index":27,"n_rows":100,"n_cols":33,"rows_kept":100,"cut":false,"hidden":false,"merged":[]}
["No. of New Constraints CF+- NPg",2022,2023,2024,2025,2026,2027,2028,2029,2030,2031,2032,2033,2034,2035,2036,2037,2038,2039,2040,2041,2042,2043,2044,2045,2046,2047,2048,2049,2050,"Parameter","Licence","CHOSEN"]
["DFES 2023 - Consumer Transformation",{"$f":"SUM(B13,B24)","v":0},0,0,0,0,0,0,0,0,0,0,0,0,0,0,0,0,0,0,0,0,0,0,0,0,0,0,0,0,"No. of New Constraints CF+","NPg"]
["DFES 2023 - System Transformation",{"$f":"SUM(B14,B25)","v":0},0,0,0,0,0,0,0,0,0,0,0,0,0,0,0,0,0,0,0,0,0,0,0,0,0,0,0,0,"No. of New Constraints CF+","NPg"]
["DFES 2023 - Leading The Way",{"$f":"SUM(B15,B26)","v":0},0,0,0,0,0,0,0,0,0,0,0,0,0,0,0,0,0,0,0,0,0,0,0,0,0,0,0,0,"No. of New Constraints CF+","NPg"]
["CCC 2020 - Balanced Net Zero",{"$f":"SUM(B16,B27)","v":0},0,0,0,0,0,0,0,0,0,0,0,0,0,0,0,0,0,0,0,0,0,0,0,0,0,0,0,0,"No. of New Constraints CF+","NPg"]
["CT 2023 Policy Sensitivity",{"$f":"SUM(B17,B28)","v":0},0,0,0,0,0,0,0,0,0,0,0,0,0,0,0,0,0,0,0,0,0,0,0,0,0,0,0,0,"No. of New Constraints CF+","NPg"]
["BV 2023 Policy Sensitivity",{"$f":"SUM(B18,B29)","v":0},0,0,0,0,0,0,0,0,0,0,0,0,0,0,0,0,0,0,0,0,0,0,0,0,0,0,0,0,"No. of New Constraints CF+","NPg"]
["DFES 2023 - NPg Best View",{"$f":"SUM(B19,B30)","v":2},1,2,0,3,1,4,6,5,10,8,8,12,14,22,31,22,21,18,8,19,18,14,16,14,13,8,7,0,"No. of New Constraints CF+","NPg"]
["NPg ED2 Planning Scenario - needs updating to old",{"$f":"SUM(B20,B31)","v":0},0,0,0,0,0,0,0,0,0,0,0,0,0,0,0,0,0,0,0,0,0,0,0,0,0,0,0,0,"No. of New Constraints CF+","NPg"]
["DFES 2023 - Falling Short",{"$f":"SUM(B21,B32)","v":0},0,0,0,0,0,0,0,0,0,0,0,0,0,0,0,0,0,0,0,0,0,0,0,0,0,0,0,0,"No. of New Constraints CF+","NPg"]
[]
["No. of New Constraints CF+- NPgN",2022,2023,2024,2025,2026,2027,2028,2029,2030,2031,2032,2033,2034,2035,2036,2037,2038,2039,2040,2041,2042,2043,2044,2045,2046,2047,2048,2049,2050,"No. of New Constraints CF+"]
["DFES 2023 - Consumer Transformation",{"$f":"SUM(B47,B81)","v":0},0,0,0,0,0,0,0,0,0,0,0,0,0,0,0,0,0,0,0,0,0,0,0,0,0,0,0,0,"No. of New Constraints CF+","NPgN"]
["DFES 2023 - System Transformation",{"$f":"SUM(B48,B82)","v":0},0,0,0,0,0,0,0,0,0,0,0,0,0,0,0,0,0,0,0,0,0,0,0,0,0,0,0,0,"No. of New Constraints CF+","NPgN"]
["DFES 2023 - Leading The Way",{"$f":"SUM(B49,B83)","v":0},0,0,0,0,0,0,0,0,0,0,0,0,0,0,0,0,0,0,0,0,0,0,0,0,0,0,0,0,"No. of New Constraints CF+","NPgN"]
["CCC 2020 - Balanced Net Zero",{"$f":"SUM(B50,B84)","v":0},0,0,0,0,0,0,0,0,0,0,0,0,0,0,0,0,0,0,0,0,0,0,0,0,0,0,0,0,"No. of New Constraints CF+","NPgN"]
["CT 2023 Policy Sensitivity",{"$f":"SUM(B51,B85)","v":0},0,0,0,0,0,0,0,0,0,0,0,0,0,0,0,0,0,0,0,0,0,0,0,0,0,0,0,0,"No. of New Constraints CF+","NPgN"]
["BV 2023 Policy Sensitivity",{"$f":"SUM(B52,B86)","v":0},0,0,0,0,0,0,0,0,0,0,0,0,0,0,0,0,0,0,0,0,0,0,0,0,0,0,0,0,"No. of New Constraints CF+","NPgN"]
["DFES 2023 - NPg Best View",{"$f":"SUM(B53,B87)","v":0},0,0,0,2,0,1,2,1,4,1,0,3,2,8,15,7,5,6,4,7,6,2,6,8,5,4,3,0,"No. of New Constraints CF+","NPgN"]
["NPg ED2 Planning Scenario - needs updating to old",{"$f":"SUM(B54,B88)","v":0},0,0,0,0,0,0,0,0,0,0,0,0,0,0,0,0,0,0,0,0,0,0,0,0,0,0,0,0,"No. of New Constraints CF+","NPgN"]
["DFES 2023 - Falling Short",{"$f":"SUM(B55,B89)","v":0},0,0,0,0,0,0,0,0,0,0,0,0,0,0,0,0,0,0,0,0,0,0,0,0,0,0,0,0,"No. of New Constraints CF+","NPgN"]
[]
["No. of New Constraints CF+ - NPgY",2022,2023,2024,2025,2026,2027,2028,2029,2030,2031,2032,2033,2034,2035,2036,2037,2038,2039,2040,2041,2042,2043,2044,2045,2046,2047,2048,2049,2050,"No. of New Constraints CF+","NPgY"]
["DFES 2023 - Consumer Transformation",{"$f":"SUM(B58,B92)","v":0},0,0,0,0,0,0,0,0,0,0,0,0,0,0,0,0,0,0,0,0,0,0,0,0,0,0,0,0,"No. of New Constraints CF+","NPgY"]
["DFES 2023 - System Transformation",{"$f":"SUM(B59,B93)","v":0},0,0,0,0,0,0,0,0,0,0,0,0,0,0,0,0,0,0,0,0,0,0,0,0,0,0,0,0,"No. of New Constraints CF+","NPgY"]
["DFES 2023 - Leading The Way",{"$f":"SUM(B60,B94)","v":0},0,0,0,0,0,0,0,0,0,0,0,0,0,0,0,0,0,0,0,0,0,0,0,0,0,0,0,0,"No. of New Constraints CF+","NPgY"]
["CCC 2020 - Balanced Net Zero",{"$f":"SUM(B61,B95)","v":0},0,0,0,0,0,0,0,0,0,0,0,0,0,0,0,0,0,0,0,0,0,0,0,0,0,0,0,0,"No. of New Constraints CF+","NPgY"]
["CT 2023 Policy Sensitivity",{"$f":"SUM(B62,B96)","v":0},0,0,0,0,0,0,0,0,0,0,0,0,0,0,0,0,0,0,0,0,0,0,0,0,0,0,0,0,"No. of New Constraints CF+","NPgY"]
["BV 2023 Policy Sensitivity",{"$f":"SUM(B63,B97)","v":0},0,0,0,0,0,0,0,0,0,0,0,0,0,0,0,0,0,0,0,0,0,0,0,0,0,0,0,0,"No. of New Constraints CF+","NPgY"]
["DFES 2023 - NPg Best View",{"$f":"SUM(B64,B98)","v":2},1,2,0,1,1,3,4,4,6,7,8,9,12,14,16,15,16,12,4,12,12,12,10,6,8,4,4,0,"No. of New Constraints CF+","NPgY"]
["NPg ED2 Planning Scenario - needs updating to old",{"$f":"SUM(B65,B99)","v":0},0,0,0,0,0,0,0,0,0,0,0,0,0,0,0,0,0,0,0,0,0,0,0,0,0,0,0,0,"No. of New Constraints CF+","NPgY"]
["DFES 2023 - Falling Short",{"$f":"SUM(B66,B100)","v":0},0,0,0,0,0,0,0,0,0,0,0,0,0,0,0,0,0,0,0,0,0,0,0,0,0,0,0,0,"No. of New Constraints CF+","NPgY"]
[]
["Primary Constraints with price driven customer flexibility"]
["No. of New Constraints CF+- NPg",2022,2023,2024,2025,2026,2027,2028,2029,2030,2031,2032,2033,2034,2035,2036,2037,2038,2039,2040,2041,2042,2043,2044,2045,2046,2047,2048,2049,2050]
["DFES 2023 - Consumer Transformation",{"$f":"SUM(B47,B58)","v":0},0,0,0,0,0,0,0,0,0,0,0,0,0,0,0,0,0,0,0,0,0,0,0,0,0,0,0,0]
["DFES 2023 - System Transformation",{"$f":"SUM(B48,B59)","v":0},0,0,0,0,0,0,0,0,0,0,0,0,0,0,0,0,0,0,0,0,0,0,0,0,0,0,0,0]
["DFES 2023 - Leading The Way",{"$f":"SUM(B49,B60)","v":0},0,0,0,0,0,0,0,0,0,0,0,0,0,0,0,0,0,0,0,0,0,0,0,0,0,0,0,0]
["CCC 2020 - Balanced Net Zero",{"$f":"SUM(B50,B61)","v":0},0,0,0,0,0,0,0,0,0,0,0,0,0,0,0,0,0,0,0,0,0,0,0,0,0,0,0,0]
["CT 2023 Policy Sensitivity",{"$f":"SUM(B51,B62)","v":0},0,0,0,0,0,0,0,0,0,0,0,0,0,0,0,0,0,0,0,0,0,0,0,0,0,0,0,0]
["BV 2023 Policy Sensitivity",{"$f":"SUM(B52,B63)","v":0},0,0,0,0,0,0,0,0,0,0,0,0,0,0,0,0,0,0,0,0,0,0,0,0,0,0,0,0]
["DFES 2023 - NPg Best View",{"$f":"SUM(B53,B64)","v":1},1,2,0,3,1,4,6,5,10,7,8,9,13,15,23,18,20,17,8,18,16,13,15,11,8,7,6,0]
["NPg ED2 Planning Scenario - needs updating to old",{"$f":"SUM(B54,B65)","v":0},0,0,0,0,0,0,0,0,0,0,0,0,0,0,0,0,0,0,0,0,0,0,0,0,0,0,0,0]
["DFES 2023 - Falling Short",{"$f":"SUM(B55,B66)","v":0},0,0,0,0,0,0,0,0,0,0,0,0,0,0,0,0,0,0,0,0,0,0,0,0,0,0,0,0]
[]
["No. of New Constraints CF+- NPgN",2022,2023,2024,2025,2026,2027,2028,2029,2030,2031,2032,2033,2034,2035,2036,2037,2038,2039,2040,2041,2042,2043,2044,2045,2046,2047,2048,2049,2050]
["DFES 2023 - Consumer Transformation"]
["DFES 2023 - System Transformation"]
["DFES 2023 - Leading The Way"]
["CCC 2020 - Balanced Net Zero"]
["CT 2023 Policy Sensitivity"]
["BV 2023 Policy Sensitivity"]
["DFES 2023 - NPg Best View",0,0,0,0,2,0,1,2,1,4,1,0,2,2,7,10,6,5,5,4,7,5,2,5,6,4,3,3,0]
["NPg ED2 Planning Scenario - needs updating to old"]
["DFES 2023 - Falling Short"]
[]
["No. of New Constraints CF+ - NPgY",2022,2023,2024,2025,2026,2027,2028,2029,2030,2031,2032,2033,2034,2035,2036,2037,2038,2039,2040,2041,2042,2043,2044,2045,2046,2047,2048,2049,2050]
["DFES 2023 - Consumer Transformation"]
["DFES 2023 - System Transformation"]
["DFES 2023 - Leading The Way"]
["CCC 2020 - Balanced Net Zero"]
["CT 2023 Policy Sensitivity"]
["BV 2023 Policy Sensitivity"]
["DFES 2023 - NPg Best View",1,1,2,0,1,1,3,4,4,6,6,8,7,11,8,13,12,15,12,4,11,11,11,10,5,4,4,3,0]
["NPg ED2 Planning Scenario - needs updating to old"]
["DFES 2023 - Falling Short"]
[]
["Supply Point Constraints with price driven customer flexibility"]
["No. of New Constraints CF+ - NPg",2022,2023,2024,2025,2026,2027,2028,2029,2030,2031,2032,2033,2034,2035,2036,2037,2038,2039,2040,2041,2042,2043,2044,2045,2046,2047,2048,2049,2050]
["DFES 2023 - Consumer Transformation",{"$f":"SUM(B81,B92)","v":0},0,0,0,0,0,0,0,0,0,0,0,0,0,0,0,0,0,0,0,0,0,0,0,0,0,0,0,0]
["DFES 2023 - System Transformation",{"$f":"SUM(B82,B93)","v":0},0,0,0,0,0,0,0,0,0,0,0,0,0,0,0,0,0,0,0,0,0,0,0,0,0,0,0,0]
["DFES 2023 - Leading The Way",{"$f":"SUM(B83,B94)","v":0},0,0,0,0,0,0,0,0,0,0,0,0,0,0,0,0,0,0,0,0,0,0,0,0,0,0,0,0]
["CCC 2020 - Balanced Net Zero",{"$f":"SUM(B84,B95)","v":0},0,0,0,0,0,0,0,0,0,0,0,0,0,0,0,0,0,0,0,0,0,0,0,0,0,0,0,0]
["CT 2023 Policy Sensitivity",{"$f":"SUM(B85,B96)","v":0},0,0,0,0,0,0,0,0,0,0,0,0,0,0,0,0,0,0,0,0,0,0,0,0,0,0,0,0]
["BV 2023 Policy Sensitivity",{"$f":"SUM(B86,B97)","v":0},0,0,0,0,0,0,0,0,0,0,0,0,0,0,0,0,0,0,0,0,0,0,0,0,0,0,0,0]
["DFES 2023 - NPg Best View",{"$f":"SUM(B87,B98)","v":1},0,0,0,0,0,0,0,0,0,1,0,3,1,7,8,4,1,1,0,1,2,1,1,3,5,1,1,0]
["NPg ED2 Planning Scenario - needs updating to old",{"$f":"SUM(B88,B99)","v":0},0,0,0,0,0,0,0,0,0,0,0,0,0,0,0,0,0,0,0,0,0,0,0,0,0,0,0,0]
["DFES 2023 - Falling Short",{"$f":"SUM(B89,B100)","v":0},0,0,0,0,0,0,0,0,0,0,0,0,0,0,0,0,0,0,0,0,0,0,0,0,0,0,0,0]
[]
["No. of New Constraints CF+ - NPgN",2022,2023,2024,2025,2026,2027,2028,2029,2030,2031,2032,2033,2034,2035,2036,2037,2038,2039,2040,2041,2042,2043,2044,2045,2046,2047,2048,2049,2050]
["DFES 2023 - Consumer Transformation"]
["DFES 2023 - System Transformation"]
["DFES 2023 - Leading The Way"]
["CCC 2020 - Balanced Net Zero"]
["CT 2023 Policy Sensitivity"]
["BV 2023 Policy Sensitivity"]
["DFES 2023 - NPg Best View",0,0,0,0,0,0,0,0,0,0,0,0,1,0,1,5,1,0,1,0,0,1,0,1,2,1,1,0,0]
["NPg ED2 Planning Scenario - needs updating to old"]
["DFES 2023 - Falling Short"]
[]
["No. of New Constraints CF+ - NPgY",2022,2023,2024,2025,2026,2027,2028,2029,2030,2031,2032,2033,2034,2035,2036,2037,2038,2039,2040,2041,2042,2043,2044,2045,2046,2047,2048,2049,2050]
["DFES 2023 - Consumer Transformation"]
["DFES 2023 - System Transformation"]
["DFES 2023 - Leading The Way"]
["CCC 2020 - Balanced Net Zero"]
["CT 2023 Policy Sensitivity"]
["BV 2023 Policy Sensitivity"]
["DFES 2023 - NPg Best View",1,0,0,0,0,0,0,0,0,0,1,0,2,1,6,3,3,1,0,0,1,1,1,0,1,4,0,1,0]
["NPg ED2 Planning Scenario - needs updating to old"]
["DFES 2023 - Falling Short"]

{"sheet":"Energy Consumed Breakdown MWh","index":28,"n_rows":84,"n_cols":30,"rows_kept":84,"cut":false,"hidden":false,"merged":[]}
["Study adding in large connection projects - energy"]
["Large Industry Fuel Switching, electrolysers, electric buses & HGVs"]
[]
[]
[]
[" Study: Contributions to Energy Consumption MWh - NPg"]
[]
[]
[{"$f":"\"NPg Best View\"&$A$6","v":"NPg Best View Study: Contributions to Energy Consumption MWh - NPg"},2022,2023,2024,2025,2026,2027,2028,2029,2030,2031,2032,2033,2034,2035,2036,2037,2038,2039,2040,2041,2042,2043,2044,2045,2046,2047,2048,2049,2050]
["Domestic Underlying",10512642.939859109,10462231.178180018,10455729.880590502,10452805.320279084,10455303.281732922,10462076.007318852,10478136.777370794,10497377.326233383,10522725.613224288,10556848.736558555,10568386.09403123,10579119.731191035,10589406.165408552,10585587.716776978,10539502.345382433,10493060.994435435,10447135.80314732,10402300.864795489,10358079.216744244,10314381.058009367,10271150.357909953,10227676.613851134,10184309.869681951,10141131.323164992,10098147.993991189,10055336.566770852,10012671.539904781,9970077.6566701382,9941115.664183002]
["I & C Underlying",23205226.724456199,23489593.541722037,23692011.147261791,23742616.234544687,23632603.000548758,23518190.663701653,23391363.035430711,23272612.644610085,23189455.992073249,23085846.141782843,22989278.726965666,22899394.588898972,22815829.107855834,23151543.71445594,23079499.807102308,23012647.85736182,22950601.327478759,22892968.181879181,22839350.879922748,22789346.368692055,22742546.075820059,22698535.902354583,22656896.21566017,22617201.842357092,22579022.061297312,22541920.5965771,22505455.610586327,22469179.697094169,22432639.874371007]
["Heat pumps - domestic",174015.40757419963,216047.54209112658,292821.95077061461,476511.49429954664,746959.75598367606,1073581.2315869457,1154542.1756477179,1207557.7639585549,1260973.935903253,1315405.1179065756,1370475.8593627436,1425026.4335643337,1482403.945582845,1728061.2889092769,2617902.9185070908,3507370.2789422711,4373612.9764534738,5202747.5746703269,5935704.4488745369,6581564.7725028452,7165249.4876958532,7973037.1521546412,8802812.4117005132,9627597.8895939998,10443942.314514186,11253957.138648059,12058073.054783991,12856802.769631904,13445201.370402178]
["Heat pumps - I & C",144050.5425267134,157264.68403971742,172495.47059472554,186940.17774490561,204366.13086613751,240769.80422823239,278914.49686734914,314568.03824594349,346445.14629664936,375904.40384232323,404646.3750637974,433379.71146580827,461998.54066169204,488757.45888100273,751590.37836181745,1010009.3596582485,1261095.3142194545,1506478.6635118299,1739080.1727367351,1966024.867577312,2180106.6027161693,2391345.7725896128,2600135.7845195937,2806900.3935908997,3010932.778983071,3212240.2424349105,3410781.2078400664,3606531.758802765,3799453.4043528507]
["EV - cars & vans",275788.14262939076,449764.56594819174,828089.39828772773,1281506.1879706797,1898769.7301481189,2510504.2548617199,3124551.3279984016,3760931.3482924886,4525033.9981029853,5265403.3861861452,5924100.5414533783,6519747.8315103166,7045350.6785768522,7483072.0072446754,7841059.8995472193,8149797.3222169578,8413672.4687567204,8639232.6172385365,8818996.8313982859,8957341.6340113916,9063825.3508193865,9140992.2003957182,9194584.1806217488,9233891.1905087866,9254209.9269141685,9271190.8352828268,9290330.8282206953,9309855.9551628008,9331913.6299509574]
["Electric HGVs",7357.8745540348509,29654.760358851003,67951.929296747898,128471.66735065465,226262.00076204663,372330.56486505637,578335.73266970343,852773.366172045,1197035.5964517905,1601226.0653354947,2046284.8262070252,2510424.0391807989,2967359.5439518956,3395531.6731486837,3780728.7344770692,4115226.8085964685,4395964.4883700833,4623700.0399826868,4802430.6356597142,4938965.3377215602,5040993.1785468571,5116258.1732124407,5171978.8365932563,5213920.0357305855,5246467.6278260816,5272838.5273451693,5295308.1455634842,5315395.9419522826,5334068.1724064806]
["Electric Buses",28256.70329452381,42174.72413755428,62611.859444597903,87378.983750985935,116331.27808911388,149044.26756670931,184940.96533750615,224388.78268301874,266661.99899857299,310667.51071749086,355132.20705843484,399437.84614810208,442627.96387457178,483741.55102598929,521829.62098008959,556092.75283933873,585997.99345504004,611318.98975906079,632038.21886213345,648490.073869713,661417.99714116007,671246.38186634425,678408.60316347063,683324.27931455558,686395.22387501248,688025.47807605285,688638.40059316123,688623.49198364792,688295.41024971462]
["Electrolysers",0,4890.7773138180009,26758.821016483977,755904.844640275,1145786.7601394998,1571190.958254453,2060837.3642061786,2655589.6561897858,3607564.0255551208,3977024.2847044128,3991549.0679656798,4378840.3973243348,4768940.1459092218,4788020.6487007868,5367406.9246154111,5280692.4023404429,5314578.0136118252,5392573.6615304127,5823027.1326444633,6980519.2983069327,7890430.4140679417,8707203.5918049086,9597262.3982008193,10181094.921861231,10715811.280209832,11027531.533869861,11172637.480024407,11576248.098919252,11649500.390182965]
["Large industry Fuel Switching",253771.3345189697,380657.00177845469,507542.66903793957,634428.33629742439,851903.90726737608,1069379.4782373279,1286855.0492072797,1504330.6201772317,1721806.1911471835,1912834.8106825915,2103863.430217999,2294892.0497534066,2485920.6692888141,2676949.2888242221,2903746.3556619035,3130543.4224995845,3357340.4893372664,3584137.5561749474,3810934.6230126284,4143711.4560283525,4476488.2890440766,4809265.1220597988,5142041.9550755229,5474818.7880912479,5474818.7880912479,5474818.7880912479,5474818.7880912479,5474818.7880912479,5474818.7880912479]
["Total demand",34601109.669413134,35232278.775569767,36106013.12630114,37746563.246878244,39278285.84553764,40967067.23062095,42538476.92473565,44290129.546562538,46637702.497753091,48401160.457716428,49753717.128325954,51440262.629037097,53059836.761110269,54781265.34796755,57403266.984635338,59255441.198890582,61099998.87482994,62855458.149542466,64759642.159855478,67320344.866719529,69492207.75376147,71735560.910289183,74028430.255217031,75979880.664213389,77509747.995702103,78797859.707096085,79908715.055608153,81267534.158308208,82097006.704190403]
[]
[]
[{"$f":"\"Consumer Transformation\"&$A$6","v":"Consumer Transformation Study: Contributions to Energy Consumption MWh - NPg"},2022,2023,2024,2025,2026,2027,2028,2029,2030,2031,2032,2033,2034,2035,2036,2037,2038,2039,2040,2041,2042,2043,2044,2045,2046,2047,2048,2049,2050]
["Domestic Underlying",10512642.939859109,10462231.178180018,10455729.880590502,10452805.320279084,10455303.281732922,10462076.007318852,10478136.777370794,10497377.326233383,10522725.613224288,10556848.736558555,10568386.09403123,10579119.731191035,10589406.165408552,10585587.716776978,10539502.345382433,10493060.994435435,10447135.80314732,10402300.864795489,10358079.216744244,10314381.058009367,10271150.357909953,10227676.613851134,10184309.869681951,10141131.323164992,10098147.993991189,10055336.566770852,10012671.539904781,9970077.6566701382,9941115.664183002]
["I & C Underlying",23205226.724456199,23489593.541722037,23692011.147261791,23742616.234544687,23632603.000548758,23518190.663701653,23391363.035430711,23272612.644610085,23189455.992073249,23085846.141782843,22989278.726965666,22899394.588898972,22815829.107855834,23151543.71445594,23079499.807102308,23012647.85736182,22950601.327478759,22892968.181879181,22839350.879922748,22789346.368692055,22742546.075820059,22698535.902354583,22656896.21566017,22617201.842357092,22579022.061297312,22541920.5965771,22505455.610586327,22469179.697094169,22432639.874371007]
["Heat pumps - domestic",174015.40757419963,216047.54209112658,292821.95077061461,476511.49429954664,746959.75598367606,1073581.2315869457,1154542.1756477179,1207557.7639585549,1260973.935903253,1315405.1179065756,1370475.8593627436,1425026.4335643337,1482403.945582845,1728061.2889092769,2617902.9185070908,3507370.2789422711,4373612.9764534738,5202747.5746703269,5935704.4488745369,6581564.7725028452,7165249.4876958532,7973037.1521546412,8802812.4117005132,9627597.8895939998,10443942.314514186,11253957.138648059,12058073.054783991,12856802.769631904,13445201.370402178]
["Heat pumps - I & C",144050.5425267134,157264.68403971742,172495.47059472554,186940.17774490561,204366.13086613751,240769.80422823239,278914.49686734914,314568.03824594349,346445.14629664936,375904.40384232323,404646.3750637974,433379.71146580827,461998.54066169204,488757.45888100273,751590.37836181745,1010009.3596582485,1261095.3142194545,1506478.6635118299,1739080.1727367351,1966024.867577312,2180106.6027161693,2391345.7725896128,2600135.7845195937,2806900.3935908997,3010932.778983071,3212240.2424349105,3410781.2078400664,3606531.758802765,3799453.4043528507]
["EV - cars & vans",275788.14262939076,461880.95469517633,861724.40681790165,1347587.0850003185,1981833.7167936177,2607480.9660803694,3263936.8225375544,3936953.5355230877,4768307.6247925274,5591918.0982291102,6325450.8824067879,6987328.2051509935,7577777.3005932467,8074677.6390860276,8488362.2349375654,8847353.4279042408,9159404.9078873545,9432596.181907637,9658528.0451698173,9829316.1050519645,9966788.3549640868,10074146.798625002,10159374.229723692,10228156.234402744,10267841.898619378,10305214.694041051,10344117.943941634,10385179.638649438,10428474.249740452]
["Electric HGVs",7357.8745540348509,21535.537672849576,46804.883060544482,86371.457358541724,148151.34146432695,240731.9035566668,372950.87838310096,551321.10295457975,778182.92142925435,1051617.8610886363,1370591.1337140591,1735088.0213493281,2142840.0723155607,2582624.2728527216,3033791.4683799515,3472668.7997519234,3879503.5075267735,4241169.1546644559,4550798.7715223767,4806535.5124919005,5009862.4559724843,5165216.6678055208,5279507.4705962064,5361339.3373481585,5419618.50164189,5462075.3640086884,5494545.7182808667,5520996.5102020446,5543939.1456987439]
["Electric Buses",28256.70329452381,37892.196070636273,53762.65537438418,73630.52480278266,97569.549911557755,125307.08163992301,156354.90615182277,190864.65891688369,228529.14649294468,268998.28753229155,311681.09403908352,355957.46260913979,400507.75065117783,443856.70341920003,484764.26520107081,522394.2708912855,556286.70356705203,586294.63423256273,612436.82745047961,634826.46083000721,653677.97579590208,669273.06064262171,681933.05164185981,692000.29364007106,699822.57220392581,705738.00163550046,710063.21393194445,713102.76450597087,715148.83373657707]
["Electrolysers",0,4480.775769320544,9171.261960123973,4321.6491707120031,9700.5570899782579,54081.235789364,103526.13097725916,175388.32335226779,409217.61199817492,542477.52681018924,901628.61691947095,1225601.6430738508,1612931.7705263444,1830770.2412311835,2126505.2834047792,2362516.4892313061,2371123.6447680178,2428344.2409795607,2638249.4142776239,3392720.2304227054,3869964.1876004143,4215805.6019871002,4544724.8403346846,4669739.0626145434,4752682.6508476427,4678943.4849480344,4590714.893340122,4385088.1985044163,4130018.6817180011]
["Large industry Fuel Switching",119118.43918153185,178677.65877229738,238236.87836306315,297796.09795382916,395917.00681498431,494037.91567613906,592158.82453729422,690279.73339844891,788400.6422596043,917636.11211091047,1046871.5819622168,1176107.0518135228,1305342.521664829,1434577.9915161356,1608405.3490112624,1782232.7065063894,1956060.0640015164,2129887.4214966432,2303714.77899177,2661008.5638709725,3018302.3487501759,3375596.1336293779,3732889.9185085814,4090183.7033877848,4678260.6561662536,5266337.6089447252,5854414.5617231941,6442491.5145016648,7030568.4672801346]
["Total demand",34466456.774075694,35029604.069013178,35822758.53479366,36668580.0411544,37672404.341205947,38816256.809578151,39791884.047903605,40836923.127193235,42292238.634469941,43706652.285861433,45289010.36446505,46817002.849116981,48389037.175260074,50320457.027128465,52730324.050288275,55010254.184682921,56954824.249049708,58822786.918137699,60635942.555690333,62975723.939449131,64877647.8472251,66790633.703639612,68642583.792367235,70234250.080100283,71950271.428264856,73481763.698008925,74980837.744332924,76349450.508562505,77466559.691482946]
[]
[]
[{"$f":"\"System Transformation\"&$A$6","v":"System Transformation Study: Contributions to Energy Consumption MWh - NPg"},2022,2023,2024,2025,2026,2027,2028,2029,2030,2031,2032,2033,2034,2035,2036,2037,2038,2039,2040,2041,2042,2043,2044,2045,2046,2047,2048,2049,2050]
["Domestic Underlying",10512642.939859109,10464724.956686769,10457393.355129011,10453938.244232673,10456512.003953816,10463694.870353995,10480109.967543758,10499614.80723382,10526260.852497598,10560754.437591486,10572755.307627695,10583987.127330903,10595161.266875658,10586287.643133977,10566765.45762806,10555865.269433707,10545154.771148099,10533219.438032854,10520437.813399753,10507067.548646804,10491575.340733329,10472124.182665747,10447807.889214143,10417591.170492742,10381828.036749525,10342569.372399455,10299759.305307688,10253022.661632532,10207589.111187045]
["I & C Underlying",23196643.691962108,23546392.315415636,23818884.181811571,23944168.638089128,23913348.790906694,23882549.025393821,23843654.577508517,23817055.659287211,23830162.714156032,23826819.00889533,23834406.640565097,23852449.176077776,23880460.983925864,24331278.746311061,24377735.377355166,24432649.129250836,24495497.510541342,24565748.798387129,24639624.825254574,24713520.710764967,24787436.402679224,24861371.848895706,24935326.997449778,25009301.796513513,25083296.194395311,25157310.139539585,25231343.580526311,25305396.466070794,25379468.74502318]
["Heat pumps - domestic",174015.40757419963,202288.99446950614,253568.05293075659,310755.63032451255,378152.31591350032,449634.62656412873,503525.84358395496,561298.32917124708,627833.48723957059,694544.49408283317,760471.77597965999,824427.59657189623,890709.08006546914,1158568.2702097576,1370233.8992404826,1574285.4955585278,1806368.9169135829,2067320.4264579793,2359002.0740086087,2668631.0053751329,3020517.9946085718,3435231.0286580026,3918889.3080670936,4481071.8198451567,5118714.4539687503,5802539.7347124284,6532949.7300035954,7315099.9992785081,8085551.4917088617]
["Heat pumps - I & C",146190.8305456214,154578.34092309864,174600.55294366981,186292.76668716388,198834.90325812643,219276.67354717082,242868.81626005057,266107.71819204529,296958.97587028897,316346.28094510722,335926.08069285634,356068.25185216963,378483.89907824656,401646.21656622516,635368.16990262596,870674.751054227,1092898.1980234757,1310286.5120972104,1515477.1953877897,1715339.8187247424,1910466.8652924632,2100247.2516329251,2288917.821020585,2477097.4583095433,2663071.649236748,2862112.6839182456,3058851.3574058567,3255761.0718049835,3458340.4666987564]
["EV - cars & vans",275788.14262939076,463244.68483408587,884462.99465800473,1390431.0828184388,2003952.6825832119,2613141.7537288563,3249444.9681538087,3898055.6980753797,4557264.227023243,5207114.2766223159,5813744.8364671841,6372573.7020171192,6877007.5598176792,7324163.382950766,7698140.1717928704,8032284.7680148864,8323154.3070334829,8576397.4209108036,8789376.5252541937,8952568.3065043241,9084004.0384959541,9186799.8054451887,9269066.7628958169,9335718.2870837245,9373064.6147673726,9405054.0785738975,9436681.7498309854,9467177.3605301566,9495980.7157561705]
["Electric HGVs",7357.8745540348509,21535.537672849583,46804.883060544482,86371.457358541724,148151.34146432695,240731.9035566668,372715.33808022388,550196.47626668657,774597.92958492751,1042629.6397105092,1348911.5291165726,1693272.6403885677,2072298.4569063436,2475461.6904861266,2884788.1562738419,3280078.3765263334,3644665.6066677412,3967629.6972706486,4243470.1172929257,4471015.7626099717,4651910.4884449001,4790039.228249995,4891573.7264861492,4964109.9619220663,5015496.1000084067,5052575.8476631241,5080558.6376848472,5103019.4224274931,5122242.441305398]
["Electric Buses",28256.70329452381,37892.196070636273,53511.126388730394,72747.835528387543,95527.312106405283,121442.98434962401,149939.25990368158,181580.710651475,216031.37554733572,252927.52032219723,291660.23413402948,331747.0413592417,371967.04412677651,410976.92984713998,447651.6004668196,481244.56848656206,511360.40189801238,537911.88449220499,560963.48883803003,580662.0545918626,597249.03357098834,611001.44123710925,622214.31950572866,631177.66070662183,638160.74607529002,643431.76558121201,647287.73769609269,650008.3403924231,651848.950862256]
["Electrolysers",0,6873.8316071307499,8749.3596546931894,241516.60775950982,667753.78764410131,946561.91117896652,1050897.0269279236,1139438.2734844601,1478899.3658585432,1161324.5828110662,1160591.0297459457,1037169.6803812671,1190955.7615358019,1943952.256601254,2288009.4171635034,2451025.0570897469,2703097.7563273045,3213901.0887968885,3312831.0721086022,4032655.9259324172,5030848.0135932015,5731756.4127583206,6543993.5139854383,7524615.0303644361,8344019.9632830042,8954090.8092468474,9576930.1206519008,10149217.373984041,10458519.505186386]
["Large industry Fuel Switching",103486.41666674225,155229.62500011307,206972.8333334841,258716.04166685528,312602.75475687574,366489.46784689592,420376.18093691592,474262.89402693609,528149.60711695673,608572.39180792158,688995.17649888643,769417.9611898514,849840.7458808159,930263.5305717811,1010159.4155008227,1090055.3004298639,1169951.1853589052,1249847.0702879471,1329742.9552169885,1392070.2914818984,1454397.6277468088,1516724.964011719,1579052.3002766289,1641379.6365415391,1934261.0079239481,2227142.3793063569,2520023.7506887661,2812905.1220711749,3105786.4934535837]
["Total demand",34444382.007085726,35052760.482679829,35904947.339910462,36944938.304465212,38174835.892587051,39303523.216520131,40313531.978898846,41387610.56638927,42836158.534894496,43671032.63278877,44807462.61082793,45821113.177168787,47106884.798212655,49562598.666678093,51278851.665324181,52768162.715844683,54292148.653911948,56022262.336733639,57270926.066761464,59033531.42463211,61028405.805165425,62705296.163554713,64496842.638901368,66482062.821779341,68551912.766408354,70446826.81094113,72384385.969796047,74311607.818192095,75965327.921181634]
[]
[]
[{"$f":"\"Leading The Way\"&$A$6","v":"Leading The Way Study: Contributions to Energy Consumption MWh - NPg"},2022,2023,2024,2025,2026,2027,2028,2029,2030,2031,2032,2033,2034,2035,2036,2037,2038,2039,2040,2041,2042,2043,2044,2045,2046,2047,2048,2049,2050]
["Domestic Underlying",10512642.939859109,10454901.281724472,10441071.119080402,10430714.283834839,10427002.465636512,10428398.93832255,10440115.908841655,10456273.340850696,10461241.664601348,10427778.447281895,10375617.319802705,10324646.859383147,10274481.316828646,10225190.467512956,10176416.268424543,10127669.547783006,10080284.25911973,10035281.816030756,9994407.3844886869,9956058.8596679345,9918753.0174894296,9877700.8878446706,9832911.6716058496,9801812.634932451,9812046.5101387128,9822303.8723994158,9832563.1759583354,9842710.8731361069,9851783.4528107923]
["I & C Underlying",23205226.724456199,23489593.541722037,23692011.147261791,23742616.234544687,23632603.000548758,23518190.663701653,23391363.035430711,23272612.644610085,23189455.992073249,23085846.141782843,22989278.726965666,22899394.588898972,22815829.107855834,23151543.71445594,23079499.807102308,23012647.85736182,22950601.327478759,22892968.181879181,22839350.879922748,22789346.368692055,22742546.075820059,22698535.902354583,22656896.21566017,22617201.842357092,22579022.061297312,22541920.5965771,22505455.610586327,22469179.697094169,22432639.874371007]
["Heat pumps - domestic",174015.40757419966,225186.90639510978,320287.05734780955,553551.75165986223,886744.42028508754,1274252.8539325183,1375996.8485032313,1425298.2220286166,1706048.6162156635,2666321.8825285761,3605040.9930404378,4517988.61243713,5405048.6331189964,6270261.7452863576,7130171.1964960154,7976078.5441306159,8789612.2230997309,9548616.1021459438,10177587.020792961,10709678.51281878,11185837.302958023,11904834.290250562,12664286.930816235,13213931.164731011,13157806.23000839,13103578.610279858,13051049.245720983,13000310.134302001,12953527.166804558]
["Heat pumps - I & C",144050.5425267134,157262.20463261227,172478.47582825209,198892.77802203275,227505.49661768758,263631.18594806024,301510.41326237173,336911.10659904446,368547.90172852168,647629.49517353205,920931.11134038982,1189503.8487746748,1453553.2085828353,1711619.5024971587,1963778.8600356518,2211974.136638755,2453255.5601275824,2689230.0734957326,2902436.645437683,3110883.6531521478,3316657.1592635293,3519844.1226692814,3720807.2376742424,3919939.9346348299,3895183.3339166529,3870829.9169228543,3846741.6386891278,3822826.0248302352,3799453.4043528507]
["EV - cars & vans",275788.14262939076,449764.56594819174,828089.39828772773,1281506.1879706797,1898769.7301481189,2510504.2548617199,3124551.3279984016,3760931.3482924886,4525033.9981029853,5265403.3861861452,5924100.5414533783,6519747.8315103166,7045350.6785768522,7483072.0072446754,7841059.8995472193,8149797.3222169578,8413672.4687567204,8639232.6172385365,8818996.8313982859,8957341.6340113916,9063825.3508193865,9140992.2003957182,9194584.1806217488,9233891.1905087866,9254209.9269141685,9271190.8352828268,9290330.8282206953,9309855.9551628008,9331913.6299509574]
["Electric HGVs",7357.8745540348509,29654.760358851003,67951.929296747898,128471.66735065465,226262.00076204663,372330.56486505637,578335.73266970343,852773.366172045,1197035.5964517905,1601226.0653354947,2046284.8262070252,2510424.0391807989,2967359.5439518956,3395531.6731486837,3780728.7344770692,4115226.8085964685,4395964.4883700833,4623700.0399826868,4802430.6356597142,4938965.3377215602,5040993.1785468571,5116258.1732124407,5171978.8365932563,5213920.0357305855,5246467.6278260816,5272838.5273451693,5295308.1455634842,5315395.9419522826,5334068.1724064806]
["Electric Buses",28256.70329452381,42174.72413755428,62611.859444597903,87378.983750985935,116331.27808911388,149044.26756670931,184940.96533750615,224388.78268301874,266661.99899857299,310667.51071749086,355132.20705843484,399437.84614810208,442627.96387457178,483741.55102598929,521829.62098008959,556092.75283933873,585997.99345504004,611318.98975906079,632038.21886213345,648490.073869713,661417.99714116007,671246.38186634425,678408.60316347063,683324.27931455558,686395.22387501248,688025.47807605285,688638.40059316123,688623.49198364792,688295.41024971462]
["Electrolysers",0,4890.7773138180009,26758.821016483977,755904.844640275,1145786.7601394998,1571190.958254453,2060837.3642061786,2655589.6561897858,3607564.0255551208,3977024.2847044128,3991549.0679656798,4378840.3973243348,4768940.1459092218,4788020.6487007868,5367406.9246154111,5280692.4023404429,5314578.0136118252,5392573.6615304127,5823027.1326444633,6980519.2983069327,7890430.4140679417,8707203.5918049086,9597262.3982008193,10181094.921861231,10715811.280209832,11027531.533869861,11172637.480024407,11576248.098919252,11649500.390182965]
["Large industry Fuel Switching",253771.3345189697,380657.00177845469,507542.66903793957,634428.33629742439,851903.90726737608,1069379.4782373279,1286855.0492072797,1504330.6201772317,1721806.1911471835,1912834.8106825915,2103863.430217999,2294892.0497534066,2485920.6692888141,2676949.2888242221,2903746.3556619035,3130543.4224995845,3357340.4893372664,3584137.5561749474,3810934.6230126284,4143711.4560283525,4476488.2890440766,4809265.1220597988,5142041.9550755229,5474818.7880912479,5474818.7880912479,5474818.7880912479,5474818.7880912479,5474818.7880912479,5474818.7880912479]
["Total demand",34601109.669413134,35234085.764011092,36118802.47660175,37813465.06807144,39412909.059494197,41156923.16569005,42744506.645457044,44489109.08760301,47043395.984874435,49894732.024392977,52311798.224051714,55034876.073410876,57659111.267987654,60185930.598696768,62764637.667340204,64560722.79440698,66341306.823356733,68017059.038237259,69801209.372219294,72234995.194268882,74296948.785150468,76445880.672458306,78659178.029411316,80339934.792161793,80821760.982277423,81073038.158844396,81157543.313447759,81499969.005471736,81516000.289220586]
[]
[]
[{"$f":"\"Falling Short\"&$A$6","v":"Falling Short Study: Contributions to Energy Consumption MWh - NPg"},2022,2023,2024,2025,2026,2027,2028,2029,2030,2031,2032,2033,2034,2035,2036,2037,2038,2039,2040,2041,2042,2043,2044,2045,2046,2047,2048,2049,2050]
["Domestic Underlying",10512642.939859109,10471256.619803511,10468838.333187221,10470862.170623481,10478721.465688812,10491068.424049806,10512548.136468913,10537019.248576652,10567491.134210553,10606653.562361047,10623157.837257808,10638790.348492136,10653935.833417935,10669104.032377046,10683852.06274185,10697308.286365639,10710826.354443943,10725033.113048324,10739780.628788289,10754783.918111881,10769996.344822679,10785065.979633801,10800226.756673843,10815430.284427008,10830617.336851452,10845885.448270429,10861228.88085136,10876640.346471164,10892206.507148912]
["I & C Underlying",23188953.365774613,23612465.968715921,23952735.476701189,24139968.416211955,24165427.324950986,24185398.275508504,24191930.452608217,24205580.283220813,24253926.696713563,24280983.721628126,24314306.497394279,24353593.918666206,24398537.971788928,24862155.251641575,24917460.884537987,24977457.639042765,25041809.848892067,25110174.929877035,25182203.377946716,25257538.767320611,25335817.74861145,25416670.04695759,25499718.46016505,25584578.856859542,25670860.174647972,25758164.418289669,25845684.045375653,25933212.719457798,26020750.416737519]
["Heat pumps - domestic",174015.40757419966,198456.5645150129,206840.94192736159,241801.86004446153,280636.23832973355,322422.87434826203,366043.56189639145,411621.2132350062,458852.52460989536,506814.93450044875,555153.97496850463,602714.04628259141,643780.68362349458,692483.55446682544,745777.04041901359,793206.9686203046,825761.0198935162,856960.6977704512,888669.58871658682,920695.12622853299,952968.22340391111,985019.39996778849,1016998.042666745,1049068.941065582,1081292.2134151973,1113518.4966641162,1145898.8472952212,1175456.8135665869,1196369.85372218]
["Heat pumps - I & C",149928.39224489525,165190.13122664276,183554.36375694646,194025.5759438891,206332.80269100593,227865.13841643452,252606.97067521163,276293.1856638146,297642.56559170329,316835.35759878973,335803.00068472058,355846.59821656707,375710.35475424037,409000.57296837866,438307.26948579721,476641.36298486404,501718.07929722045,523978.66389672324,542516.01085821562,559954.07087973203,577036.73109284823,593680.54118149425,609918.19269598974,625978.70853194129,642141.45147180185,658374.21992033301,674582.55219383119,690729.08177639206,694389.54487466067]
["EV - cars & vans",275788.14262939076,411745.46402993228,605099.39510090183,856669.72656332771,1168238.6757687954,1533368.1636922583,1997886.9818871571,2543824.9618204953,3054799.089571448,3528504.934852832,3966297.325997747,4367611.4556741491,4730175.4147102088,5053541.6719673108,5320953.0489096139,5562653.8133872086,5778293.8435780592,5971584.4307957273,6138966.0031828666,6273587.8437550087,6386980.6311844774,6478175.6950969808,6552331.4970038179,6611665.4751112107,6646817.7060434408,6676052.878183296,6702463.734292075,6727065.6276536752,6750126.9849983267]
["Electric HGVs",7357.8745540348509,17677.019219969385,36337.544867899589,64967.324070248927,108741.68238474261,174229.07519490065,269026.2704431215,400105.81079196883,571292.72565414198,780852.27488578553,1021828.9831541204,1285692.1879967537,1567183.5307233075,1867633.7262622677,2193378.4815304736,2548458.50288815,2927053.6368075423,3312864.8949059495,3686008.0111400327,4029928.6952447901,4333798.4425406242,4592097.7803235808,4803298.5292567983,4968927.6747165779,5093213.2617987134,5182744.5323459702,5245628.304845077,5289983.7379612746,5322543.8459332893]
["Electric Buses",28256.70329452381,34587.752794823449,46412.356950757137,61425.101757545999,79943.087460991606,101966.15446519159,127212.33689742861,155938.45112623056,187588.24220023875,221476.72573397961,256946.65406768752,293758.84308584186,331480.58271021821,369426.36448516988,406691.69590390299,442399.73578085925,475901.10970932175,506883.5342156908,535249.71912887343,560860.58469846216,583457.72111700242,603155.57637262205,620128.62646734249,634589.12683885591,646760.11213903979,656855.81383251003,665070.09930397349,671570.35979445314,676523.73622725415]
["Electrolysers",0,3382.0614607663902,3977.9362644252765,5593.4310210688791,29996.714268136977,56689.090715596656,90809.263554627338,125323.78089646337,177032.74055955833,235074.7227660974,300904.17721572332,367371.65903113631,372529.80289731995,378595.9980884348,386311.84873404185,395037.31921777653,404483.48948935291,413672.16506808926,420259.03185793967,424535.82742623938,427312.28213718429,427179.37739113631,427216.687250246,455870.0535412961,582736.99844780273,746637.3141390027,827267.31875007739,964163.09055616532,1023485.3274655244]
["Large industry Fuel Switching",103486.41666674225,155229.62500011307,206972.8333334841,258716.04166685528,312602.75475687574,366489.46784689592,420376.18093691592,474262.89402693609,528149.60711695673,608572.39180792158,688995.17649888643,769417.9611898514,849840.7458808159,930263.5305717811,1010159.4155008227,1090055.3004298639,1169951.1853589052,1249847.0702879471,1329742.9552169885,1392070.2914818984,1454397.6277468088,1516724.964011719,1579052.3002766289,1641379.6365415391,1934261.0079239481,2227142.3793063569,2520023.7506887661,2812905.1220711749,3105786.4934535837]
["Total demand",34440429.242597505,35069991.206766695,35710769.182090178,36294029.647902839,36830640.746300079,37459496.664237857,38228440.155367985,39129969.829358384,40096775.32622806,41085768.626135021,42063393.627239481,43034797.018635228,43923174.92050647,45232204.702828787,46102891.7477635,46983218.928717434,47835798.567469925,48670999.499865949,49463395.326836511,50173955.125147164,50821765.752656974,51397769.360936709,51908889.09245646,52387488.757633552,53128700.262739375,53865375.500951685,54487847.533596039,55141726.899308696,55682182.710561253]
[]
[]
[{"$f":"\"Net Zero Early\"&$A$6","v":"Net Zero Early Study: Contributions to Energy Consumption MWh - NPg"},2022,2023,2024,2025,2026,2027,2028,2029,2030,2031,2032,2033,2034,2035,2036,2037,2038,2039,2040,2041,2042,2043,2044,2045,2046,2047,2048,2049,2050]
["Domestic Underlying",12358526.08229842,11957113.141263058,11635959.138979495,11237991.779917996,10941442.270673571,10666259.459433269,10414799.26427781,10188596.70532361,10005465.952825744,9870676.9303702135,9771692.1910726558,9771023.1999190561,9771663.6978632174,9768915.4756181091,9766212.8571003079,9768759.0204544738,9776933.8351995014,9783064.711536603,9787283.9151528236,9788745.4066315666,9796877.9788642824,9817162.1280188486,9837935.6332291327,9858796.9176494535,9882002.7145373207,9900380.6486929692,9904382.1637501195,9907319.9028130658,9908976.938531043]
["I & C Underlying",23695930.663153768,23469506.44396821,23255347.684724711,23052652.16608493,22860724.444956236,22679152.564790186,22507693.897819091,22345847.118201964,22193325.812792048,22049670.211554475,21914528.69693125,21787883.735819221,21669510.784816198,21559048.571869828,21456023.607482858,21359956.747245934,21270582.92074021,21187612.000284843,21110687.653574754,21039279.443189327,20972934.088744443,20911267.907521203,20853881.340063602,20800319.055620879,20750380.926152561,20703354.125905216,20658919.640752256,20616645.128224589,20576093.864782222]
["Heat pumps - domestic",89517.676615043601,97141.293376783084,122750.5240324109,171242.2523507044,225533.36499125446,313156.59247210145,392665.69404827978,466466.49859575578,536689.25840511417,604445.82032785274,1538279.6841644058,2479955.5084541254,3382693.8985246136,4290992.7985830931,5194825.9046766125,6083805.557607837,6963758.8682034183,7820079.2815412637,8649464.3323072046,9455347.6590003707,10227924.997590713,11001571.735357706,11771050.738112014,12535950.168458957,13252442.488941818,13233555.399982577,13202082.241582617,13187657.994048249,13155296.872516576]
["Heat pumps - I & C",155549.59726313135,169380.64026490386,190665.55009699776,214658.44542532292,238484.29384587432,262811.06783449871,287447.27071261808,318681.68441607698,349479.63156141574,379968.43024587445,599180.6381878386,822968.20147519244,1031284.1849727696,1225760.4163138401,1435481.5591020738,1639388.1907297515,1827377.3457953469,2006446.9298067908,2180721.6094743898,2352797.2565279775,2515362.9914810476,2676287.2359979604,2835593.8547688173,2993265.6918231105,3149239.0527943773,3135779.2818139065,3112840.2510909731,3097432.4848462502,3079789.9464093549]
["EV - cars & vans",96510.161680162186,155328.60239278356,278960.9084837425,571418.49752321374,968962.29169793602,1439737.9415788297,1936756.8324809789,2500826.5905772322,3170263.6532675847,3904597.3560713241,4883209.4685313106,5777700.8194513777,6608570.2106546871,7453384.1073656511,8254228.4064663667,9317522.4381049611,10253433.894033264,10896275.871318614,11457312.574785762,11898563.736291807,12278015.81439909,12505345.920399444,12677068.857200915,12794059.385217762,12872385.175419316,12906381.113714239,12902798.235431049,12880802.465627274,12839087.225130351]
["Electric HGVs",2893.064963840985,13697.486894932827,32413.265793275521,59040.401658869087,93578.89449171348,136028.74429180872,267185.66215874563,480723.43243289983,772768.96623558283,1139448.9908638673,1576890.0497905877,2080393.0771027333,2578449.0818094164,3070554.1846875376,3556201.3277581502,4034880.2742864517,4534961.4964835886,4999468.5155642135,5428380.3456031028,5821676.0006750366,6179334.4948547985,6462545.9032405009,6695142.9371183999,6877136.9118376216,7008539.1427472848,7089360.9451965243,7134139.8822573842,7178809.4060224034,7223369.9659527894]
["Electric Buses",2314.2838768456286,10721.681862961483,25222.193958347547,45815.820163003846,72502.560476930346,105282.41490012713,146062.17014277395,196190.21233334977,254938.16969464428,321577.59561310371,395379.96863883059,471505.74290257122,549647.84108697344,627745.25645896257,702852.63336217892,775183.16076258454,865179.8772106996,952212.79450323095,1036278.4240269756,1111977.5832401926,1179307.2153876254,1236877.349686635,1284685.2702932092,1322730.457433668,1354557.3822839498,1380163.2491295114,1399572.3640500121,1412742.3498756513,1419668.2684197847]
["Electrolysers",709.30041391514146,1744.4997056924385,2617.6350614248918,3077.6505278796817,3793.1956773048992,4817.4052944208088,5561.7821710196731,6590.5705468338765,8070.3923775273852,9571.4473690766008,39949.234637540561,70884.651569827867,100587.92195022001,129908.84319207186,158196.19014129846,186996.44645140503,214361.82345109902,238943.59570181134,260558.31544653454,278268.90144577809,292000.86402594077,299107.40984929033,304403.56571872468,308678.52741838456,311251.36236402753,313108.34161247761,314856.40111411142,314583.37061532756,313736.12388422666]
["Large industry Fuel Switching",4.0859703040834305E-11,133897.54965527402,267795.09931054781,401692.64896582189,535590.19862109574,669487.74827636965,899127.93370558438,1128768.1191347993,1358408.3045640141,1588048.489993229,1817688.6754224442,2019662.1068749556,2221635.5383274667,2423608.9697799776,2625582.4012324889,2827555.8326850012,3067390.4843077781,3307225.1359305549,3547059.7875533332,3786894.4391761106,4026729.090798887,4378964.9125642497,4731200.7343296111,5083436.5560949706,5435672.3778603338,5787908.1996256951,5787908.1996256951,5787908.1996256951,5787908.1996256951]
["Total demand",36401950.830265135,36008531.339384601,35811732.000440948,35757589.662617743,35940611.515431911,36276733.938871607,36857300.507516906,37632690.931562521,38649410.141723678,39868005.272409022,42536798.607376873,45281977.043569058,47914043.160005562,50549918.623869076,53149604.887322336,55994047.668328397,58773980.545424908,61191328.836187944,63457746.95792488,65533550.42617815,67468487.536146834,69289130.502635837,70990962.930834413,72574373.671554804,74016470.623100996,74449991.305673122,74417499.379654229,74383901.301698506,74303927.405252054]

{"sheet":"Energy incl large projects MWh","index":29,"n_rows":26,"n_cols":30,"rows_kept":26,"cut":false,"hidden":false,"merged":[]}
["Sensitivity adding in large connection projects - energy"]
["Large Industry Fuel Switching, electrolysers, electric buses & HGVs"]
[]
["Additional energy from Large Industry Fuel Switching, electrolysers, electric buses & HGVs MWh - NPg",2022,2023,2024,2025,2026,2027,2028,2029,2030,2031,2032,2033,2034,2035,2036,2037,2038,2039,2040,2041,2042,2043,2044,2045,2046,2047,2048,2049,2050]
["DFES 2023 - Consumer Transformation",34466456.774075694,35029604.069013178,35822758.53479366,36668580.0411544,37672404.341205947,38816256.809578151,39791884.047903605,40836923.127193235,42292238.634469941,43706652.285861433,45289010.36446505,46817002.849116981,48389037.175260074,50320457.027128465,52730324.050288275,55010254.184682921,56954824.249049708,58822786.918137699,60635942.555690333,62975723.939449131,64877647.8472251,66790633.703639612,68642583.792367235,70234250.080100283,71950271.428264856,73481763.698008925,74980837.744332924,76349450.508562505,77466559.691482946]
["DFES 2023 - System Transformation",34444382.007085726,35052760.482679829,35904947.339910462,36944938.304465212,38174835.892587051,39303523.216520131,40313531.978898846,41387610.56638927,42836158.534894496,43671032.63278877,44807462.61082793,45821113.177168787,47106884.798212655,49562598.666678093,51278851.665324181,52768162.715844683,54292148.653911948,56022262.336733639,57270926.066761464,59033531.42463211,61028405.805165425,62705296.163554713,64496842.638901368,66482062.821779341,68551912.766408354,70446826.81094113,72384385.969796047,74311607.818192095,75965327.921181634]
["DFES 2023 - Falling Short",34440429.242597505,35069991.206766695,35710769.182090178,36294029.647902839,36830640.746300079,37459496.664237857,38228440.155367985,39129969.829358384,40096775.32622806,41085768.626135021,42063393.627239481,43034797.018635228,43923174.92050647,45232204.702828787,46102891.7477635,46983218.928717434,47835798.567469925,48670999.499865949,49463395.326836511,50173955.125147164,50821765.752656974,51397769.360936709,51908889.09245646,52387488.757633552,53128700.262739375,53865375.500951685,54487847.533596039,55141726.899308696,55682182.710561253]
["DFES 2023 - Leading The Way",34601109.669413134,35234085.764011092,36118802.47660175,37813465.06807144,39412909.059494197,41156923.16569005,42744506.645457044,44489109.08760301,47043395.984874435,49894732.024392977,52311798.224051714,55034876.073410876,57659111.267987654,60185930.598696768,62764637.667340204,64560722.79440698,66341306.823356733,68017059.038237259,69801209.372219294,72234995.194268882,74296948.785150468,76445880.672458306,78659178.029411316,80339934.792161793,80821760.982277423,81073038.158844396,81157543.313447759,81499969.005471736,81516000.289220586]
["NPg Planning Scenario December 2021",34601109.669413134,35232278.775569767,36106013.12630114,37746563.246878244,39278285.84553764,40967067.23062095,42538476.92473565,44290129.546562538,46637702.497753091,48401160.457716428,49753717.128325954,51440262.629037097,53059836.761110269,54781265.34796755,57403266.984635338,59255441.198890582,61099998.87482994,62855458.149542466,64759642.159855478,67320344.866719529,69492207.75376147,71735560.910289183,74028430.255217031,75979880.664213389,77509747.995702103,78797859.707096085,79908715.055608153,81267534.158308208,82097006.704190403]
["NPg Net Zero Early 2020",36401950.830265135,36008531.339384601,35811732.000440948,35757589.662617743,35940611.515431911,36276733.938871607,36857300.507516906,37632690.931562521,38649410.141723678,39868005.272409022,42536798.607376873,45281977.043569058,47914043.160005562,50549918.623869076,53149604.887322336,55994047.668328397,58773980.545424908,61191328.836187944,63457746.95792488,65533550.42617815,67468487.536146834,69289130.502635837,70990962.930834413,72574373.671554804,74016470.623100996,74449991.305673122,74417499.379654229,74383901.301698506,74303927.405252054]
[]
["Additional energy from Large Industry Fuel Switching, electrolysers, electric buses & HGVs MWh - NPgN",2022,2023,2024,2025,2026,2027,2028,2029,2030,2031,2032,2033,2034,2035,2036,2037,2038,2039,2040,2041,2042,2043,2044,2045,2046,2047,2048,2049,2050]
["DFES 2023 - Consumer Transformation",13648320.764752829,13714971.866991926,14054371.432972897,14409971.381959902,14829825.826597532,15263201.74259148,15647261.950896988,16033516.058777567,16563284.223761313,17089187.905762672,17658418.156859566,18204118.351868454,18757489.98863719,19364720.063644182,20246417.379846189,21086577.292628091,21817104.771405999,22518952.382792588,23192582.982755102,24055266.135770895,24772894.896188397,25493773.871523086,26222516.932020981,26868249.945494134,27607192.505409312,28287606.068116035,28956499.127383843,29584597.785299946,30118274.726305492]
["DFES 2023 - System Transformation",13644586.900118396,13729708.430032063,14089973.140948229,14494730.412564332,14951752.045069262,15337284.614268051,15695907.091912037,16076373.833224418,16580869.119388266,17002349.617707491,17417505.046540521,17777778.810518179,18240710.866971415,19078963.033731591,19725644.534393463,20267558.903692193,20819442.094218053,21453078.678385165,21905089.383335937,22575383.985706888,23338996.533358302,23987760.358750615,24689470.21250141,25469667.652205054,26318184.56888701,27101206.403736085,27902076.732401643,28700071.031150669,29393288.862476725]
["DFES 2023 - Falling Short",13645798.872134082,13737663.809699092,14014792.823891077,14258068.48961327,14475222.436473517,14706774.51576541,14995707.578227099,15326074.398159619,15679434.768134158,16046727.520593274,16405594.080677424,16759214.624835631,17072709.849780671,17456700.910962727,17751822.775341243,18048575.370951958,18337616.50671592,18620722.371526629,18888918.460288882,19143222.633466732,19377401.093502551,19588611.789160892,19779378.788917776,19961619.15951208,20284067.738388829,20608033.959960639,20891782.767910656,21188579.126308467,21442877.272167601]
["DFES 2023 - Leading The Way",13697731.786721528,13795479.274022603,14176149.176681651,14831967.356080864,15480488.658919379,16143799.738873767,16740543.026993636,17539036.927350622,18518523.782472193,19625987.68950789,20549309.060747445,21585434.753455803,22576813.830331601,23440593.694229629,24426300.296619944,25109162.332346592,25790348.036895938,26433142.852816295,27114443.14528279,28096202.060604289,28933225.38552558,29801052.641563311,30729373.879045177,31450252.372972354,31621136.84112978,31701265.247363862,31715517.039632678,31830201.066794451,31821281.666780714]
["NPg Planning Scenario December 2021",13697731.786721528,13789761.116854155,14157059.096860355,14770152.518965827,15364027.468013888,15977225.369874286,16554486.812188182,17357551.822154496,18253013.856193237,18930804.608484656,19437722.788784068,20074019.703228682,20683612.526425198,21237688.055649515,22240948.22021969,22947986.907382671,23658676.842220895,24340811.463186298,25088093.811309867,26144718.907072116,27051288.038072038,27970265.652246181,28930220.149019923,29758354.774046458,30337952.432348896,30822757.419559378,31237736.399104372,31749193.228647765,32051737.80973899]
["NPg Net Zero Early 2020",14098919.009052077,13944746.840999771,13867756.526408754,13843801.901018454,13913131.167265628,14042164.204607075,14270482.018215727,14568240.451800721,14954634.523169963,15414357.10140875,16438160.16416344,17506546.59520499,18531922.98208737,19557946.516115475,20568263.354205076,21674795.874907464,22764849.852633201,23715707.295611355,24609923.011647031,25431511.39157439,26201307.483489145,26979762.30337283,27715332.646737557,28408091.713964839,29049502.16861891,29304083.803013019,29289992.422930781,29272791.769780964,29237823.613707576]
[]
["Additional energy from Large Industry Fuel Switching, electrolysers, electric buses & HGVs MWh - NPgY",2022,2023,2024,2025,2026,2027,2028,2029,2030,2031,2032,2033,2034,2035,2036,2037,2038,2039,2040,2041,2042,2043,2044,2045,2046,2047,2048,2049,2050]
["DFES 2023 - Consumer Transformation",20818136.009322867,21314632.202021249,21768387.101820759,22258608.659194499,22842578.514608417,23553055.066986669,24144622.097006619,24803407.068415668,25728954.410708629,26617464.380098756,27630592.207605485,28612884.497248523,29631547.186622884,30955736.963484284,32483906.670442086,33923676.892054826,35137719.477643713,36303834.535345107,37443359.572935231,38920457.803678237,40104752.951036699,41296859.832116522,42420066.860346258,43366000.134606153,44343078.922855541,45194157.629892886,46024338.616949081,46764852.723262556,47348284.965177454]
["DFES 2023 - System Transformation",20799795.10696733,21323052.052647766,21814974.198962234,22450207.891900878,23223083.847517792,23966238.602252077,24617624.886986811,25311236.733164851,26255289.415506229,26668683.015081279,27389957.564287409,28043334.366650604,28866173.93124124,30483635.632946502,31553207.130930722,32500603.81215249,33472706.559693895,34569183.658348478,35365836.683425523,36458147.438925222,37689409.271807127,38717535.804804102,39807372.426399954,41012395.169574283,42233728.197521351,43345620.407205053,44482309.2373944,45611536.787041426,46572039.058704913]
["DFES 2023 - Falling Short",20794630.37046342,21332327.397067603,21695976.358199105,22035961.158289567,22355418.309826564,22752722.148472443,23232732.577140886,23803895.431198761,24417340.558093902,25039041.105541743,25657799.546562057,26275582.393799599,26850465.070725799,27775503.79186606,28351068.972422257,28934643.557765473,29498182.060754005,30050277.128339317,30574476.866547626,31030732.491680428,31444364.659154423,31809157.571775816,32129510.303538684,32425869.598121475,32844632.524350543,33257341.540991046,33596064.76568538,33953147.773000225,34239305.438393652]
["DFES 2023 - Leading The Way",20903377.882691607,21438606.489988491,21942653.299920097,22981497.71199058,23932420.400574818,25013123.426816285,26003963.618463404,26950072.160252389,28524872.202402242,30268744.334885091,31762489.163304266,33449441.319955073,35082297.437656052,36745336.904467143,38338337.37072026,39451560.462060392,40550958.786460795,41583916.18542096,42686766.226936504,44138793.133664586,45363723.399624892,46644828.030894995,47929804.150366142,48889682.419189438,49200624.141147643,49371772.911480539,49442026.273815081,49669767.938677289,49694718.622439869]
["NPg Planning Scenario December 2021",20903377.882691607,21442517.658715609,21948954.029440783,22976410.727912415,23914258.377523754,24989841.860746667,25983990.112547465,26932577.724408042,28384688.641559854,29470355.849231772,30315994.339541886,31366242.925808419,32376224.234685071,33543577.292318039,35162318.764415652,36307454.291507907,37441322.032609046,38514646.686356172,39671548.348545611,41175625.95964741,42440919.715689428,43765295.258043006,45098210.106197111,46221525.890166931,47171795.563353211,47975102.287536711,48670978.656503789,49518340.929660447,50045268.894451417]
["NPg Net Zero Early 2020",22303031.821213059,22063784.49838483,21943975.474032193,21913787.761599287,22027480.348166283,22234569.734264534,22586818.489301179,23064450.479761802,23694775.618553713,24453648.171000268,26098638.443213429,27775430.448364068,29382120.177918192,30991972.107753601,32581341.533117265,34319251.793420933,36009130.692791708,37475621.540576585,38847823.946277849,40102039.03460376,41267180.052657686,42309368.199263006,43275630.284096859,44166281.957589969,44966968.454482079,45145907.502660096,45127506.956723444,45111109.531917542,45066103.791544475]

{"sheet":"Constraints Chart Template","index":30,"n_rows":59,"n_cols":35,"rows_kept":59,"cut":false,"hidden":false,"merged":[[55,11,58,11],[35,11,38,11],[39,11,42,11],[43,11,46,11],[51,11,54,11],[47,11,50,11]]}
[]
["Number of Sites Analysed"]
[631,null,null,"Number of potential capacity constraints at primary and major substations",null,null,null,null,null,null,null,null,null,null,null,null,null,null,null,null,"% of potential capacity constraints at primary and major substations"]
[null,null,null,null,"ToUT+","ToUT+","ToUT+","ToUT+","ToUT-","ToUT-","ToUT-","ToUT-",null,null,null,null,null,null,null,null,null,"CF+","CF+","CF+","CF+","CF-","CF-","CF-","CF-",null,"# Constraints (with TouT)",2027,2030,2040,2050]
[null,null,null,null,2023,2030,2040,2050,2023,2030,2040,2050,null,null,null,null,null,null,null,null,"NPg",2023,2030,2040,2050,2027,2030,2040,2050,null,"DFES 2023 - Consumer Transformation"]
[null,null,null,"DFES 2023 - Consumer Transformation",null,null,null,null,9,33,211,345,null,null,null,null,null,null,null,null,"DFES 2023 - Consumer Transformation",null,null,null,null,{"$f":"I6/$A$3","v":1.4263074484944533E-2},5.2297939778129951E-2,0.33438985736925514,0.54675118858954042,null,"DFES 2023 - System Transformation"]
[null,null,null,"DFES 2023 - System Transformation",null,null,null,null,9,36,189,360,null,null,null,null,null,null,null,null,"DFES 2023 - System Transformation",null,null,null,null,1.4263074484944533E-2,5.7052297939778132E-2,0.29952456418383516,0.57052297939778129,null,"DFES 2023 - Leading The Way"]
[null,null,null,"DFES 2023 - Leading The Way",null,null,null,null,9,39,287,327,null,null,null,null,null,null,null,null,"DFES 2023 - Leading The Way",null,null,null,null,1.4263074484944533E-2,6.1806656101426306E-2,0.45483359746434232,0.51822503961965138,null,"CCC 2020 - Balanced Net Zero"]
[null,null,null,"CCC 2020 - Balanced Net Zero",null,null,null,null,11,30,245,329,null,null,null,null,null,null,null,null,"CCC 2020 - Balanced Net Zero",null,null,null,null,{"$f":"I9/$A$3","v":1.7432646592709985E-2},{"$f":"J9/$A$3","v":4.7543581616481777E-2},{"$f":"K9/$A$3","v":0.38827258320126784},{"$f":"L9/$A$3","v":0.52139461172741675},null,"CT 2023 Policy Sensitivity"]
[null,null,null,"CT 2023 Policy Sensitivity",null,null,null,null,9,38,230,400,null,null,null,null,null,null,null,null,"CT 2023 Policy Sensitivity",null,null,null,null,1.4263074484944533E-2,6.0221870047543584E-2,0.36450079239302696,0.6339144215530903,null,"BV 2023 Policy Sensitivity"]
[null,null,null,"BV 2023 Policy Sensitivity",null,null,null,null,9,30,211,383,null,null,null,null,null,null,null,null,"BV 2023 Policy Sensitivity",null,null,null,null,1.4263074484944533E-2,4.7543581616481777E-2,0.33438985736925514,0.60697305863708395,null,"DFES 2023 - NPg Best View"]
[null,null,null,"DFES 2023 - NPg Best View",null,null,null,null,9,27,181,316,null,null,null,null,null,null,null,null,"DFES 2023 - NPg Best View",null,null,null,null,{"$f":"I12/$A$3","v":1.4263074484944533E-2},{"$f":"J12/$A$3","v":4.2789223454833596E-2},{"$f":"K12/$A$3","v":0.28684627575277338},{"$f":"L12/$A$3","v":0.50079239302694134}]
[null,null,null,"NPg Best View - DFES 2022",null,null,null,null,11,27,240,313,null,null,null,null,null,null,null,null,"NPg ED2 Best View - needs updating to old",null,null,null,null,1.7432646592709985E-2,4.2789223454833596E-2,0.38034865293185421,0.49603803486529319]
[null,null,null,"DFES 2023 - Falling Short",null,null,null,null,9,26,100,141,null,null,null,null,null,null,null,null,"DFES 2023 - Falling Short",null,null,null,null,{"$f":"I14/$A$3","v":1.4263074484944533E-2},4.1204437400950873E-2,0.15847860538827258,0.22345483359746435]
[null,null,null,"DFES 2023 - NPg Best View With ToUT",null,null,null,null,9,34,205,334,null,null,null,null,null,null,null,null,"DFES 2023 - NPg Best View With ToUT",null,null,null,null,{"$f":"I15/$A$3","v":1.4263074484944533E-2},{"$f":"J15/$A$3","v":5.388272583201268E-2},{"$f":"K15/$A$3","v":0.32488114104595878},{"$f":"L15/$A$3","v":0.52931854199683048}]
[null,null,null,"DFES 2023 - Consumer Transformation",null,"R 255","G 191","B 34"]
[null,null,null,"DFES 2023 - System Transformation",null,"R 91","G 203","B 245"]
[null,null,null,"DFES 2023 - Falling Short",null,"R 130","G 123","B 122"]
[null,null,null,"DFES 2023 - Leading The Way",null,"R 194","G 205","B 35"]
[null,null,null,"NPg ED2 Best View - needs updating to old",null,"R 0","G 171","B 132"]
[]
[null,null,null,"Number of potential capacity constraints at primary and major substations"]
[null,null,null,null,null,null,null,null,"ToUT-","ToUT-","ToUT-","ToUT-"]
[null,null,null,null,null,null,null,null,2023,2030,2040,2050]
[null,null,null,"DFES 2023 - Consumer Transformation",null,null,null,null,{"$f":"'Cumul Abs Constraints CF-'!$C2","v":9},{"$f":"'Cumul Abs Constraints CF-'!$J2","v":33},{"$f":"'Cumul Abs Constraints CF-'!$T2","v":211},{"$f":"'Cumul Abs Constraints CF-'!$AD2","v":345}]
[null,null,null,"DFES 2023 - System Transformation",null,null,null,null,{"$f":"'Cumul Abs Constraints CF-'!$C3","v":9},{"$f":"'Cumul Abs Constraints CF-'!$J3","v":36},{"$f":"'Cumul Abs Constraints CF-'!$T3","v":189},{"$f":"'Cumul Abs Constraints CF-'!$AD3","v":360}]
[null,null,null,"DFES 2023 - Leading The Way",null,null,null,null,{"$f":"'Cumul Abs Constraints CF-'!$C4","v":9},{"$f":"'Cumul Abs Constraints CF-'!$J4","v":39},{"$f":"'Cumul Abs Constraints CF-'!$T4","v":287},{"$f":"'Cumul Abs Constraints CF-'!$AD4","v":327}]
[null,null,null,"CCC 2020 - Balanced Net Zero",null,null,null,null,{"$f":"'Cumul Abs Constraints CF-'!$C5","v":11},{"$f":"'Cumul Abs Constraints CF-'!$J5","v":30},{"$f":"'Cumul Abs Constraints CF-'!$T5","v":245},{"$f":"'Cumul Abs Constraints CF-'!$AD5","v":329}]
[null,null,null,"CT 2023 Policy Sensitivity",null,null,null,null,{"$f":"'Cumul Abs Constraints CF-'!$C6","v":9},{"$f":"'Cumul Abs Constraints CF-'!$J6","v":38},{"$f":"'Cumul Abs Constraints CF-'!$T6","v":230},{"$f":"'Cumul Abs Constraints CF-'!$AD6","v":400}]
[null,null,null,"BV 2023 Policy Sensitivity",null,null,null,null,{"$f":"'Cumul Abs Constraints CF-'!$C7","v":9},{"$f":"'Cumul Abs Constraints CF-'!$J7","v":30},{"$f":"'Cumul Abs Constraints CF-'!$T7","v":211},{"$f":"'Cumul Abs Constraints CF-'!$AD7","v":383}]
[null,null,null,"DFES 2023 - NPg Best View",null,null,null,null,{"$f":"'Cumul Abs Constraints CF+'!$C8","v":9},{"$f":"'Cumul Abs Constraints CF+'!$J8","v":27},{"$f":"'Cumul Abs Constraints CF+'!$T8","v":181},{"$f":"'Cumul Abs Constraints CF+'!$AD8","v":316}]
[null,null,null,"NPg Best View - DFES 2022",null,null,null,null,{"$f":"'Cumul Abs Constraints CF-'!$C9","v":11},{"$f":"'Cumul Abs Constraints CF-'!$J9","v":27},{"$f":"'Cumul Abs Constraints CF-'!$T9","v":240},{"$f":"'Cumul Abs Constraints CF-'!$AD9","v":313}]
[null,null,null,"DFES 2023 - Falling Short",null,null,null,null,{"$f":"'Cumul Abs Constraints CF-'!$C10","v":9},{"$f":"'Cumul Abs Constraints CF-'!$J10","v":26},{"$f":"'Cumul Abs Constraints CF-'!$T10","v":100},{"$f":"'Cumul Abs Constraints CF-'!$AD10","v":141}]
[null,null,null,"DFES 2023 - NPg Best View With ToUT",null,null,null,null,{"$f":"'Cumul Abs Constraints CF-'!$C8","v":9},{"$f":"'Cumul Abs Constraints CF-'!$J8","v":34},{"$f":"'Cumul Abs Constraints CF-'!$T8","v":205},{"$f":"'Cumul Abs Constraints CF-'!$AD8","v":334}]
[null,null,null,null,2023,2030,2040,2050,null,null,null,"Scenario","Year","Obsolete","[arbitrary value for marker]","Differential (between with and without flex)","[arbitrary value for marker]","Base Case"]
[null,null,"DFES 2023 - Consumer Transformation","CF-",{"$f":"E6","v":0},0,0,0,null,null,null,"DFES 2023 - Consumer Transformation",2023,{"$f":"TRANSPOSE(E36:H36)","v":0},1,{"$f":"TRANSPOSE(E46:H46)","v":9},1,{"$f":"TRANSPOSE(E41:H41)","v":9}]
[null,null,"DFES 2023 - System Transformation","CF-",0,0,0,0,null,null,null,null,2030,0,1,33,1,33]
[null,null,"DFES 2023 - Falling Short","CF-",{"$f":"E14","v":0},{"$f":"F14","v":0},{"$f":"G14","v":0},{"$f":"H14","v":0},null,null,null,null,2040,0,1,211,1,211]
[null,null,"DFES 2023 - Leading The Way","CF-",{"$f":"E8","v":0},{"$f":"F8","v":0},{"$f":"G8","v":0},{"$f":"H8","v":0},null,null,null,null,2050,0,1,345,1,345]
[null,null,"NPg Best View 2022 With ToUT","CF+",{"$f":"I15","v":9},{"$f":"J15","v":34},{"$f":"K15","v":205},{"$f":"L15","v":334},null,null,null,"DFES 2023 - System Transformation",2023,{"$f":"TRANSPOSE(E37:H37)","v":0},1,{"$f":"TRANSPOSE(E47:H47)","v":9},1,{"$f":"TRANSPOSE(E42:H42)","v":9}]
[null,null,"DFES 2023 - Consumer Transformation","CF-",{"$f":"I6","v":9},33,211,345,null,null,null,null,2030,0,1,36,1,36]
[null,null,"DFES 2023 - System Transformation","CF-",9,36,189,360,null,null,null,null,2040,0,1,189,1,189]
[null,null,"DFES 2023 - Falling Short","CF-",{"$f":"I14","v":9},{"$f":"J14","v":26},{"$f":"K14","v":100},{"$f":"L14","v":141},null,null,null,null,2050,0,1,360,1,360]
[null,null,"DFES 2023 - Leading The Way","CF-",{"$f":"I8","v":9},{"$f":"J8","v":39},{"$f":"K8","v":287},{"$f":"L8","v":327},null,null,null,"DFES 2023 - Falling Short",2023,{"$f":"TRANSPOSE(E38:H38)","v":0},1,{"$f":"TRANSPOSE(E48:H48)","v":9},1,{"$f":"TRANSPOSE(E43:H43)","v":9}]
[null,null,"NPg Best View 2022 With ToUT","CF+",{"$f":"I12","v":9},{"$f":"J12","v":27},{"$f":"K12","v":181},{"$f":"L12","v":316},null,null,null,null,2030,0,1,26,1,26]
[null,null,"DFES 2023 - Consumer Transformation","Differential",{"$f":"E41-E36","v":9},33,211,345,null,null,null,null,2040,0,1,100,1,100]
[null,null,"DFES 2023 - System Transformation","Differential",9,36,189,360,null,null,null,null,2050,0,1,141,1,141]
[null,null,"DFES 2023 - Falling Short","Differential",9,26,100,141,null,null,null,"DFES 2023 - Leading The Way",2023,{"$f":"TRANSPOSE(E39:H39)","v":0},1,{"$f":"TRANSPOSE(E49:H49)","v":9},1,{"$f":"TRANSPOSE(E44:H44)","v":9}]
[null,null,"DFES 2023 - Leading The Way","Differential",9,39,287,327,null,null,null,null,2030,0,1,39,1,39]
[null,null,"NPg Best View 2021","Differential",{"$f":"E40-E45","v":0},{"$f":"F40-F45","v":7},{"$f":"G40-G45","v":24},{"$f":"H40-H45","v":18},null,null,null,null,2040,0,1,287,1,287]
[null,null,null,null,null,null,null,null,null,null,null,null,2050,0,1,327,1,327]
[null,null,null,null,null,null,null,null,null,null,null,"NPg Best View 2023",2023,{"$f":"TRANSPOSE(E45:H45)","v":9},1,{"$f":"TRANSPOSE(E50:H50)","v":0},1,{"$f":"TRANSPOSE(E45:H45)","v":9}]
[null,null,null,null,null,null,null,null,null,null,null,null,2030,27,1,7,1,27]
[null,null,null,null,null,null,null,null,null,null,null,null,2040,181,1,24,1,181]
[null,null,null,null,null,null,null,null,null,null,null,null,2050,316,1,18,1,316]
[null,null,null,null,null,null,null,null,null,null,null,"NPg Best View 2023 Without ToUT",2023,{"$f":"TRANSPOSE(E44:H44)","v":9},1,{"$f":"TRANSPOSE(E54:H54)","v":0},1,{"$f":"TRANSPOSE(E40:H40)","v":9}]
[null,null,null,null,null,null,null,null,null,null,null,null,2030,39,1,0,1,34]
[null,null,null,null,null,null,null,null,null,null,null,null,2040,287,1,0,1,205]
[null,null,null,null,null,null,null,null,null,null,null,null,2050,327,1,0,1,334]

{"sheet":"Power incl large projects MW","index":31,"n_rows":26,"n_cols":30,"rows_kept":26,"cut":false,"hidden":false,"merged":[]}
["Study adding in large connection projects - power"]
["Large Industry Fuel Switching, electrolysers, electric buses & HGVs"]
[]
["Additional Peak Demand from Large Industry Fuel Switching, electrolysers, electric buses & HGVs MW - NPg",2022,2023,2024,2025,2026,2027,2028,2029,2030,2031,2032,2033,2034,2035,2036,2037,2038,2039,2040,2041,2042,2043,2044,2045,2046,2047,2048,2049,2050]
["DFES 2023 - Consumer Transformation",6009.3105539733979,6252.8063441802715,6527.7554590310447,6746.0144206201594,6937.8658492635705,7192.7645835073436,7389.1751646920702,7550.226845940123,7787.6250389539273,7997.7786088357216,8218.6161848807642,8427.3190891735812,8635.5180212545238,9094.9494712766027,9537.0787093029649,9960.5336560915057,10339.86989341124,10704.174884245967,11046.408142511546,11435.128022197301,11763.412172136079,12123.375709968097,12478.422834975016,12803.115984821845,13139.610076547659,13454.361270475192,13764.760097036975,14059.566871758401,14298.35043917815]
["DFES 2023 - System Transformation",6033.3105731603973,6287.3541133177223,6579.7260451750062,6817.7510929671153,7021.842953791871,7253.7876961446063,7461.2134014961703,7636.8819386156692,7879.9359436428103,8028.8044281493894,8206.9271672037139,8366.7447075854398,8554.6373941612837,9120.8954818360871,9425.6169086117279,9703.3073643021326,9989.7546472249724,10306.833822499058,10574.933539919632,10904.498193634894,11271.514184111078,11619.196175856949,11999.340515077736,12423.809689519298,12877.813870869835,13327.46958113341,13794.970629348019,14276.024811012852,14723.610677921139]
["DFES 2023 - Falling Short",6033.2028867834961,6291.5908483360045,6537.6078403708452,6705.4600536987036,6807.8873391724192,6961.9577149875195,7131.5512252706339,7281.5193464420063,7456.8526306831645,7610.3937679392639,7758.1482151047521,7902.3217110495898,8032.8226886139464,8405.554605144036,8533.0797736984969,8659.2313195407514,8773.1058583264348,8882.7557848345241,8986.5749624143009,9080.0907586110407,9166.8837821722555,9245.8037942926876,9318.0722358673484,9387.5268263696598,9487.3618677495251,9587.6513369287277,9675.7798208803342,9767.3150973680567,9841.6841939045844]
["DFES 2023 - Leading The Way",6024.6818890575805,6275.1090870432909,6559.8050903982657,6879.055883168432,7144.8449717271169,7471.4133339217988,7733.7121922758197,7967.7173479571338,8350.3886636916868,8874.8858610123898,9339.1530369601496,9830.3027491334906,10302.514820382539,10947.5771666033,11401.752397713335,11763.022424057799,12116.674158285939,12450.463955945188,12775.498966037496,13160.662748671723,13495.061126245113,13870.841560185307,14256.756405671766,14554.262336609754,14596.149270113703,14612.262519220469,14610.050721295684,14637.762930743056,14628.823318518087]
["NPg Planning Scenario December 2021",6024.6818890575805,6274.4156717949736,6556.3435499457064,6862.2244916504733,7111.7097631384822,7425.6356671551157,7684.29141732881,7919.7593165391081,8249.9520814391544,8489.5399183006739,8674.9677863580873,8894.275337128176,9102.5478388046322,9534.5717500832434,9999.7300814061819,10375.083560258805,10744.702691594301,11098.250767128942,11453.174534858881,11869.724811110435,12230.827877327456,12629.833865606644,13035.699676617824,13401.420746786533,13716.746398044117,14003.35797456826,14268.897266303411,14561.754915875015,14766.778484037524]
["NPg Net Zero Early 2020",6358.6810032653593,6273.1890061780477,6227.7791239424259,6207.6854444122537,6234.9568355431657,6291.2554450593752,6376.7202760679993,6491.1008074691899,6644.2969641604632,6828.3834693653207,7257.865471752013,7708.066197570547,8118.791798049846,8542.0557711860292,8966.7149284340376,9441.6840635204535,9892.5998610360366,10272.024648160728,10628.734798357593,10953.072723926251,11255.741099746021,11536.395256641035,11801.431931066982,12051.283460816201,12279.314529572453,12345.652284003481,12343.271258669078,12356.412344076176,12350.601651821307]
[]
["Additional Peak Demand from Large Industry Fuel Switching, electrolysers, electric buses & HGVs MW - NPgN",2022,2023,2024,2025,2026,2027,2028,2029,2030,2031,2032,2033,2034,2035,2036,2037,2038,2039,2040,2041,2042,2043,2044,2045,2046,2047,2048,2049,2050]
["DFES 2023 - Consumer Transformation",2457.7436311307574,2474.9081175096649,2604.8756273760418,2684.6677964835671,2749.0857971095165,2849.8171644389454,2935.3798149856202,2977.7348371501284,3040.1554414594125,3097.5651271170855,3159.2810098640034,3218.0555980370996,3277.7936402047885,3375.112487771959,3520.1258996542442,3660.9869200085946,3788.5609388842577,3911.6465413436781,4027.4366691356031,4161.4785014139652,4276.3113520918896,4399.3615867297094,4526.3270078667019,4643.9519855196058,4772.0938046623842,4893.3413469946499,5013.0044334030472,5127.6654799265416,5222.9409686896961]
["DFES 2023 - System Transformation",2467.578915589203,2489.6630027535521,2625.897245412034,2709.013894680495,2772.2102278328671,2859.3962059714377,2942.6796826969962,2988.9198385925447,3055.5051105417815,3107.4867275309425,3158.3450244914943,3202.7688595179752,3259.3692174476719,3404.2987911958307,3516.2672172453154,3611.5738233047227,3709.4639221174357,3819.3561507869808,3911.3472658512355,4030.2631019353457,4164.0320177461217,4289.8726158714744,4428.5614436414617,4583.8644612060234,4754.232969202445,4922.5126056897243,5097.2803672091959,5276.7500262688782,5443.6656714679357]
["DFES 2023 - Falling Short",2467.9551151796468,2493.1701836327356,2618.1509319922125,2684.8972896830296,2722.7101594684887,2794.3449309126199,2871.631973633424,2913.6414145288572,2962.4424491366358,3008.4063060314952,3052.9465224127234,3096.782565067384,3133.9286261784682,3205.1703137257268,3240.9580557824343,3277.2883063332174,3311.7843286798138,3345.8423493583518,3378.1247141679601,3409.347155322258,3438.7842196277293,3466.1084973336719,3491.6027192927177,3516.6198759328468,3557.9724701379646,3599.9230312203913,3637.610580701803,3676.6537083718813,3709.0948323061316]
["DFES 2023 - Leading The Way",2463.384158752755,2484.6396539322109,2620.5996426078705,2739.2703300627563,2835.4909095765679,2967.2504925140511,3078.5760717182361,3166.8334575992953,3288.9971652622421,3465.3222116794659,3618.2304996168073,3782.0655749316693,3939.1387060001302,4105.9808128385639,4261.487179348017,4382.4952192291803,4502.1332902729937,4615.2013436184243,4725.361240310478,4865.6094408873605,4987.4394513675943,5122.4613050091502,5269.3567342956339,5384.3975101637652,5397.7601040627897,5400.9763904525662,5396.8179845339628,5404.2248217019005,5398.1570736807525]
["NPg Planning Scenario December 2021",2463.384158752755,2483.2194621869835,2616.0923389525533,2724.9322107245339,2808.7747646008261,2929.4919121775838,3036.4759740753734,3125.6639539484736,3229.0439560041968,3302.9283154167715,3356.5235221474677,3424.8396331523099,3490.4819292041498,3582.0710059920857,3741.6444723888953,3868.1591703684289,3994.4729040477741,4116.3805115557634,4241.5540710304231,4398.7727034922227,4536.1345711676977,4682.5901735962561,4836.5698347174875,4975.4863397060672,5085.7874846106006,5184.9693651470989,5275.8254090494192,5377.2960772667675,5446.2601357266713]
["NPg Net Zero Early 2020",2509.8124109623336,2474.9758384187594,2456.070262009222,2446.3206211769452,2455.495174967687,2476.1621052740693,2509.0411711827164,2552.8197912390228,2611.5918389531357,2682.2530649809391,2847.1305969461923,3021.8617163924409,3182.5481843297589,3347.2340070159621,3511.7654344141665,3696.2896369604487,3872.5686412909231,4021.090368063662,4160.8832334633089,4288.0989882184676,4407.1719384830867,4523.4794467256261,4633.9238631196922,4738.6057363426171,4835.1680512341763,4870.9315690809344,4870.0246682984898,4873.6482030201432,4870.6722898718081]
[]
["Additional Peak Demand from Large Industry Fuel Switching, electrolysers, electric buses & HGVs MW - NPgY",2022,2023,2024,2025,2026,2027,2028,2029,2030,2031,2032,2033,2034,2035,2036,2037,2038,2039,2040,2041,2042,2043,2044,2045,2046,2047,2048,2049,2050]
["DFES 2023 - Consumer Transformation",3551.5669228426405,3777.8982266706062,3922.8798316550033,4061.3466241365923,4188.7800521540539,4342.9474190683986,4453.79534970645,4572.4920087899945,4747.4695974945143,4900.2134817186361,5059.3351750167603,5209.2634911364821,5357.7243810497357,5719.8369835046442,6016.9528096487202,6299.5467360829116,6551.3089545269813,6792.5283429022902,7018.9714733759429,7273.6495207833359,7487.1008200441902,7724.0141232383876,7952.0958271083127,8159.1639993022382,8367.5162718852735,8561.0199234805423,8751.7556636339286,8931.9013918318597,9075.4094704884537]
["DFES 2023 - System Transformation",3565.7316575711939,3797.6911105641702,3953.8287997629718,4108.7371982866207,4249.6327259590034,4394.3914901731687,4518.5337187991745,4647.9621000231245,4824.4308331010288,4921.3177006184469,5048.58214271222,5163.9758480674636,5295.2681767136128,5716.5966906402573,5909.3496913664121,6091.7335409974103,6280.2907251075367,6487.4776717120776,6663.5862740683951,6874.2350916995483,7107.4821663649573,7329.3235599854743,7570.7790714362745,7839.9452283132741,8123.5809016673902,8404.9569754436852,8697.6902621388235,8999.2747847439732,9279.945006453203]
["DFES 2023 - Falling Short",3565.2477716038493,3798.4206647032688,3919.4569083786323,4020.562764015674,4085.1771797039305,4167.6127840748995,4259.9192516372095,4367.877931913149,4494.4101815465292,4601.9874619077691,4705.2016926920287,4805.5391459822058,4898.8940624354782,5200.3842914183097,5292.1217179160622,5381.9430132075349,5461.3215296466215,5536.9134354761718,5608.4502482463413,5670.7436032887836,5728.0995625445257,5779.6952969590156,5826.4695165746316,5870.9069504368135,5929.3893976115605,5987.7283057083359,6038.1692401785313,6090.6613889961764,6132.5893615984533]
["DFES 2023 - Leading The Way",3561.2977303048256,3790.4694331110804,3939.2054477903948,4139.7855531056757,4309.354062150549,4504.1628414077477,4655.136120557584,4800.883890357838,5061.3914984294452,5409.5636493329248,5720.9225373433419,6048.2371742018204,6363.3761143824086,6841.5963537647367,7140.265218365319,7380.5272048286179,7614.5408680129458,7835.2626123267637,8050.1377257270169,8295.0533077843611,8507.6216748775187,8748.3802551761564,8987.3996713761317,9169.8648264459898,9198.3891660509125,9211.2861287679025,9213.2327367617199,9233.5381090411556,9230.6662448373336]
["NPg Planning Scenario December 2021",3561.2977303048256,3791.1962096079906,3940.2512109931527,4137.2922809259398,4302.9349985376557,4496.1437549775319,4647.8154432534366,4794.0953625906341,5020.9081254349567,5186.6116028839015,5318.4442642106205,5469.4357039758652,5612.065909600482,5952.5007440911577,6258.0856090172874,6506.924389890376,6750.2297875465265,6981.8702555731779,7211.6204638284571,7470.9521076182127,7694.6933061597583,7947.2436920103892,8199.129841900336,8425.9344070804655,8630.9589134335165,8818.3886094211612,8993.0718572539918,9184.4588386082487,9320.518348310854]
["NPg Net Zero Early 2020",3848.8685923030253,3798.2131677592884,3771.7088619332035,3761.3648232353084,3779.4616605754782,3815.0933397853059,3867.6791048852833,3938.2810162301671,4032.7051252073275,4146.1304043843811,4410.7348748058203,4686.2044811781061,4936.2436137200866,5194.8217641700667,5454.949494019872,5745.3944265600057,6020.031219745114,6250.9342800970671,6467.851564894283,6664.9737357077829,6848.5691612629353,7012.9158099154092,7167.5080679472885,7312.6777244735849,7444.146478338278,7474.720714922546,7473.2465903705879,7482.7641410560327,7479.9293619494993]

{"sheet":"Customer numbers","index":32,"n_rows":100,"n_cols":33,"rows_kept":100,"cut":false,"hidden":false,"merged":[]}
["Total Customer Numbers - NPg",2022,2023,2024,2025,2026,2027,2028,2029,2030,2031,2032,2033,2034,2035,2036,2037,2038,2039,2040,2041,2042,2043,2044,2045,2046,2047,2048,2049,2050,"Parameter","Licence","CHOSEN"]
["DFES 2023 - Consumer Transformation",3939705.9999999991,3951833.7807413712,3963500.2086946703,3974760.6477624755,3986027.4609944932,3996786.2074817028,4007082.6165096434,4017055.7901162812,4026914.2066441216,4036618.7087601144,4045502.4464193555,4054071.235138908,4062484.5780812437,4070946.2857011254,4079269.9776628315,4087062.6971923159,4094910.5719905165,4103056.8976313667,4111453.636519236,4119958.685209875,4128515.1895363876,4136978.9832023587,4145442.7793684015,4153906.5780335404,4162370.379196804,4170834.1828572243,4179297.9890138311,4187761.7976656565,4196225.6088117212,"Total Customer Numbers","NPg"]
["DFES 2023 - System Transformation",3939705.9999999991,3951833.7807413712,3963500.2086946703,3974760.6477624755,3986027.4609944932,3996786.2074817028,4007082.6165096434,4017055.7901162812,4026914.2066441216,4036618.7087601144,4045502.4464193555,4054071.235138908,4062484.5780812437,4070946.2857011254,4079269.9776628315,4087062.6971923159,4094910.5719905165,4103056.8976313667,4111453.636519236,4119958.685209875,4128515.1895363876,4136978.9832023587,4145442.7793684015,4153906.5780335404,4162370.379196804,4170834.1828572243,4179297.9890138311,4187761.7976656565,4196225.6088117212,"Total Customer Numbers","NPg"]
["DFES 2023 - Leading The Way",3939705.9999999991,3951833.7807413712,3963500.2086946703,3974760.6477624755,3986027.4609944932,3996786.2074817028,4007082.6165096434,4017055.7901162812,4026914.2066441216,4036618.7087601144,4045502.4464193555,4054071.235138908,4062484.5780812437,4070946.2857011254,4079269.9776628315,4087062.6971923159,4094910.5719905165,4103056.8976313667,4111453.636519236,4119958.685209875,4128515.1895363876,4136978.9832023587,4145442.7793684015,4153906.5780335404,4162370.379196804,4170834.1828572243,4179297.9890138311,4187761.7976656565,4196225.6088117212,"Total Customer Numbers","NPg"]
["CCC 2020 - Balanced Net Zero",3958922.2308941036,3980181.2529291352,4001614.0941780023,4023094.2070278153,4045797.0448951023,4067910.7731097504,4089639.1867634249,4110686.4572653626,4131600.3852949715,4152725.3227020274,4172905.1825101562,4192278.3764772802,4210622.2551677236,4228259.818567737,4246143.1208409099,4263709.7163256565,4280424.8298811922,4296087.6812187992,4313242.8493032949,4330418.8041181546,4347616.1933012884,4364834.5397662371,4382078.429173599,4399342.8551573493,4416630.2059491221,4433940.8636604091,4451275.2167029269,4468633.6598915802,4486016.594549072,"Total Customer Numbers","NPg"]
["CT 2023 Policy Sensitivity",3939705.9999999991,3951833.7807413712,3963500.2086946703,3974760.6477624755,3986027.4609944932,3996786.2074817028,4007082.6165096434,4017055.7901162812,4026914.2066441216,4036618.7087601144,4045502.4464193555,4054071.235138908,4062484.5780812437,4070946.2857011254,4079269.9776628315,4087062.6971923159,4094910.5719905165,4103056.8976313667,4111453.636519236,4119958.685209875,4128515.1895363876,4136978.9832023587,4145442.7793684015,4153906.5780335404,4162370.379196804,4170834.1828572243,4179297.9890138311,4187761.7976656565,4196225.6088117212,"Total Customer Numbers","NPg"]
["BV 2023 Policy Sensitivity",3939705.9999999991,3951833.7807413712,3963500.2086946703,3974760.6477624755,3986027.4609944932,3996786.2074817028,4007082.6165096434,4017055.7901162812,4026914.2066441216,4036618.7087601144,4045502.4464193555,4054071.235138908,4062484.5780812437,4070946.2857011254,4079269.9776628315,4087062.6971923159,4094910.5719905165,4103056.8976313667,4111453.636519236,4119958.685209875,4128515.1895363876,4136978.9832023587,4145442.7793684015,4153906.5780335404,4162370.379196804,4170834.1828572243,4179297.9890138311,4187761.7976656565,4196225.6088117212,"Total Customer Numbers","NPg"]
["DFES 2023 - NPg Best View",3939705.9999999991,3951833.7807413712,3963500.2086946703,3974760.6477624755,3986027.4609944932,3996786.2074817028,4007082.6165096434,4017055.7901162812,4026914.2066441216,4036618.7087601144,4045502.4464193555,4054071.235138908,4062484.5780812437,4070946.2857011254,4079269.9776628315,4087062.6971923159,4094910.5719905165,4103056.8976313667,4111453.636519236,4119958.685209875,4128515.1895363876,4136978.9832023587,4145442.7793684015,4153906.5780335404,4162370.379196804,4170834.1828572243,4179297.9890138311,4187761.7976656565,4196225.6088117212,"Total Customer Numbers","NPg"]
["NPg ED2 Planning Scenario - needs updating to old",3939705.9999999991,3951833.7807413712,3963500.2086946703,3974760.6477624755,3986027.4609944932,3996786.2074817028,4007082.6165096434,4017055.7901162812,4026914.2066441216,4036618.7087601144,4045502.4464193555,4054071.235138908,4062484.5780812437,4070946.2857011254,4079269.9776628315,4087062.6971923159,4094910.5719905165,4103056.8976313667,4111453.636519236,4119958.685209875,4128515.1895363876,4136978.9832023587,4145442.7793684015,4153906.5780335404,4162370.379196804,4170834.1828572243,4179297.9890138311,4187761.7976656565,4196225.6088117212,"Total Customer Numbers","NPg"]
["DFES 2023 - Falling Short",3939705.9999999991,3951833.7807413712,3963500.2086946703,3974760.6477624755,3986027.4609944932,3996786.2074817028,4007082.6165096434,4017055.7901162812,4026914.2066441216,4036618.7087601144,4045502.4464193555,4054071.235138908,4062484.5780812437,4070946.2857011254,4079269.9776628315,4087062.6971923159,4094910.5719905165,4103056.8976313667,4111453.636519236,4119958.685209875,4128515.1895363876,4136978.9832023587,4145442.7793684015,4153906.5780335404,4162370.379196804,4170834.1828572243,4179297.9890138311,4187761.7976656565,4196225.6088117212,"Total Customer Numbers","NPg"]
[]
["Total Customer Numbers - NPgN",2022,2023,2024,2025,2026,2027,2028,2029,2030,2031,2032,2033,2034,2035,2036,2037,2038,2039,2040,2041,2042,2043,2044,2045,2046,2047,2048,2049,2050,"Total Customer Numbers"]
["DFES 2023 - Consumer Transformation",1614806.9999999998,1618259.9470262975,1621601.9725883037,1624828.2375936345,1628073.3379540262,1631099.9957289509,1633922.5986216054,1636553.770910555,1639098.6321144917,1641599.4487899749,1643694.7978357822,1645623.9904585702,1647461.2070653581,1649306.0999616291,1651081.4223638426,1652595.6297671099,1654104.1225416884,1655745.7610516835,1657511.2556213052,1659346.4992772276,1661205.785452344,1663037.6017043167,1664869.4194220556,1666701.2386049989,1668533.0592525925,1670364.8813642757,1672196.7049394955,1674028.5299776911,1675860.3564783055,"Total Customer Numbers","NPgN"]
["DFES 2023 - System Transformation",1614806.9999999998,1618259.9470262975,1621601.9725883037,1624828.2375936345,1628073.3379540262,1631099.9957289509,1633922.5986216054,1636553.770910555,1639098.6321144917,1641599.4487899749,1643694.7978357822,1645623.9904585702,1647461.2070653581,1649306.0999616291,1651081.4223638426,1652595.6297671099,1654104.1225416884,1655745.7610516835,1657511.2556213052,1659346.4992772276,1661205.785452344,1663037.6017043167,1664869.4194220556,1666701.2386049989,1668533.0592525925,1670364.8813642757,1672196.7049394955,1674028.5299776911,1675860.3564783055,"Total Customer Numbers","NPgN"]
["DFES 2023 - Leading The Way",1614806.9999999998,1618259.9470262975,1621601.9725883037,1624828.2375936345,1628073.3379540262,1631099.9957289509,1633922.5986216054,1636553.770910555,1639098.6321144917,1641599.4487899749,1643694.7978357822,1645623.9904585702,1647461.2070653581,1649306.0999616291,1651081.4223638426,1652595.6297671099,1654104.1225416884,1655745.7610516835,1657511.2556213052,1659346.4992772276,1661205.785452344,1663037.6017043167,1664869.4194220556,1666701.2386049989,1668533.0592525925,1670364.8813642757,1672196.7049394955,1674028.5299776911,1675860.3564783055,"Total Customer Numbers","NPgN"]
["CCC 2020 - Balanced Net Zero",1613454.6227281091,1620971.9323871655,1628528.7044393742,1636206.6898602429,1644366.7331053589,1652182.18694149,1659788.8437225809,1666994.3417148995,1674281.4437851785,1681681.2951536323,1688503.9915543769,1695012.1727836025,1701087.4573050153,1707026.0017998305,1713058.6065916421,1718870.1013252733,1724297.166785069,1729242.0163491347,1734900.2897392861,1740568.2040214262,1746245.8959624628,1751933.261963668,1757626.7826710308,1763332.5389596261,1769048.2714645737,1774774.1398933895,1780510.3064988526,1786256.9361194109,1792014.1962202236,"Total Customer Numbers","NPgN"]
["CT 2023 Policy Sensitivity",1614806.9999999998,1618259.9470262975,1621601.9725883037,1624828.2375936345,1628073.3379540262,1631099.9957289509,1633922.5986216054,1636553.770910555,1639098.6321144917,1641599.4487899749,1643694.7978357822,1645623.9904585702,1647461.2070653581,1649306.0999616291,1651081.4223638426,1652595.6297671099,1654104.1225416884,1655745.7610516835,1657511.2556213052,1659346.4992772276,1661205.785452344,1663037.6017043167,1664869.4194220556,1666701.2386049989,1668533.0592525925,1670364.8813642757,1672196.7049394955,1674028.5299776911,1675860.3564783055,"Total Customer Numbers","NPgN"]
["BV 2023 Policy Sensitivity",1614806.9999999998,1618259.9470262975,1621601.9725883037,1624828.2375936345,1628073.3379540262,1631099.9957289509,1633922.5986216054,1636553.770910555,1639098.6321144917,1641599.4487899749,1643694.7978357822,1645623.9904585702,1647461.2070653581,1649306.0999616291,1651081.4223638426,1652595.6297671099,1654104.1225416884,1655745.7610516835,1657511.2556213052,1659346.4992772276,1661205.785452344,1663037.6017043167,1664869.4194220556,1666701.2386049989,1668533.0592525925,1670364.8813642757,1672196.7049394955,1674028.5299776911,1675860.3564783055,"Total Customer Numbers","NPgN"]
["DFES 2023 - NPg Best View",1614806.9999999998,1618259.9470262975,1621601.9725883037,1624828.2375936345,1628073.3379540262,1631099.9957289509,1633922.5986216054,1636553.770910555,1639098.6321144917,1641599.4487899749,1643694.7978357822,1645623.9904585702,1647461.2070653581,1649306.0999616291,1651081.4223638426,1652595.6297671099,1654104.1225416884,1655745.7610516835,1657511.2556213052,1659346.4992772276,1661205.785452344,1663037.6017043167,1664869.4194220556,1666701.2386049989,1668533.0592525925,1670364.8813642757,1672196.7049394955,1674028.5299776911,1675860.3564783055,"Total Customer Numbers","NPgN"]
["NPg ED2 Planning Scenario - needs updating to old",1614806.9999999998,1618259.9470262975,1621601.9725883037,1624828.2375936345,1628073.3379540262,1631099.9957289509,1633922.5986216054,1636553.770910555,1639098.6321144917,1641599.4487899749,1643694.7978357822,1645623.9904585702,1647461.2070653581,1649306.0999616291,1651081.4223638426,1652595.6297671099,1654104.1225416884,1655745.7610516835,1657511.2556213052,1659346.4992772276,1661205.785452344,1663037.6017043167,1664869.4194220556,1666701.2386049989,1668533.0592525925,1670364.8813642757,1672196.7049394955,1674028.5299776911,1675860.3564783055,"Total Customer Numbers","NPgN"]
["DFES 2023 - Falling Short",1614806.9999999998,1618259.9470262975,1621601.9725883037,1624828.2375936345,1628073.3379540262,1631099.9957289509,1633922.5986216054,1636553.770910555,1639098.6321144917,1641599.4487899749,1643694.7978357822,1645623.9904585702,1647461.2070653581,1649306.0999616291,1651081.4223638426,1652595.6297671099,1654104.1225416884,1655745.7610516835,1657511.2556213052,1659346.4992772276,1661205.785452344,1663037.6017043167,1664869.4194220556,1666701.2386049989,1668533.0592525925,1670364.8813642757,1672196.7049394955,1674028.5299776911,1675860.3564783055,"Total Customer Numbers","NPgN"]
[]
["Total Customer Numbers - NPgY",2022,2023,2024,2025,2026,2027,2028,2029,2030,2031,2032,2033,2034,2035,2036,2037,2038,2039,2040,2041,2042,2043,2044,2045,2046,2047,2048,2049,2050,"Total Customer Numbers","NPgY"]
["DFES 2023 - Consumer Transformation",2324898.9999999995,2333573.8337150738,2341898.2361063669,2349932.410168841,2357954.123040467,2365686.2117527518,2373160.017888038,2380502.0192057262,2387815.5745296301,2395019.2599701397,2401807.6485835733,2408447.2446803376,2415023.3710158858,2421640.1857394963,2428188.5552989887,2434467.0674252063,2440806.4494488281,2447311.1365796831,2453942.3808979308,2460612.1859326474,2467309.4040840436,2473941.381498042,2480573.3599463459,2487205.3394285417,2493837.3199442117,2500469.3014929486,2507101.2840743354,2513733.2676879652,2520365.2523334157,"Total Customer Numbers","NPgY"]
["DFES 2023 - System Transformation",2324898.9999999995,2333573.8337150738,2341898.2361063669,2349932.410168841,2357954.123040467,2365686.2117527518,2373160.017888038,2380502.0192057262,2387815.5745296301,2395019.2599701397,2401807.6485835733,2408447.2446803376,2415023.3710158858,2421640.1857394963,2428188.5552989887,2434467.0674252063,2440806.4494488281,2447311.1365796831,2453942.3808979308,2460612.1859326474,2467309.4040840436,2473941.381498042,2480573.3599463459,2487205.3394285417,2493837.3199442117,2500469.3014929486,2507101.2840743354,2513733.2676879652,2520365.2523334157,"Total Customer Numbers","NPgY"]
["DFES 2023 - Leading The Way",2324898.9999999995,2333573.8337150738,2341898.2361063669,2349932.410168841,2357954.123040467,2365686.2117527518,2373160.017888038,2380502.0192057262,2387815.5745296301,2395019.2599701397,2401807.6485835733,2408447.2446803376,2415023.3710158858,2421640.1857394963,2428188.5552989887,2434467.0674252063,2440806.4494488281,2447311.1365796831,2453942.3808979308,2460612.1859326474,2467309.4040840436,2473941.381498042,2480573.3599463459,2487205.3394285417,2493837.3199442117,2500469.3014929486,2507101.2840743354,2513733.2676879652,2520365.2523334157,"Total Customer Numbers","NPgY"]
["CCC 2020 - Balanced Net Zero",2345467.6081659943,2359209.3205419695,2373085.3897386282,2386887.5171675724,2401430.3117897436,2415728.5861682603,2429850.343040844,2443692.1155504631,2457318.941509793,2471044.0275483951,2484401.1909557795,2497266.2036936777,2509534.7978627086,2521233.8167679068,2533084.5142492675,2544839.615000383,2556127.6630961229,2566845.6648696647,2578342.5595640088,2589850.6000967287,2601370.2973388257,2612901.2778025693,2624451.6465025679,2636010.3161977232,2647581.9344845484,2659166.7237670193,2670764.9102040743,2682376.7237721696,2694002.3983288486,"Total Customer Numbers","NPgY"]
["CT 2023 Policy Sensitivity",2324898.9999999995,2333573.8337150738,2341898.2361063669,2349932.410168841,2357954.123040467,2365686.2117527518,2373160.017888038,2380502.0192057262,2387815.5745296301,2395019.2599701397,2401807.6485835733,2408447.2446803376,2415023.3710158858,2421640.1857394963,2428188.5552989887,2434467.0674252063,2440806.4494488281,2447311.1365796831,2453942.3808979308,2460612.1859326474,2467309.4040840436,2473941.381498042,2480573.3599463459,2487205.3394285417,2493837.3199442117,2500469.3014929486,2507101.2840743354,2513733.2676879652,2520365.2523334157,"Total Customer Numbers","NPgY"]
["BV 2023 Policy Sensitivity",2324898.9999999995,2333573.8337150738,2341898.2361063669,2349932.410168841,2357954.123040467,2365686.2117527518,2373160.017888038,2380502.0192057262,2387815.5745296301,2395019.2599701397,2401807.6485835733,2408447.2446803376,2415023.3710158858,2421640.1857394963,2428188.5552989887,2434467.0674252063,2440806.4494488281,2447311.1365796831,2453942.3808979308,2460612.1859326474,2467309.4040840436,2473941.381498042,2480573.3599463459,2487205.3394285417,2493837.3199442117,2500469.3014929486,2507101.2840743354,2513733.2676879652,2520365.2523334157,"Total Customer Numbers","NPgY"]
["DFES 2023 - NPg Best View",2324898.9999999995,2333573.8337150738,2341898.2361063669,2349932.410168841,2357954.123040467,2365686.2117527518,2373160.017888038,2380502.0192057262,2387815.5745296301,2395019.2599701397,2401807.6485835733,2408447.2446803376,2415023.3710158858,2421640.1857394963,2428188.5552989887,2434467.0674252063,2440806.4494488281,2447311.1365796831,2453942.3808979308,2460612.1859326474,2467309.4040840436,2473941.381498042,2480573.3599463459,2487205.3394285417,2493837.3199442117,2500469.3014929486,2507101.2840743354,2513733.2676879652,2520365.2523334157,"Total Customer Numbers","NPgY"]
["NPg ED2 Planning Scenario - needs updating to old",2324898.9999999995,2333573.8337150738,2341898.2361063669,2349932.410168841,2357954.123040467,2365686.2117527518,2373160.017888038,2380502.0192057262,2387815.5745296301,2395019.2599701397,2401807.6485835733,2408447.2446803376,2415023.3710158858,2421640.1857394963,2428188.5552989887,2434467.0674252063,2440806.4494488281,2447311.1365796831,2453942.3808979308,2460612.1859326474,2467309.4040840436,2473941.381498042,2480573.3599463459,2487205.3394285417,2493837.3199442117,2500469.3014929486,2507101.2840743354,2513733.2676879652,2520365.2523334157,"Total Customer Numbers","NPgY"]
["DFES 2023 - Falling Short",2324898.9999999995,2333573.8337150738,2341898.2361063669,2349932.410168841,2357954.123040467,2365686.2117527518,2373160.017888038,2380502.0192057262,2387815.5745296301,2395019.2599701397,2401807.6485835733,2408447.2446803376,2415023.3710158858,2421640.1857394963,2428188.5552989887,2434467.0674252063,2440806.4494488281,2447311.1365796831,2453942.3808979308,2460612.1859326474,2467309.4040840436,2473941.381498042,2480573.3599463459,2487205.3394285417,2493837.3199442117,2500469.3014929486,2507101.2840743354,2513733.2676879652,2520365.2523334157,"Total Customer Numbers","NPgY"]
[]
[]
["Domestic Customer Numbers - NPg",2022,2023,2024,2025,2026,2027,2028,2029,2030,2031,2032,2033,2034,2035,2036,2037,2038,2039,2040,2041,2042,2043,2044,2045,2046,2047,2048,2049,2050]
["DFES 2023 - Consumer Transformation",3614592.9999999991,3625035.4013224361,3635016.449856801,3644591.5095056705,3654172.943318753,3663246.3103870274,3671857.3399960333,3680145.1341837356,3688318.1712926412,3696337.2939896989,3703535.6522300048,3710419.0615306217,3717147.0250540231,3723923.3532549692,3730561.6657977402,3736669.0059082895,3742831.5012875549,3749292.4475094704,3756003.8069784045,3762823.4762501083,3769694.6011576862,3776473.0154047227,3783251.4321518298,3790029.851398034,3796808.2731423625,3803586.6973838471,3810365.1241215188,3817143.5533544091,3823921.9850815386]
["DFES 2023 - System Transformation",3614592.9999999991,3625035.4013224361,3635016.449856801,3644591.5095056705,3654172.943318753,3663246.3103870274,3671857.3399960333,3680145.1341837356,3688318.1712926412,3696337.2939896989,3703535.6522300048,3710419.0615306217,3717147.0250540231,3723923.3532549692,3730561.6657977402,3736669.0059082895,3742831.5012875549,3749292.4475094704,3756003.8069784045,3762823.4762501083,3769694.6011576862,3776473.0154047227,3783251.4321518298,3790029.851398034,3796808.2731423625,3803586.6973838471,3810365.1241215188,3817143.5533544091,3823921.9850815386]
["DFES 2023 - Leading The Way",3614592.9999999991,3625035.4013224361,3635016.449856801,3644591.5095056705,3654172.943318753,3663246.3103870274,3671857.3399960333,3680145.1341837356,3688318.1712926412,3696337.2939896989,3703535.6522300048,3710419.0615306217,3717147.0250540231,3723923.3532549692,3730561.6657977402,3736669.0059082895,3742831.5012875549,3749292.4475094704,3756003.8069784045,3762823.4762501083,3769694.6011576862,3776473.0154047227,3783251.4321518298,3790029.851398034,3796808.2731423625,3803586.6973838471,3810365.1241215188,3817143.5533544091,3823921.9850815386]
["CCC 2020 - Balanced Net Zero",3673345.3645835752,3693651.1096815425,3714125.2421919247,3734641.8997350899,3756373.9307232872,3777511.8527478976,3798257.6232265513,3818317.0749048451,3838237.1002454031,3858354.3418382853,3877509.1053393362,3895838.8860408748,3913122.3636361361,3929683.9699899829,3946472.6456110291,3962923.2500153435,3978499.6897648056,3993003.4385013981,4008979.6622626237,4024955.8862096407,4040932.1103424169,4056908.3346609278,4072884.5591651462,4088860.7838550331,4104837.0087305699,4120813.2337917257,4136789.459038469,4152765.6844707755,4168741.9100886118]
["CT 2023 Policy Sensitivity",3614592.9999999991,3625035.4013224361,3635016.449856801,3644591.5095056705,3654172.943318753,3663246.3103870274,3671857.3399960333,3680145.1341837356,3688318.1712926412,3696337.2939896989,3703535.6522300048,3710419.0615306217,3717147.0250540231,3723923.3532549692,3730561.6657977402,3736669.0059082895,3742831.5012875549,3749292.4475094704,3756003.8069784045,3762823.4762501083,3769694.6011576862,3776473.0154047227,3783251.4321518298,3790029.851398034,3796808.2731423625,3803586.6973838471,3810365.1241215188,3817143.5533544091,3823921.9850815386]
["BV 2023 Policy Sensitivity",3614592.9999999991,3625035.4013224361,3635016.449856801,3644591.5095056705,3654172.943318753,3663246.3103870274,3671857.3399960333,3680145.1341837356,3688318.1712926412,3696337.2939896989,3703535.6522300048,3710419.0615306217,3717147.0250540231,3723923.3532549692,3730561.6657977402,3736669.0059082895,3742831.5012875549,3749292.4475094704,3756003.8069784045,3762823.4762501083,3769694.6011576862,3776473.0154047227,3783251.4321518298,3790029.851398034,3796808.2731423625,3803586.6973838471,3810365.1241215188,3817143.5533544091,3823921.9850815386]
["DFES 2023 - NPg Best View",3614592.9999999991,3625035.4013224361,3635016.449856801,3644591.5095056705,3654172.943318753,3663246.3103870274,3671857.3399960333,3680145.1341837356,3688318.1712926412,3696337.2939896989,3703535.6522300048,3710419.0615306217,3717147.0250540231,3723923.3532549692,3730561.6657977402,3736669.0059082895,3742831.5012875549,3749292.4475094704,3756003.8069784045,3762823.4762501083,3769694.6011576862,3776473.0154047227,3783251.4321518298,3790029.851398034,3796808.2731423625,3803586.6973838471,3810365.1241215188,3817143.5533544091,3823921.9850815386]
["NPg ED2 Planning Scenario - needs updating to old",3614592.9999999991,3625035.4013224361,3635016.449856801,3644591.5095056705,3654172.943318753,3663246.3103870274,3671857.3399960333,3680145.1341837356,3688318.1712926412,3696337.2939896989,3703535.6522300048,3710419.0615306217,3717147.0250540231,3723923.3532549692,3730561.6657977402,3736669.0059082895,3742831.5012875549,3749292.4475094704,3756003.8069784045,3762823.4762501083,3769694.6011576862,3776473.0154047227,3783251.4321518298,3790029.851398034,3796808.2731423625,3803586.6973838471,3810365.1241215188,3817143.5533544091,3823921.9850815386]
["DFES 2023 - Falling Short",3614592.9999999991,3625035.4013224361,3635016.449856801,3644591.5095056705,3654172.943318753,3663246.3103870274,3671857.3399960333,3680145.1341837356,3688318.1712926412,3696337.2939896989,3703535.6522300048,3710419.0615306217,3717147.0250540231,3723923.3532549692,3730561.6657977402,3736669.0059082895,3742831.5012875549,3749292.4475094704,3756003.8069784045,3762823.4762501083,3769694.6011576862,3776473.0154047227,3783251.4321518298,3790029.851398034,3796808.2731423625,3803586.6973838471,3810365.1241215188,3817143.5533544091,3823921.9850815386]
[]
["Domestic Customer Numbers - NPgN",2022,2023,2024,2025,2026,2027,2028,2029,2030,2031,2032,2033,2034,2035,2036,2037,2038,2039,2040,2041,2042,2043,2044,2045,2046,2047,2048,2049,2050]
["DFES 2023 - Consumer Transformation",1481522.9999999998,1484400.4781408408,1487167.0348173904,1489817.8309372647,1492487.4624121995,1494938.6513016678,1497185.7853088656,1499241.4887123585,1501210.8810308382,1503136.228820865,1504656.1089812156,1506009.832718547,1507271.5804398782,1508541.0044506926,1509740.8579674496,1510679.5964852599,1511612.620374382,1512678.7899989204,1513868.8156830855,1515128.5904535512,1516412.4077432109,1517668.7551097271,1518925.1039420092,1520181.454239496,1521437.8060016329,1522694.1592278595,1523950.5139176226,1525206.8700703615,1526463.2276855193]
["DFES 2023 - System Transformation",1481522.9999999998,1484400.4781408408,1487167.0348173904,1489817.8309372647,1492487.4624121995,1494938.6513016678,1497185.7853088656,1499241.4887123585,1501210.8810308382,1503136.228820865,1504656.1089812156,1506009.832718547,1507271.5804398782,1508541.0044506926,1509740.8579674496,1510679.5964852599,1511612.620374382,1512678.7899989204,1513868.8156830855,1515128.5904535512,1516412.4077432109,1517668.7551097271,1518925.1039420092,1520181.454239496,1521437.8060016329,1522694.1592278595,1523950.5139176226,1525206.8700703615,1526463.2276855193]
["DFES 2023 - Leading The Way",1481522.9999999998,1484400.4781408408,1487167.0348173904,1489817.8309372647,1492487.4624121995,1494938.6513016678,1497185.7853088656,1499241.4887123585,1501210.8810308382,1503136.228820865,1504656.1089812156,1506009.832718547,1507271.5804398782,1508541.0044506926,1509740.8579674496,1510679.5964852599,1511612.620374382,1512678.7899989204,1513868.8156830855,1515128.5904535512,1516412.4077432109,1517668.7551097271,1518925.1039420092,1520181.454239496,1521437.8060016329,1522694.1592278595,1523950.5139176226,1525206.8700703615,1526463.2276855193]
["CCC 2020 - Balanced Net Zero",1500801.1478346896,1507862.6116249165,1514961.0131376334,1522178.1865421571,1529873.9426385912,1537222.6641691017,1544359.7384092326,1551094.9722818581,1557909.1454665523,1564829.5321445533,1571165.064796434,1577178.3832754884,1582751.6851202927,1588181.5492088059,1593697.2887672118,1598982.5428569228,1603873.9135354632,1608274.1100671163,1613378.6038213447,1618483.097753596,1623587.5918638434,1628692.0861520579,1633796.5806182157,1638901.075262283,1644005.5700842373,1649110.0650840497,1654214.560261691,1659319.0556171348,1664423.551150355]
["CT 2023 Policy Sensitivity",1481522.9999999998,1484400.4781408408,1487167.0348173904,1489817.8309372647,1492487.4624121995,1494938.6513016678,1497185.7853088656,1499241.4887123585,1501210.8810308382,1503136.228820865,1504656.1089812156,1506009.832718547,1507271.5804398782,1508541.0044506926,1509740.8579674496,1510679.5964852599,1511612.620374382,1512678.7899989204,1513868.8156830855,1515128.5904535512,1516412.4077432109,1517668.7551097271,1518925.1039420092,1520181.454239496,1521437.8060016329,1522694.1592278595,1523950.5139176226,1525206.8700703615,1526463.2276855193]
["BV 2023 Policy Sensitivity",1481522.9999999998,1484400.4781408408,1487167.0348173904,1489817.8309372647,1492487.4624121995,1494938.6513016678,1497185.7853088656,1499241.4887123585,1501210.8810308382,1503136.228820865,1504656.1089812156,1506009.832718547,1507271.5804398782,1508541.0044506926,1509740.8579674496,1510679.5964852599,1511612.620374382,1512678.7899989204,1513868.8156830855,1515128.5904535512,1516412.4077432109,1517668.7551097271,1518925.1039420092,1520181.454239496,1521437.8060016329,1522694.1592278595,1523950.5139176226,1525206.8700703615,1526463.2276855193]
["DFES 2023 - NPg Best View",1481522.9999999998,1484400.4781408408,1487167.0348173904,1489817.8309372647,1492487.4624121995,1494938.6513016678,1497185.7853088656,1499241.4887123585,1501210.8810308382,1503136.228820865,1504656.1089812156,1506009.832718547,1507271.5804398782,1508541.0044506926,1509740.8579674496,1510679.5964852599,1511612.620374382,1512678.7899989204,1513868.8156830855,1515128.5904535512,1516412.4077432109,1517668.7551097271,1518925.1039420092,1520181.454239496,1521437.8060016329,1522694.1592278595,1523950.5139176226,1525206.8700703615,1526463.2276855193]
["NPg ED2 Planning Scenario - needs updating to old",1481522.9999999998,1484400.4781408408,1487167.0348173904,1489817.8309372647,1492487.4624121995,1494938.6513016678,1497185.7853088656,1499241.4887123585,1501210.8810308382,1503136.228820865,1504656.1089812156,1506009.832718547,1507271.5804398782,1508541.0044506926,1509740.8579674496,1510679.5964852599,1511612.620374382,1512678.7899989204,1513868.8156830855,1515128.5904535512,1516412.4077432109,1517668.7551097271,1518925.1039420092,1520181.454239496,1521437.8060016329,1522694.1592278595,1523950.5139176226,1525206.8700703615,1526463.2276855193]
["DFES 2023 - Falling Short",1481522.9999999998,1484400.4781408408,1487167.0348173904,1489817.8309372647,1492487.4624121995,1494938.6513016678,1497185.7853088656,1499241.4887123585,1501210.8810308382,1503136.228820865,1504656.1089812156,1506009.832718547,1507271.5804398782,1508541.0044506926,1509740.8579674496,1510679.5964852599,1511612.620374382,1512678.7899989204,1513868.8156830855,1515128.5904535512,1516412.4077432109,1517668.7551097271,1518925.1039420092,1520181.454239496,1521437.8060016329,1522694.1592278595,1523950.5139176226,1525206.8700703615,1526463.2276855193]
[]
["Domestic Customer Numbers - NPgY",2022,2023,2024,2025,2026,2027,2028,2029,2030,2031,2032,2033,2034,2035,2036,2037,2038,2039,2040,2041,2042,2043,2044,2045,2046,2047,2048,2049,2050]
["DFES 2023 - Consumer Transformation",2133069.9999999995,2140634.9231815953,2147849.4150394103,2154773.6785684056,2161685.4809065536,2168307.6590853599,2174671.5546871675,2180903.6454713768,2187107.2902618027,2193201.0651688338,2198879.5432487889,2204409.2288120748,2209875.444614145,2215382.3488042769,2220820.8078302904,2225989.4094230295,2231218.8809131728,2236613.6575105498,2242134.9912953191,2247694.8857965572,2253282.1934144753,2258804.2602949953,2264326.3282098207,2269848.397158538,2275370.4671407295,2280892.5381559874,2286414.6102038962,2291936.6832840475,2297458.7573960195]
["DFES 2023 - System Transformation",2133069.9999999995,2140634.9231815953,2147849.4150394103,2154773.6785684056,2161685.4809065536,2168307.6590853599,2174671.5546871675,2180903.6454713768,2187107.2902618027,2193201.0651688338,2198879.5432487889,2204409.2288120748,2209875.444614145,2215382.3488042769,2220820.8078302904,2225989.4094230295,2231218.8809131728,2236613.6575105498,2242134.9912953191,2247694.8857965572,2253282.1934144753,2258804.2602949953,2264326.3282098207,2269848.397158538,2275370.4671407295,2280892.5381559874,2286414.6102038962,2291936.6832840475,2297458.7573960195]
["DFES 2023 - Leading The Way",2133069.9999999995,2140634.9231815953,2147849.4150394103,2154773.6785684056,2161685.4809065536,2168307.6590853599,2174671.5546871675,2180903.6454713768,2187107.2902618027,2193201.0651688338,2198879.5432487889,2204409.2288120748,2209875.444614145,2215382.3488042769,2220820.8078302904,2225989.4094230295,2231218.8809131728,2236613.6575105498,2242134.9912953191,2247694.8857965572,2253282.1934144753,2258804.2602949953,2264326.3282098207,2269848.397158538,2275370.4671407295,2280892.5381559874,2286414.6102038962,2291936.6832840475,2297458.7573960195]
["CCC 2020 - Balanced Net Zero",2172544.2167488858,2185788.4980566259,2199164.2290542913,2212463.7131929328,2226499.9880846962,2240289.1885787961,2253897.884817319,2267222.1026229872,2280327.954778851,2293524.8096937318,2306344.0405429024,2318660.5027653864,2330370.6785158431,2341502.420781177,2352775.3568438175,2363940.7071584207,2374625.7762293424,2384729.328434282,2395601.058441279,2406472.7884560446,2417344.5184785733,2428216.2485088697,2439087.9785469305,2449959.7085927501,2460831.4386463328,2471703.1687076762,2482574.898776778,2493446.6288536405,2504318.3589382567]
["CT 2023 Policy Sensitivity",2133069.9999999995,2140634.9231815953,2147849.4150394103,2154773.6785684056,2161685.4809065536,2168307.6590853599,2174671.5546871675,2180903.6454713768,2187107.2902618027,2193201.0651688338,2198879.5432487889,2204409.2288120748,2209875.444614145,2215382.3488042769,2220820.8078302904,2225989.4094230295,2231218.8809131728,2236613.6575105498,2242134.9912953191,2247694.8857965572,2253282.1934144753,2258804.2602949953,2264326.3282098207,2269848.397158538,2275370.4671407295,2280892.5381559874,2286414.6102038962,2291936.6832840475,2297458.7573960195]
["BV 2023 Policy Sensitivity",2133069.9999999995,2140634.9231815953,2147849.4150394103,2154773.6785684056,2161685.4809065536,2168307.6590853599,2174671.5546871675,2180903.6454713768,2187107.2902618027,2193201.0651688338,2198879.5432487889,2204409.2288120748,2209875.444614145,2215382.3488042769,2220820.8078302904,2225989.4094230295,2231218.8809131728,2236613.6575105498,2242134.9912953191,2247694.8857965572,2253282.1934144753,2258804.2602949953,2264326.3282098207,2269848.397158538,2275370.4671407295,2280892.5381559874,2286414.6102038962,2291936.6832840475,2297458.7573960195]
["DFES 2023 - NPg Best View",2133069.9999999995,2140634.9231815953,2147849.4150394103,2154773.6785684056,2161685.4809065536,2168307.6590853599,2174671.5546871675,2180903.6454713768,2187107.2902618027,2193201.0651688338,2198879.5432487889,2204409.2288120748,2209875.444614145,2215382.3488042769,2220820.8078302904,2225989.4094230295,2231218.8809131728,2236613.6575105498,2242134.9912953191,2247694.8857965572,2253282.1934144753,2258804.2602949953,2264326.3282098207,2269848.397158538,2275370.4671407295,2280892.5381559874,2286414.6102038962,2291936.6832840475,2297458.7573960195]
["NPg ED2 Planning Scenario - needs updating to old",2133069.9999999995,2140634.9231815953,2147849.4150394103,2154773.6785684056,2161685.4809065536,2168307.6590853599,2174671.5546871675,2180903.6454713768,2187107.2902618027,2193201.0651688338,2198879.5432487889,2204409.2288120748,2209875.444614145,2215382.3488042769,2220820.8078302904,2225989.4094230295,2231218.8809131728,2236613.6575105498,2242134.9912953191,2247694.8857965572,2253282.1934144753,2258804.2602949953,2264326.3282098207,2269848.397158538,2275370.4671407295,2280892.5381559874,2286414.6102038962,2291936.6832840475,2297458.7573960195]
["DFES 2023 - Falling Short",2133069.9999999995,2140634.9231815953,2147849.4150394103,2154773.6785684056,2161685.4809065536,2168307.6590853599,2174671.5546871675,2180903.6454713768,2187107.2902618027,2193201.0651688338,2198879.5432487889,2204409.2288120748,2209875.444614145,2215382.3488042769,2220820.8078302904,2225989.4094230295,2231218.8809131728,2236613.6575105498,2242134.9912953191,2247694.8857965572,2253282.1934144753,2258804.2602949953,2264326.3282098207,2269848.397158538,2275370.4671407295,2280892.5381559874,2286414.6102038962,2291936.6832840475,2297458.7573960195]
[]
[]
["I&C Customer Numbers - NPg",2022,2023,2024,2025,2026,2027,2028,2029,2030,2031,2032,2033,2034,2035,2036,2037,2038,2039,2040,2041,2042,2043,2044,2045,2046,2047,2048,2049,2050]
["DFES 2023 - Consumer Transformation",325113,326798.37941893504,328483.75883786997,330169.13825680537,331854.5176757403,333539.89709467534,335225.27651361015,336910.65593254578,338596.03535148071,340281.41477041581,341966.7941893508,343652.17360828596,345337.55302722089,347022.93244615599,348708.31186509121,350393.69128402648,352079.07070296153,353764.45012189623,355449.82954083162,357135.20895976655,358820.58837870136,360505.96779763652,362191.34721657168,363876.7266355069,365562.106054442,367247.48547337716,368932.86489231221,370618.24431124743,372303.62373018218]
["DFES 2023 - System Transformation",325113,326798.37941893504,328483.75883786997,330169.13825680537,331854.5176757403,333539.89709467534,335225.27651361015,336910.65593254578,338596.03535148071,340281.41477041581,341966.7941893508,343652.17360828596,345337.55302722089,347022.93244615599,348708.31186509121,350393.69128402648,352079.07070296153,353764.45012189623,355449.82954083162,357135.20895976655,358820.58837870136,360505.96779763652,362191.34721657168,363876.7266355069,365562.106054442,367247.48547337716,368932.86489231221,370618.24431124743,372303.62373018218]
["DFES 2023 - Leading The Way",325113,326798.37941893504,328483.75883786997,330169.13825680537,331854.5176757403,333539.89709467534,335225.27651361015,336910.65593254578,338596.03535148071,340281.41477041581,341966.7941893508,343652.17360828596,345337.55302722089,347022.93244615599,348708.31186509121,350393.69128402648,352079.07070296153,353764.45012189623,355449.82954083162,357135.20895976655,358820.58837870136,360505.96779763652,362191.34721657168,363876.7266355069,365562.106054442,367247.48547337716,368932.86489231221,370618.24431124743,372303.62373018218]
["CCC 2020 - Balanced Net Zero",285576.86631052796,286530.1432475925,287488.8519860775,288452.30729272566,289423.11417181505,290398.92036185262,291381.5635368732,292369.38236051722,293363.28504956805,294370.98086374212,295396.07717081986,296439.49043640535,297499.89153158828,298575.84857775422,299670.47522988019,300786.46631031256,301925.14011638652,303084.24271740142,304263.18704067107,305462.91790851433,306684.08295887167,307926.20510530984,309193.87000845274,310482.07130231633,311793.19721855206,313127.62986868311,314485.75766445766,315867.97542080516,317274.68446046044]
["CT 2023 Policy Sensitivity",325113,326798.37941893504,328483.75883786997,330169.13825680537,331854.5176757403,333539.89709467534,335225.27651361015,336910.65593254578,338596.03535148071,340281.41477041581,341966.7941893508,343652.17360828596,345337.55302722089,347022.93244615599,348708.31186509121,350393.69128402648,352079.07070296153,353764.45012189623,355449.82954083162,357135.20895976655,358820.58837870136,360505.96779763652,362191.34721657168,363876.7266355069,365562.106054442,367247.48547337716,368932.86489231221,370618.24431124743,372303.62373018218]
["BV 2023 Policy Sensitivity",325113,326798.37941893504,328483.75883786997,330169.13825680537,331854.5176757403,333539.89709467534,335225.27651361015,336910.65593254578,338596.03535148071,340281.41477041581,341966.7941893508,343652.17360828596,345337.55302722089,347022.93244615599,348708.31186509121,350393.69128402648,352079.07070296153,353764.45012189623,355449.82954083162,357135.20895976655,358820.58837870136,360505.96779763652,362191.34721657168,363876.7266355069,365562.106054442,367247.48547337716,368932.86489231221,370618.24431124743,372303.62373018218]
["DFES 2023 - NPg Best View",325113,326798.37941893504,328483.75883786997,330169.13825680537,331854.5176757403,333539.89709467534,335225.27651361015,336910.65593254578,338596.03535148071,340281.41477041581,341966.7941893508,343652.17360828596,345337.55302722089,347022.93244615599,348708.31186509121,350393.69128402648,352079.07070296153,353764.45012189623,355449.82954083162,357135.20895976655,358820.58837870136,360505.96779763652,362191.34721657168,363876.7266355069,365562.106054442,367247.48547337716,368932.86489231221,370618.24431124743,372303.62373018218]
["NPg ED2 Planning Scenario - needs updating to old",325113,326798.37941893504,328483.75883786997,330169.13825680537,331854.5176757403,333539.89709467534,335225.27651361015,336910.65593254578,338596.03535148071,340281.41477041581,341966.7941893508,343652.17360828596,345337.55302722089,347022.93244615599,348708.31186509121,350393.69128402648,352079.07070296153,353764.45012189623,355449.82954083162,357135.20895976655,358820.58837870136,360505.96779763652,362191.34721657168,363876.7266355069,365562.106054442,367247.48547337716,368932.86489231221,370618.24431124743,372303.62373018218]
["DFES 2023 - Falling Short",325113,326798.37941893504,328483.75883786997,330169.13825680537,331854.5176757403,333539.89709467534,335225.27651361015,336910.65593254578,338596.03535148071,340281.41477041581,341966.7941893508,343652.17360828596,345337.55302722089,347022.93244615599,348708.31186509121,350393.69128402648,352079.07070296153,353764.45012189623,355449.82954083162,357135.20895976655,358820.58837870136,360505.96779763652,362191.34721657168,363876.7266355069,365562.106054442,367247.48547337716,368932.86489231221,370618.24431124743,372303.62373018218]
[]
["I&C Customer Numbers - NPgN",2022,2023,2024,2025,2026,2027,2028,2029,2030,2031,2032,2033,2034,2035,2036,2037,2038,2039,2040,2041,2042,2043,2044,2045,2046,2047,2048,2049,2050]
["DFES 2023 - Consumer Transformation",133283.99999999994,133859.46888545668,134434.9377709133,135010.40665636992,135585.87554182659,136161.34442728321,136736.81331273986,137312.28219819651,137887.75108365336,138463.21996910992,139038.68885456643,139614.15774002328,140189.62662547984,140765.09551093646,141340.56439639305,141916.0332818499,142491.50216730646,143066.97105276296,143642.4399382197,144217.90882367632,144793.37770913303,145368.84659458959,145944.31548004647,146519.78436550297,147095.25325095965,147670.72213641624,148246.19102187295,148821.65990732968,149397.12879278627]
["DFES 2023 - System Transformation",133283.99999999994,133859.46888545668,134434.9377709133,135010.40665636992,135585.87554182659,136161.34442728321,136736.81331273986,137312.28219819651,137887.75108365336,138463.21996910992,139038.68885456643,139614.15774002328,140189.62662547984,140765.09551093646,141340.56439639305,141916.0332818499,142491.50216730646,143066.97105276296,143642.4399382197,144217.90882367632,144793.37770913303,145368.84659458959,145944.31548004647,146519.78436550297,147095.25325095965,147670.72213641624,148246.19102187295,148821.65990732968,149397.12879278627]
["DFES 2023 - Leading The Way",133283.99999999994,133859.46888545668,134434.9377709133,135010.40665636992,135585.87554182659,136161.34442728321,136736.81331273986,137312.28219819651,137887.75108365336,138463.21996910992,139038.68885456643,139614.15774002328,140189.62662547984,140765.09551093646,141340.56439639305,141916.0332818499,142491.50216730646,143066.97105276296,143642.4399382197,144217.90882367632,144793.37770913303,145368.84659458959,145944.31548004647,146519.78436550297,147095.25325095965,147670.72213641624,148246.19102187295,148821.65990732968,149397.12879278627]
["CCC 2020 - Balanced Net Zero",112653.47489341952,113109.32076224896,113567.69130174076,114028.50331808592,114492.79046676771,114959.52277238829,115429.10531334829,115899.36943304153,116372.29831862614,116851.76300907911,117338.92675794287,117833.78950811422,118335.77218472266,118844.45259102457,119361.31782443025,119887.5584683504,120423.25324960593,120967.90628201851,121521.68591794134,122085.10626783015,122658.30409861945,123241.17581161014,123830.20205281522,124431.46369734309,125042.70138033641,125664.07480933983,126295.74623716148,126937.88050227608,127590.64506986859]
["CT 2023 Policy Sensitivity",133283.99999999994,133859.46888545668,134434.9377709133,135010.40665636992,135585.87554182659,136161.34442728321,136736.81331273986,137312.28219819651,137887.75108365336,138463.21996910992,139038.68885456643,139614.15774002328,140189.62662547984,140765.09551093646,141340.56439639305,141916.0332818499,142491.50216730646,143066.97105276296,143642.4399382197,144217.90882367632,144793.37770913303,145368.84659458959,145944.31548004647,146519.78436550297,147095.25325095965,147670.72213641624,148246.19102187295,148821.65990732968,149397.12879278627]
["BV 2023 Policy Sensitivity",133283.99999999994,133859.46888545668,134434.9377709133,135010.40665636992,135585.87554182659,136161.34442728321,136736.81331273986,137312.28219819651,137887.75108365336,138463.21996910992,139038.68885456643,139614.15774002328,140189.62662547984,140765.09551093646,141340.56439639305,141916.0332818499,142491.50216730646,143066.97105276296,143642.4399382197,144217.90882367632,144793.37770913303,145368.84659458959,145944.31548004647,146519.78436550297,147095.25325095965,147670.72213641624,148246.19102187295,148821.65990732968,149397.12879278627]
["DFES 2023 - NPg Best View",133283.99999999994,133859.46888545668,134434.9377709133,135010.40665636992,135585.87554182659,136161.34442728321,136736.81331273986,137312.28219819651,137887.75108365336,138463.21996910992,139038.68885456643,139614.15774002328,140189.62662547984,140765.09551093646,141340.56439639305,141916.0332818499,142491.50216730646,143066.97105276296,143642.4399382197,144217.90882367632,144793.37770913303,145368.84659458959,145944.31548004647,146519.78436550297,147095.25325095965,147670.72213641624,148246.19102187295,148821.65990732968,149397.12879278627]
["NPg ED2 Planning Scenario - needs updating to old",133283.99999999994,133859.46888545668,134434.9377709133,135010.40665636992,135585.87554182659,136161.34442728321,136736.81331273986,137312.28219819651,137887.75108365336,138463.21996910992,139038.68885456643,139614.15774002328,140189.62662547984,140765.09551093646,141340.56439639305,141916.0332818499,142491.50216730646,143066.97105276296,143642.4399382197,144217.90882367632,144793.37770913303,145368.84659458959,145944.31548004647,146519.78436550297,147095.25325095965,147670.72213641624,148246.19102187295,148821.65990732968,149397.12879278627]
["DFES 2023 - Falling Short",133283.99999999994,133859.46888545668,134434.9377709133,135010.40665636992,135585.87554182659,136161.34442728321,136736.81331273986,137312.28219819651,137887.75108365336,138463.21996910992,139038.68885456643,139614.15774002328,140189.62662547984,140765.09551093646,141340.56439639305,141916.0332818499,142491.50216730646,143066.97105276296,143642.4399382197,144217.90882367632,144793.37770913303,145368.84659458959,145944.31548004647,146519.78436550297,147095.25325095965,147670.72213641624,148246.19102187295,148821.65990732968,149397.12879278627]
[]
["I&C Customer Numbers - NPgY",2022,2023,2024,2025,2026,2027,2028,2029,2030,2031,2032,2033,2034,2035,2036,2037,2038,2039,2040,2041,2042,2043,2044,2045,2046,2047,2048,2049,2050]
["DFES 2023 - Consumer Transformation",191829.00000000006,192938.91053347834,194048.82106695665,195158.73160043545,196268.64213391367,197378.55266739213,198488.46320087029,199598.37373434927,200708.28426782737,201818.19480130589,202928.10533478434,204038.01586826271,205147.92640174108,206257.83693521953,207367.74746869816,208477.65800217655,209587.5685356551,210697.47906913323,211807.38960261192,212917.3001360902,214027.21066956833,215137.1212030469,216247.03173652524,217356.94227000393,218466.85280348232,219576.76333696095,220686.67387043926,221796.58440391775,222906.49493739591]
["DFES 2023 - System Transformation",191829.00000000006,192938.91053347834,194048.82106695665,195158.73160043545,196268.64213391367,197378.55266739213,198488.46320087029,199598.37373434927,200708.28426782737,201818.19480130589,202928.10533478434,204038.01586826271,205147.92640174108,206257.83693521953,207367.74746869816,208477.65800217655,209587.5685356551,210697.47906913323,211807.38960261192,212917.3001360902,214027.21066956833,215137.1212030469,216247.03173652524,217356.94227000393,218466.85280348232,219576.76333696095,220686.67387043926,221796.58440391775,222906.49493739591]
["DFES 2023 - Leading The Way",191829.00000000006,192938.91053347834,194048.82106695665,195158.73160043545,196268.64213391367,197378.55266739213,198488.46320087029,199598.37373434927,200708.28426782737,201818.19480130589,202928.10533478434,204038.01586826271,205147.92640174108,206257.83693521953,207367.74746869816,208477.65800217655,209587.5685356551,210697.47906913323,211807.38960261192,212917.3001360902,214027.21066956833,215137.1212030469,216247.03173652524,217356.94227000393,218466.85280348232,219576.76333696095,220686.67387043926,221796.58440391775,222906.49493739591]
["CCC 2020 - Balanced Net Zero",172923.39141710842,173420.82248534352,173921.16068433676,174423.80397463977,174930.32370504734,175439.39758946435,175952.45822352488,176470.01292747571,176990.98673094192,177519.21785466303,178057.15041287697,178605.70092829113,179164.11934686563,179731.39598672962,180309.15740544995,180898.90784196215,181501.88686678061,182116.33643538289,182741.50112272971,183377.81164068417,184025.77886025223,184685.02929369968,185363.66795563753,186050.60760497322,186750.49583821563,187463.55505934329,188190.01142729621,188930.09491852907,189684.03939059185]
["CT 2023 Policy Sensitivity",191829.00000000006,192938.91053347834,194048.82106695665,195158.73160043545,196268.64213391367,197378.55266739213,198488.46320087029,199598.37373434927,200708.28426782737,201818.19480130589,202928.10533478434,204038.01586826271,205147.92640174108,206257.83693521953,207367.74746869816,208477.65800217655,209587.5685356551,210697.47906913323,211807.38960261192,212917.3001360902,214027.21066956833,215137.1212030469,216247.03173652524,217356.94227000393,218466.85280348232,219576.76333696095,220686.67387043926,221796.58440391775,222906.49493739591]
["BV 2023 Policy Sensitivity",191829.00000000006,192938.91053347834,194048.82106695665,195158.73160043545,196268.64213391367,197378.55266739213,198488.46320087029,199598.37373434927,200708.28426782737,201818.19480130589,202928.10533478434,204038.01586826271,205147.92640174108,206257.83693521953,207367.74746869816,208477.65800217655,209587.5685356551,210697.47906913323,211807.38960261192,212917.3001360902,214027.21066956833,215137.1212030469,216247.03173652524,217356.94227000393,218466.85280348232,219576.76333696095,220686.67387043926,221796.58440391775,222906.49493739591]
["DFES 2023 - NPg Best View",191829.00000000006,192938.91053347834,194048.82106695665,195158.73160043545,196268.64213391367,197378.55266739213,198488.46320087029,199598.37373434927,200708.28426782737,201818.19480130589,202928.10533478434,204038.01586826271,205147.92640174108,206257.83693521953,207367.74746869816,208477.65800217655,209587.5685356551,210697.47906913323,211807.38960261192,212917.3001360902,214027.21066956833,215137.1212030469,216247.03173652524,217356.94227000393,218466.85280348232,219576.76333696095,220686.67387043926,221796.58440391775,222906.49493739591]
["NPg ED2 Planning Scenario - needs updating to old",191829.00000000006,192938.91053347834,194048.82106695665,195158.73160043545,196268.64213391367,197378.55266739213,198488.46320087029,199598.37373434927,200708.28426782737,201818.19480130589,202928.10533478434,204038.01586826271,205147.92640174108,206257.83693521953,207367.74746869816,208477.65800217655,209587.5685356551,210697.47906913323,211807.38960261192,212917.3001360902,214027.21066956833,215137.1212030469,216247.03173652524,217356.94227000393,218466.85280348232,219576.76333696095,220686.67387043926,221796.58440391775,222906.49493739591]
["DFES 2023 - Falling Short",191829.00000000006,192938.91053347834,194048.82106695665,195158.73160043545,196268.64213391367,197378.55266739213,198488.46320087029,199598.37373434927,200708.28426782737,201818.19480130589,202928.10533478434,204038.01586826271,205147.92640174108,206257.83693521953,207367.74746869816,208477.65800217655,209587.5685356551,210697.47906913323,211807.38960261192,212917.3001360902,214027.21066956833,215137.1212030469,216247.03173652524,217356.94227000393,218466.85280348232,219576.76333696095,220686.67387043926,221796.58440391775,222906.49493739591]

{"sheet":"Total Car Stock Numbers","index":33,"n_rows":32,"n_cols":30,"rows_kept":32,"cut":false,"hidden":false,"merged":[]}
["Total Car Stock Numbers - NPg",2022,2023,2024,2025,2026,2027,2028,2029,2030,2031,2032,2033,2034,2035,2036,2037,2038,2039,2040,2041,2042,2043,2044,2045,2046,2047,2048,2049,2050]
["DFES 2023 - Consumer Transformation",{"$f":"SUM(B13,B24)","v":4545240.9466064787},4552254.4030392366,4559267.8594719954,4566281.3159047533,4573294.7723375112,4580308.2287702691,4587321.685203027,4594335.1416357858,4601348.5980685437,4608362.0545013016,4615375.5109340604,4622388.9673668183,4629402.4237995762,4636415.8802323341,4643429.336665092,4650442.7930978509,4657456.2495306088,4664469.7059633667,4671483.1623961255,4678496.6188288834,4685510.0752616413,4692523.5316943992,4699536.9881271571,4706550.4445599159,4713563.9009926738,4720577.3574254317,4727590.8138581906,4734604.2702909485,4741617.7267237082]
["DFES 2023 - System Transformation",4545240.9466064787,4557692.8392077424,4570144.731809007,4582596.6244102707,4595048.5170115344,4607500.4096127981,4619952.3022140618,4632404.1948153265,4644856.0874165902,4657307.9800178539,4669759.8726191185,4682211.7652203823,4694663.657821646,4707115.5504229097,4719567.4430241734,4732019.335625438,4744471.2282267017,4756923.1208279654,4769375.0134292301,4781826.9060304938,4794278.7986317575,4806730.6912330212,4819182.5838342849,4831634.4764355496,4844086.3690368133,4856538.261638077,4868990.1542393416,4881442.0468406053,4893893.9394418681]
["DFES 2023 - Leading The Way",4545240.9466064787,4552254.4030392366,4559267.8594719954,4566281.3159047533,4573294.7723375112,4580308.2287702691,4587321.685203027,4594335.1416357858,4601348.5980685437,4607152.2237917511,4610536.1880958565,4611500.4909808589,4610045.1324467603,4606170.1124935597,4599875.4311212562,4591161.0883298516,4580027.0841193451,4566473.4184897365,4550500.091441026,4532107.1029732134,4511294.453086298,4488062.1417802814,4462410.169055162,4434338.5349109415,4403847.239347619,4370936.2823651936,4335605.663963668,4297855.3841430387,4257685.4429033073]
["CCC 2020 - Balanced Net Zero",4303108.3208571719,4345906.9165408444,4388705.5122245168,4431504.1079081893,4474302.7035918618,4517101.2992755342,4559899.8949592067,4602698.4906428792,4645497.0863265516,4688295.6820102241,4731094.2776938966,4773892.873377569,4816691.4690612415,4859490.064744914,4902288.6604285864,4945087.2561122589,4987885.8517959313,5030684.4474796038,5073483.0431632763,5116281.6388469487,5159080.2345306203,5201878.8302142937,5244677.4258979652,5287476.0215816386,5330274.6172653101,5373073.2129489835,5415871.8086326551,5461059,5501469]
["CT 2023 Policy Sensitivity",4545240.9466064787,4552992.3980526291,4560743.8494987804,4568495.3009449309,4576246.7523910813,4583998.2038372317,4591749.6552833822,4599501.1067295335,4607252.558175684,4615004.0096218344,4622755.4610679857,4630506.9125141362,4638258.3639602866,4646009.815406437,4653761.2668525875,4661512.7182987388,4669264.1697448893,4677015.6211910397,4684767.072637191,4692518.5240833415,4700269.9755294919,4708021.4269756423,4715772.8784217928,4723524.3298679441,4731275.7813140946,4739027.232760245,4746778.6842063963,4754530.1356525468,4762281.5870986907]
["BV 2023 Policy Sensitivity",4545240.9466064787,4552992.3980526291,4560743.8494987804,4568495.3009449309,4576246.7523910813,4583998.2038372317,4591749.6552833822,4599501.1067295335,4607252.558175684,4615004.0096218344,4622755.4610679857,4630506.9125141362,4638258.3639602866,4646009.815406437,4653761.2668525875,4661512.7182987388,4669264.1697448893,4677015.6211910397,4684767.072637191,4692518.5240833415,4700269.9755294919,4708021.4269756423,4715772.8784217928,4723524.3298679441,4731275.7813140946,4739027.232760245,4746778.6842063963,4754530.1356525468,4762281.5870986907]
["DFES 2023 - NPg Best View",4545240.9466064787,4552254.4030392366,4559267.8594719954,4566281.3159047533,4573294.7723375112,4580308.2287702691,4587321.685203027,4594335.1416357858,4601348.5980685437,4607152.2237917511,4610536.1880958565,4611500.4909808589,4610045.1324467603,4606170.1124935597,4599875.4311212562,4591161.0883298516,4580027.0841193451,4566473.4184897365,4550500.091441026,4532107.1029732134,4511294.453086298,4488062.1417802814,4462410.169055162,4434338.5349109415,4403847.239347619,4370936.2823651936,4335605.663963668,4297855.3841430387,4257685.4429033073]
["NPg ED2 Planning Scenario - needs updating to old",4365807.6893885387,4427760.0000900682,4489712.3107915996,4551664.62149313,4599265.6174499672,4646866.6134068072,4694467.6093636453,4742068.6053204853,4789669.6012773244,4837316.1150976736,4884962.6289180219,4932609.1427383702,4980255.6565587195,5027902.1703790687,5071516.2258856269,5115130.281392185,5158744.3368987422,5202358.3924053013,5245972.4479118604,5245972.4479118604,5245972.4479118604,5245972.4479118604,5245972.4479118604,5245972.4479118604,5245972.4479118604,5245972.4479118604,5245972.4479118604,5245972.4479118604,5245972.4479118604]
["DFES 2023 - Falling Short",4545240.9466064787,4557692.8392077424,4570144.731809007,4582596.6244102707,4595048.5170115344,4607500.4096127981,4619952.3022140618,4632404.1948153265,4644856.0874165902,4657307.9800178539,4669759.8726191185,4682211.7652203823,4694663.657821646,4707115.5504229097,{"$f":"SUM(P21,P32)","v":4719567.4430241734},4732019.335625438,4744471.2282267017,4756923.1208279654,4769375.0134292301,4781826.9060304938,4794278.7986317575,4806730.6912330212,4819182.5838342849,4831634.4764355496,4844086.3690368133,4856538.261638077,4868990.1542393416,4881442.0468406053,4893893.9394418681]
[]
["Total Car Stock - NPgN",2022,2023,2024,2025,2026,2027,2028,2029,2030,2031,2032,2033,2034,2035,2036,2037,2038,2039,2040,2041,2042,2043,2044,2045,2046,2047,2048,2049,2050]
["DFES 2023 - Consumer Transformation",1806832.0668496895,1809616.201166311,1812400.3354829326,1815184.4697995542,1817968.6041161758,1820752.7384327974,1823536.872749419,1826321.0070660405,1829105.1413826621,1831889.2756992837,1834673.4100159053,1837457.5443325269,1840241.6786491484,1843025.81296577,1845809.9472823916,1848594.0815990132,1851378.2159156348,1854162.3502322563,1856946.4845488779,1859730.6188654995,1862514.7531821211,1865298.8874987427,1868083.0218153642,1870867.1561319858,1873651.2904486074,1876435.424765229,1879219.5590818506,1882003.6933984722,1884787.8277150947]
["DFES 2023 - System Transformation",1806832.0668496895,1811777.9735577113,1816723.8802657332,1821669.7869737551,1826615.693681777,1831561.6003897989,1836507.5070978208,1841453.4138058426,1846399.3205138645,1851345.2272218864,1856291.1339299083,1861237.0406379302,1866182.947345952,1871128.8540539739,1876074.7607619958,1881020.6674700177,1885966.5741780396,1890912.4808860614,1895858.3875940833,1900804.2943021052,1905750.2010101271,1910696.107718149,1915642.0144261708,1920587.9211341927,1925533.8278422146,1930479.7345502365,1935425.6412582584,1940371.5479662803,1945317.4546743003]
["DFES 2023 - Leading The Way",1806832.0668496895,1809616.201166311,1812400.3354829326,1815184.4697995542,1817968.6041161758,1820752.7384327974,1823536.872749419,1826321.0070660405,1829105.1413826621,1831408.3693237854,1832749.7845139117,1833129.3869530414,1832547.1766411741,1831003.15357831,1828497.3177644494,1825029.669199592,1820600.2078837373,1815208.9338168865,1808855.8469990385,1801540.9474301939,1793264.2351103523,1784025.7100395141,1773825.3722176789,1762663.221644847,1750539.2583210184,1737453.4822461931,1723405.893420371,1708396.4918435516,1692425.2775157355]
["CCC 2020 - Balanced Net Zero",1750262.4713857437,1767697.4902648244,1785132.509143905,1802567.5280229857,1820002.5469020663,1837437.565781147,1854872.5846602276,1872307.6035393083,1889742.622418389,1907177.6412974696,1924612.6601765503,1942047.6790556309,1959482.6979347116,1976917.7168137922,1994352.7356928729,2011787.7545719536,2029222.7734510342,2046657.7923301149,2064092.8112091955,2081527.8300882762,2098962.8489673566,2116397.8678464373,2133832.8867255179,2151267.9056045986,2168702.9244836792,2186137.9433627599,2203572.9622418405,2222001,2238443]
["CT 2023 Policy Sensitivity",1806832.0668496895,1809909.5533718921,1812987.0398940947,1816064.5264162973,1819142.0129384999,1822219.4994607025,1825296.9859829051,1828374.4725051078,1831451.9590273104,1834529.445549513,1837606.9320717156,1840684.4185939182,1843761.9051161208,1846839.3916383234,1849916.878160526,1852994.3646827287,1856071.8512049313,1859149.3377271339,1862226.8242493365,1865304.3107715391,1868381.7972937417,1871459.2838159443,1874536.7703381469,1877614.2568603496,1880691.7433825522,1883769.2299047548,1886846.7164269574,1889924.20294916,1893001.689471361]
["BV 2023 Policy Sensitivity",1806832.0668496895,1809909.5533718921,1812987.0398940947,1816064.5264162973,1819142.0129384999,1822219.4994607025,1825296.9859829051,1828374.4725051078,1831451.9590273104,1834529.445549513,1837606.9320717156,1840684.4185939182,1843761.9051161208,1846839.3916383234,1849916.878160526,1852994.3646827287,1856071.8512049313,1859149.3377271339,1862226.8242493365,1865304.3107715391,1868381.7972937417,1871459.2838159443,1874536.7703381469,1877614.2568603496,1880691.7433825522,1883769.2299047548,1886846.7164269574,1889924.20294916,1893001.689471361]
["DFES 2023 - NPg Best View",1806832.0668496895,1809616.201166311,1812400.3354829326,1815184.4697995542,1817968.6041161758,1820752.7384327974,1823536.872749419,1826321.0070660405,1829105.1413826621,1831408.3693237854,1832749.7845139117,1833129.3869530414,1832547.1766411741,1831003.15357831,1828497.3177644494,1825029.669199592,1820600.2078837373,1815208.9338168865,1808855.8469990385,1801540.9474301939,1793264.2351103523,1784025.7100395141,1773825.3722176789,1762663.221644847,1750539.2583210184,1737453.4822461931,1723405.893420371,1708396.4918435516,1692425.2775157355]
["NPg ED2 Planning Scenario - needs updating to old",1761876.9030780322,1780494.1895784019,1799111.4760787722,1817728.7625791426,1836583.454703962,1855438.1468287813,1874292.8389536012,1893147.5310784213,1912002.2232032411,1931019.2909178548,1950036.3586324672,1969053.4263470811,1988070.4940616945,2007087.5617763079,2024605.8257216697,2042124.0896670306,2059642.3536123917,2077160.6175577538,2094678.8815031149,2094678.8815031149,2094678.8815031149,2094678.8815031149,2094678.8815031149,2094678.8815031149,2094678.8815031149,2094678.8815031149,2094678.8815031149,2094678.8815031149,2094678.8815031149]
["DFES 2023 - Falling Short",1806832.0668496895,1811777.9735577113,1816723.8802657332,1821669.7869737551,1826615.693681777,1831561.6003897989,1836507.5070978208,1841453.4138058426,1846399.3205138645,1851345.2272218864,1856291.1339299083,1861237.0406379302,1866182.947345952,1871128.8540539739,1876074.7607619958,1881020.6674700177,1885966.5741780396,1890912.4808860614,1895858.3875940833,1900804.2943021052,1905750.2010101271,1910696.107718149,1915642.0144261708,1920587.9211341927,1925533.8278422146,1930479.7345502365,1935425.6412582584,1940371.5479662803,1945317.4546743003]
[]
["Total Car Stock - NPgY",2022,2023,2024,2025,2026,2027,2028,2029,2030,2031,2032,2033,2034,2035,2036,2037,2038,2039,2040,2041,2042,2043,2044,2045,2046,2047,2048,2049,2050]
["DFES 2023 - Consumer Transformation",2738408.8797567892,2742638.2018729257,2746867.5239890623,2751096.8461051988,2755326.1682213354,2759555.4903374719,2763784.8124536085,2768014.134569745,2772243.4566858816,2776472.7788020181,2780702.1009181547,2784931.4230342912,2789160.7451504278,2793390.0672665644,2797619.3893827009,2801848.7114988375,2806078.033614974,2810307.3557311106,2814536.6778472471,2818765.9999633837,2822995.3220795202,2827224.6441956568,2831453.9663117933,2835683.2884279299,2839912.6105440664,2844141.932660203,2848371.2547763395,2852600.5768924761,2856829.8990086135]
["DFES 2023 - System Transformation",2738408.8797567892,2745914.8656500312,2753420.8515432733,2760926.8374365154,2768432.8233297574,2775938.8092229995,2783444.7951162416,2790950.7810094836,2798456.7669027257,2805962.7527959677,2813468.7386892098,2820974.7245824519,2828480.7104756939,2835986.696368936,2843492.682262178,2850998.6681554201,2858504.6540486622,2866010.6399419042,2873516.6258351463,2881022.6117283884,2888528.5976216304,2896034.5835148725,2903540.5694081145,2911046.5553013566,2918552.5411945987,2926058.5270878407,2933564.5129810828,2941070.4988743248,2948576.4847675678]
["DFES 2023 - Leading The Way",2738408.8797567892,2742638.2018729257,2746867.5239890623,2751096.8461051988,2755326.1682213354,2759555.4903374719,2763784.8124536085,2768014.134569745,2772243.4566858816,2775743.8544679657,2777786.4035819443,2778371.1040278175,2777497.9558055862,2775166.9589152494,2771378.1133568073,2766131.4191302601,2759426.8762356075,2751264.48467285,2741644.244441987,2730566.1555430191,2718030.2179759452,2704036.4317407673,2688584.7968374835,2671675.3132660943,2653307.9810266006,2633482.800119001,2612199.7705432968,2589458.8922994873,2565260.1653875718]
["CCC 2020 - Balanced Net Zero",2552845.849471428,2578209.4262760198,2603573.0030806116,2628936.5798852034,2654300.1566897952,2679663.733494387,2705027.3102989788,2730390.8871035706,2755754.4639081624,2781118.0407127542,2806481.6175173461,2831845.1943219379,2857208.7711265297,2882572.3479311215,2907935.9247357133,2933299.5015403051,2958663.0783448969,2984026.6551494887,3009390.2319540805,3034753.8087586723,3060117.3855632641,3085480.9623678559,3110844.5391724478,3136208.1159770396,3161571.6927816314,3186935.2695862232,3212298.846390815,3239058,3263026]
["CT 2023 Policy Sensitivity",2738408.8797567892,2743082.8446807372,2747756.8096046853,2752430.7745286333,2757104.7394525814,2761778.7043765294,2766452.6693004775,2771126.6342244255,2775800.5991483736,2780474.5640723216,2785148.5289962697,2789822.4939202177,2794496.4588441658,2799170.4237681138,2803844.3886920619,2808518.3536160099,2813192.318539958,2817866.283463906,2822540.2483878541,2827214.2133118021,2831888.1782357502,2836562.1431596982,2841236.1080836463,2845910.0730075943,2850584.0379315424,2855258.0028554904,2859931.9677794385,2864605.9327033865,2869279.8976273295]
["BV 2023 Policy Sensitivity",2738408.8797567892,2743082.8446807372,2747756.8096046853,2752430.7745286333,2757104.7394525814,2761778.7043765294,2766452.6693004775,2771126.6342244255,2775800.5991483736,2780474.5640723216,2785148.5289962697,2789822.4939202177,2794496.4588441658,2799170.4237681138,2803844.3886920619,2808518.3536160099,2813192.318539958,2817866.283463906,2822540.2483878541,2827214.2133118021,2831888.1782357502,2836562.1431596982,2841236.1080836463,2845910.0730075943,2850584.0379315424,2855258.0028554904,2859931.9677794385,2864605.9327033865,2869279.8976273295]
["DFES 2023 - NPg Best View",2738408.8797567892,2742638.2018729257,2746867.5239890623,2751096.8461051988,2755326.1682213354,2759555.4903374719,2763784.8124536085,2768014.134569745,2772243.4566858816,2775743.8544679657,2777786.4035819443,2778371.1040278175,2777497.9558055862,2775166.9589152494,2771378.1133568073,2766131.4191302601,2759426.8762356075,2751264.48467285,2741644.244441987,2730566.1555430191,2718030.2179759452,2704036.4317407673,2688584.7968374835,2671675.3132660943,2653307.9810266006,2633482.800119001,2612199.7705432968,2589458.8922994873,2565260.1653875718]
["NPg ED2 Planning Scenario - needs updating to old",2603930.7863105065,2647265.8105116664,2690600.8347128271,2733935.8589139874,2762682.1627460057,2791428.4665780254,2820174.7704100446,2848921.0742420643,2877667.378074083,2906296.8241798184,2934926.2702855542,2963555.7163912887,2992185.162497025,3020814.6086027604,3046910.4001639574,3073006.1917251544,3099101.9832863505,3125197.7748475475,3151293.566408745,3151293.566408745,3151293.566408745,3151293.566408745,3151293.566408745,3151293.566408745,3151293.566408745,3151293.566408745,3151293.566408745,3151293.566408745,3151293.566408745]
["DFES 2023 - Falling Short",2738408.8797567892,2745914.8656500312,2753420.8515432733,2760926.8374365154,2768432.8233297574,2775938.8092229995,2783444.7951162416,2790950.7810094836,2798456.7669027257,2805962.7527959677,2813468.7386892098,2820974.7245824519,2828480.7104756939,2835986.696368936,2843492.682262178,2850998.6681554201,2858504.6540486622,2866010.6399419042,2873516.6258351463,2881022.6117283884,2888528.5976216304,2896034.5835148725,2903540.5694081145,2911046.5553013566,2918552.5411945987,2926058.5270878407,2933564.5129810828,2941070.4988743248,2948576.4847675678]

{"sheet":"HP & EV Penetration","index":34,"n_rows":4,"n_cols":30,"rows_kept":4,"cut":false,"hidden":false,"merged":[]}
["Region_ID","NPg","NPg","NPg","NPg","NPg","NPg","NPg","NPg","NPg","NPg","NPg","NPg","NPg","NPg","NPg","NPg","NPg","NPg","NPg","NPg","NPg","NPg","NPg","NPg","NPg","NPg","NPg","NPg","NPg"]
["Year_ID in Planning Scenario 2022",2022,2023,2024,2025,2026,2027,2028,2029,2030,2031,2032,2033,2034,2035,2036,2037,2038,2039,2040,2041,2042,2043,2044,2045,2046,2047,2048,2049,2050]
["HPs_Penetration",{"$f":"'Heat Pumps'!B8/'Customer numbers'!B8","v":1.2474788727889851E-2},{"$f":"'Heat Pumps'!C8/'Customer numbers'!C8","v":1.6264094991349121E-2},{"$f":"'Heat Pumps'!D8/'Customer numbers'!D8","v":2.1728521626182249E-2},{"$f":"'Heat Pumps'!E8/'Customer numbers'!E8","v":3.3142876181527559E-2},{"$f":"'Heat Pumps'!F8/'Customer numbers'!F8","v":4.8702624831281412E-2},{"$f":"'Heat Pumps'!G8/'Customer numbers'!G8","v":6.7264043169672272E-2},{"$f":"'Heat Pumps'!H8/'Customer numbers'!H8","v":7.4752139815103591E-2},{"$f":"'Heat Pumps'!I8/'Customer numbers'!I8","v":8.081167326545971E-2},{"$f":"'Heat Pumps'!J8/'Customer numbers'!J8","v":8.6900783588242492E-2},{"$f":"'Heat Pumps'!K8/'Customer numbers'!K8","v":9.3022657598328742E-2},{"$f":"'Heat Pumps'!L8/'Customer numbers'!L8","v":9.9173836949500854E-2},{"$f":"'Heat Pumps'!M8/'Customer numbers'!M8","v":0.10522780071114932},{"$f":"'Heat Pumps'!N8/'Customer numbers'!N8","v":0.11154159266101661},{"$f":"'Heat Pumps'!O8/'Customer numbers'!O8","v":0.12562116130007445},{"$f":"'Heat Pumps'!P8/'Customer numbers'!P8","v":0.17259779417771953},{"$f":"'Heat Pumps'!Q8/'Customer numbers'!Q8","v":0.21947693648453739},{"$f":"'Heat Pumps'!R8/'Customer numbers'!R8","v":0.26510493475131114},{"$f":"'Heat Pumps'!S8/'Customer numbers'!S8","v":0.30893990301030566},{"$f":"'Heat Pumps'!T8/'Customer numbers'!T8","v":0.34782953340335182},{"$f":"'Heat Pumps'!U8/'Customer numbers'!U8","v":0.38256184598601378},{"$f":"'Heat Pumps'!V8/'Customer numbers'!V8","v":0.41400404783104056},{"$f":"'Heat Pumps'!W8/'Customer numbers'!W8","v":0.45612317772504851},{"$f":"'Heat Pumps'!X8/'Customer numbers'!X8","v":0.49955387402923396},{"$f":"'Heat Pumps'!Y8/'Customer numbers'!Y8","v":0.54284008502364367},{"$f":"'Heat Pumps'!Z8/'Customer numbers'!Z8","v":0.58566148081959035},{"$f":"'Heat Pumps'!AA8/'Customer numbers'!AA8","v":0.62822372818595817},{"$f":"'Heat Pumps'!AB8/'Customer numbers'!AB8","v":0.67056070358392561},{"$f":"'Heat Pumps'!AC8/'Customer numbers'!AC8","v":0.712716038830987},{"$f":"'Heat Pumps'!AD8/'Customer numbers'!AD8","v":0.74498758918857388}]
["EVs_Penetration",{"$f":"'Electric Vehicles'!B8/'Total Car Stock Numbers'!B8","v":1.9095797344869471E-2},{"$f":"'Electric Vehicles'!C8/'Total Car Stock Numbers'!C8","v":3.2794740096319976E-2},{"$f":"'Electric Vehicles'!D8/'Total Car Stock Numbers'!D8","v":6.2143091551723796E-2},{"$f":"'Electric Vehicles'!E8/'Total Car Stock Numbers'!E8","v":9.9772871726745593E-2},{"$f":"'Electric Vehicles'!F8/'Total Car Stock Numbers'!F8","v":0.15265624342057538},{"$f":"'Electric Vehicles'!G8/'Total Car Stock Numbers'!G8","v":0.20681075436146393},{"$f":"'Electric Vehicles'!H8/'Total Car Stock Numbers'!H8","v":0.26478369806024227},{"$f":"'Electric Vehicles'!I8/'Total Car Stock Numbers'!I8","v":0.32501568866139441},{"$f":"'Electric Vehicles'!J8/'Total Car Stock Numbers'!J8","v":0.39504331420640654},{"$f":"'Electric Vehicles'!K8/'Total Car Stock Numbers'!K8","v":0.46462953599528356},{"$f":"'Electric Vehicles'!L8/'Total Car Stock Numbers'!L8","v":0.53107554091474207},{"$f":"'Electric Vehicles'!M8/'Total Car Stock Numbers'!M8","v":0.59365059276350907},{"$f":"'Electric Vehicles'!N8/'Total Car Stock Numbers'!N8","v":0.65163830585007687},{"$f":"'Electric Vehicles'!O8/'Total Car Stock Numbers'!O8","v":0.70148038849803074},{"$f":"'Electric Vehicles'!P8/'Total Car Stock Numbers'!P8","v":0.74284076844382829},{"$f":"'Electric Vehicles'!Q8/'Total Car Stock Numbers'!Q8","v":0.77955313070968058},{"$f":"'Electric Vehicles'!R8/'Total Car Stock Numbers'!R8","v":0.81197336428307787},{"$f":"'Electric Vehicles'!S8/'Total Car Stock Numbers'!S8","v":0.84042162261600506},{"$f":"'Electric Vehicles'!T8/'Total Car Stock Numbers'!T8","v":0.8648328581296113},{"$f":"'Electric Vehicles'!U8/'Total Car Stock Numbers'!U8","v":0.88548039770888864},{"$f":"'Electric Vehicles'!V8/'Total Car Stock Numbers'!V8","v":0.90316161854887889},{"$f":"'Electric Vehicles'!W8/'Total Car Stock Numbers'!W8","v":0.9182203520839195},{"$f":"'Electric Vehicles'!X8/'Total Car Stock Numbers'!X8","v":0.93127992330653653},{"$f":"'Electric Vehicles'!Y8/'Total Car Stock Numbers'!Y8","v":0.94307413993685729},{"$f":"'Electric Vehicles'!Z8/'Total Car Stock Numbers'!Z8","v":0.95362390467979219},{"$f":"'Electric Vehicles'!AA8/'Total Car Stock Numbers'!AA8","v":0.96409687256290189},{"$f":"'Electric Vehicles'!AB8/'Total Car Stock Numbers'!AB8","v":0.97495651764039726},{"$f":"'Electric Vehicles'!AC8/'Total Car Stock Numbers'!AC8","v":0.98644338188809111},{"$f":"'Electric Vehicles'!AD8/'Total Car Stock Numbers'!AD8","v":0.99875485331774716}]

{"sheet":"Fuel consumption","index":35,"n_rows":49,"n_cols":38,"rows_kept":49,"cut":false,"hidden":false,"merged":[]}
[]
[]
[]
[null,null,"Scenario","Category","Sub-category","Fuel","Unit",2020,2021,2022,2023,2024,2025,2026,2027,2028,2029,2030,2031,2032,2033,2034,2035,2036,2037,2038,2039,2040,2041,2042,2043,2044,2045,2046,2047,2048,2049,2050]
[null,null,"Planning Scenario","Domestic","Space heat & hot water","Natural gas","TWh",42.589800227239195,42.184867983810591,41.853879397929845,41.421240720447258,40.915310085881117,40.121723460629838,39.124465010419094,37.855970536394402,36.057708115104802,34.268452298706038,32.426101249211349,30.863927152574405,29.186361933398359,27.339445754421398,25.32748714497329,23.295703336458082,21.372609727278412,19.523715578140806,17.641548286644618,15.672274727653669,13.62418446899089,11.402240128623061,9.3885675736483698,7.6180145221020679,5.9208968420822039,4.4001070513026264,3.0250034063273095,1.6815216504444734,0.45261043767066567,0.15893209687097221,1.6862770199870327E-14]
[null,null,"Planning Scenario","Domestic","Space heat & hot water","Solid fuel","TWh",0.79022304016171985,0.77462933433062831,0.74193307892723515,0.70459195046948353,0.66602746983633709,0.63233247494033451,0.58633136601685698,0.53066751111408395,0.4698435944297969,0.43254109609371444,0.3959468025828603,0.36326649098878316,0.33076425538040954,0.29975033004019813,0.26893028219128945,0.23953997988993511,0.21112088015788386,0.18262179515147495,0.15421329313287024,0.12474665188616291,9.5260364650788298E-2,6.5701269756565026E-2,3.622972943511131E-2,8.1536436202912857E-3,5.5253479562257703E-3,4.3346455145823626E-3,3.2050337560103398E-3,2.0948129103200114E-3,1.1106003129835811E-3,5.2812233086134441E-4,3.3281783289217751E-16]
[null,null,"Planning Scenario","Domestic","Space heat & hot water","Petroleum","TWh",3.9290395843449168,3.8614248050086308,3.7075580172085276,3.5326604963879493,3.3520048472228554,3.1943999076858267,2.9786149429038753,2.7171520035564827,2.4311813162961298,2.2563411780227174,2.0844213760295496,1.9320501249455042,1.7565280005232693,1.588022119263528,1.4204886758993411,1.2597283792268041,1.103573363759943,0.94701884775554168,0.79090621840436681,0.62981485427086437,0.46870619042526496,0.30730594426255836,0.16854827998743621,3.6314943722079926E-2,2.438140478489538E-2,1.9191667247446743E-2,1.4246644935101129E-2,9.3837272450787504E-3,5.1024597239694184E-3,2.4373569759110697E-3,0]
[null,null,"Planning Scenario","Domestic","Space heat & hot water","Hydrogen","TWh",0,0,0,1.0294726575859593E-8,1.2395140533363866E-6,1.233366751640011E-6,4.4727592614340257E-6,9.6979253503095734E-6,1.6878406647346286E-5,1.6793004938664529E-5,7.0172572951558167E-4,1.8580597168328954E-3,8.3027607118128458E-3,1.3864938695516112E-2,3.275795186169983E-2,6.7151665294859803E-2,0.1176898557501288,0.16750266320755253,0.24055733624011272,0.34181241697690312,0.52863111967958476,0.79677460178907844,1.0291882608601488,1.1853513336437915,1.3536490339785021,1.4619327253341332,1.5167438859793831,1.571830785906543,1.6297418758447395,1.6870644130015204,1.6914963770849616]
[null,null,"Planning Scenario","Domestic","Space heat & hot water","Bioenergy","TWh",3.3766881587977617,3.3373213495513632,3.2226708457792825,3.0976433331864337,2.9684347083176714,2.8488855680503091,2.6874547081605034,2.4977016575607252,2.2912810847506622,2.144779316857933,2.0006425023569863,1.8820433730629531,1.7644491604856942,1.6531609708310326,1.5430410115049715,1.4391746474785605,1.3395825496123417,1.2395184825442489,1.1399263559654529,1.0359076965485048,0.93225259159876372,0.82859540037585355,0.72494214868071494,0.62688012620578126,0.61845418001796193,0.61592152643531983,0.61339096393755033,0.61088733973412401,0.60884416207696024,0.60685571745479694,0.60486912658066982]
[null,null,"Planning Scenario","Domestic","Space heat, hot water & core","Electricity","TWh",12.520429077661207,12.28966156252012,12.184448399408954,12.145841290113296,12.149213166107197,12.234830888163046,12.439718917686951,12.778234468954254,13.260302199079003,13.857256950542592,14.648686378077894,15.27906858241677,15.949221694011335,16.728590241300868,17.553888659159121,18.487754400521158,19.36338863093037,20.221723534278048,21.099242635411091,21.975821792064703,22.792946554224248,23.623893894057776,24.390976282367806,25.078170144826785,25.677699042515478,26.227491954374273,26.733484963345887,27.263252001584746,27.794137926628029,27.853391900738018,27.888988402056292]
[]
[null,null,"Planning Scenario","I&C","Space heat & hot water","Natural gas","TWh",11.804500846064688,11.577181262615465,11.278941452191553,10.906682836171381,10.573659419650188,10.197153647459771,9.7654050744015883,9.3257400137103268,8.8847228018425675,8.3750835920333113,7.8520328663373471,7.5161043978116329,7.166701914729126,6.7068298641244226,6.0884903211548629,5.4798851808704487,4.8952276797809615,4.338184809295992,3.7964042393776447,3.269328241520097,2.7332971392147112,2.2107013132894471,1.7612021550556727,1.3598365722353636,0.97060231975025657,0.70869034658825092,0.47092986926063257,0.23539953870653876,0.21264362915982896,0.19032548387559553,8.4633510365132156E-2]
[null,null,"Planning Scenario","I&C","Space heat & hot water","Solid fuel","TWh",4.290081100371014E-2,4.0386182203456363E-2,3.6998412320470526E-2,3.3666643457391954E-2,3.0934052322403052E-2,2.8305024519260764E-2,2.6558354399245372E-2,2.4336142616440386E-2,2.2497004523147075E-2,2.0538101990079233E-2,1.874414695016046E-2,1.7658349739756708E-2,1.6678893610217464E-2,1.5944035152281561E-2,1.5277238137807209E-2,1.4650002117996424E-2,1.395186521966932E-2,1.3251415597529867E-2,1.2548683262674507E-2,1.1843697706081182E-2,1.1136487909882052E-2,1.0427082358343201E-2,9.7155090485601722E-3,9.0017955008779519E-3,8.8574746467352285E-3,8.8720929441236541E-3,8.8866156609129655E-3,8.9010437314679756E-3,8.9153780780143431E-3,8.9296196108350333E-3,8.9437692284630547E-3]
[null,null,"Planning Scenario","I&C","Space heat & hot water","Petroleum","TWh",2.1627937137971465,2.1062217534740584,2.048553655933143,1.9832009993844189,1.9202109158362104,1.853750110015504,1.7721272069402252,1.6653691444361838,1.5639166009693726,1.465790361835408,1.3727232116239727,1.3180136213709062,1.2640772413580559,1.1768737107636873,1.0896437617807526,1.0020455877126586,0.91438487425981141,0.82651091963233136,0.73842603130935114,0.6501324826323498,0.5616325134510709,0.47292833075447005,0.38402210928711,0.29491599215138919,0.20560957032905575,0.13105700835779294,9.2425596837330232E-2,5.3773259891932809E-2,5.3688962575141205E-2,5.3605377900313132E-2,5.3522496714945619E-2]
[null,null,"Planning Scenario","I&C","Space heat & hot water","Hydrogen","TWh",0,0,0,1.0103424392574015E-8,1.1791310093966945E-6,1.1300362486885696E-6,3.9175339400442338E-6,8.0945355007268108E-6,1.3396366698807155E-5,1.2547729300481421E-5,4.9155165323522504E-4,1.2585609480103874E-3,5.4194932302027987E-3,4.3369146207067444E-2,8.9408534569075895E-2,0.14368892227057734,0.20555151631827789,0.26475135838467001,0.33338795393990689,0.4120157512923826,0.524291258132209,0.6668478964992286,0.79370745816866917,0.88808133310953874,0.99081346824780159,1.0682557827950871,1.1236721042667286,1.1790197701825009,1.2002393915834886,1.2238467647010531,1.2265688473081044]
[null,null,"Planning Scenario","I&C","Space heat & hot water","Bioenergy","TWh",0.30973003641377406,0.29993742704554016,0.29021569084252163,0.28017533036610248,0.27051253878132253,0.25870237581477357,0.24180430279645193,0.22554575260491147,0.20991645656939939,0.19449592349584433,0.17966457074801273,0.1731937890872578,0.16672143423481051,0.16065096594686382,0.13953022964042752,6.6251362110590961E-2,5.9631815573830363E-2,5.2991821370353354E-2,4.6331593580827814E-2,3.9651343280660716E-2,3.2951278593122253E-2,2.6231604741332612E-2,1.9492524099140329E-2,1.2734236240920255E-2,5.9568014183141397E-3,1.1926260016164125E-3,1.1873234182188466E-3,1.182067778171788E-3,1.176858460843743E-3,1.1716948564955926E-3,1.1665763660427555E-3]
[null,null,"Planning Scenario","I&C","Space heat, hot water & core","Electricity","TWh",23.856603632918254,23.639122962320055,23.436756307573543,23.254755404463296,23.089962814053379,22.939813025138026,22.803211910063204,22.679091560163311,22.565653004866601,22.485908257946619,22.426665221023061,22.388431685626919,22.351537858273645,22.331805624122687,22.323029238510305,22.322577484780275,22.331400766269553,22.376593488883788,22.447519155184857,22.543978213721477,22.636330997399156,22.733231660507773,22.838918622835411,22.950382054351156,23.064791825899757,23.183638319584887,23.306257677218341,23.424546734814772,23.535993380085937,23.603595474652522,23.615679581235391]
[]
[null,null,"Planning Scenario","Road transport","Cars + vans","Electricity","TWh",8.1213392677646129E-2,0.1410237126953745,0.26497177270110983,0.55641202772295884,0.95325014347724724,1.4240186813936559,1.921237083250972,2.4855183347148522,3.1549760450565842,3.8893409086063353,4.8679205593829868,5.7625241203454811,6.5935553487821075,7.4383924488363959,8.2392537197031981,9.3020398041716739,10.237618364371766,10.88050223817835,11.441597372175172,11.882973296639388,12.26253617677823,12.489945279149353,12.661742377797376,12.778807945999931,12.857201462847813,12.891274694584228,12.887776623812243,12.865861852784287,12.824230223767636,12.76739973445806,12.703159266156433]
[null,null,"Planning Scenario","Road transport","Cars + vans","Hydrogen","TWh",2.3478702493938235E-3,5.7513383785398504E-3,8.595170861104855E-3,1.0048082101850009E-2,1.2323654125920337E-2,1.559501190043489E-2,1.7452189035923403E-2,1.9791173662531355E-2,2.3200497642758965E-2,2.6293534946457819E-2,0.12450672375022621,0.22081473427156748,0.30991383020560226,0.39493976267390934,0.47407314030814734,0.55272679910785105,0.62933205898445732,0.7033199618237127,0.77404429439074696,0.8384864325101572,0.89636187913232279,0.93521489943508751,0.96535361220133475,0.98940465816940981,1.0056002783041351,1.0172198980282681,1.0260972161661768,1.0287455524044964,1.0299419056023704,1.0290310876759814,1.0277350534551288]
[null,null,"Planning Scenario","Road transport","Cars + vans","Diesel","TWh",27.383000217004103,27.619150371289614,27.504384812691281,26.822886399434154,25.961016826366258,24.429579222182255,22.554772558199485,20.626655668319476,18.553861454125137,16.410147542572503,14.365234160212967,12.455302181086882,10.436794239244056,8.6563288703035841,7.0567896616584802,5.705328595081598,4.5539725093601691,3.5838100146611866,2.7749932829045263,2.1094178903413408,1.5711574355803317,1.1453587492035768,0.81560212403319299,0.56789364858175306,0.38677477707457331,0.25680372449456473,0.16686994928108362,0.10690917623251424,6.8359253173862364E-2,4.1987308977970622E-2,2.4334068588232487E-2]
[null,null,"Planning Scenario","Road transport","Cars + vans","Petrol","TWh",22.593775965240827,22.513679211023948,21.871733733118131,20.345153032564713,18.733683239840687,17.015017457365502,15.206466126046667,13.592264323089861,12.100882989451204,10.669560932415681,9.4747753765512481,8.254721296176271,6.8179003379544669,5.5687181140676927,4.5556126265251091,3.6979550082199664,2.9636324848318396,2.3477160168514395,1.8360709587283777,1.4137345315492622,1.0702544123624105,0.79722240851737813,0.5823741293173057,0.41715587245764985,0.29355744138332618,0.20144429587532861,0.13624397082754414,9.062318743211642E-2,6.0187528710610477E-2,3.9762912043029924E-2,2.5977922340506252E-2]
[]
[null,null,"Planning Scenario","Road transport","Heavy Duty Vehicles","Electricity","TWh",5.2073488406866137E-3,2.4419168757894308E-2,5.7635459751623069E-2,0.10485622182187293,0.16608145496864385,0.24131115919193585,0.41324783230151957,0.6769136447662496,1.0277071359302272,1.4610265864769709,1.9722700184294184,2.5518988200053045,3.1280969228963897,3.6982994411465002,4.2590539611203289,4.8100634350490363,5.4001413736942885,5.9516813100674444,6.4646587696300779,6.9336535839152287,7.3586417102424244,7.6994232529271356,7.97982820741161,8.1998673692712902,8.363096525031235,8.469524194326036,8.5337122463073953,8.5915517558980543,8.6430382343725753,8.6930159849896125,8.7414929720979977]
[null,null,"Planning Scenario","Road transport","Heavy Duty Vehicles","Hydrogen","TWh",0,2.3488777480217105E-5,7.0466332440651314E-5,1.4093266488130263E-4,2.3488777480217099E-4,3.5233166220325658E-4,9.6135543428405522E-4,2.0293869520271496E-3,3.5198820331734017E-3,5.3969073360352164E-3,7.6251403594965383E-3,1.3618614084462487E-2,2.2757689752937467E-2,3.4719313194998554E-2,4.9169952291112609E-2,6.5805582545713337E-2,7.9735672034971491E-2,8.7054180988125771E-2,8.7799581689529782E-2,8.1893578567980574E-2,6.9373598282997259E-2,5.3959148530899947E-2,4.1286445596180325E-2,3.1338598960512297E-2,2.3628358916016362E-2,1.8142414619635019E-2,1.5052086398215798E-2,1.1508847242019164E-2,7.5197378855750511E-3,4.420427710876744E-3,2.1984297197702777E-3]
[null,null,"Planning Scenario","Road transport","Heavy Duty Vehicles","Diesel","TWh",19.025999790943107,18.980506954995572,18.912117820116187,18.814890381111205,18.68882463798063,18.533920590724456,17.771625338166039,16.881772753105473,15.820819520988744,14.602183121851628,13.239281035729881,11.747536896955905,10.28010327767046,8.8439430440176743,7.448430068590203,6.095713148821102,5.0357003927327995,4.059493849966791,3.1670935205230744,2.3684473056576691,1.6635552053705727,1.122637710699476,0.69416147560064723,0.3781265000740856,0.16648188491465385,5.9227630122352014E-2,2.8903726854829951E-2,1.1716051123119353E-2,7.6646029272202263E-3,4.5111030634165297E-3,2.2555515317082653E-3]
[null,null,"Planning Scenario","Road transport","Heavy Duty Vehicles","Petrol","TWh",0,0,0,0,0,0,0,0,0,0,0,0,0,0,0,0,0,0,0,0,0,0,0,0,0,0,0,0,0,0,0]
[]
[null,null,"Planning Scenario","Total",null,"Natural gas","TWh",54.394301073303879,53.762049246426059,53.132820850121398,52.327923556618643,51.488969505531301,50.318877108089609,48.889870084820686,47.181710550104725,44.942430916947373,42.643535890739351,40.278134115548696,38.380031550386036,36.353063848127483,34.04627561854582,31.415977466128155,28.775588517328529,26.267837407059375,23.861900387436798,21.437952526022261,18.941602969173765,16.357481608205603,13.612941441912508,11.149769728704042,8.9778510943374314,6.8914991618324608,5.1087973978908776,3.4959332755879422,1.9169211891510123,0.66525406683049459,0.34925758074656776,8.4633510365149017E-2]
[null,null,"Planning Scenario","Total",null,"Solid fuel","TWh",0.83312385116542997,0.81501551653408466,0.77893149124770567,0.73825859392687554,0.69696152215874019,0.66063749945959527,0.61288972041610235,0.55500365373052429,0.49234059895294396,0.45307919808379366,0.41469094953302077,0.38092484072853988,0.347443148990627,0.31569436519247968,0.28420752032909669,0.25418998200793153,0.22507274537755317,0.19587321074900482,0.16676197639554474,0.13659034959224409,0.10639685256067036,7.6128352114908232E-2,4.5945238483671484E-2,1.7155439121169236E-2,1.4382822602960999E-2,1.3206738458706017E-2,1.2091649416923304E-2,1.0995856641787987E-2,1.0025978390997925E-2,9.4577419416963775E-3,8.9437692284633878E-3]
[null,null,"Planning Scenario","Total",null,"Petroleum","TWh",75.0946092713301,75.080983095791822,74.044348039067273,71.498791308882431,68.655740467246645,65.026667287973538,60.283606172256292,55.483213892507472,50.470661881830587,45.404023136697937,40.536435160147619,35.707624120535471,30.555403096750307,25.833885858416167,21.570964794453886,17.76077071906213,14.571263624944562,11.764549648867291,9.3074900118696959,7.1715470644514863,5.3353057571896505,3.8454531434374593,2.644708118225692,1.6944069569869578,1.0768050784865044,0.667724326097485,0.43868988873588904,0.27240540192476159,0.1950028071108037,0.14230405896064127,0.10609003917539263]
[null,null,"Planning Scenario","Total",null,"Hydrogen","TWh",2.3478702493938235E-3,5.7748271560200673E-3,8.6656371935455064E-3,1.0189035164882281E-2,1.2560960545785241E-2,1.5949706965638476E-2,1.8421934763408934E-2,2.1838353075409541E-2,2.6750654449278523E-2,3.171978301673218E-2,0.13332514149247357,0.23754996902087325,0.34639377390055537,0.48689316077149147,0.64540957903003571,0.8293729692190015,1.0323091030878355,1.2226281644040611,1.4357891662602964,1.6742081793474237,2.0186578552271137,2.4527965462542944,2.8295357768263329,3.0941759238832525,3.3736911394464553,3.5655508207771236,3.6815652928105043,3.7911049557355594,3.8674429109161736,3.9443626930894315,3.9479987075679657]
[null,null,"Planning Scenario","Total",null,"Bioenergy","TWh",3.6864181952115356,3.6372587765969033,3.5128865366218043,3.377818663552536,3.2389472470989942,3.1075879438650826,2.9292590109569554,2.7232474101656368,2.5011975413200616,2.3392752403537775,2.1803070731049989,2.055237162150211,1.9311705947205047,1.8138119367778964,1.682571241145399,1.5054260095891514,1.3992143651861721,1.2925103039146022,1.1862579495462806,1.0755590398291655,0.96520387019188603,0.85482700511718612,0.74443467277985531,0.63961436244670156,0.62441098143627605,0.61711415243693624,0.61457828735576914,0.61206940751229577,0.61002102053780394,0.60802741231129254,0.60603570294671261]
[null,null,"Planning Scenario","Total",null,"Electricity","TWh",36.463453452097795,36.094227406293442,35.943811939435228,36.061864944121425,36.358507578606464,36.83997375388666,37.577415743302652,38.619758008598673,40.008638384932418,41.693532703572515,43.915542176913362,45.981923208394477,48.022411823963481,50.197087755406457,52.375225578492959,54.922435124522146,57.332549135265985,59.430500571407634,61.453017932401202,63.336426886340803,65.05045543864405,66.546494086642042,67.871465490412206,69.007227514449156,69.962788856294281,70.771929162869426,71.461231510683859,72.145212345081859,72.797399764854163,72.917403094838221,72.949320221546117]
[null,null,null,null,null,"Grand Total",null,{"$f":"SUM(H29:H34)","v":170.47425371335811},{"$f":"SUM(I29:I34)","v":169.39530886879831},167.42146449368693,164.0148461022668,160.45168728118793,155.96969330024012,150.31146266651609,144.58477186818246,138.44201997843265,132.5651659524641,127.45843461674016,122.7432908512156,117.55588628645296,112.69364869511031,107.97435617957953,104.0477833217289,100.82824638092148,97.767962286779394,94.987269562495285,92.335934488734893,89.83350138201898,87.388640575478405,85.285859025431805,83.430431291224664,81.943578040098942,80.744322598530559,79.704089904590887,78.748709156047283,78.14514654864044,77.970812581887856,77.703021950829793]
[null,null,null,null,null,"Cumulative Total",null,{"$f":"SUM($H35:H35)","v":170.47425371335811},{"$f":"SUM($H35:I35)","v":339.86956258215639},{"$f":"SUM($H35:J35)","v":507.29102707584332},{"$f":"SUM($H35:K35)","v":671.30587317811012},{"$f":"SUM($H35:L35)","v":831.75756045929802},{"$f":"SUM($H35:M35)","v":987.72725375953814},{"$f":"SUM($H35:N35)","v":1138.0387164260542},{"$f":"SUM($H35:O35)","v":1282.6234882942367},{"$f":"SUM($H35:P35)","v":1421.0655082726694},{"$f":"SUM($H35:Q35)","v":1553.6306742251336},{"$f":"SUM($H35:R35)","v":1681.0891088418737},{"$f":"SUM($H35:S35)","v":1803.8323996930892},{"$f":"SUM($H35:T35)","v":1921.3882859795422},{"$f":"SUM($H35:U35)","v":2034.0819346746525},{"$f":"SUM($H35:V35)","v":2142.056290854232},{"$f":"SUM($H35:W35)","v":2246.1040741759607},{"$f":"SUM($H35:X35)","v":2346.9323205568821},{"$f":"SUM($H35:Y35)","v":2444.7002828436616},{"$f":"SUM($H35:Z35)","v":2539.687552406157},{"$f":"SUM($H35:AA35)","v":2632.0234868948919},{"$f":"SUM($H35:AB35)","v":2721.8569882769107},{"$f":"SUM($H35:AC35)","v":2809.245628852389},{"$f":"SUM($H35:AD35)","v":2894.5314878778208},{"$f":"SUM($H35:AE35)","v":2977.9619191690454},{"$f":"SUM($H35:AF35)","v":3059.9054972091444},{"$f":"SUM($H35:AG35)","v":3140.6498198076752},{"$f":"SUM($H35:AH35)","v":3220.3539097122662},{"$f":"SUM($H35:AI35)","v":3299.1026188683136},{"$f":"SUM($H35:AJ35)","v":3377.2477654169538},{"$f":"SUM($H35:AK35)","v":3455.2185779988417},{"$f":"SUM($H35:AL35)","v":3532.9215999496714}]
[]
[]
[]
[]
[null,null,null,null,null,"Natural gas","GWh pa",{"$f":"H29*1000","v":54394.301073303875},{"$f":"I29*1000","v":53762.049246426061},53132.820850121396,52327.92355661864,51488.969505531299,50318.877108089611,48889.870084820686,47181.710550104726,44942.430916947371,42643.535890739353,40278.134115548695,38380.031550386033,36353.06384812748,34046.27561854582,31415.977466128155,28775.588517328528,26267.837407059375,23861.900387436799,21437.952526022262,18941.602969173764,16357.481608205602,13612.941441912508,11149.769728704043,8977.8510943374313,6891.4991618324611,5108.7973978908776,3495.9332755879423,1916.9211891510122,665.25406683049459,349.25758074656778,84.633510365149021]
[null,null,null,null,null,"Hydrogen","TWh",{"$f":"H32*1000","v":2.3478702493938233},{"$f":"I32*1000","v":5.7748271560200672},8.665637193545507,10.189035164882281,12.560960545785241,15.949706965638477,18.421934763408935,21.83835307540954,26.750654449278525,31.71978301673218,133.32514149247356,237.54996902087325,346.39377390055535,486.89316077149147,645.40957903003573,829.37296921900145,1032.3091030878354,1222.6281644040612,1435.7891662602965,1674.2081793474238,2018.6578552271137,2452.7965462542943,2829.5357768263329,3094.1759238832524,3373.6911394464551,3565.5508207771236,3681.5652928105042,3791.1049557355595,3867.4429109161738,3944.3626930894316,3947.9987075679655]
[null,null,null,null,null,"Bioenergy","TWh",{"$f":"H33*1000","v":3686.4181952115355},3637.2587765969033,3512.8865366218042,3377.8186635525362,3238.947247098994,3107.5879438650827,2929.2590109569555,2723.2474101656367,2501.1975413200616,2339.2752403537775,2180.3070731049988,2055.2371621502111,1931.1705947205046,1813.8119367778963,1682.571241145399,1505.4260095891514,1399.2143651861722,1292.5103039146022,1186.2579495462805,1075.5590398291654,965.20387019188604,854.8270051171861,744.4346727798553,639.61436244670153,624.41098143627607,617.11415243693625,614.57828735576913,612.06940751229581,610.02102053780391,608.02741231129255,606.0357029467126]
[null,null,null,null,"Solid fuel in too for now","Petrol","TWh",{"$f":"SUM(H31,H30)*1000","v":75927.733122495527},{"$f":"SUM(I31,I30)*1000","v":75895.998612325915},74823.279530314976,72237.049902809304,69352.701989405396,65687.304787433139,60896.495892672392,56038.217546237996,50963.002480783529,45857.102334781732,40951.126109680634,36088.548961264009,30902.846245740937,26149.580223608649,21855.172314782983,18014.960701070064,14796.336370322115,11960.422859616296,9474.2519882652414,7308.1374140437301,5441.7026097503203,3921.5814955523674,2690.6533567093634,1711.5623961081269,1091.1879010894654,680.93106455619102,450.78153815281235,283.40125856654959,205.02878550180162,151.76180090233765,115.03380840385601]
[null,null,null,null,null,"Electricity","TWh",{"$f":"H34*1000","v":36463.453452097798},{"$f":"I34*1000","v":36094.227406293445},35943.811939435225,36061.864944121422,36358.507578606463,36839.973753886661,37577.415743302648,38619.75800859867,40008.638384932419,41693.532703572513,43915.542176913361,45981.923208394473,48022.411823963477,50197.087755406457,52375.225578492958,54922.435124522148,57332.549135265988,59430.500571407632,61453.017932401206,63336.4268863408,65050.45543864405,66546.494086642037,67871.4654904122,69007.227514449158,69962.788856294283,70771.929162869434,71461.231510683865,72145.212345081862,72797.39976485417,72917.403094838228,72949.320221546121]
[null,null,null,null,null,"Total Emissions",null,{"$f":"SUM(H42:H45)","v":116079.95264005425},{"$f":"SUM(I42:I45)","v":115633.25962237228},114288.64364356555,111686.92254564815,108962.71777565664,105650.81619215052,101421.59258169541,97403.061318077715,93499.589061485283,89921.630061724747,87180.300501191465,84363.259300829566,81202.822438325471,78647.373076564487,76558.378713451384,75272.194804400366,74560.408973862111,73906.061899342589,73549.317036473018,73394.331519561121,73476.019773813372,73775.699133565882,74136.089296727747,74452.58019688724,75052.078878266475,75635.525200639677,76208.156629002944,76831.787966896271,77479.892481809948,77621.555001141285,77618.388440464652]
[]
[null,null,null,null,"Remove","Heating oil"]
[null,null,null,null,"Remove","Diesel","TWh"]

{"sheet":"Carbon emissions","index":36,"n_rows":49,"n_cols":38,"rows_kept":49,"cut":false,"hidden":false,"merged":[]}
[]
[]
[]
[null,null,"Scenario","Category","Sub-category","Fuel","Unit",2020,2021,2022,2023,2024,2025,2026,2027,2028,2029,2030,2031,2032,2033,2034,2035,2036,2037,2038,2039,2040,2041,2042,2043,2044,2045,2046,2047,2048,2049,2050]
[null,null,"Planning Scenario","Domestic","Space heat & hot water","Natural gas","MtCO2",8.700244390420421,8.6175248317328261,8.5499104834091071,8.4615310543729638,8.358179544343793,8.1960656685374609,7.9923457123284107,7.7332176611746473,7.3658686137536078,7.0003594355796679,6.6240039631888932,6.3048830387278985,5.9621900157546159,5.5849019787132024,5.1738990739751429,4.7588462775716565,4.3659967150884329,3.9883046183026032,3.6038154839957617,3.201532281365091,2.7831484033254585,2.3292496134751186,1.9178965839448887,1.5562080065750101,1.2095208069005523,0.89885386844010029,0.61794769584454268,0.34350124275279698,9.2459260207363558E-2,3.2466648748802195E-2,3.4447266964295099E-15]
[null,null,"Planning Scenario","Domestic","Space heat & hot water","Solid fuel","MtCO2",0.26867583365498476,0.26337397367241366,0.25225724683525996,0.23956126315962442,0.22644933974435463,0.21499304147971374,0.19935266444573138,0.18042695377878856,0.15974682210613095,0.14706397267186291,0.13462191287817252,0.12351060693618629,0.11245984682933925,0.10191511221366738,9.1436295945038423E-2,8.1443593162577946E-2,7.1781099253680522E-2,6.2091410351501487E-2,5.2432519665175883E-2,4.2413861641295389E-2,3.2388523981268021E-2,2.2338431717232109E-2,1.2318108007937846E-2,2.7722388308990373E-3,1.878618305116762E-3,1.4737794749580034E-3,1.0897114770435155E-3,7.1223638950880389E-4,3.7760410641441761E-4,1.7956159249285712E-4,1.1315806318334036E-16]
[null,null,"Planning Scenario","Domestic","Space heat & hot water","Petroleum","MtCO2",1.073217162463814,1.0547481854881076,1.0127194724005093,0.96494621458836838,0.91560012401892299,0.8725503347843836,0.81360867165419359,0.7421900697714533,0.66407717654628784,0.61631959277690529,0.56935969886247151,0.52773949162886447,0.47979562334293102,0.43376824187683266,0.38800648182190506,0.34409480678580157,0.30144106431102841,0.25867819826442623,0.21603603355715278,0.1720339274440866,0.12802709591466113,8.3940618675317824E-2,4.6038962678568204E-2,9.9194268776861324E-3,6.6597807169941729E-3,5.2422039086400781E-3,3.8914710640228735E-3,2.5631650969932607E-3,1.3937368736022468E-3,6.6576405797010875E-4,0]
[null,null,"Planning Scenario","Domestic","Space heat & hot water","Hydrogen","MtCO2",0,0,0,0,0,0,0,0,0,0,0,6.4697871888271278E-5,2.7337690009832701E-4,4.3025571329023676E-4,9.5449537953248766E-4,1.829461255353897E-3,2.9833931633455606E-3,3.9288619662906313E-3,5.1867573854166068E-3,6.7225333233536418E-3,9.3954753496193356E-3,1.4161247515752626E-2,1.8291985800779478E-2,2.1067505905893315E-2,2.4058697373869734E-2,2.5983246865988692E-2,2.6957417491884888E-2,2.7936488891741731E-2,2.8965755232160179E-2,2.99845610965607E-2,3.0063331353827442E-2]
[null,null,"Planning Scenario","Domestic","Space heat & hot water","Bioenergy","MtCO2",5.2777635922009021E-2,5.2162332693487815E-2,5.0370345319530191E-2,4.8416165297703963E-2,4.6396634491005208E-2,4.4528081428626333E-2,4.2004917088548671E-2,3.9039076907674136E-2,3.5812723354652853E-2,3.3522900722489493E-2,3.1270042311839698E-2,2.9416337920973961E-2,2.7578340378391405E-2,2.5838905974089044E-2,2.4117731009822709E-2,2.2494299740089901E-2,2.0937675250440903E-2,1.9373673882166612E-2,1.7817048943740029E-2,1.6191237297053133E-2,1.4571108006688678E-2,1.2950946107874593E-2,1.1330845783879575E-2,9.7981363725963624E-3,9.6664388336807454E-3,9.6268534581840492E-3,9.5873007663439119E-3,9.5481691200443586E-3,9.51623425326289E-3,9.4851548638184777E-3,9.454104448455871E-3]
[null,null,"Planning Scenario","Domestic","Space heat, hot water & core","Electricity","MtCO2",1.9174564838202752,1.8500727673931976,1.8085241945360462,1.6332060649228965,1.6445486670606286,1.532316921349812,1.1608797087945268,0.95542437782485645,0.85639151663191049,0.80452129435165354,0.67507249351643628,0.56669436114214233,0.42323461548717112,0.33295081767941737,0.25809720484774673,0.18932334130807868,0.18408592391889461,0.17364993073715332,0.1721905444265556,0.17139446273331801,0.16174337815604165,0.11024188102978472,0.10217105967396733,0.1017081801385039,9.9558031177176973E-2,6.6544028780346098E-2,6.0807786740383597E-2,4.8113435888836098E-2,4.8464766251225519E-2,4.6443449118796512E-2,4.5754113951489296E-2]
[]
[null,null,"Planning Scenario","I&C","Space heat & hot water","Natural gas","MtCO2",2.411423432834094,2.3649865883270866,2.3040621598536899,2.2280171697730893,2.1599871462461397,2.0830745471030818,1.9948769485987561,1.9050621700007453,1.8149711739603993,1.7108620761805644,1.6040132739353929,1.53538980638496,1.4640138671408656,1.3700712046433368,1.2437568028055153,1.1194309447482151,0.99999711042565465,0.88620439284298513,0.77552945802006512,0.66785837317772534,0.55835793959878111,0.45160206427876814,0.35977837623477277,0.27778741497624004,0.19827464187858237,0.14477126400104787,9.6201553692562003E-2,4.808741776697173E-2,4.3438840564769848E-2,3.8879689846106645E-2,1.7288933497389195E-2]
[null,null,"Planning Scenario","I&C","Space heat & hot water","Solid fuel","MtCO2",1.4586275741261449E-2,1.3731301949175163E-2,1.257946018895998E-2,1.1446658775513265E-2,1.0517577789617039E-2,9.6237083365486604E-3,9.029840495743428E-3,8.2742884895897328E-3,7.6489815378700064E-3,6.9829546766269398E-3,6.3730099630545569E-3,6.003838911517281E-3,5.6708238274739376E-3,5.4209719517757313E-3,5.1942609668544516E-3,4.9810007201187842E-3,4.7436341746875691E-3,4.5054813031601554E-3,4.2665523093093323E-3,4.0268572200676022E-3,3.7864058893598979E-3,3.5452080018366886E-3,3.3032730765104588E-3,3.0606104702985038E-3,3.0115413798899779E-3,3.0165116010020428E-3,3.0214493247104086E-3,3.026354868699112E-3,3.031228546524877E-3,3.0360706676839117E-3,3.0408815376774386E-3]
[null,null,"Planning Scenario","I&C","Space heat & hot water","Petroleum","MtCO2",0.59076710292369061,0.57531447196143903,0.55956243111813797,0.54171135298185402,0.5245056116606609,0.50635184255073495,0.4840565465757225,0.45489558180274359,0.42718381955478413,0.40038063733534168,0.37495934525508817,0.36001542067746301,0.34528269847695298,0.32146305409510118,0.2976361935304126,0.27370875228371272,0.24976422840406748,0.2257614576975713,0.20170107045214927,0.17758368763102636,0.15340992104916001,0.12918037354558348,0.10489563915177409,8.0556303256151957E-2,5.6162254135381576E-2,3.5798221832931139E-2,2.5246051776116753E-2,1.4688165939481447E-2,1.466514012739982E-2,1.4642308973470533E-2,1.4619669977687396E-2]
[null,null,"Planning Scenario","I&C","Space heat & hot water","Hydrogen","MtCO2",0,0,0,0,0,0,0,0,0,0,0,4.38232497267365E-5,1.7844236523266267E-4,1.3458280159684304E-3,2.6051699903965027E-3,3.9146209548685737E-3,5.2106529028402909E-3,6.209880622569169E-3,7.1883171776592055E-3,8.103244587503642E-3,9.31834205066818E-3,1.1852032050821337E-2,1.4106734508087157E-2,1.5784061821304058E-2,1.7609942302745162E-2,1.8986341327054415E-2,1.9971267607347885E-2,2.0954973657581557E-2,2.1332114583227545E-2,2.1751693537129812E-2,2.1800073700692028E-2]
[null,null,"Planning Scenario","I&C","Space heat & hot water","Bioenergy","MtCO2",4.8410804691472889E-3,4.6880219847217934E-3,4.5360712478686137E-3,4.3791404136221826E-3,4.2281109811520712E-3,4.0435181339849111E-3,3.7794012527085441E-3,3.5252801132147665E-3,3.2809942161797128E-3,3.0399712842400471E-3,2.8081572407914392E-3,2.7070189234338396E-3,2.6058560170900886E-3,2.5109745977494819E-3,2.1808574892798823E-3,1.0355087897885367E-3,9.3204527741896871E-4,8.2826216801862296E-4,7.2416280766833877E-4,6.19750495476727E-4,5.1502848441050092E-4,4.0999998210702876E-4,3.0466815166956337E-4,1.9903611244558362E-4,9.3104806168250017E-5,1.8640744405264529E-5,1.8557865026760574E-5,1.847571937282505E-5,1.8394297742987706E-5,1.8313590607026114E-5,1.823358860124827E-5]
[null,null,"Planning Scenario","I&C","Space heat, hot water & core","Electricity","MtCO2",3.6535488547661124,3.558608787977025,3.4786918073162929,3.1269803925219648,3.1255166115830022,2.8730322464062632,2.1280051564586504,1.6957081978849666,1.4573599839956408,1.3054814586264423,1.0335141610152281,0.8303777106977297,0.59312891327765815,0.44447217820258239,0.32821852536861351,0.22859374180716913,0.21230253757832687,0.19215443742425944,0.18319380515913511,0.1758256446731675,0.16063200235509303,0.10608556876267623,9.5669664489381953E-2,9.3078624905691146E-2,8.9427220869595189E-2,5.8821205560003663E-2,5.3012240959075758E-2,4.1338994610219046E-2,4.1039820003319717E-2,3.9357231225351542E-2,3.8743409370919864E-2]
[]
[null,null,"Planning Scenario","Road transport","Cars + vans","Electricity","MtCO2e",1.2437524736323449E-2,2.1229561862799881E-2,3.9329467046067393E-2,7.4818654102856846E-2,0.12903438530523087,0.17834720739203952,0.17929063835666975,0.18584138632663183,0.20375815570409969,0.22580641992384243,0.22433405873037685,0.21372964636754269,0.17496909355664717,0.14804707463908159,0.1211428644887316,9.5257283202381943E-2,9.7328079875648732E-2,9.3434096101767658E-2,9.3374672952373727E-2,9.2678027840000982E-2,8.701744731749915E-2,5.8284847862394351E-2,5.3038616457247917E-2,5.1826321179785709E-2,4.9850170062747598E-2,3.270756333789241E-2,2.9314441180151807E-2,2.2705318476775132E-2,2.2361669276720141E-2,2.1288684769876363E-2,2.0840547825850306E-2]
[null,null,"Planning Scenario","Road transport","Cars + vans","Hydrogen","MtCO2e",3.3574593220783076E-4,5.6249336232097071E-4,6.780990495969222E-4,7.170205230002145E-4,7.0374409089507962E-4,7.5961013291719014E-4,6.1580802832836398E-4,5.7553451206978322E-4,8.1747051698878115E-4,7.9706136523550553E-4,3.7317469337431876E-3,5.5024821519511881E-3,6.4683938345659166E-3,6.9134809126312289E-3,7.5571050292616597E-3,7.5631869375280608E-3,7.8180435252190421E-3,7.9819017667894822E-3,8.1539944084468591E-3,8.0898037006630463E-3,7.5133286530300498E-3,8.084544638942143E-3,8.0515606313714405E-3,8.299505961499011E-3,8.0163502970722802E-3,7.9383546102061615E-3,8.0280005153496089E-3,7.2272571665482604E-3,7.1018659439797908E-3,6.4411361389381831E-3,5.7810096756851E-3]
[null,null,"Planning Scenario","Road transport","Cars + vans","Diesel","MtCO2e",6.6479286284816341,6.7052601611425482,6.6773978656846618,6.5119465719676395,6.3027055332425483,5.9309096083655479,5.4757519997913189,5.0076519607264727,4.5044277746149461,3.9839860052344145,3.487530609199637,3.0238454256235747,2.5338006304202474,2.1015468012416099,1.7132174577342665,1.3851154731607975,1.1055941269537799,0.87006219211548141,0.67370109714309367,0.5121155268414842,0.38143893704387627,0.27806533828912305,0.19800842372428343,0.13787081088343106,9.3899539601653315E-2,6.2345718819663679E-2,4.0511978390524367E-2,2.5954956275469739E-2,1.6595969491828882E-2,1.0193500755049607E-2,5.9077219418305713E-3]
[null,null,"Planning Scenario","Road transport","Cars + vans","Petrol","MtCO2e",5.2111550024439808,5.192681038549722,5.0446191389526058,4.692520018090204,4.3208416016732052,3.9244389019361852,3.5073044958998452,3.1349959533448692,2.7910154115664993,2.4608872776457211,2.1853152468408923,1.9039151420518794,1.5725187107704075,1.2844003278588294,1.0507320053290716,0.85291704979039085,0.68354879115808331,0.54149036815957596,0.42348168699819683,0.32607164856129917,0.24684947055553708,0.1838758403463478,0.13432203018896696,9.6215166287429071E-2,6.7707732055183698E-2,4.6462240387773732E-2,3.1424072329612501E-2,2.0901839393770327E-2,1.3881988641808472E-2,9.1711406859816876E-3,5.9916934719586798E-3]
[]
[null,null,"Planning Scenario","Road transport","Heavy Duty Vehicles","Electricity","MtCO2e",7.7292102679246482E-4,3.2835547215845995E-3,7.8016837151544229E-3,1.3132422055944653E-2,1.5498789993240461E-2,1.8042755804278048E-2,2.6688828997737928E-2,3.9300089736036443E-2,4.7361026166503707E-2,5.4188874378642914E-2,5.2336907649874788E-2,5.0790699425359014E-2,4.5992833153304859E-2,3.7872333880415353E-2,4.0490427496811157E-2,4.1305439712975456E-2,4.4070457844596005E-2,4.6418524419745921E-2,4.5874531646820503E-2,3.2356182131853838E-2,3.0824523487402503E-2,3.1226135026954437E-2,3.0939531776059539E-2,2.0804589747469335E-2,1.9022637365857849E-2,1.4946782918962311E-2,1.488027332829331E-2,1.4325770385472711E-2,1.4179594848029851E-2,0,0]
[null,null,"Planning Scenario","Road transport","Heavy Duty Vehicles","Hydrogen","MtCO2e",0,2.2972533612273306E-6,5.5593022906404678E-6,1.0056806070722729E-5,1.3413301107894998E-5,1.7161557969037964E-5,3.3921841740920525E-5,5.901530900347531E-5,1.2402319250664175E-4,1.6360167387417991E-4,2.2854263046063756E-4,3.3936223133509806E-4,4.7498912839483734E-4,6.077668843678199E-4,7.8380836658705128E-4,9.004447099896268E-4,9.9053742071861196E-4,9.879684336468453E-4,9.2490481920534065E-4,7.9011770408314108E-4,5.81491310460443E-4,4.6645444297441788E-4,3.443508324513676E-4,2.6288019441815091E-4,1.8835834287473405E-4,1.4158287801409978E-4,1.1776482331123824E-4,8.0853228005876569E-5,5.1851633676353952E-5,2.7669306611908069E-5,1.2366167173707813E-5]
[null,null,"Planning Scenario","Road transport","Heavy Duty Vehicles","Diesel","MtCO2e",4.6190515171216875,4.608006959400119,4.5914037353545867,4.5677992701713368,4.537193563850372,4.4995866163916896,4.3145198087855654,4.0984851731184682,3.8409114482024846,3.5450560729210481,3.2141764861575859,2.8520171724251573,2.495759863484031,2.1470949744388017,1.8082982543116568,1.4798913790277628,1.2225459788922728,0.98554669570433062,0.76889352946393696,0.57500158943702684,0.40387087562360002,0.27254922094831946,0.16852557827352213,9.1799947599207926E-2,4.0417765769889757E-2,1.4379032785567545E-2,7.01712419038428E-3,2.8443731898221128E-3,1.8607797838810444E-3,1.095186464728408E-3,5.4759323236420402E-4]
[null,null,"Planning Scenario","Road transport","Heavy Duty Vehicles","Petrol","MtCO2e",0,0,0,0,0,0,0,0,0,0,0,0,0,0,0,0,0,0,0,0,0,0,0,0,0,0,0,0,0,0,0]
[]
[null,null,"Planning Scenario","Total",null,"Natural gas","MtCO2",11.111667823254514,10.982511420059913,10.853972643262797,10.689548224146053,10.518166690589933,10.279140215640542,9.9872226609271664,9.6382798311753923,9.1808397877140067,8.7112215117602325,8.2280172371242859,7.8402728451128585,7.4262038828954813,6.9549731833565396,6.4176558767806586,5.8782772223198716,5.3659938255140878,4.8745090111455882,4.3793449420158268,3.8693906545428165,3.3415063429242395,2.780851677753887,2.2776749601796613,1.8339954215512502,1.4077954487791347,1.0436251324411481,0.71414924953710468,0.39158866051976871,0.13589810077213341,7.134633859490884E-2,1.728893349739264E-2]
[null,null,"Planning Scenario","Total",null,"Solid fuel","MtCO2",0.28326210939624619,0.27710527562158882,0.26483670702421996,0.25100792193513771,0.23696691753397167,0.2246167498162624,0.20838250494147481,0.18870124226837828,0.16739580364400095,0.15404692734848985,0.14099492284122708,0.12951444584770358,0.11813067065681319,0.1073360841654431,9.6630556911892873E-2,8.6424593882696729E-2,7.6524733428368089E-2,6.659689165466165E-2,5.6699071974485218E-2,4.6440718861362994E-2,3.6174929870627918E-2,2.5883639719068798E-2,1.5621381084448304E-2,5.8328493011975411E-3,4.8901596850067404E-3,4.490291075960046E-3,4.1111608017539245E-3,3.7385912582079159E-3,3.4088326529392947E-3,3.215632260176769E-3,3.0408815376775518E-3]
[null,null,"Planning Scenario","Total",null,"Petroleum","MtCO2",18.142119413434806,18.136010816541937,17.885702643510502,17.278923427799405,16.60084643444571,15.73383730402854,14.595241522706646,13.438218738764007,12.227615630485003,11.00662958591343,9.8313413863156747,8.6675326524069387,7.42715752649457,6.2882733995111746,5.2578903927273126,4.3357274610484655,3.5628941897192319,2.8815389119413855,2.2838134176145295,1.7628063799149232,1.3135963001868345,0.94761139180469167,0.65179063401711479,0.4163616549039062,0.26484707227910254,0.16422741773457619,0.10809069775066077,6.6952499895536893E-2,4.839761491852046E-2,3.5767900937200343E-2,2.7066678623840851E-2]
[null,null,"Planning Scenario","Total",null,"Hydrogen","MtCO2",3.3574593220783076E-4,5.6479061568219806E-4,6.8365835188756267E-4,7.2707732907093718E-4,7.1715739200297463E-4,7.767716908862281E-4,6.4972987006928456E-4,6.3454982107325852E-4,9.4149370949542287E-4,9.6066303910968538E-4,3.9602895642038248E-3,5.9503655049012935E-3,7.395202228291744E-3,9.2973315262577152E-3,1.1900578765777702E-2,1.4207713857740157E-2,1.7002627012123506E-2,1.9108612789296129E-2,2.1453973790728012E-2,2.3705699315603474E-2,2.6808637363778007E-2,3.4564278648490522E-2,4.0794631772689438E-2,4.5413953883114533E-2,4.9873348316561913E-2,5.3049525681263372E-2,5.5074450437893621E-2,5.6199572943877431E-2,5.7451587393043867E-2,5.8205060079240603E-2,5.7656780897378281E-2]
[null,null,"Planning Scenario","Total",null,"Bioenergy","MtCO2",5.7618716391156309E-2,5.6850354678209605E-2,5.4906416567398808E-2,5.2795305711326145E-2,5.0624745472157277E-2,4.8571599562611242E-2,4.5784318341257214E-2,4.2564357020888906E-2,3.9093717570832569E-2,3.6562872006729544E-2,3.4078199552631139E-2,3.2123356844407799E-2,3.0184196395481495E-2,2.8349880571838525E-2,2.629858849910259E-2,2.3529808529878439E-2,2.1869720527859873E-2,2.0201936050185235E-2,1.8541211751408368E-2,1.6810987792529861E-2,1.5086136491099179E-2,1.3360946089981621E-2,1.1635513935549138E-2,9.9971724850419462E-3,9.7595436398489957E-3,9.6454942025893144E-3,9.6058586313706729E-3,9.5666448394171842E-3,9.5346285510058779E-3,9.5034684544255035E-3,9.4723380370571198E-3]
[null,null,"Planning Scenario","Total",null,"Electricity","MtCO2",5.5842157843495031,5.4331946719546069,5.3343471526135611,4.848137533603663,4.9145984539421024,4.6017391309523923,3.4948643326075848,2.8762740517724912,2.5648706824981544,2.3899980472805806,1.9852576209119159,1.6615924176327737,1.2373254554747815,0.96334240440149677,0.74794902220190296,0.55447980603060509,0.5377869992174662,0.5056569886829263,0.49463355418488492,0.47225431737834028,0.44021735131603634,0.30583843268180971,0.28181887239665676,0.26741771597145009,0.2578580594753776,0.17301958059720449,0.15801474220790448,0.12648351936130298,0.12604585037929525,0.10708936511402442,0.10533807114825947]
[null,null,null,null,null,"Grand Total",null,{"$f":"SUM(H29:H34)","v":35.179219592758436},{"$f":"SUM(I29:I34)","v":34.886237329471939},34.394449221330369,33.121139490524655,32.321920399375877,30.888681771691232,28.332145069394198,26.184672770822228,24.180757115621489,22.299419607348575,20.223649656309938,18.336986083349586,16.24639693414542,14.351572283532748,12.558325015886647,10.892646605669256,9.5820720954191376,8.3676123522640431,7.2544861713318634,6.1914087578055756,5.173389698152616,4.1081103666979288,3.2793359933861197,2.5790187680959611,1.9950236321750325,1.4480574417327416,1.0490461593666882,0.65452948881811113,0.3807366146669382,0.28512776543997653,0.21986368374160592]
[null,null,null,null,null,"Cumulative Total",null,{"$f":"SUM($H35:H35)","v":35.179219592758436},{"$f":"SUM($H35:I35)","v":70.065456922230368},{"$f":"SUM($H35:J35)","v":104.45990614356074},{"$f":"SUM($H35:K35)","v":137.5810456340854},{"$f":"SUM($H35:L35)","v":169.90296603346127},{"$f":"SUM($H35:M35)","v":200.79164780515251},{"$f":"SUM($H35:N35)","v":229.12379287454669},{"$f":"SUM($H35:O35)","v":255.30846564536893},{"$f":"SUM($H35:P35)","v":279.4892227609904},{"$f":"SUM($H35:Q35)","v":301.78864236833897},{"$f":"SUM($H35:R35)","v":322.0122920246489},{"$f":"SUM($H35:S35)","v":340.34927810799849},{"$f":"SUM($H35:T35)","v":356.59567504214391},{"$f":"SUM($H35:U35)","v":370.94724732567664},{"$f":"SUM($H35:V35)","v":383.50557234156327},{"$f":"SUM($H35:W35)","v":394.39821894723252},{"$f":"SUM($H35:X35)","v":403.98029104265169},{"$f":"SUM($H35:Y35)","v":412.3479033949157},{"$f":"SUM($H35:Z35)","v":419.60238956624755},{"$f":"SUM($H35:AA35)","v":425.79379832405311},{"$f":"SUM($H35:AB35)","v":430.96718802220573},{"$f":"SUM($H35:AC35)","v":435.07529838890366},{"$f":"SUM($H35:AD35)","v":438.35463438228976},{"$f":"SUM($H35:AE35)","v":440.93365315038574},{"$f":"SUM($H35:AF35)","v":442.92867678256079},{"$f":"SUM($H35:AG35)","v":444.3767342242935},{"$f":"SUM($H35:AH35)","v":445.4257803836602},{"$f":"SUM($H35:AI35)","v":446.08030987247832},{"$f":"SUM($H35:AJ35)","v":446.46104648714527},{"$f":"SUM($H35:AK35)","v":446.74617425258526},{"$f":"SUM($H35:AL35)","v":446.96603793632687}]
[]
[]
[]
[]
[null,null,null,null,null,"Natural gas","MtCO2",{"$f":"H29","v":11.111667823254514},10.982511420059913,10.853972643262797,10.689548224146053,10.518166690589933,10.279140215640542,9.9872226609271664,9.6382798311753923,9.1808397877140067,8.7112215117602325,8.2280172371242859,7.8402728451128585,7.4262038828954813,6.9549731833565396,6.4176558767806586,5.8782772223198716,5.3659938255140878,4.8745090111455882,4.3793449420158268,3.8693906545428165,3.3415063429242395,2.780851677753887,2.2776749601796613,1.8339954215512502,1.4077954487791347,1.0436251324411481,0.71414924953710468,0.39158866051976871,0.13589810077213341,7.134633859490884E-2,1.728893349739264E-2]
[null,null,null,null,null,"Hydrogen","MtCO2",{"$f":"H32","v":3.3574593220783076E-4},5.6479061568219806E-4,6.8365835188756267E-4,7.2707732907093718E-4,7.1715739200297463E-4,7.767716908862281E-4,6.4972987006928456E-4,6.3454982107325852E-4,9.4149370949542287E-4,9.6066303910968538E-4,3.9602895642038248E-3,5.9503655049012935E-3,7.395202228291744E-3,9.2973315262577152E-3,1.1900578765777702E-2,1.4207713857740157E-2,1.7002627012123506E-2,1.9108612789296129E-2,2.1453973790728012E-2,2.3705699315603474E-2,2.6808637363778007E-2,3.4564278648490522E-2,4.0794631772689438E-2,4.5413953883114533E-2,4.9873348316561913E-2,5.3049525681263372E-2,5.5074450437893621E-2,5.6199572943877431E-2,5.7451587393043867E-2,5.8205060079240603E-2,5.7656780897378281E-2]
[null,null,null,null,null,"Bioenergy","MtCO2",5.7618716391156309E-2,5.6850354678209605E-2,5.4906416567398808E-2,5.2795305711326145E-2,5.0624745472157277E-2,4.8571599562611242E-2,4.5784318341257214E-2,4.2564357020888906E-2,3.9093717570832569E-2,3.6562872006729544E-2,3.4078199552631139E-2,3.2123356844407799E-2,3.0184196395481495E-2,2.8349880571838525E-2,2.629858849910259E-2,2.3529808529878439E-2,2.1869720527859873E-2,2.0201936050185235E-2,1.8541211751408368E-2,1.6810987792529861E-2,1.5086136491099179E-2,1.3360946089981621E-2,1.1635513935549138E-2,9.9971724850419462E-3,9.7595436398489957E-3,9.6454942025893144E-3,9.6058586313706729E-3,9.5666448394171842E-3,9.5346285510058779E-3,9.5034684544255035E-3,9.4723380370571198E-3]
[null,null,null,null,"Solid fuel in too for now","Petrol","MtCO2",{"$f":"SUM(H31,H30)","v":18.425381522831053},{"$f":"SUM(I31,I30)","v":18.413116092163527},18.150539350534721,17.529931349734543,16.837813351979683,15.958454053844802,14.803624027648121,13.626919981032385,12.395011434129003,11.160676513261921,9.9723363091569013,8.7970470982546427,7.5452881971513834,6.3956094836766173,5.3545209496392054,4.4221520549311624,3.6394189231476002,2.9481358035960472,2.3405124895890146,1.8092470987762861,1.3497712300574625,0.97349503152376049,0.66741201510156312,0.42219450420510374,0.26973723196410926,0.16871770881053624,0.1122018585524147,7.0691091153744806E-2,5.1806447571459753E-2,3.8983533197377115E-2,3.0107560161518401E-2]
[null,null,null,null,null,"Electricity","MtCO2",{"$f":"H34","v":5.5842157843495031},5.4331946719546069,5.3343471526135611,4.848137533603663,4.9145984539421024,4.6017391309523923,3.4948643326075848,2.8762740517724912,2.5648706824981544,2.3899980472805806,1.9852576209119159,1.6615924176327737,1.2373254554747815,0.96334240440149677,0.74794902220190296,0.55447980603060509,0.5377869992174662,0.5056569886829263,0.49463355418488492,0.47225431737834028,0.44021735131603634,0.30583843268180971,0.28181887239665676,0.26741771597145009,0.2578580594753776,0.17301958059720449,0.15801474220790448,0.12648351936130298,0.12604585037929525,0.10708936511402442,0.10533807114825947]
[null,null,null,null,null,"Total Emissions",null,{"$f":"SUM(H42:H45)","v":24.067551769503922},{"$f":"SUM(I42:I45)","v":23.903725909412024},23.540476578067569,22.431591266378604,21.803753708785944,20.609541556050694,18.344922408467031,16.546392939646839,14.999917327907486,13.588198095588339,11.995632419185652,10.496713238236726,8.8201930512499374,7.3965991001762106,6.1406691391059889,5.0143693833493863,4.2160782699050499,3.4931033411184549,2.8751412293160361,2.3220181032627596,1.831883355228376,1.3272586889440423,1.0016610332064584,0.74502334654471025,0.58722818339589777,0.40443230929159346,0.33489690982958348,0.26294082829834242,0.24483851389480474,0.21378142684506762,0.20257475024421329]
[]
[null,null,null,null,"Remove","Heating oil","MtCO2"]
[null,null,null,null,"Remove","Diesel","MtCO2"]

{"sheet":"DFES Parameters","index":37,"n_rows":25,"n_cols":4,"rows_kept":25,"cut":false,"hidden":false,"merged":[]}
[]
["Status","A.      Parameters allocated to LA areas from the primary percentages derived from summing up the customer base"]
["Licence level in this workbook",1,"Electric Vehicles (number)","Number of registered plug in electric vehicles (pure and hybrid)"]
["Licence level in this workbook",2,"Heat Pumps (number)","Number of heat pumps per residential household and commercial properties including from district heating schemes"]
["Licence level in this workbook",3,"Domestic photovoltaic installed capacity (MW)","Capacity of solar PV panels on domestic roofs for installations less than 4kW"]
["Licence level in this workbook",4,"Domestic underlying energy consumption (MWh)","Annual energy consumption by residential households excluding electric vehicle and heat pump consumption"]
["Licence level in this workbook",5,"Industrial and commercial underlying energy consumption (MWh)","Annual energy consumption by industrial and commercial properties excluding electric vehicles and heat pump consumption"]
["Licence level in this workbook",6,"Total energy consumption including electric vehicles and heat pumps (MWh)","Total energy consumption by domestic households and industrial and commercial properties including electric vehicle and heat pump consumption"]
[]
[null,"B.      Parameters for which every associated LA merely shows the value for the sum of the associated primaries (and a histogram of all primary values)."]
["Licence level in this workbook",7,"Large solar generation installed capacity (MW)","Installed capacity of industrial and commercial solar farms"]
["Licence level in this workbook",8,"Wind generation installed capacity (MW)","Installed capacity of industrial and commercial onshore and offshore wind farms"]
["Licence level in this workbook",9,"Total renewable generation installed capacity (MW)","Installed capacity of other generation including biomass, waste, CHP, gas, other thermal"]
["Licence level in this workbook",10,"Total non-renewable generation installed capacity (MW)","Installed capacity of other generation including biomass, waste, CHP, gas, other thermal"]
["Licence level in this workbook",11,"Energy storage installed capacity (MW)","Installed capacity of domestic, industrial and commercial batteries"]
[]
[null,"C.      Parameters for which every associated LA merely shows the value for the max of the associated primaries (and a histogram of all primary values)."]
["Licence level in this workbook",12,"Peak demand at Primary Substations (MW) ","Peak half hourly demand within the year"]
["Licence level in this workbook",13,"Peak demand with customer flexibility at Primary Substations (MW) ","Peak half hourly demand within the year after load shifted by proce driven time of use tariffs and smart charging of EVs"]
["See number of constraints in this workbook",14,"Peak utilisation at Primary Substations (%) ","Peak half hourly demand within the year as proportion of primary substation capacity"]
["See number of constraints in this workbook",15,"Peak utilisation with customer flexibility at Primary Substations (%)","Peak half hourly demand within the year as proportion of primary substation capacity after load shifted by price driven time of use tariffs and smart charging of EVs"]
[]
[null,"D.      Parameters in sensitivities shon at overveiw level"]
["Licence level in this workbook",null,"Additions to peak demand from industry fuel switching, electrolyses, large transport (MW) ","Peak half hourly demand within the year"]
["Licence level in this workbook",null,"Additions to energy consumption from industry fuel switching, electrolyses, large transport (MW) ","Annual energy consumption"]

{"sheet":"Building Blocks & Policies","index":38,"n_rows":66,"n_cols":17,"rows_kept":66,"cut":false,"hidden":false,"merged":[[10,6,10,7],[1,0,2,0],[1,6,2,6],[3,6,3,7],[4,6,4,7],[8,6,8,7],[21,10,22,10],[21,11,22,11],[21,13,22,13],[21,14,22,14],[11,0,12,0],[11,6,11,7],[12,6,12,7],[17,10,18,10],[17,11,18,11],[17,14,18,14],[19,10,20,10],[19,11,20,11],[19,14,20,14],[23,11,24,11],[23,14,24,14],[25,10,26,10],[25,11,26,11],[25,14,26,14],[53,3,54,3],[55,1,55,2],[56,1,56,2],[60,1,60,2],[23,10,24,10],[62,1,62,2],[63,0,64,0],[63,1,63,2],[64,1,64,2],[53,0,54,0],[53,1,54,1]]}
["Demand Building Blocks",null,null,null,null,null,null,null,null,null,"Policy Drivers -Evs"]
["Building Block","Best View (Bottom up)","Consumer Transformation","Leading the Way","System Transformation","Falling Short","Best View Sensitivity","Consumer Transformation",null,null,"FES Evs","Battery price","Perceived access to charging improves","ICE phase out","Short-term sales recovery post-COVID","Long term sales and parc trends","BEV supply"]
[null,null,"(Bottom up)","(Bottom up)","(Bottom up)","(Bottom up)",null,"Sensitivity",null,null,"FS","2022 BNEF, with 2 year delay","No","Not enforced","Slow recovery","DfT’s core scenario1","Medium supply"]
["Heat pumps – domestic","High","High","Highest","Mid","Low","High (delayed uptake)",null,null,null,"ST","2022 BNEF","Yes, 100% by 2030","Not enforced","Medium recovery","DfT’s core scenario1","Maximum supply (no constraint)"]
["Heat pumps – I&C","High","High","Highest","Mid","Low","High (delayed uptake)",null,null,null,"CT","2022 BNEF","Yes, 100% by 2030","Enforced, ICE 2030, PHEV 2035","Medium recovery","DfT’s core scenario1","Maximum supply (no constraint)"]
["Hybrid Heat Pumps","None","None","None","High","None","None","None",null,null,"LtW","2022 BNEF","Yes, 100% by 2030","Enforced, ICE 2030, PHEV 2035","Medium recovery","DfT’s lower demand scenario2","Maximum supply (no constraint)"]
["Domestic Stock","ERM Base","ERM Base","ERM Base","ERM Base","ERM Base","ERM Base","ERM Base",null,null,"Best View","2022 BNEF","Yes, 100% by 2030","Enforced, ICE 2030, PHEV 2035","Medium recovery","DfT’s lower demand scenario2","Maximum supply (no constraint)"]
["I&C Stock","ERM Base","ERM Base","ERM Base","ERM Base","ERM Base","ERM Base","ERM Base",null,null,"CT Updated Policy Sensitivity","2022 BNEF","Yes, 100% by 2035","ICE & PHEV 2035","Medium recovery","DfT’s core scenario1","High supply (no constraint)"]
["Small EVs","High","Highest","High","Mid","Low","Highest (delayed uptake)"]
["Large EVs (Buses and HGVs)","High","Mid","High","Mid","Low","High","Mid",null,null,"EVs:"]
["Thermal Efficiency (Domestic)","Moderate","Moderate","Accelerate","Moderate","Baseline","Baseline",null,null,null,"Perceived access to charging (ie consumer confidence levels) reaches max in 2035, rather than 2030 in CT"]
["Thermal Efficiency (I&C)","High","High","High","High","Low","Low",null,null,null,"BEV supply is “High”, rather than maximum (in order to try and include the potential impact of reduced confidence from car suppliers in the UK market – though this has quite a minor effect)"]
[null,"(“Future Policies”)","(“Future Policies”)","(“Future Policies”)","(“Future Policies”)","(“Conservative”)","(“Conservative”)",null,null,null,"ICE and PHEV phase out are both 2035, instead of ICE 2030 and PHEV 2035."]
["Appliance Efficiency","Mid","Mid","Mid","Mid","Mid","Mid","Mid",null,null,"Policy Drivers -HPs"]
[null,null,null,null,null,null,null,null,null,null,"FES Heat Pumps","Electricity Price","Gas phase out","Oil phase out","Technology awareness","Boiler Upgrade Scheme"]
["Generation Building Blocks",null,null,null,null,null,null,null,null,null,"FS","DESNZ High","No restrictions",2035,"Low","Low"]
["Building Block","Best View","Consumer Transformation","Leading the Way","System Transformation","Falling Short",null,null,null,null,null,null,null,"(2025 new builds)",null,"(until 2028)"]
["Small Solar PV","High","High","High","Mid","Low",null,null,null,null,"ST","DESNZ Medium",2035,2030,"Medium","Medium"]
["Domestic Storage","Highest","High","Highest","Mid","Low",null,null,null,null,null,null,"(2025 new builds)","(2025 new builds)",null,"(until 2030)"]
["Large Solar PV","High","Mid","High","Mid","Low",null,null,null,null,"CT","DESNZ Low",2035,2027,"High","High"]
["Large Onshore Wind","Highest","Highest","High","Mid","Low",null,null,null,null,null,null,"(2025 new builds)","(2025 new builds)",null,"(until 2032)"]
["Large Storage","Highest","Highest","High","Mid","Low",null,null,null,null,"LtW","DESNZ Low",2035,2025,"High","Very High"]
["Non-Renewable Generation","Low","Mid","Low","Low","High",null,null,null,null,null,null,"(2025 new builds)",null,null,"(until 2035)"]
["Biomass","Mid","Low","Mid","Mid","High",null,null,null,null,"Best View","DESNZ Low",2035,2027,"High","High"]
[null,null,null,null,null,null,null,null,null,null,null,null,"(2025 new builds)","(2025 new builds)",null,"(until 2032)"]
[null,null,null,null,null,null,null,null,null,null,"CT Updated Policy Sensitivity","DESNZ Low",2035,2035,"Low","“Low +”"]
[null,null,null,null,null,null,null,null,null,null,null,null,"(2025 new builds)","(2025 new builds)",null,"(increased funding per HP)"]
[]
[null,null,null,null,null,null,null,null,null,null,"Heat Pumps:"]
[null,null,null,null,null,null,null,null,null,null,"Existing oil (technically, off-gas fossil fuel boilers) phase out is 2035, delayed from the old policy of 2026"]
[null,null,null,null,null,null,null,null,null,null,"Technology awareness/consumer confidence is kept low by the policy delay"]
[null,null,null,null,null,null,null,null,null,null,"Boiler upgrade scheme is difficult to summarise in a couple of words – as discussed in other email, higher funding per HP but with the same funding pot as currently (same as in FS), hence “Low+” below. Your framing of “High (until 2028)” is also fair, although I think the impact of the scheme ended up finishing before 2028 in our results due to rapid short term uptake. Probably needs a bit of supporting commentary in the report to ensure the messaging is clear. "]
[]
[]
[]
[]
[]
[]
[]
[]
[]
[]
[]
[]
[]
[]
[]
[]
[]
[]
[]
[]
[]
["Building Block","Best View Sensitivity","Consumer Transformation","Best View (Bottom up)","Consumer Transformation","Leading the Way","System Transformation","Falling Short"]
[null,null,"Sensitivity",null,"(Bottom up)","(Bottom up)","(Bottom up)","(Bottom up)"]
["Heat pumps – domestic","High (delayed uptake)",null,"High","High","Highest","Mid","Low"]
["Heat pumps – I&C","High (delayed uptake)",null,"High","High","Highest","Mid","Low"]
["Hybrid Heat Pumps","None","None","None","None","None","High","None"]
["Domestic Stock","ERM Base","ERM Base","ERM Base","ERM Base","ERM Base","ERM Base","ERM Base"]
["I&C Stock","ERM Base","ERM Base","ERM Base","ERM Base","ERM Base","ERM Base","ERM Base"]
["Small EVs","Highest (delayed uptake)",null,"High","Highest","High","Mid","Low"]
["Large EVs (Buses and HGVs)","High","Mid","High","Mid","High","Mid","Low"]
["Thermal Efficiency (Domestic)","Baseline",null,"Moderate","Moderate","Accelerate","Moderate","Baseline"]
["Thermal Efficiency (I&C)","Low",null,"High","High","High","High","Low"]
[null,"(“Conservative”)",null,"(“Future Policies”)","(“Future Policies”)","(“Future Policies”)","(“Future Policies”)","(“Conservative”)"]
["Appliance Efficiency","Mid","Mid","Mid","Mid","Mid","Mid","Mid"]

{"sheet":"Charts & Tables - Core For DFES","index":39,"n_rows":758,"n_cols":66,"rows_kept":758,"cut":false,"hidden":false,"merged":[]}
[null,null,null,null,null,null,null,null,null,null,null,null,null,null,"Charts and Tables"]
[]
[null,null,null,null,null,null,{"$f":"O3","v":"Electric Vehicles (No. Cars & Vans)"},2025,2030,2040,2050,null,null,"2027 m","Electric Vehicles (No. Cars & Vans)",2022,2025,2030,2040,2050,2027,"2027 % change to PS","GB rough estimate by 2050 (not UK - no NI)"]
[null,null,null,null,null,null,"DFES 2023 - Consumer Transformation",{"$f":"Q4","v":472997},1938473,4318289,4734509,null,null,{"$f":"U4/1000000","v":1.000837},"DFES 2023 - Consumer Transformation",{"$f":"'Electric Vehicles'!$B2","v":86795},{"$f":"'Electric Vehicles'!$E$2","v":472997},{"$f":"'Electric Vehicles'!$J$2","v":1938473},{"$f":"'Electric Vehicles'!$T$2","v":4318289},{"$f":"'Electric Vehicles'!$AD$2","v":4734509},{"$f":"'Electric Vehicles'!$G2","v":1000837},{"$f":"(U4-U$10)/U$10","v":5.6563319141479031E-2},{"$f":"T4*7","v":33141563}]
[null,null,null,null,null,null,"DFES 2023 - System Transformation",483066,1847688,3941590,4363521,null,null,{"$f":"U5/1000000","v":0.98714999999999997},"DFES 2023 - System Transformation",{"$f":"'Electric Vehicles'!$B3","v":86795},{"$f":"'Electric Vehicles'!$E$3","v":483066},{"$f":"'Electric Vehicles'!$J$3","v":1847688},{"$f":"'Electric Vehicles'!$T$3","v":3941590},{"$f":"'Electric Vehicles'!$AD$3","v":4363521},{"$f":"'Electric Vehicles'!$G3","v":987150},{"$f":"(U5-U$10)/U$10","v":4.211423087926508E-2},{"$f":"T5*7","v":30544647}]
[null,null,null,null,null,null,"DFES 2023 - Leading The Way",455591,1817732,3935422,4252384,null,null,0.94725700000000002,"DFES 2023 - Leading The Way",{"$f":"'Electric Vehicles'!$B4","v":86795},{"$f":"'Electric Vehicles'!$E$4","v":455591},{"$f":"'Electric Vehicles'!$J$4","v":1817732},{"$f":"'Electric Vehicles'!$T$4","v":3935422},{"$f":"'Electric Vehicles'!$AD$4","v":4252384},{"$f":"'Electric Vehicles'!$G4","v":947257},0,29766688]
[null,null,null,null,null,null,"DFES 2023 - NPg Best View",{"$f":"Q10","v":455591},{"$f":"R10","v":1817732},{"$f":"S10","v":3935422},{"$f":"T10","v":4252384},null,null,1.053328,"CCC 2020 - Balanced Net Zero",{"$f":"'Electric Vehicles'!$B5","v":123396},{"$f":"'Electric Vehicles'!$E$5","v":590162},{"$f":"'Electric Vehicles'!$J$5","v":1879593},{"$f":"'Electric Vehicles'!$T$5","v":4553775},{"$f":"'Electric Vehicles'!$AD$5","v":5462205},{"$f":"'Electric Vehicles'!$G5","v":1053328},0.11197700307308366,38235435]
[null,null,null,null,null,null,"DFES 2023 - Falling Short",{"$f":"Q12","v":302845},{"$f":"R12","v":1214726},{"$f":"S12","v":2804867},{"$f":"T12","v":3188191},null,null,0.74185999999999996,"CT 2023 Policy Sensitivity",{"$f":"'Electric Vehicles'!$B6","v":86795},{"$f":"'Electric Vehicles'!$E$6","v":367733},{"$f":"'Electric Vehicles'!$J$6","v":1576075},{"$f":"'Electric Vehicles'!$T$6","v":4016511},{"$f":"'Electric Vehicles'!$AD$6","v":4726348},{"$f":"'Electric Vehicles'!$G6","v":741860},-0.21683344646700947,33084436]
[null,null,null,null,null,null,null,null,null,null,null,null,null,0.74185999999999996,"BV 2023 Policy Sensitivity",{"$f":"'Electric Vehicles'!$B7","v":86795},{"$f":"'Electric Vehicles'!$E$7","v":367733},{"$f":"'Electric Vehicles'!$J$7","v":1576075},{"$f":"'Electric Vehicles'!$T$7","v":4016511},{"$f":"'Electric Vehicles'!$AD$7","v":4726348},{"$f":"'Electric Vehicles'!$G7","v":741860},-0.21683344646700947,33084436]
[null,null,null,null,null,null,null,null,null,null,null,null,null,0.94725700000000002,"DFES 2023 - NPg Best View",{"$f":"'Electric Vehicles'!$B8","v":86795},{"$f":"'Electric Vehicles'!$E$8","v":455591},{"$f":"'Electric Vehicles'!$J$8","v":1817732},{"$f":"'Electric Vehicles'!$T$8","v":3935422},{"$f":"'Electric Vehicles'!$AD$8","v":4252384},{"$f":"'Electric Vehicles'!$G8","v":947257},0,29766688,null,null,null,null,null,null,null,null,null,null,null,2019,2020,2021,2022,2023,2024,2025,2026,2027,2028,2029,2030,2031,2032,2033,2034,2035,2036,2037,2038,2039,2040,2041,2042,2043,2044,2045,2046,2047,2048,2049,2050]
[null,null,null,null,null,null,null,null,null,null,null,null,null,0.93948100000000001,"NPg ED2 Planning Scenario - needs updating to old",{"$f":"'Electric Vehicles'!$B9","v":108640},{"$f":"'Electric Vehicles'!$E$9","v":523703},{"$f":"'Electric Vehicles'!$J$9","v":1843408},{"$f":"'Electric Vehicles'!$T$9","v":4589052},{"$f":"'Electric Vehicles'!$AD$9","v":5013445},{"$f":"'Electric Vehicles'!$G9","v":939481},-8.2089654655494761E-3,35094115,null,null,null,null,null,null,null,null,null,null,null,"2019/20","2020/21","2021/22","2022/23","2023/24","2024/25","2025/26","2026/27","2027/28","2028/29","2029/30","2030/31","2031/32","2032/33","2033/34","2034/35","2035/36","2036/37","2037/38","2038/39","2039/40","2040/41","2041/42","2042/43","2043/44","2044/45","2045/46","2046/47","2047/48","2048/49","2049/50","2050/51"]
[null,null,null,null,null,null,null,null,null,null,null,null,null,0.57858399999999999,"DFES 2023 - Falling Short",{"$f":"'Electric Vehicles'!$B10","v":86795},{"$f":"'Electric Vehicles'!$E$10","v":302845},{"$f":"'Electric Vehicles'!$J$10","v":1214726},{"$f":"'Electric Vehicles'!$T$10","v":2804867},{"$f":"'Electric Vehicles'!$AD$10","v":3188191},{"$f":"'Electric Vehicles'!$G10","v":578584},-0.38920060764924408,22317337,null,null,null,null,null,null,null,null,null,null,null,6.0000000000000001E-3,7.3419876646994174E-3,1.335198210529347E-2,2.5229924869967675E-2,4.8627071023637287E-2,7.8393664367760713E-2,0.11538899362662385,0.15601295069316701,0.20249967952278333,0.25475497958800797,0.3115165812537129,0.38518669419452056,0.45480571202148479,0.52085966532021533,0.58281528432719809,0.6401046893650395,0.69235953326783761,0.73956245685579436,0.78140042972906376,0.8178061800473384,0.84899302717164704,0.87506387911496852,0.89587832316403393,0.91260868171460841,0.9255898783709321,0.93543247676668861,0.94272283148733216,0.94779872547350796,0.95132390601603278,0.95358888169365563,0.95505972434039332,0.95596270277709594]
[]
[null,null,null,null,null,null,null,null,null,null,null,null,null,null,"0.36 to 1.14","top","top",{"$f":"$U$9","v":741860},{"$f":"U9-$U$10","v":-205397},{"$f":"S14/$R$16","v":-1.2579742276880865}]
[null,null,null,null,null,null,null,null,null,null,null,null,null,null,"0.42 to 1.14","bottom","bottom",{"$f":"$U$12","v":578584},{"$f":"$U$10-U12","v":368673},{"$f":"S15/$R$16","v":2.2579742276880865}]
[null,null,null,null,null,null,null,null,null,null,null,null,null,null,null,"range","range",{"$f":"R14-R15","v":163276}]
[]
[]
[null,null,null,null,null,null,null,null,null,null,null,null,null,null,"DFES 2023 - Consumer Transformation",null,"R 255","G 191","B 34"]
[null,null,null,null,null,null,null,null,null,null,null,null,null,null,"DFES 2023 - System Transformation",null,"R 91","G 203","B 245"]
[null,null,null,null,null,null,null,null,null,null,null,null,null,null,"DFES 2023 - Leading The Way",null,"R 194","G 205","B 35"]
[null,null,null,null,null,null,null,null,null,null,null,null,null,null,"CCC 2020 - Balanced Net Zero",null,"R113","G66","B255"]
[null,null,null,null,null,null,null,null,null,null,null,null,null,null,"CT 2023 Policy Sensitivity",null,"R202","G120","B128"]
[null,null,null,null,null,null,null,null,null,null,null,null,null,null,"BV 2023 Policy Sensitivity",null,"R205","G231","B176"]
[null,null,null,null,null,null,null,null,null,null,null,null,null,null,"DFES 2023 - NPg Best View",null,"R192","G0","B0"]
[null,null,null,null,null,null,null,null,null,null,null,null,null,null,"NPg ED2 Planning Scenario - needs updating to old",null,"R 0","G 171","B 132"]
[null,null,null,null,null,null,null,null,null,null,null,null,null,null,"DFES 2023 - Falling Short",null,"R 130","G 123","B 122"]
[]
[]
[]
[]
[]
[]
[null,null,null,null,null,null,{"$f":"O34","v":"Residential Heat Pumps (No.)"},2025,2030,2040,2050,null,null,null,"Residential Heat Pumps (No.)",2022,2025,2030,2040,2050,2027,"GB rough estimate by 2050 (not UK - no NI)"]
[null,null,null,null,null,null,"DFES 2023 - Consumer Transformation",{"$f":"Q35","v":122193},331198,1327214,2885461,null,null,null,"DFES 2023 - Consumer Transformation",{"$f":"'Heat Pumps'!$B42","v":42082},{"$f":"'Heat Pumps'!$E42","v":122193},{"$f":"'Heat Pumps'!$J42","v":331198},{"$f":"'Heat Pumps'!$T42","v":1327214},{"$f":"'Heat Pumps'!$AD42","v":2885461},{"$f":"'Heat Pumps'!$G42","v":256245},{"$f":"T35*7","v":20198227}]
[null,null,null,null,null,null,"DFES 2023 - System Transformation",83517,184981,569308,1929217,null,null,null,"DFES 2023 - System Transformation",{"$f":"'Heat Pumps'!$B43","v":42082},{"$f":"'Heat Pumps'!$E43","v":83517},{"$f":"'Heat Pumps'!$J43","v":184981},{"$f":"'Heat Pumps'!$T43","v":569308},{"$f":"'Heat Pumps'!$AD43","v":1929217},{"$f":"'Heat Pumps'!$G43","v":120077},13504519]
[null,null,null,null,null,null,"DFES 2023 - Leading The Way",142089,434967,2239117,2999426,null,null,null,"DFES 2023 - Leading The Way",{"$f":"'Heat Pumps'!$B44","v":42082},{"$f":"'Heat Pumps'!$E44","v":142089},{"$f":"'Heat Pumps'!$J44","v":434967},{"$f":"'Heat Pumps'!$T44","v":2239117},{"$f":"'Heat Pumps'!$AD44","v":2999426},{"$f":"'Heat Pumps'!$G44","v":308046},20995982]
[null,null,null,null,null,null,"DFES 2023 - NPg Best View",{"$f":"Q41","v":122193},{"$f":"R41","v":331198},{"$f":"S41","v":1327214},{"$f":"T41","v":2885461},null,null,null,"CCC 2020 - Balanced Net Zero",{"$f":"'Heat Pumps'!$B45","v":46497},{"$f":"'Heat Pumps'!$E45","v":134329},{"$f":"'Heat Pumps'!$J45","v":667995},{"$f":"'Heat Pumps'!$T45","v":2324055},{"$f":"'Heat Pumps'!$AD45","v":3395550},{"$f":"'Heat Pumps'!$G45","v":290242},23768850]
[null,null,null,null,null,null,"DFES 2023 - Falling Short",{"$f":"Q43","v":71543},{"$f":"R43","v":167693},{"$f":"S43","v":343921},{"$f":"T43","v":462356},null,null,null,"CT 2023 Policy Sensitivity",{"$f":"'Heat Pumps'!$B46","v":42082},{"$f":"'Heat Pumps'!$E46","v":122920},{"$f":"'Heat Pumps'!$J46","v":225752},{"$f":"'Heat Pumps'!$T46","v":1176787},{"$f":"'Heat Pumps'!$AD46","v":2885461},{"$f":"'Heat Pumps'!$G46","v":159347},20198227,null,null,null,null,null,null,null,null,null,null,null,null,2019,2020,2021,2022,2023,2024,2025,2026,2027,2028,2029,2030,2031,2032,2033,2034,2035,2036,2037,2038,2039,2040,2041,2042,2043,2044,2045,2046,2047,2048,2049,2050]
[null,null,null,null,null,null,null,null,null,null,null,null,null,null,"BV 2023 Policy Sensitivity",{"$f":"'Heat Pumps'!$B47","v":42082},{"$f":"'Heat Pumps'!$E47","v":122920},{"$f":"'Heat Pumps'!$J47","v":225752},{"$f":"'Heat Pumps'!$T47","v":1176787},{"$f":"'Heat Pumps'!$AD47","v":2885461},{"$f":"'Heat Pumps'!$G47","v":159347},20198227,null,null,null,null,null,null,null,null,null,null,null,null,"2019/20","2020/21","2021/22","2022/23","2023/24","2024/25","2025/26","2026/27","2027/28","2028/29","2029/30","2030/31","2031/32","2032/33","2033/34","2034/35","2035/36","2036/37","2037/38","2038/39","2039/40","2040/41","2041/42","2042/43","2043/44","2044/45","2045/46","2046/47","2047/48","2048/49","2049/50","2050/51"]
[null,null,null,null,null,null,null,null,null,null,null,null,null,null,"DFES 2023 - NPg Best View",{"$f":"'Heat Pumps'!$B48","v":42082},{"$f":"'Heat Pumps'!$E48","v":122193},{"$f":"'Heat Pumps'!$J48","v":331198},{"$f":"'Heat Pumps'!$T48","v":1327214},{"$f":"'Heat Pumps'!$AD48","v":2885461},{"$f":"'Heat Pumps'!$G48","v":256245},20198227,null,null,null,null,null,null,null,null,null,null,null,null,6.0000000000000001E-3,7.3743932488224808E-3,9.22984100250397E-3,1.3383167042451037E-2,1.8183723126156112E-2,2.3216123437258675E-2,3.6399345015937473E-2,5.4328198364027087E-2,7.6764248745728333E-2,0.10554330365725817,0.13678731732608668,0.17278343064634014,0.20512564696607963,0.23947381954895713,0.27805482791909786,0.3200033977471074,0.36508224928921401,0.40745132175227566,0.44875615518404049,0.49050126610269335,0.53355838552412205,0.57351589925689705,0.61532803309147466,0.65272197298299117,0.68527366861531624,0.71275783627994882,0.73731999125926118,0.75925734132913092,0.78138158522316503,0.80346488405621586,0.80544873979356857,0.80540713271260678]
[null,null,null,null,null,null,null,null,null,null,null,null,null,null,"NPg ED2 Planning Scenario - needs updating to old",{"$f":"'Heat Pumps'!$B49","v":42082},{"$f":"'Heat Pumps'!$E49","v":122193},{"$f":"'Heat Pumps'!$J49","v":331198},{"$f":"'Heat Pumps'!$T49","v":1327214},{"$f":"'Heat Pumps'!$AD49","v":2885461},{"$f":"'Heat Pumps'!$G49","v":256245},20198227]
[null,null,null,null,null,null,null,null,null,null,null,null,null,null,"DFES 2023 - Falling Short",{"$f":"'Heat Pumps'!$B50","v":42082},{"$f":"'Heat Pumps'!$E50","v":71543},{"$f":"'Heat Pumps'!$J50","v":167693},{"$f":"'Heat Pumps'!$T50","v":343921},{"$f":"'Heat Pumps'!$AD50","v":462356},{"$f":"'Heat Pumps'!$G50","v":107751},3236492]
[]
[]
[]
[]
[]
[]
[null,null,null,null,null,null,{"$f":"O50","v":"I&C  Heat Pumps (No.)"},2025,2030,2040,2050,null,null,null,"I&C  Heat Pumps (No.)",2022,2025,2030,2040,2050,"GB rough estimate by 2050 (not UK - no NI)"]
[null,null,null,null,null,null,"DFES 2023 - Consumer Transformation",{"$f":"Q51","v":9542},18744,102871,240675,null,null,null,"DFES 2023 - Consumer Transformation",{"$f":"'Heat Pumps'!$B145","v":7064},{"$f":"'Heat Pumps'!$E145","v":9542},{"$f":"'Heat Pumps'!$J145","v":18744},{"$f":"'Heat Pumps'!$T145","v":102871},{"$f":"'Heat Pumps'!$AD145","v":240675},{"$f":"T51*7","v":1684725}]
[null,null,null,null,null,null,"DFES 2023 - System Transformation",9276,15323,92973,224332,null,null,null,"DFES 2023 - System Transformation",{"$f":"'Heat Pumps'!$B146","v":7064},{"$f":"'Heat Pumps'!$E146","v":9276},{"$f":"'Heat Pumps'!$J146","v":15323},{"$f":"'Heat Pumps'!$T146","v":92973},{"$f":"'Heat Pumps'!$AD146","v":224332},{"$f":"T52*7","v":1570324}]
[null,null,null,null,null,null,"DFES 2023 - Leading The Way",10151,19939,171675,240675,null,null,null,"DFES 2023 - Leading The Way",{"$f":"'Heat Pumps'!$B147","v":7064},{"$f":"'Heat Pumps'!$E147","v":10151},{"$f":"'Heat Pumps'!$J147","v":19939},{"$f":"'Heat Pumps'!$T147","v":171675},{"$f":"'Heat Pumps'!$AD147","v":240675},1684725]
[null,null,null,null,null,null,"DFES 2023 - NPg Best View",{"$f":"Q57","v":9542},{"$f":"R57","v":18744},{"$f":"S57","v":102871},{"$f":"T57","v":240675},null,null,null,"CCC 2020 - Balanced Net Zero",{"$f":"'Heat Pumps'!$B148","v":7759},{"$f":"'Heat Pumps'!$E148","v":11651},{"$f":"'Heat Pumps'!$J148","v":23759},{"$f":"'Heat Pumps'!$T148","v":85896},{"$f":"'Heat Pumps'!$AD148","v":173421},1213947]
[null,null,null,null,null,null,"DFES 2023 - Falling Short",{"$f":"Q59","v":9326},{"$f":"R59","v":14660},{"$f":"S59","v":27382},{"$f":"T59","v":35304},null,null,null,"CT 2023 Policy Sensitivity",{"$f":"'Heat Pumps'!$B149","v":7064},{"$f":"'Heat Pumps'!$E149","v":9513},{"$f":"'Heat Pumps'!$J149","v":14363},{"$f":"'Heat Pumps'!$T149","v":94000},{"$f":"'Heat Pumps'!$AD149","v":239615},1677305]
[null,null,null,null,null,null,null,null,null,null,null,null,null,null,"BV 2023 Policy Sensitivity",{"$f":"'Heat Pumps'!$B150","v":7064},{"$f":"'Heat Pumps'!$E150","v":9513},{"$f":"'Heat Pumps'!$J150","v":14363},{"$f":"'Heat Pumps'!$T150","v":94000},{"$f":"'Heat Pumps'!$AD150","v":239615},1677305]
[null,null,null,null,null,null,null,null,null,null,null,null,null,null,"DFES 2023 - NPg Best View",{"$f":"'Heat Pumps'!$B151","v":7064},{"$f":"'Heat Pumps'!$E151","v":9542},{"$f":"'Heat Pumps'!$J151","v":18744},{"$f":"'Heat Pumps'!$T151","v":102871},{"$f":"'Heat Pumps'!$AD151","v":240675},1684725]
[null,null,null,null,null,null,null,null,null,null,null,null,null,null,"NPg ED2 Planning Scenario - needs updating to old",{"$f":"'Heat Pumps'!$B152","v":7064},{"$f":"'Heat Pumps'!$E152","v":9542},{"$f":"'Heat Pumps'!$J152","v":18744},{"$f":"'Heat Pumps'!$T152","v":102871},{"$f":"'Heat Pumps'!$AD152","v":240675},1684725]
[null,null,null,null,null,null,null,null,null,null,null,null,null,null,"DFES 2023 - Falling Short",{"$f":"'Heat Pumps'!$B153","v":7064},{"$f":"'Heat Pumps'!$E153","v":9326},{"$f":"'Heat Pumps'!$J153","v":14660},{"$f":"'Heat Pumps'!$T153","v":27382},{"$f":"'Heat Pumps'!$AD153","v":35304},247128]
[]
[]
[]
[]
[]
[]
[]
[]
[]
[null,null,null,null,null,null,{"$f":"O69","v":"Total Heat Pumps (No.)"},2025,2030,2040,2050,null,null,"2027 m","Total Heat Pumps (No.)",2022,2025,2030,2040,2050,2027,"2027 % change to PS","GB rough estimate by 2050 (not UK - no NI)"]
[null,null,null,null,null,null,"DFES 2023 - Consumer Transformation",{"$f":"Q70","v":131735},349942,1430085,3126136,null,null,{"$f":"U70/1000000","v":0.26884000000000002},"DFES 2023 - Consumer Transformation",{"$f":"'Heat Pumps'!$B2","v":49147},{"$f":"'Heat Pumps'!$E$2","v":131735},{"$f":"'Heat Pumps'!$J$2","v":349942},{"$f":"'Heat Pumps'!$T$2","v":1430085},{"$f":"'Heat Pumps'!$AD$2","v":3126136},{"$f":"'Heat Pumps'!$G2","v":268840},{"$f":"(U70-U$76)/U$76","v":0},{"$f":"T70*7","v":21882952}]
[null,null,null,null,null,null,"DFES 2023 - System Transformation",92793,200303,662282,2153549,null,null,{"$f":"U71/1000000","v":0.13117400000000001},"DFES 2023 - System Transformation",{"$f":"'Heat Pumps'!$B3","v":49147},{"$f":"'Heat Pumps'!$E$3","v":92793},{"$f":"'Heat Pumps'!$J$3","v":200303},{"$f":"'Heat Pumps'!$T$3","v":662282},{"$f":"'Heat Pumps'!$AD$3","v":2153549},{"$f":"'Heat Pumps'!$G3","v":131174},{"$f":"(U71-U$76)/U$76","v":-0.51207409611664934},{"$f":"T71*7","v":15074843}]
[null,null,null,null,null,null,"DFES 2023 - Leading The Way",152241,454906,2410792,3240100,null,null,0.32183499999999998,"DFES 2023 - Leading The Way",{"$f":"'Heat Pumps'!$B4","v":49147},{"$f":"'Heat Pumps'!$E$4","v":152241},{"$f":"'Heat Pumps'!$J$4","v":454906},{"$f":"'Heat Pumps'!$T$4","v":2410792},{"$f":"'Heat Pumps'!$AD$4","v":3240100},{"$f":"'Heat Pumps'!$G4","v":321835},0.19712468382681148,22680700]
[null,null,null,null,null,null,"DFES 2023 - NPg Best View",{"$f":"Q76","v":131735},{"$f":"R76","v":349942},{"$f":"S76","v":1430085},{"$f":"T76","v":3126136},null,null,0.30533500000000002,"CCC 2020 - Balanced Net Zero",{"$f":"'Heat Pumps'!$B5","v":54255},{"$f":"'Heat Pumps'!$E$5","v":145981},{"$f":"'Heat Pumps'!$J$5","v":691754},{"$f":"'Heat Pumps'!$T$5","v":2409952},{"$f":"'Heat Pumps'!$AD$5","v":3568971},{"$f":"'Heat Pumps'!$G5","v":305335},0.13574988840946287,24982797]
[null,null,null,null,null,null,"DFES 2023 - Falling Short",{"$f":"Q78","v":80868},{"$f":"R78","v":182353},{"$f":"S78","v":371302},{"$f":"T78","v":497660},null,null,0.170463,"CT 2023 Policy Sensitivity",{"$f":"'Heat Pumps'!$B6","v":49147},{"$f":"'Heat Pumps'!$E$6","v":132433},{"$f":"'Heat Pumps'!$J$6","v":240115},{"$f":"'Heat Pumps'!$T$6","v":1270786},{"$f":"'Heat Pumps'!$AD$6","v":3125076},{"$f":"'Heat Pumps'!$G6","v":170463},-0.36593140901651539,21875532]
[null,null,null,null,null,null,null,null,null,null,null,null,null,0.170463,"BV 2023 Policy Sensitivity",{"$f":"'Heat Pumps'!$B7","v":49147},{"$f":"'Heat Pumps'!$E$7","v":132433},{"$f":"'Heat Pumps'!$J$7","v":240115},{"$f":"'Heat Pumps'!$T$7","v":1270786},{"$f":"'Heat Pumps'!$AD$7","v":3125076},{"$f":"'Heat Pumps'!$G7","v":170463},-0.36593140901651539,21875532]
[null,null,null,null,null,null,null,null,null,null,null,null,null,0.26884000000000002,"DFES 2023 - NPg Best View",{"$f":"'Heat Pumps'!$B8","v":49147},{"$f":"'Heat Pumps'!$E$8","v":131735},{"$f":"'Heat Pumps'!$J$8","v":349942},{"$f":"'Heat Pumps'!$T$8","v":1430085},{"$f":"'Heat Pumps'!$AD$8","v":3126136},{"$f":"'Heat Pumps'!$G8","v":268840},0,21882952]
[null,null,null,null,null,null,null,null,null,null,null,null,null,0.30533500000000002,"NPg ED2 Planning Scenario - needs updating to old",{"$f":"'Heat Pumps'!$B9","v":54255},{"$f":"'Heat Pumps'!$E$9","v":145981},{"$f":"'Heat Pumps'!$J$9","v":691754},{"$f":"'Heat Pumps'!$T$9","v":2409952},{"$f":"'Heat Pumps'!$AD$9","v":3568971},{"$f":"'Heat Pumps'!$G9","v":305335},0.13574988840946287,24982797]
[null,null,null,null,null,null,null,null,null,null,null,null,null,0.118823,"DFES 2023 - Falling Short",{"$f":"'Heat Pumps'!$B10","v":49147},{"$f":"'Heat Pumps'!$E$10","v":80868},{"$f":"'Heat Pumps'!$J$10","v":182353},{"$f":"'Heat Pumps'!$T$10","v":371302},{"$f":"'Heat Pumps'!$AD$10","v":497660},{"$f":"'Heat Pumps'!$G10","v":118823},-0.55801592024996283,3483620]
[]
[null,null,null,null,null,null,null,null,null,null,null,null,null,null,"0.05 to 0.57","top","top",{"$f":"$U$72","v":321835},{"$f":"U72-$U$76","v":52995},{"$f":"S80/$R$82","v":0.26104368214686818}]
[null,null,null,null,null,null,null,null,null,null,null,null,null,null,"0.17 to 0.57","bottom","bottom",{"$f":"$U$78","v":118823},{"$f":"$U$76-U78","v":150017},{"$f":"S81/$R$82","v":0.73895631785313187}]
[null,null,null,null,null,null,null,null,null,null,null,null,null,null,null,"range","range",{"$f":"R80-R81","v":203012}]
[]
[]
[]
[null,null,null,null,null,null,null,null,null,null,null,null,null,null,"DFES 2023 - Consumer Transformation",null,"R 255","G 191","B 34"]
[null,null,null,null,null,null,null,null,null,null,null,null,null,null,"DFES 2023 - System Transformation",null,"R 91","G 203","B 245"]
[null,null,null,null,null,null,null,null,null,null,null,null,null,null,"DFES 2023 - Leading The Way",null,"R 194","G 205","B 35"]
[null,null,null,null,null,null,null,null,null,null,null,null,null,null,"CCC 2020 - Balanced Net Zero",null,"R113","G66","B255"]
[null,null,null,null,null,null,null,null,null,null,null,null,null,null,"CT 2023 Policy Sensitivity",null,"R202","G120","B128"]
[null,null,null,null,null,null,null,null,null,null,null,null,null,null,"BV 2023 Policy Sensitivity",null,"R205","G231","B176"]
[null,null,null,null,null,null,null,null,null,null,null,null,null,null,"DFES 2023 - NPg Best View",null,"R192","G0","B0"]
[null,null,null,null,null,null,null,null,null,null,null,null,null,null,"NPg ED2 Planning Scenario - needs updating to old",null,"R 0","G 171","B 132"]
[null,null,null,null,null,null,null,null,null,null,null,null,null,null,"DFES 2023 - Falling Short",null,"R 130","G 123","B 122"]
[]
[]
[]
[]
[]
[]
[]
[]
[]
[]
[]
[]
[]
[]
[null,null,null,null,null,null,{"$f":"O109","v":"Residential PV Capacity (MW)"},2025,2030,2040,2050,null,null,null,"Residential PV Capacity (MW)",2022,2025,2030,2040,2050,"GB rough estimate by 2050 (not UK - no NI)"]
[null,null,null,null,null,null,"DFES 2023 - Consumer Transformation",{"$f":"Q110","v":618.48255876889198},991.95776661382206,2105.5954126649335,3498.0711091046596,null,null,null,"DFES 2023 - Consumer Transformation",{"$f":"'Domestic PV'!$B2","v":477.172998816252},{"$f":"'Domestic PV'!$E$2","v":618.48255876889198},{"$f":"'Domestic PV'!$J$2","v":991.95776661382206},{"$f":"'Domestic PV'!$T$2","v":2105.5954126649335},{"$f":"'Domestic PV'!$AD$2","v":3498.0711091046596},{"$f":"T110*7","v":24486.497763732616}]
[null,null,null,null,null,null,"DFES 2023 - System Transformation",533.54332479298205,674.56939964132312,1069.5265053334781,1675.1538412137129,null,null,"Same trace as LTW","DFES 2023 - System Transformation",{"$f":"'Domestic PV'!$B3","v":477.172998816252},{"$f":"'Domestic PV'!$E$3","v":533.54332479298205},{"$f":"'Domestic PV'!$J$3","v":674.56939964132312},{"$f":"'Domestic PV'!$T$3","v":1069.5265053334781},{"$f":"'Domestic PV'!$AD$3","v":1675.1538412137129},{"$f":"T111*7","v":11726.076888495991}]
[null,null,null,null,null,null,"DFES 2023 - Leading The Way",618.48255876889198,991.95776661382206,2105.5954126649335,3498.0711091046596,null,null,null,"DFES 2023 - Leading The Way",{"$f":"'Domestic PV'!$B4","v":477.172998816252},{"$f":"'Domestic PV'!$E4","v":618.48255876889198},{"$f":"'Domestic PV'!$J4","v":991.95776661382206},{"$f":"'Domestic PV'!$T4","v":2105.5954126649335},{"$f":"'Domestic PV'!$AD4","v":3498.0711091046596},24486.497763732616]
[null,null,null,null,null,null,"DFES 2023 - NPg Best View",{"$f":"Q116","v":618.48255876889198},{"$f":"R116","v":991.95776661382206},{"$f":"S116","v":2105.5954126649335},{"$f":"T116","v":3498.0711091046596},null,null,null,"CCC 2020 - Balanced Net Zero",{"$f":"'Domestic PV'!$B5","v":483.9984241955504},{"$f":"'Domestic PV'!$E5","v":795.19796316547831},{"$f":"'Domestic PV'!$J5","v":1643.2631093487776},{"$f":"'Domestic PV'!$T5","v":3462.0510858052648},{"$f":"'Domestic PV'!$AD5","v":5362.8624689532662},37540.037282672864]
[null,null,null,null,null,null,"DFES 2023 - Falling Short",{"$f":"Q118","v":553.67720067961568},{"$f":"R118","v":584.43488113496278},{"$f":"S118","v":751.21755042246104},{"$f":"T118","v":1150.5715313109511},null,null,null,"CT 2023 Policy Sensitivity",{"$f":"'Domestic PV'!$B6","v":477.172998816252},{"$f":"'Domestic PV'!$E6","v":618.48255876889198},{"$f":"'Domestic PV'!$J6","v":991.95776661382206},{"$f":"'Domestic PV'!$T6","v":2105.5954126649335},{"$f":"'Domestic PV'!$AD6","v":3498.0711091046596},24486.497763732616]
[null,null,null,null,null,null,null,null,null,null,null,null,null,null,"BV 2023 Policy Sensitivity",{"$f":"'Domestic PV'!$B7","v":477.172998816252},{"$f":"'Domestic PV'!$E7","v":618.48255876889198},{"$f":"'Domestic PV'!$J7","v":991.95776661382206},{"$f":"'Domestic PV'!$T7","v":2105.5954126649335},{"$f":"'Domestic PV'!$AD7","v":3498.0711091046596},24486.497763732616]
[null,null,null,null,null,null,null,null,null,null,null,null,null,null,"DFES 2023 - NPg Best View",{"$f":"'Domestic PV'!$B8","v":477.172998816252},{"$f":"'Domestic PV'!$E8","v":618.48255876889198},{"$f":"'Domestic PV'!$J8","v":991.95776661382206},{"$f":"'Domestic PV'!$T8","v":2105.5954126649335},{"$f":"'Domestic PV'!$AD8","v":3498.0711091046596},24486.497763732616]
[null,null,null,null,null,null,null,null,null,null,null,null,null,null,"NPg ED2 Planning Scenario - needs updating to old",{"$f":"'Domestic PV'!$B9","v":477.172998816252},{"$f":"'Domestic PV'!$E$9","v":618.48255876889198},{"$f":"'Domestic PV'!$J$9","v":991.95776661382206},{"$f":"'Domestic PV'!$T$9","v":2105.5954126649335},{"$f":"'Domestic PV'!$AD$9","v":3498.0711091046596},24486.497763732616]
[null,null,null,null,null,null,null,null,null,null,null,null,null,null,"DFES 2023 - Falling Short",{"$f":"'Domestic PV'!$B10","v":477.172998816252},{"$f":"'Domestic PV'!$E$10","v":553.67720067961568},{"$f":"'Domestic PV'!$J$10","v":584.43488113496278},{"$f":"'Domestic PV'!$T$10","v":751.21755042246104},{"$f":"'Domestic PV'!$AD$10","v":1150.5715313109511},8054.0007191766572]
[]
[]
[]
[]
[]
[]
[]
[]
[]
[]
[]
[]
[]
[]
[]
[]
[]
[]
[]
[]
[]
[null,null,null,null,null,null,{"$f":"O140","v":"Large Scale PV Capacity (MW)"},2025,2030,2040,2050,null,null,null,"Large Scale PV Capacity (MW)",2022,2025,2030,2040,2050,"GB rough estimate by 2050 (not UK - no NI)"]
[null,null,null,null,null,null,"DFES 2023 - Consumer Transformation",{"$f":"Q141","v":1715.6883203533712},2369.1442033869289,3846.9056271965601,5298.0461484479729,null,null,"Same trace as ST","DFES 2023 - Consumer Transformation",{"$f":"'Large I&C Solar Generation'!$B2","v":378.97451764963301},{"$f":"'Large I&C Solar Generation'!$E$2","v":1715.6883203533712},{"$f":"'Large I&C Solar Generation'!$J$2","v":2369.1442033869289},{"$f":"'Large I&C Solar Generation'!$T$2","v":3846.9056271965601},{"$f":"'Large I&C Solar Generation'!$AD$2","v":5298.0461484479729},{"$f":"T141*7","v":37086.323039135808}]
[null,null,null,null,null,null,"DFES 2023 - System Transformation",1687.1451543785192,2185.2242791905619,3319.359094971287,4338.7261532034936,null,null,null,"DFES 2023 - System Transformation",{"$f":"'Large I&C Solar Generation'!$B3","v":378.97451764963301},{"$f":"'Large I&C Solar Generation'!$E$3","v":1687.1451543785192},{"$f":"'Large I&C Solar Generation'!$J$3","v":2185.2242791905619},{"$f":"'Large I&C Solar Generation'!$T$3","v":3319.359094971287},{"$f":"'Large I&C Solar Generation'!$AD$3","v":4338.7261532034936},{"$f":"T142*7","v":30371.083072424455}]
[null,null,null,null,null,null,"DFES 2023 - Leading The Way",2272.617352327055,3251.6192353606129,5105.3146591702443,6398.4701804216584,null,null,null,"DFES 2023 - Leading The Way",{"$f":"'Large I&C Solar Generation'!$B4","v":378.97451764963301},{"$f":"'Large I&C Solar Generation'!$E4","v":2272.617352327055},{"$f":"'Large I&C Solar Generation'!$J4","v":3251.6192353606129},{"$f":"'Large I&C Solar Generation'!$T4","v":5105.3146591702443},{"$f":"'Large I&C Solar Generation'!$AD4","v":6398.4701804216584},44789.291262951607]
[null,null,null,null,null,null,"DFES 2023 - NPg Best View",{"$f":"Q147","v":2272.617352327055},{"$f":"R147","v":3251.6192353606129},{"$f":"S147","v":5105.3146591702443},{"$f":"T147","v":6398.4701804216584},null,null,null,"CCC 2020 - Balanced Net Zero",{"$f":"'Large I&C Solar Generation'!$B5","v":734.18266428612765},{"$f":"'Large I&C Solar Generation'!$E5","v":854.71637952415551},{"$f":"'Large I&C Solar Generation'!$J5","v":1201.887247609568},{"$f":"'Large I&C Solar Generation'!$T5","v":2000.9047007724821},{"$f":"'Large I&C Solar Generation'!$AD5","v":2585.601096195518},18099.207673368626]
[null,null,null,null,null,null,"DFES 2023 - Falling Short",{"$f":"Q149","v":1132.1616732799007},{"$f":"R149","v":1377.6918702482658},{"$f":"S149","v":2090.7083518448303},{"$f":"T149","v":3056.5696942679965},null,null,null,"CT 2023 Policy Sensitivity",{"$f":"'Large I&C Solar Generation'!$B6","v":378.97451764963301},{"$f":"'Large I&C Solar Generation'!$E6","v":1715.6883203533712},{"$f":"'Large I&C Solar Generation'!$J6","v":2369.1442033869289},{"$f":"'Large I&C Solar Generation'!$T6","v":3846.9056271965601},{"$f":"'Large I&C Solar Generation'!$AD6","v":5298.0461484479729},37086.323039135808]
[null,null,null,null,null,null,null,null,null,null,null,null,null,null,"BV 2023 Policy Sensitivity",{"$f":"'Large I&C Solar Generation'!$B7","v":378.97451764963301},{"$f":"'Large I&C Solar Generation'!$E7","v":2272.617352327055},{"$f":"'Large I&C Solar Generation'!$J7","v":3251.6192353606129},{"$f":"'Large I&C Solar Generation'!$T7","v":5105.3146591702443},{"$f":"'Large I&C Solar Generation'!$AD7","v":6398.4701804216584},44789.291262951607]
[null,null,null,null,null,null,null,null,null,null,null,null,null,null,"DFES 2023 - NPg Best View",{"$f":"'Large I&C Solar Generation'!$B8","v":378.97451764963301},{"$f":"'Large I&C Solar Generation'!$E8","v":2272.617352327055},{"$f":"'Large I&C Solar Generation'!$J8","v":3251.6192353606129},{"$f":"'Large I&C Solar Generation'!$T8","v":5105.3146591702443},{"$f":"'Large I&C Solar Generation'!$AD8","v":6398.4701804216584},44789.291262951607]
[null,null,null,null,null,null,null,null,null,null,null,null,null,null,"NPg ED2 Planning Scenario - needs updating to old",{"$f":"'Large I&C Solar Generation'!$B9","v":378.97451764963301},{"$f":"'Large I&C Solar Generation'!$E$9","v":2272.617352327055},{"$f":"'Large I&C Solar Generation'!$J$9","v":3251.6192353606129},{"$f":"'Large I&C Solar Generation'!$T$9","v":5105.3146591702443},{"$f":"'Large I&C Solar Generation'!$AD$9","v":6398.4701804216584},44789.291262951607]
[null,null,null,null,null,null,null,null,null,null,null,null,null,null,"DFES 2023 - Falling Short",{"$f":"'Large I&C Solar Generation'!$B10","v":378.97451764963301},{"$f":"'Large I&C Solar Generation'!$E$10","v":1132.1616732799007},{"$f":"'Large I&C Solar Generation'!$J$10","v":1377.6918702482658},{"$f":"'Large I&C Solar Generation'!$T$10","v":2090.7083518448303},{"$f":"'Large I&C Solar Generation'!$AD$10","v":3056.5696942679965},21395.987859875975]
[]
[]
[]
[null,null,null,null,null,null,null,null,null,null,null,null,null,null,"DFES 2023 - Consumer Transformation",null,"R 255","G 191","B 34"]
[null,null,null,null,null,null,null,null,null,null,null,null,null,null,"DFES 2023 - System Transformation",null,"R 91","G 203","B 245"]
[null,null,null,null,null,null,null,null,null,null,null,null,null,null,"DFES 2023 - Leading The Way",null,"R 194","G 205","B 35"]
[null,null,null,null,null,null,null,null,null,null,null,null,null,null,"CCC 2020 - Balanced Net Zero",null,"R113","G66","B255"]
[null,null,null,null,null,null,null,null,null,null,null,null,null,null,"CT 2023 Policy Sensitivity",null,"R202","G120","B128"]
[null,null,null,null,null,null,null,null,null,null,null,null,null,null,"BV 2023 Policy Sensitivity",null,"R205","G231","B176"]
[null,null,null,null,null,null,null,null,null,null,null,null,null,null,"DFES 2023 - NPg Best View",null,"R192","G0","B0"]
[null,null,null,null,null,null,null,null,null,null,null,null,null,null,"NPg ED2 Planning Scenario - needs updating to old",null,"R 0","G 171","B 132"]
[null,null,null,null,null,null,null,null,null,null,null,null,null,null,"DFES 2023 - Falling Short",null,"R 130","G 123","B 122"]
[]
[]
[]
[]
[]
[]
[]
[]
[]
[null,null,null,null,null,null,{"$f":"O171","v":"Wind Energy Capacity (MW)"},2025,2030,2040,2050,null,null,null,"Wind Energy Capacity (MW)",2022,2025,2030,2040,2050,"GB rough estimate by 2050 (not UK - no NI)"]
[null,null,null,null,null,null,"DFES 2023 - Consumer Transformation",{"$f":"Q172","v":1337.4567047779453},1698.0656047779453,3538.3306047779447,4776.9936047779447,null,null,null,"DFES 2023 - Consumer Transformation",{"$f":"'Wind Generation'!$B2","v":1297.6827047779452},{"$f":"'Wind Generation'!$E$2","v":1337.4567047779453},{"$f":"'Wind Generation'!$J$2","v":1698.0656047779453},{"$f":"'Wind Generation'!$T$2","v":3538.3306047779447},{"$f":"'Wind Generation'!$AD$2","v":4776.9936047779447},{"$f":"T172*7","v":33438.955233445609}]
[null,null,null,null,null,null,"DFES 2023 - System Transformation",1323.2517047779452,1419.1528547779453,1886.635854777945,2416.5288547779455,null,null,null,"DFES 2023 - System Transformation",{"$f":"'Wind Generation'!$B3","v":1297.6827047779452},{"$f":"'Wind Generation'!$E$3","v":1323.2517047779452},{"$f":"'Wind Generation'!$J$3","v":1419.1528547779453},{"$f":"'Wind Generation'!$T$3","v":1886.635854777945},{"$f":"'Wind Generation'!$AD$3","v":2416.5288547779455},{"$f":"T173*7","v":16915.701983445619}]
[null,null,null,null,null,null,"DFES 2023 - Leading The Way",1323.2517047779452,1571.4928547779455,2840.3908547779452,3799.2428547779464,null,null,null,"DFES 2023 - Leading The Way",{"$f":"'Wind Generation'!$B4","v":1297.6827047779452},{"$f":"'Wind Generation'!$E4","v":1323.2517047779452},{"$f":"'Wind Generation'!$J4","v":1571.4928547779455},{"$f":"'Wind Generation'!$T4","v":2840.3908547779452},{"$f":"'Wind Generation'!$AD4","v":3799.2428547779464},{"$f":"T174*7","v":26594.699983445626}]
[null,null,null,null,null,null,"DFES 2023 - NPg Best View",{"$f":"Q178","v":1337.4567047779453},{"$f":"R178","v":1698.0656047779453},{"$f":"S178","v":3538.3306047779447},{"$f":"T178","v":4776.9936047779447},null,null,null,"CCC 2020 - Balanced Net Zero",{"$f":"'Wind Generation'!$B5","v":1388.6105277534753},{"$f":"'Wind Generation'!$E5","v":1552.6919671344103},{"$f":"'Wind Generation'!$J5","v":2090.6335449079029},{"$f":"'Wind Generation'!$T5","v":4059.1759557216292},{"$f":"'Wind Generation'!$AD5","v":5383.679718720874},37685.75803104612]
[null,null,null,null,null,null,"DFES 2023 - Falling Short",{"$f":"Q180","v":1309.0467047779453},{"$f":"R180","v":1343.2247047779454},{"$f":"S180","v":1624.7231047779455},{"$f":"T180","v":1887.107104777946},null,null,null,"CT 2023 Policy Sensitivity",{"$f":"'Wind Generation'!$B6","v":1297.6827047779452},{"$f":"'Wind Generation'!$E6","v":1337.4567047779453},{"$f":"'Wind Generation'!$J6","v":1698.0656047779453},{"$f":"'Wind Generation'!$T6","v":3538.3306047779447},{"$f":"'Wind Generation'!$AD6","v":4776.9936047779447},33438.955233445609]
[null,null,null,null,null,null,null,null,null,null,null,null,null,null,"BV 2023 Policy Sensitivity",{"$f":"'Wind Generation'!$B7","v":1297.6827047779452},{"$f":"'Wind Generation'!$E7","v":1337.4567047779453},{"$f":"'Wind Generation'!$J7","v":1698.0656047779453},{"$f":"'Wind Generation'!$T7","v":3538.3306047779447},{"$f":"'Wind Generation'!$AD7","v":4776.9936047779447},33438.955233445609]
[null,null,null,null,null,null,null,null,null,null,null,null,null,null,"DFES 2023 - NPg Best View",{"$f":"'Wind Generation'!$B8","v":1297.6827047779452},{"$f":"'Wind Generation'!$E8","v":1337.4567047779453},{"$f":"'Wind Generation'!$J8","v":1698.0656047779453},{"$f":"'Wind Generation'!$T8","v":3538.3306047779447},{"$f":"'Wind Generation'!$AD8","v":4776.9936047779447},33438.955233445609]
[null,null,null,null,null,null,null,null,null,null,null,null,null,null,"NPg ED2 Planning Scenario - needs updating to old",{"$f":"'Wind Generation'!$B9","v":1297.6827047779452},{"$f":"'Wind Generation'!$E$9","v":1337.4567047779453},{"$f":"'Wind Generation'!$J$9","v":1698.0656047779453},{"$f":"'Wind Generation'!$T$9","v":3538.3306047779447},{"$f":"'Wind Generation'!$AD$9","v":4776.9936047779447},{"$f":"T179*7","v":33438.955233445609}]
[null,null,null,null,null,null,null,null,null,null,null,null,null,null,"DFES 2023 - Falling Short",{"$f":"'Wind Generation'!$B10","v":1297.6827047779452},{"$f":"'Wind Generation'!$E$10","v":1309.0467047779453},{"$f":"'Wind Generation'!$J$10","v":1343.2247047779454},{"$f":"'Wind Generation'!$T$10","v":1624.7231047779455},{"$f":"'Wind Generation'!$AD$10","v":1887.107104777946},13209.749733445622]
[]
[]
[]
[]
[]
[]
[]
[]
[]
[]
[]
[]
[]
[]
[]
[]
[]
[]
[]
[]
[]
[null,null,null,null,null,null,{"$f":"O202","v":"Total Biomass DG Capacity (MW)"},2025,2030,2040,2050,null,null,null,"Total Biomass DG Capacity (MW)",2022,2025,2030,2040,2050,"GB rough estimate by 2050 (not UK - no NI)"]
[null,null,null,null,null,null,"DFES 2023 - Consumer Transformation",{"$f":"Q203","v":686.5150000000001},656.65657835425691,499.85112219683367,369.00121100567253,null,null,null,"DFES 2023 - Consumer Transformation",{"$f":"'Biomass Generation'!$B2","v":669.19900000000007},{"$f":"'Biomass Generation'!$E$2","v":686.5150000000001},{"$f":"'Biomass Generation'!$J$2","v":656.65657835425691},{"$f":"'Biomass Generation'!$T$2","v":499.85112219683367},{"$f":"'Biomass Generation'!$AD$2","v":369.00121100567253},{"$f":"T203*7","v":2583.0084770397079}]
[null,null,null,null,null,null,"DFES 2023 - System Transformation",708.15999999999985,701.87999999999977,631.52855977311197,556.55826722223708,null,null,null,"DFES 2023 - System Transformation",{"$f":"'Biomass Generation'!$B3","v":669.19900000000007},{"$f":"'Biomass Generation'!$E$3","v":708.15999999999985},{"$f":"'Biomass Generation'!$J$3","v":701.87999999999977},{"$f":"'Biomass Generation'!$T$3","v":631.52855977311197},{"$f":"'Biomass Generation'!$AD$3","v":556.55826722223708},{"$f":"T204*7","v":3895.9078705556594}]
[null,null,null,null,null,null,"DFES 2023 - Leading The Way",708.15999999999985,695.62899999999991,597.28695713325601,473.71208224952261,null,null,null,"DFES 2023 - Leading The Way",{"$f":"'Biomass Generation'!$B4","v":669.19900000000007},{"$f":"'Biomass Generation'!$E4","v":708.15999999999985},{"$f":"'Biomass Generation'!$J4","v":695.62899999999991},{"$f":"'Biomass Generation'!$T4","v":597.28695713325601},{"$f":"'Biomass Generation'!$AD4","v":473.71208224952261},3315.9845757466583]
[null,null,null,null,null,null,"DFES 2023 - NPg Best View",{"$f":"Q209","v":708.15999999999985},{"$f":"R209","v":695.62899999999991},{"$f":"S209","v":597.28695713325601},{"$f":"T209","v":473.71208224952261},null,null,null,"CCC 2020 - Balanced Net Zero",{"$f":"'Biomass Generation'!$B5","v":675.3673500000001},{"$f":"'Biomass Generation'!$E5","v":675.3673500000001},{"$f":"'Biomass Generation'!$J5","v":675.3673500000001},{"$f":"'Biomass Generation'!$T5","v":438.7471274925702},{"$f":"'Biomass Generation'!$AD5","v":211.17488004107585},1478.224160287531]
[null,null,null,null,null,null,"DFES 2023 - Falling Short",{"$f":"Q211","v":729.80500000000006},{"$f":"R211","v":770.79100000000005},{"$f":"S211","v":741.16800000000012},{"$f":"T211","v":741.16800000000012},null,null,null,"CT 2023 Policy Sensitivity",{"$f":"'Biomass Generation'!$B6","v":669.19900000000007},{"$f":"'Biomass Generation'!$E6","v":686.5150000000001},{"$f":"'Biomass Generation'!$J6","v":659.66532087959365},{"$f":"'Biomass Generation'!$T6","v":540.47518794053633},{"$f":"'Biomass Generation'!$AD6","v":441.01424638834396},3087.0997247184077]
[null,null,null,null,null,null,null,null,null,null,null,null,null,null,"BV 2023 Policy Sensitivity",{"$f":"'Biomass Generation'!$B7","v":669.19900000000007},{"$f":"'Biomass Generation'!$E7","v":708.15999999999985},{"$f":"'Biomass Generation'!$J7","v":695.62899999999991},{"$f":"'Biomass Generation'!$T7","v":614.5375988010428},{"$f":"'Biomass Generation'!$AD7","v":520.60651932041162},3644.2456352428812]
[null,null,null,null,null,null,null,null,null,null,null,null,null,null,"DFES 2023 - NPg Best View",{"$f":"'Biomass Generation'!$B8","v":669.19900000000007},{"$f":"'Biomass Generation'!$E8","v":708.15999999999985},{"$f":"'Biomass Generation'!$J8","v":695.62899999999991},{"$f":"'Biomass Generation'!$T8","v":597.28695713325601},{"$f":"'Biomass Generation'!$AD8","v":473.71208224952261},3315.9845757466583]
[null,null,null,null,null,null,null,null,null,null,null,null,null,"Same trace as LTW","NPg ED2 Planning Scenario - needs updating to old",{"$f":"'Biomass Generation'!$B9","v":669.19900000000007},{"$f":"'Biomass Generation'!$E$9","v":708.15999999999985},{"$f":"'Biomass Generation'!$J$9","v":695.62899999999991},{"$f":"'Biomass Generation'!$T$9","v":597.28695713325601},{"$f":"'Biomass Generation'!$AD$9","v":473.71208224952261},3315.9845757466583]
[null,null,null,null,null,null,null,null,null,null,null,null,null,null,"DFES 2023 - Falling Short",{"$f":"'Biomass Generation'!$B10","v":669.19900000000007},{"$f":"'Biomass Generation'!$E$10","v":729.80500000000006},{"$f":"'Biomass Generation'!$J$10","v":770.79100000000005},{"$f":"'Biomass Generation'!$T$10","v":741.16800000000012},{"$f":"'Biomass Generation'!$AD$10","v":741.16800000000012},5188.1760000000013]
[]
[]
[]
[]
[]
[]
[]
[]
[]
[]
[]
[]
[]
[]
[]
[]
[]
[]
[]
[]
[]
[]
[]
[]
[]
[]
[]
[]
[]
[]
[]
[]
[]
[null,null,null,null,null,null,{"$f":"O245","v":"Total Renewable DG Capacity (MW)"},2025,2030,2040,2050,null,null,null,"Total Renewable DG Capacity (MW)",2022,2025,2030,2040,2050,"GB rough estimate by 2050 (not UK - no NI)"]
[null,null,null,null,null,null,"DFES 2023 - Consumer Transformation",{"$f":"Q246","v":4556.5919839002081},5922.2261531329532,10214.672766836273,14173.552073336248,null,null,null,"DFES 2023 - Consumer Transformation",{"$f":"'Total Renewable Generation'!$B2","v":3017.1022212438306},{"$f":"'Total Renewable Generation'!$E$2","v":4556.5919839002081},{"$f":"'Total Renewable Generation'!$J$2","v":5922.2261531329532},{"$f":"'Total Renewable Generation'!$T$2","v":10214.672766836273},{"$f":"'Total Renewable Generation'!$AD$2","v":14173.552073336248},{"$f":"T246*7","v":99214.864513353736}]
[null,null,null,null,null,null,"DFES 2023 - System Transformation",4451.8535839494471,5187.6190336098307,7126.9955148558229,9210.173616417389,null,null,null,"DFES 2023 - System Transformation",{"$f":"'Total Renewable Generation'!$B3","v":3017.1022212438306},{"$f":"'Total Renewable Generation'!$E$3","v":4451.8535839494471},{"$f":"'Total Renewable Generation'!$J$3","v":5187.6190336098307},{"$f":"'Total Renewable Generation'!$T$3","v":7126.9955148558229},{"$f":"'Total Renewable Generation'!$AD$3","v":9210.173616417389},{"$f":"T247*7","v":64471.215314921719}]
[null,null,null,null,null,null,"DFES 2023 - Leading The Way",5122.2650158738916,6722.9098567523797,10887.69888374638,14416.723226553786,null,null,null,"DFES 2023 - Leading The Way",{"$f":"'Total Renewable Generation'!$B4","v":3017.1022212438306},{"$f":"'Total Renewable Generation'!$E4","v":5122.2650158738916},{"$f":"'Total Renewable Generation'!$J4","v":6722.9098567523797},{"$f":"'Total Renewable Generation'!$T4","v":10887.69888374638},{"$f":"'Total Renewable Generation'!$AD4","v":14416.723226553786},100917.0625858765]
[null,null,null,null,null,null,"DFES 2023 - NPg Best View",{"$f":"Q252","v":5136.4700158738924},{"$f":"R252","v":6849.48260675238},{"$f":"S252","v":11585.638633746379},{"$f":"T252","v":15394.473976553785},null,null,null,"CCC 2020 - Balanced Net Zero",{"$f":"'Total Renewable Generation'!$B5","v":3515.0460365259919},{"$f":"'Total Renewable Generation'!$E5","v":4113.2608056297213},{"$f":"'Total Renewable Generation'!$J5","v":5857.0799218000393},{"$f":"'Total Renewable Generation'!$T5","v":10225.992532508841},{"$f":"'Total Renewable Generation'!$AD5","v":13816.226862890813},96713.588040235685]
[null,null,null,null,null,null,"DFES 2023 - Falling Short",{"$f":"Q254","v":3923.9849787374615},{"$f":"R254","v":4279.6684561611746},{"$f":"S254","v":5413.9560070452371},{"$f":"T254","v":7043.3803303568939},null,null,null,"CT 2023 Policy Sensitivity",{"$f":"'Total Renewable Generation'!$B6","v":3017.1022212438306},{"$f":"'Total Renewable Generation'!$E6","v":4556.5919839002081},{"$f":"'Total Renewable Generation'!$J6","v":5925.23489565829},{"$f":"'Total Renewable Generation'!$T6","v":10255.296832579974},{"$f":"'Total Renewable Generation'!$AD6","v":14245.56510871892},99718.955761032441]
[null,null,null,null,null,null,null,null,null,null,null,null,null,null,"BV 2023 Policy Sensitivity",{"$f":"'Total Renewable Generation'!$B7","v":3017.1022212438306},{"$f":"'Total Renewable Generation'!$E7","v":5136.4700158738924},{"$f":"'Total Renewable Generation'!$J7","v":6849.48260675238},{"$f":"'Total Renewable Generation'!$T7","v":11602.889275414167},{"$f":"'Total Renewable Generation'!$AD7","v":15441.368413624674},108089.57889537272]
[null,null,null,null,null,null,null,null,null,null,null,null,null,null,"DFES 2023 - NPg Best View",{"$f":"'Total Renewable Generation'!$B8","v":3017.1022212438306},{"$f":"'Total Renewable Generation'!$E8","v":5136.4700158738924},{"$f":"'Total Renewable Generation'!$J8","v":6849.48260675238},{"$f":"'Total Renewable Generation'!$T8","v":11585.638633746379},{"$f":"'Total Renewable Generation'!$AD8","v":15394.473976553785},107761.3178358765]
[null,null,null,null,null,null,null,null,null,null,null,null,null,null,"NPg ED2 Planning Scenario - needs updating to old",{"$f":"'Total Renewable Generation'!$B9","v":3017.1022212438306},{"$f":"'Total Renewable Generation'!$E$9","v":5136.4700158738924},{"$f":"'Total Renewable Generation'!$J$9","v":6849.48260675238},{"$f":"'Total Renewable Generation'!$T$9","v":11585.638633746379},{"$f":"'Total Renewable Generation'!$AD$9","v":15394.473976553785},107761.3178358765]
[null,null,null,null,null,null,null,null,null,null,null,null,null,null,"DFES 2023 - Falling Short",{"$f":"'Total Renewable Generation'!$B10","v":3017.1022212438306},{"$f":"'Total Renewable Generation'!$E$10","v":3923.9849787374615},{"$f":"'Total Renewable Generation'!$J$10","v":4279.6684561611746},{"$f":"'Total Renewable Generation'!$T$10","v":5413.9560070452371},{"$f":"'Total Renewable Generation'!$AD$10","v":7043.3803303568939},49303.662312498258]
[]
[]
[null,null,null,null,null,null,null,null,null,null,null,null,null,null,"DFES 2023 - Consumer Transformation",null,"R 255","G 191","B 34"]
[null,null,null,null,null,null,null,null,null,null,null,null,null,null,"DFES 2023 - System Transformation",null,"R 91","G 203","B 245"]
[null,null,null,null,null,null,null,null,null,null,null,null,null,null,"DFES 2023 - Leading The Way",null,"R 194","G 205","B 35"]
[null,null,null,null,null,null,null,null,null,null,null,null,null,null,"CCC 2020 - Balanced Net Zero",null,"R113","G66","B255"]
[null,null,null,null,null,null,null,null,null,null,null,null,null,null,"CT 2023 Policy Sensitivity",null,"R202","G120","B128"]
[null,null,null,null,null,null,null,null,null,null,null,null,null,null,"BV 2023 Policy Sensitivity",null,"R205","G231","B176"]
[null,null,null,null,null,null,null,null,null,null,null,null,null,null,"DFES 2023 - NPg Best View",null,"R192","G0","B0"]
[null,null,null,null,null,null,null,null,null,null,null,null,null,null,"NPg ED2 Planning Scenario - needs updating to old",null,"R 0","G 171","B 132"]
[null,null,null,null,null,null,null,null,null,null,null,null,null,null,"DFES 2023 - Falling Short",null,"R 130","G 123","B 122"]
[]
[]
[]
[]
[]
[]
[]
[]
[]
[]
[null,null,null,null,null,null,{"$f":"O276","v":"Total Non Renewable DG Capacity (MW)"},2025,2030,2040,2050,null,null,null,"Total Non Renewable DG Capacity (MW)",2022,2025,2030,2040,2050,"GB rough estimate by 2050 (not UK - no NI)"]
[null,null,null,null,null,null,"DFES 2023 - Consumer Transformation",{"$f":"Q277","v":1749.2211299999999},2053.8289500000001,607.21153892706991,0,null,null,null,"DFES 2023 - Consumer Transformation",{"$f":"'Total Non Renewable Generation'!B2","v":1653.2599999999998},{"$f":"'Total Non Renewable Generation'!$E2","v":1749.2211299999999},{"$f":"'Total Non Renewable Generation'!$J2","v":2053.8289500000001},{"$f":"'Total Non Renewable Generation'!$T2","v":607.21153892706991},{"$f":"'Total Non Renewable Generation'!$AD2","v":0},{"$f":"T277*7","v":0}]
[null,null,null,null,null,null,"DFES 2023 - System Transformation",1803.8254799999997,2093.4613999999992,710.62797691654896,0,null,null,"Same as LTW","DFES 2023 - System Transformation",{"$f":"'Total Non Renewable Generation'!B3","v":1653.2599999999998},{"$f":"'Total Non Renewable Generation'!$E3","v":1803.8254799999997},{"$f":"'Total Non Renewable Generation'!$J3","v":2093.4613999999992},{"$f":"'Total Non Renewable Generation'!$T3","v":710.62797691654896},{"$f":"'Total Non Renewable Generation'!$AD3","v":0},{"$f":"T278*7","v":0}]
[null,null,null,null,null,null,"DFES 2023 - Leading The Way",1803.8254799999997,1867.2423999999996,205.19954944158479,0,null,null,null,"DFES 2023 - Leading The Way",{"$f":"'Total Non Renewable Generation'!B4","v":1653.2599999999998},{"$f":"'Total Non Renewable Generation'!$E4","v":1803.8254799999997},{"$f":"'Total Non Renewable Generation'!$J4","v":1867.2423999999996},{"$f":"'Total Non Renewable Generation'!$T4","v":205.19954944158479},{"$f":"'Total Non Renewable Generation'!$AD4","v":0},0]
[null,null,null,null,null,null,"DFES 2023 - NPg Best View",{"$f":"Q283","v":1803.8254799999997},{"$f":"R283","v":1867.2423999999996},{"$f":"S283","v":205.19954944158479},{"$f":"T283","v":0},null,null,null,"CCC 2020 - Balanced Net Zero",{"$f":"'Total Non Renewable Generation'!B5","v":2041.0465553176023},{"$f":"'Total Non Renewable Generation'!$E5","v":2444.1220574460235},{"$f":"'Total Non Renewable Generation'!$J5","v":2805.5588351204628},{"$f":"'Total Non Renewable Generation'!$T5","v":1567.4150647753927},{"$f":"'Total Non Renewable Generation'!$AD5","v":617.98433249671859},4325.89032747703]
[null,null,null,null,null,null,"DFES 2023 - Falling Short",{"$f":"Q285","v":1962.1543799999999},{"$f":"R285","v":2625.2851000000001},{"$f":"S285","v":2696.9071000000004},{"$f":"T285","v":2231.3434928512274},null,null,null,"CT 2023 Policy Sensitivity",{"$f":"'Total Non Renewable Generation'!B6","v":1653.2599999999998},{"$f":"'Total Non Renewable Generation'!$E6","v":1749.2211299999999},{"$f":"'Total Non Renewable Generation'!$J6","v":2053.8289500000001},{"$f":"'Total Non Renewable Generation'!$T6","v":1225.5157743541602},{"$f":"'Total Non Renewable Generation'!$AD6","v":913.952},6397.6639999999998]
[null,null,null,null,null,null,null,null,null,null,null,null,null,null,"BV 2023 Policy Sensitivity",{"$f":"'Total Non Renewable Generation'!B7","v":1653.2599999999998},{"$f":"'Total Non Renewable Generation'!$E7","v":1803.8254799999997},{"$f":"'Total Non Renewable Generation'!$J7","v":1867.2423999999996},{"$f":"'Total Non Renewable Generation'!$T7","v":1020.1465494415849},{"$f":"'Total Non Renewable Generation'!$AD7","v":913.952},6397.6639999999998]
[null,null,null,null,null,null,null,null,null,null,null,null,null,null,"DFES 2023 - NPg Best View",{"$f":"'Total Non Renewable Generation'!B8","v":1653.2599999999998},{"$f":"'Total Non Renewable Generation'!$E8","v":1803.8254799999997},{"$f":"'Total Non Renewable Generation'!$J8","v":1867.2423999999996},{"$f":"'Total Non Renewable Generation'!$T8","v":205.19954944158479},{"$f":"'Total Non Renewable Generation'!$AD8","v":0},0]
[null,null,null,null,null,null,null,null,null,null,null,null,null,null,"NPg ED2 Planning Scenario - needs updating to old",{"$f":"'Total Non Renewable Generation'!B9","v":1653.2599999999998},{"$f":"'Total Non Renewable Generation'!$E9","v":1803.8254799999997},{"$f":"'Total Non Renewable Generation'!$J9","v":1867.2423999999996},{"$f":"'Total Non Renewable Generation'!$T9","v":205.19954944158479},{"$f":"'Total Non Renewable Generation'!$AD9","v":0},0]
[null,null,null,null,null,null,null,null,null,null,null,null,null,null,"DFES 2023 - Falling Short",{"$f":"'Total Non Renewable Generation'!B10","v":1653.2599999999998},{"$f":"'Total Non Renewable Generation'!$E10","v":1962.1543799999999},{"$f":"'Total Non Renewable Generation'!$J10","v":2625.2851000000001},{"$f":"'Total Non Renewable Generation'!$T10","v":2696.9071000000004},{"$f":"'Total Non Renewable Generation'!$AD10","v":2231.3434928512274},15619.404449958593]
[]
[]
[null,null,null,null,null,null,null,null,null,null,null,null,null,null,"DFES 2023 - Consumer Transformation",null,"R 255","G 191","B 34"]
[null,null,null,null,null,null,null,null,null,null,null,null,null,null,"DFES 2023 - System Transformation",null,"R 91","G 203","B 245"]
[null,null,null,null,null,null,null,null,null,null,null,null,null,null,"DFES 2023 - Leading The Way",null,"R 194","G 205","B 35"]
[null,null,null,null,null,null,null,null,null,null,null,null,null,null,"CCC 2020 - Balanced Net Zero",null,"R113","G66","B255"]
[null,null,null,null,null,null,null,null,null,null,null,null,null,null,"CT 2023 Policy Sensitivity",null,"R202","G120","B128"]
[null,null,null,null,null,null,null,null,null,null,null,null,null,null,"BV 2023 Policy Sensitivity",null,"R205","G231","B176"]
[null,null,null,null,null,null,null,null,null,null,null,null,null,null,"DFES 2023 - NPg Best View",null,"R192","G0","B0"]
[null,null,null,null,null,null,null,null,null,null,null,null,null,null,"NPg ED2 Planning Scenario - needs updating to old",null,"R 0","G 171","B 132"]
[null,null,null,null,null,null,null,null,null,null,null,null,null,null,"DFES 2023 - Falling Short",null,"R 130","G 123","B 122"]
[]
[null,null,null,null,null,null,null,null,null,null,null,null,null,null,"DFES 2023 - Consumer Transformation",null,"R 255","G 191","B 34"]
[null,null,null,null,null,null,null,null,null,null,null,null,null,null,"DFES 2023 - System Transformation",null,"R 91","G 203","B 245"]
[null,null,null,null,null,null,null,null,null,null,null,null,null,null,"DFES 2023 - Leading The Way",null,"R 194","G 205","B 35"]
[null,null,null,null,null,null,null,null,null,null,null,null,null,null,"CCC 2020 - Balanced Net Zero",null,"R113","G66","B255"]
[null,null,null,null,null,null,null,null,null,null,null,null,null,null,"CT 2023 Policy Sensitivity",null,"R202","G120","B128"]
[null,null,null,null,null,null,null,null,null,null,null,null,null,null,"BV 2023 Policy Sensitivity",null,"R205","G231","B176"]
[null,null,null,null,null,null,null,null,null,null,null,null,null,null,"DFES 2023 - NPg Best View",null,"R192","G0","B0"]
[null,null,null,null,null,null,null,null,null,null,null,null,null,null,"NPg ED2 Planning Scenario - needs updating to old",null,"R 0","G 171","B 132"]
[null,null,null,null,null,null,null,null,null,null,null,null,null,null,"DFES 2023 - Falling Short",null,"R 130","G 123","B 122"]
[]
[null,null,null,null,null,null,{"$f":"O308","v":"Storage Capacity (MW)"},2025,2030,2040,2050,null,null,null,"Storage Capacity (MW)",2022,2025,2030,2040,2050,"GB rough estimate by 2050 (not UK - no NI)"]
[null,null,null,null,null,null,"DFES 2023 - Consumer Transformation",{"$f":"Q309","v":896.29022042213421},1056.6791767434045,1653.2507829990429,2398.8136783001246,null,null,null,"DFES 2023 - Consumer Transformation",{"$f":"Storage!$B2","v":201.81894921473571},{"$f":"Storage!$E$2","v":896.29022042213421},{"$f":"Storage!$J$2","v":1056.6791767434045},{"$f":"Storage!$T$2","v":1653.2507829990429},{"$f":"Storage!$AD$2","v":2398.8136783001246},{"$f":"T309*7","v":16791.695748100872}]
[null,null,null,null,null,null,"DFES 2023 - System Transformation",798.15626488134717,826.63175151642417,1115.0165621137351,1431.1202167813005,null,null,null,"DFES 2023 - System Transformation",{"$f":"Storage!$B3","v":196.85790286968111},{"$f":"Storage!$E$3","v":798.15626488134717},{"$f":"Storage!$J$3","v":826.63175151642417},{"$f":"Storage!$T$3","v":1115.0165621137351},{"$f":"Storage!$AD$3","v":1431.1202167813005},{"$f":"T310*7","v":10017.841517469104}]
[null,null,null,null,null,null,"DFES 2023 - Leading The Way",621.19607727547714,777.43593398558698,1410.1178778843014,2232.1042003122943,null,null,null,"DFES 2023 - Leading The Way",{"$f":"Storage!$B4","v":200.97089732711277},{"$f":"Storage!$E4","v":621.19607727547714},{"$f":"Storage!$J4","v":777.43593398558698},{"$f":"Storage!$T4","v":1410.1178778843014},{"$f":"Storage!$AD4","v":2232.1042003122943},15624.72940218606]
[null,null,null,null,null,null,"DFES 2023 - NPg Best View",{"$f":"Q315","v":1076.2624150786662},{"$f":"R315","v":1333.1710086015078},{"$f":"S315","v":2054.8129064503114},{"$f":"T315","v":2830.8872883754452},null,null,null,"CCC 2020 - Balanced Net Zero",{"$f":"Storage!$B5","v":266.22984721447023},{"$f":"Storage!$E5","v":590.74231785919505},{"$f":"Storage!$J5","v":837.40893686158915},{"$f":"Storage!$T5","v":1667.2402936538106},{"$f":"Storage!$AD5","v":2466.1234742756078},17262.864319929256]
[null,null,null,null,null,null,"DFES 2023 - Falling Short",{"$f":"Q317","v":342.99351396794782},{"$f":"R317","v":546.40547325927537},{"$f":"S317","v":674.43444706487628},{"$f":"T317","v":981.04989508577478},null,null,null,"CT 2023 Policy Sensitivity",{"$f":"Storage!$B6","v":201.81894921473571},{"$f":"Storage!$E6","v":896.29022042213421},{"$f":"Storage!$J6","v":1056.6791767434045},{"$f":"Storage!$T6","v":1653.2507829990429},{"$f":"Storage!$AD6","v":2398.8136783001246},16791.695748100872]
[null,null,null,null,null,null,null,null,null,null,null,null,null,null,"BV 2023 Policy Sensitivity",{"$f":"Storage!$B7","v":201.81894921473571},{"$f":"Storage!$E7","v":1076.2624150786662},{"$f":"Storage!$J7","v":1333.1710086015078},{"$f":"Storage!$T7","v":2054.8129064503114},{"$f":"Storage!$AD7","v":2830.8872883754452},19816.211018628117]
[null,null,null,null,null,null,null,null,null,null,null,null,null,null,"DFES 2023 - NPg Best View",{"$f":"Storage!$B8","v":201.81894921473571},{"$f":"Storage!$E8","v":1076.2624150786662},{"$f":"Storage!$J8","v":1333.1710086015078},{"$f":"Storage!$T8","v":2054.8129064503114},{"$f":"Storage!$AD8","v":2830.8872883754452},19816.211018628117]
[null,null,null,null,null,null,null,null,null,null,null,null,null,null,"NPg ED2 Planning Scenario - needs updating to old",{"$f":"Storage!$B9","v":201.81894921473571},{"$f":"Storage!$E$9","v":1076.2624150786662},{"$f":"Storage!$J$9","v":1333.1710086015078},{"$f":"Storage!$T$9","v":2054.8129064503114},{"$f":"Storage!$AD$9","v":2830.8872883754452},19816.211018628117]
[null,null,null,null,null,null,null,null,null,null,null,null,null,null,"DFES 2023 - Falling Short",{"$f":"Storage!$B10","v":198.2516516238295},{"$f":"Storage!$E$10","v":342.99351396794782},{"$f":"Storage!$J$10","v":546.40547325927537},{"$f":"Storage!$T$10","v":674.43444706487628},{"$f":"Storage!$AD$10","v":981.04989508577478},6867.3492656004237]
[]
[]
[]
[]
[]
[]
[]
[]
[]
[]
[]
[]
[]
[]
[]
[]
[]
[]
[]
[]
[]
[]
[]
[]
[]
[null,null,null,null,null,null,{"$f":"O343","v":"Electrical Energy Consumption (GWh)"},2025,2030,2040,2050,null,null,null,"Electrical Energy Consumption (GWh)",2022,2025,2030,2040,2050,"GB rough estimate by 2050 (not UK - no NI)"]
[null,null,null,null,null,null,"DFES 2023 - Consumer Transformation",{"$f":"Q344","v":36366.462294029865},43340.510165583364,55693.978362420945,66305.9725424848,null,null,null,"DFES 2023 - Consumer Transformation",{"$f":"'Energy Consumed (Core_LCT_HGV)'!$B2/1000","v":34347.338334894164},{"$f":"'Energy Consumed (Core_LCT_HGV)'!$E2/1000","v":36366.462294029865},{"$f":"'Energy Consumed (Core_LCT_HGV)'!$L2/1000","v":43340.510165583364},{"$f":"'Energy Consumed (Core_LCT_HGV)'!$T2/1000","v":55693.978362420945},{"$f":"'Energy Consumed (Core_LCT_HGV)'!$AD2/1000","v":66305.9725424848},{"$f":"T344*7","v":464141.80779739359}]
[null,null,null,null,null,null,"DFES 2023 - System Transformation",36444.705655038852,42957.876404583098,52628.352039435878,62401.021922541666,null,null,null,"DFES 2023 - System Transformation",{"$f":"'Energy Consumed (Core_LCT_HGV)'!$B3/1000","v":34340.895590418986},{"$f":"'Energy Consumed (Core_LCT_HGV)'!$E3/1000","v":36444.705655038852},{"$f":"'Energy Consumed (Core_LCT_HGV)'!$L3/1000","v":42957.876404583098},{"$f":"'Energy Consumed (Core_LCT_HGV)'!$T3/1000","v":52628.352039435878},{"$f":"'Energy Consumed (Core_LCT_HGV)'!$AD3/1000","v":62401.021922541666},{"$f":"T345*7","v":436807.15345779166}]
[null,null,null,null,null,null,"DFES 2023 - Leading The Way",36423.131887133743,46216.385725868029,60167.247616562207,64391.68111094636,null,null,null,"DFES 2023 - Leading The Way",{"$f":"'Energy Consumed (Core_LCT_HGV)'!$B4/1000","v":34347.338334894164},{"$f":"'Energy Consumed (Core_LCT_HGV)'!$E4/1000","v":36423.131887133743},{"$f":"'Energy Consumed (Core_LCT_HGV)'!$L4/1000","v":46216.385725868029},{"$f":"'Energy Consumed (Core_LCT_HGV)'!$T4/1000","v":60167.247616562207},{"$f":"'Energy Consumed (Core_LCT_HGV)'!$AD4/1000","v":64391.68111094636},450741.76777662453]
[null,null,null,null,null,null,"DFES 2023 - NPg Best View",{"$f":"Q350","v":36356.230065940545},{"$f":"R350","v":43658.304630142273},{"$f":"S350","v":55125.680404198392},{"$f":"T350","v":64972.68752591619},null,null,null,"CCC 2020 - Balanced Net Zero",{"$f":"'Energy Consumed (Core_LCT_HGV)'!$B5/1000","v":33913.75360804006},{"$f":"'Energy Consumed (Core_LCT_HGV)'!$E5/1000","v":34692.696485218417},{"$f":"'Energy Consumed (Core_LCT_HGV)'!$L5/1000","v":44165.212695054986},{"$f":"'Energy Consumed (Core_LCT_HGV)'!$T5/1000","v":58967.903764942661},{"$f":"'Energy Consumed (Core_LCT_HGV)'!$AD5/1000","v":67270.646030894495},470894.52221626148]
[null,null,null,null,null,null,"DFES 2023 - Falling Short",{"$f":"Q352","v":36029.720175214919},{"$f":"R352","v":41073.494273524862},{"$f":"S352","v":47713.393339761584},{"$f":"T352","v":51552.910889642131},null,null,null,"CT 2023 Policy Sensitivity",{"$f":"'Energy Consumed (Core_LCT_HGV)'!$B6/1000","v":34336.942825930761},{"$f":"'Energy Consumed (Core_LCT_HGV)'!$E6/1000","v":36498.068491227357},{"$f":"'Energy Consumed (Core_LCT_HGV)'!$L6/1000","v":43177.915121361613},{"$f":"'Energy Consumed (Core_LCT_HGV)'!$T6/1000","v":57226.292827281934},{"$f":"'Energy Consumed (Core_LCT_HGV)'!$AD6/1000","v":72203.596367822567},505425.17457475798]
[null,null,null,null,null,null,null,null,null,null,null,null,null,null,"BV 2023 Policy Sensitivity",{"$f":"'Energy Consumed (Core_LCT_HGV)'!$B7/1000","v":34336.942825930761},{"$f":"'Energy Consumed (Core_LCT_HGV)'!$E7/1000","v":36553.917160167672},{"$f":"'Energy Consumed (Core_LCT_HGV)'!$L7/1000","v":43897.059926873939},{"$f":"'Energy Consumed (Core_LCT_HGV)'!$T7/1000","v":57497.526082830926},{"$f":"'Energy Consumed (Core_LCT_HGV)'!$AD7/1000","v":71966.871971043438},503768.10379730409]
[null,null,null,null,null,null,null,null,null,null,null,null,null,null,"DFES 2023 - NPg Best View",{"$f":"'Energy Consumed (Core_LCT_HGV)'!$B8/1000","v":34347.338334894164},{"$f":"'Energy Consumed (Core_LCT_HGV)'!$E8/1000","v":36356.230065940545},{"$f":"'Energy Consumed (Core_LCT_HGV)'!$L8/1000","v":43658.304630142273},{"$f":"'Energy Consumed (Core_LCT_HGV)'!$T8/1000","v":55125.680404198392},{"$f":"'Energy Consumed (Core_LCT_HGV)'!$AD8/1000","v":64972.68752591619},454808.81268141331]
[null,null,null,null,null,null,null,null,null,null,null,null,null,null,"NPg ED2 Planning Scenario - needs updating to old",{"$f":"'Energy Consumed (Core_LCT_HGV)'!$B9/1000","v":33821.645328433042},{"$f":"'Energy Consumed (Core_LCT_HGV)'!$E9/1000","v":34763.482435440943},{"$f":"'Energy Consumed (Core_LCT_HGV)'!$L9/1000","v":45188.121744419936},{"$f":"'Energy Consumed (Core_LCT_HGV)'!$T9/1000","v":61247.894254010695},{"$f":"'Energy Consumed (Core_LCT_HGV)'!$AD9/1000","v":68578.012916971667},480046.09041880164]
[null,null,null,null,null,null,null,null,null,null,null,null,null,null,"DFES 2023 - Falling Short",{"$f":"'Energy Consumed (Core_LCT_HGV)'!$B10/1000","v":34336.942825930761},{"$f":"'Energy Consumed (Core_LCT_HGV)'!$E10/1000","v":36029.720175214919},{"$f":"'Energy Consumed (Core_LCT_HGV)'!$L10/1000","v":41073.494273524862},{"$f":"'Energy Consumed (Core_LCT_HGV)'!$T10/1000","v":47713.393339761584},{"$f":"'Energy Consumed (Core_LCT_HGV)'!$AD10/1000","v":51552.910889642131},360870.37622749491]
[]
[]
[null,null,null,null,null,null,null,null,null,null,null,null,null,null,"DFES 2023 - Consumer Transformation",null,"R 255","G 191","B 34"]
[null,null,null,null,null,null,null,null,null,null,null,null,null,null,"DFES 2023 - System Transformation",null,"R 91","G 203","B 245"]
[null,null,null,null,null,null,null,null,null,null,null,null,null,null,"DFES 2023 - Leading The Way",null,"R 194","G 205","B 35"]
[null,null,null,null,null,null,null,null,null,null,null,null,null,null,"CCC 2020 - Balanced Net Zero",null,"R113","G66","B255"]
[null,null,null,null,null,null,null,null,null,null,null,null,null,null,"CT 2023 Policy Sensitivity",null,"R202","G120","B128"]
[null,null,null,null,null,null,null,null,null,null,null,null,null,null,"BV 2023 Policy Sensitivity",null,"R205","G231","B176"]
[null,null,null,null,null,null,null,null,null,null,null,null,null,null,"DFES 2023 - NPg Best View",null,"R192","G0","B0"]
[null,null,null,null,null,null,null,null,null,null,null,null,null,null,"NPg ED2 Planning Scenario - needs updating to old",null,"R 0","G 171","B 132"]
[null,null,null,null,null,null,null,null,null,null,null,null,null,null,"DFES 2023 - Falling Short",null,"R 130","G 123","B 122"]
[]
[]
[]
[]
[]
[]
[]
[]
[]
[]
[null,null,null,null,null,null,{"$f":"O374","v":"Gross Peak Demand (MW)"},2025,2030,2040,2050,null,null,"GB rough estimate by 2050 (not UK - no NI)","Gross Peak Demand (MW)",2022,2025,2030,2040,2050,"End of ED2","End of ED2 with TouT","Comparative Impact ED2","Comparative Impact ED2 (TouT)",null,null,null,null,null,null,null,null,null,null,null,null,"Number of constrained sites","End of ED2","End of ED2 with TouT","Comparative Impact ED2","Comparative Impact ED2 (TouT)"]
[null,null,null,null,null,null,"DFES 2023 - Consumer Transformation",{"$f":"Q375","v":6711.5260933228374},7650.9106263674221,10482.256978896317,13024.310810297084,null,null,{"$f":"V375*7","v":0},"DFES 2023 - Consumer Transformation",{"$f":"'Gross Peak Demand'!$B2","v":5995.7125586330403},{"$f":"'Gross Peak Demand'!$E2","v":6711.5260933228374},{"$f":"'Gross Peak Demand'!$J$2","v":7650.9106263674221},{"$f":"'Gross Peak Demand'!$T$2","v":10482.256978896317},{"$f":"'Gross Peak Demand'!$AD$2","v":13024.310810297084},{"$f":"'Gross Peak Demand'!$G2","v":7130.1939041163041},{"$f":"'Gross Peak Demand'!$G38","v":0},{"$f":"U375-$U$381","v":5.9932182958673366},{"$f":"V375-$V$381","v":-7002.6388960289132},null,null,null,null,null,null,null,null,null,null,null,null,"DFES 2023 - Consumer Transformation",{"$f":"'Cumul Abs Constraints CF-'!$G2","v":17},{"$f":"'Cumul Abs Constraints CF+'!$G2","v":0},{"$f":"AL375-$AL$381","v":0},{"$f":"AM375-$AM$381","v":-15}]
[null,null,null,null,null,null,"DFES 2023 - System Transformation",6760.6469092426441,7650.8207640793971,10044.95933588703,13175.173920085526,null,null,0,"DFES 2023 - System Transformation",{"$f":"'Gross Peak Demand'!$B3","v":6021.497055276066},{"$f":"'Gross Peak Demand'!$E3","v":6760.6469092426441},{"$f":"'Gross Peak Demand'!$J$3","v":7650.8207640793971},{"$f":"'Gross Peak Demand'!$T$3","v":10044.95933588703},{"$f":"'Gross Peak Demand'!$AD$3","v":13175.173920085526},{"$f":"'Gross Peak Demand'!$G3","v":7103.8959862101465},{"$f":"'Gross Peak Demand'!$G39","v":0},{"$f":"U376-$U$381","v":-20.304699610290299},{"$f":"V376-$V$381","v":-7002.6388960289132},null,null,null,null,null,null,null,null,null,null,null,null,"DFES 2023 - System Transformation",{"$f":"'Cumul Abs Constraints CF-'!$G3","v":18},{"$f":"'Cumul Abs Constraints CF+'!$G3","v":0},1,-15]
[null,null,null,null,null,null,"DFES 2023 - Leading The Way",6720.3420497280549,7742.0130681777264,11675.731642332346,12673.99236209409,null,null,0,"DFES 2023 - Leading The Way",{"$f":"'Gross Peak Demand'!$B4","v":5995.7125586330403},{"$f":"'Gross Peak Demand'!$E4","v":6720.3420497280549},{"$f":"'Gross Peak Demand'!$J4","v":7742.0130681777264},{"$f":"'Gross Peak Demand'!$T4","v":11675.731642332346},{"$f":"'Gross Peak Demand'!$AD4","v":12673.99236209409},{"$f":"'Gross Peak Demand'!$G4","v":7169.9783525871208},{"$f":"'Gross Peak Demand'!$G40","v":0},45.777666766683978,-7002.6388960289132,null,null,null,null,null,null,null,null,null,null,null,null,"DFES 2023 - Leading The Way",{"$f":"'Cumul Abs Constraints CF-'!$G4","v":17},{"$f":"'Cumul Abs Constraints CF+'!$G4","v":0},0,-15]
[null,null,null,null,null,null,"DFES 2023 - NPg Best View",{"$f":"Q381","v":6636.2638245440976},{"$f":"R381","v":7448.6128087685302},{"$f":"S381","v":9994.4403872398216},{"$f":"T381","v":12433.636111243914},null,null,0,"CCC 2020 - Balanced Net Zero",{"$f":"'Gross Peak Demand'!$B5","v":7196.5833073898893},{"$f":"'Gross Peak Demand'!$E5","v":7365.1705673638426},{"$f":"'Gross Peak Demand'!$J5","v":8446.49356982471},{"$f":"'Gross Peak Demand'!$T5","v":11581.064173421108},{"$f":"'Gross Peak Demand'!$AD5","v":13100.985449230091},{"$f":"'Gross Peak Demand'!$G5","v":7641.3964899037928},{"$f":"'Gross Peak Demand'!$G41","v":0},517.19580408335605,-7002.6388960289132,null,null,null,null,null,null,null,null,null,null,null,null,"CCC 2020 - Balanced Net Zero",{"$f":"'Cumul Abs Constraints CF-'!$G5","v":14},{"$f":"'Cumul Abs Constraints CF+'!$G5","v":0},-3,-15]
[null,null,null,null,null,null,"DFES 2023 - Falling Short",{"$f":"Q383","v":6675.2877394649222},{"$f":"R383","v":7376.3523626835622},{"$f":"S383","v":8786.8030460815462},{"$f":"T383","v":9370.3061321558271},null,null,0,"CT 2023 Policy Sensitivity",{"$f":"'Gross Peak Demand'!$B6","v":5994.8846636485323},{"$f":"'Gross Peak Demand'!$E6","v":6734.0176168268717},{"$f":"'Gross Peak Demand'!$J6","v":7574.3611334868137},{"$f":"'Gross Peak Demand'!$T6","v":10725.731648207548},{"$f":"'Gross Peak Demand'!$AD6","v":14243.826591764431},{"$f":"'Gross Peak Demand'!$G6","v":7029.9629051093725},{"$f":"'Gross Peak Demand'!$G42","v":0},-94.237780711064261,-7002.6388960289132,null,null,null,null,null,null,null,null,null,null,null,null,"CT 2023 Policy Sensitivity",{"$f":"'Cumul Abs Constraints CF-'!$G6","v":16},{"$f":"'Cumul Abs Constraints CF+'!$G6","v":0},-1,-15]
[null,null,null,null,null,null,null,null,null,null,null,null,null,0,"BV 2023 Policy Sensitivity",{"$f":"'Gross Peak Demand'!$B7","v":5994.8846636485323},{"$f":"'Gross Peak Demand'!$E7","v":6737.7920701122966},{"$f":"'Gross Peak Demand'!$J7","v":7608.7940811098069},{"$f":"'Gross Peak Demand'!$T7","v":10746.313176448057},{"$f":"'Gross Peak Demand'!$AD7","v":14226.328654043427},{"$f":"'Gross Peak Demand'!$G7","v":7041.1530215392859},{"$f":"'Gross Peak Demand'!$G43","v":0},-83.047664281150901,-7002.6388960289132,null,null,null,null,null,null,null,null,null,null,null,null,"BV 2023 Policy Sensitivity",{"$f":"'Cumul Abs Constraints CF-'!$G7","v":15},{"$f":"'Cumul Abs Constraints CF+'!$G7","v":0},-2,-15]
[null,null,null,null,null,null,null,null,null,null,null,null,null,49018.472272202394,"DFES 2023 - NPg Best View",{"$f":"'Gross Peak Demand'!$B44","v":5986.1646371258084},{"$f":"'Gross Peak Demand'!$E44","v":6636.2638245440976},{"$f":"'Gross Peak Demand'!$J44","v":7448.6128087685302},{"$f":"'Gross Peak Demand'!$T44","v":9994.4403872398216},{"$f":"'Gross Peak Demand'!$AD44","v":12433.636111243914},{"$f":"'Gross Peak Demand'!$G8","v":7124.2006858204368},{"$f":"'Gross Peak Demand'!$G44","v":7002.6388960289132},0,0,null,null,null,null,null,null,null,null,null,null,null,null,"DFES 2023 - NPg Best View counterfactual no ToUT",{"$f":"'Cumul Abs Constraints CF-'!$G8","v":17},{"$f":"'Cumul Abs Constraints CF+'!$G8","v":15},0,0]
[null,null,null,null,null,null,null,null,null,null,null,null,null,52980.391798540091,"NPg ED2 Planning Scenario - needs updating to old",{"$f":"'Gross Peak Demand'!$B9","v":7176.7478407161207},{"$f":"'Gross Peak Demand'!$E9","v":7370.6144686816478},{"$f":"'Gross Peak Demand'!$J$9","v":8586.7119493983319},{"$f":"'Gross Peak Demand'!$T$9","v":12030.031461648756},{"$f":"'Gross Peak Demand'!$AD$9","v":13369.147739729695},{"$f":"'Gross Peak Demand'!$G9","v":7659.4663310174237},{"$f":"'Gross Peak Demand'!$G45","v":7568.6273997914413},535.26564519698695,565.98850376252813,null,null,null,null,null,null,null,null,null,null,null,null,"NPg ED2 Planning Scenario - needs updating to old",{"$f":"'Cumul Abs Constraints CF-'!$G9","v":13},{"$f":"'Cumul Abs Constraints CF+'!$G9","v":0},-4,-15]
[null,null,null,null,null,null,null,null,null,null,null,null,null,0,"DFES 2023 - Falling Short",{"$f":"'Gross Peak Demand'!$B10","v":6021.3893688991648},{"$f":"'Gross Peak Demand'!$E10","v":6675.2877394649222},{"$f":"'Gross Peak Demand'!$J$10","v":7376.3523626835622},{"$f":"'Gross Peak Demand'!$T$10","v":8786.8030460815462},{"$f":"'Gross Peak Demand'!$AD$10","v":9370.3061321558271},{"$f":"'Gross Peak Demand'!$G10","v":6913.6496603570977},{"$f":"'Gross Peak Demand'!$G46","v":0},-210.5510254633391,-7002.6388960289132,null,null,null,null,null,null,null,null,null,null,null,null,"DFES 2023 - Falling Short",{"$f":"'Cumul Abs Constraints CF-'!$G10","v":15},{"$f":"'Cumul Abs Constraints CF+'!$G10","v":0},-2,-15]
[]
[]
[]
[]
[]
[]
[]
[]
[]
[]
[]
[]
[]
[]
[]
[]
[]
[]
[]
[]
[]
[]
[]
[]
[]
[]
[]
[null,null,null,null,null,null,null,null,null,null,null,null,null,null,null,null,null,null,null,null,null,null,null,null,null,null,null,null,null,null,null,null,null,null,null,null,null,null,null,null,null,350764.7]
[null,null,null,null,null,null,null,null,null,null,null,null,null,null,null,null,null,null,null,null,null,null,null,null,null,null,null,null,null,null,null,null,null,null,null,null,null,null,null,null,null,15678.6]
[null,null,null,null,null,null,null,null,null,null,null,null,null,null,null,null,null,null,null,null,null,null,null,null,null,null,null,null,null,null,null,null,null,null,null,null,null,null,null,null,null,314668]
[null,null,null,null,null,null,null,null,null,null,null,null,null,null,null,null,null,null,null,null,null,null,null,null,null,null,null,null,null,null,null,null,null,null,null,null,null,null,null,null,null,{"$f":"SUM(AP412:AP413)","v":330346.59999999998}]
[null,null,null,null,null,null,null,null,null,null,null,null,null,null,null,null,null,null,null,null,null,null,null,null,null,null,null,null,null,null,null,null,null,null,null,null,null,null,null,null,null,{"$f":"AP411-AP414","v":20418.100000000035}]
[]
[]
[]
[]
[]
[]
[]
[]
[]
[]
[]
[null,null,null,null,null,null,{"$f":"O427","v":"Gross Peak Demand - With price driven flexibility (MW)"},2025,2030,2040,2050,null,null,null,"Gross Peak Demand - With price driven flexibility (MW)",2022,2025,2030,2040,2050]
[null,null,null,null,null,null,"DFES 2023 - Consumer Transformation",{"$f":"Q428","v":0},0,0,0,null,null,null,"DFES 2023 - Consumer Transformation",{"$f":"'Gross Peak Demand'!$B38","v":0},{"$f":"'Gross Peak Demand'!$E38","v":0},{"$f":"'Gross Peak Demand'!$J38","v":0},{"$f":"'Gross Peak Demand'!$T38","v":0},{"$f":"'Gross Peak Demand'!$AD38","v":0}]
[null,null,null,null,null,null,"DFES 2023 - System Transformation",0,0,0,0,null,null,null,"DFES 2023 - System Transformation",{"$f":"'Gross Peak Demand'!$B39","v":0},{"$f":"'Gross Peak Demand'!$E39","v":0},{"$f":"'Gross Peak Demand'!$J39","v":0},{"$f":"'Gross Peak Demand'!$T39","v":0},{"$f":"'Gross Peak Demand'!$AD39","v":0}]
[null,null,null,null,null,null,"DFES 2023 - Leading The Way",0,0,0,0,null,null,null,"DFES 2023 - Leading The Way",{"$f":"'Gross Peak Demand'!$B40","v":0},{"$f":"'Gross Peak Demand'!$E40","v":0},{"$f":"'Gross Peak Demand'!$J40","v":0},{"$f":"'Gross Peak Demand'!$T40","v":0},{"$f":"'Gross Peak Demand'!$AD40","v":0}]
[null,null,null,null,null,null,"DFES 2023 - NPg Best View",{"$f":"Q434","v":6636.2638245440976},{"$f":"R434","v":7448.6128087685302},{"$f":"S434","v":9994.4403872398216},{"$f":"T434","v":12433.636111243914},null,null,null,"CCC 2020 - Balanced Net Zero"]
[null,null,null,null,null,null,"DFES 2023 - Falling Short",{"$f":"Q436","v":0},{"$f":"R436","v":0},{"$f":"S436","v":0},{"$f":"T436","v":0},null,null,null,"CT 2023 Policy Sensitivity"]
[null,null,null,null,null,null,null,null,null,null,null,null,null,null,"BV 2023 Policy Sensitivity"]
[null,null,null,null,null,null,null,null,null,null,null,null,null,null,"DFES 2023 - NPg Best View",{"$f":"'Gross Peak Demand'!$B44","v":5986.1646371258084},{"$f":"'Gross Peak Demand'!$E44","v":6636.2638245440976},{"$f":"'Gross Peak Demand'!$J44","v":7448.6128087685302},{"$f":"'Gross Peak Demand'!$T44","v":9994.4403872398216},{"$f":"'Gross Peak Demand'!$AD44","v":12433.636111243914}]
[null,null,null,null,null,null,null,null,null,null,null,null,null,null,"NPg ED2 Planning Scenario - needs updating to old",{"$f":"'Gross Peak Demand'!$B45","v":7166.3027410022787},{"$f":"'Gross Peak Demand'!$E45","v":7324.948432136749},{"$f":"'Gross Peak Demand'!$J45","v":8372.4062508309726},{"$f":"'Gross Peak Demand'!$T45","v":11499.414897589013},{"$f":"'Gross Peak Demand'!$AD45","v":12822.718465633538}]
[null,null,null,null,null,null,null,null,null,null,null,null,null,null,"DFES 2023 - Falling Short",{"$f":"'Gross Peak Demand'!$B46","v":0},{"$f":"'Gross Peak Demand'!$E46","v":0},{"$f":"'Gross Peak Demand'!$J46","v":0},{"$f":"'Gross Peak Demand'!$T46","v":0},{"$f":"'Gross Peak Demand'!$AD46","v":0}]
[]
[null,null,null,null,null,null,null,null,null,null,null,null,null,null,"NOTE - Planning Scenario is a single line - including TouT"]
[]
[]
[]
[]
[]
[]
[]
[]
[]
[]
[]
[]
[]
[]
[]
[]
[]
[]
[]
[]
[]
[]
[]
[]
[]
[]
[]
[null,null,null,null,null,null,null,null,null,null,null,null,null,null,"Generation MIX 2050","CR","CR","TD","SP","CE",null,"TO DO"]
[null,null,null,null,null,null,null,null,null,null,null,null,null,null,"PV"]
[null,null,null,null,null,null,null,null,null,null,null,null,null,null,"Large Solar"]
[null,null,null,null,null,null,null,null,null,null,null,null,null,null,"Wind"]
[null,null,null,null,null,null,null,null,null,null,null,null,null,null,"CHP/Other"]
[null,null,null,null,null,null,null,null,null,null,null,null,null,null,"Total"]
[]
[]
[]
[]
[]
[]
[]
[]
[]
[]
[]
[]
[]
[]
[]
[]
[]
[]
[]
[]
[]
[]
[]
[]
[]
[]
[]
[]
[]
[]
[]
[]
[]
[]
[]
[]
[]
[]
[]
[]
[]
[]
[]
[]
[]
[]
[]
[]
[]
[]
[]
[]
[]
[]
[]
[]
[]
[]
[]
[]
[]
[]
[]
[]
[]
[]
[]
[]
[]
[]
[]
[]
[]
[]
[]
[]
[]
[]
[]
[]
[]
[]
[]
[null,null,null,null,null,null,{"$f":"O555","v":"E_Buses&HGVs (No.)"},2025,2030,2040,2050,null,null,null,"E_Buses&HGVs (No.)",2022,2025,2030,2040,2050,2027,"2027 % change to PS"]
[null,null,null,null,null,null,"DFES 2023 - Consumer Transformation",{"$f":"Q556","v":2927.2388929146855},16536.529968754487,70861.08737196718,86438.416485091468,null,null,null,"DFES 2023 - Consumer Transformation",{"$f":"'E_Buses&HGVs'!$B2","v":673.71065672075372},{"$f":"'E_Buses&HGVs'!$E$2","v":2927.2388929146855},{"$f":"'E_Buses&HGVs'!$J$2","v":16536.529968754487},{"$f":"'E_Buses&HGVs'!$T$2","v":70861.08737196718},{"$f":"'E_Buses&HGVs'!$AD$2","v":86438.416485091468},{"$f":"'E_Buses&HGVs'!$G2","v":6482.3687328032165},{"$f":"(U556-U$562)/U$562","v":-0.21312445802186558}]
[null,null,null,null,null,null,"DFES 2023 - System Transformation",2910.3237821294333,16264.310243709466,67685.071433703226,82044.215930907667,null,null,null,"DFES 2023 - System Transformation",{"$f":"'E_Buses&HGVs'!$B3","v":673.71065672075372},{"$f":"'E_Buses&HGVs'!$E$3","v":2910.3237821294333},{"$f":"'E_Buses&HGVs'!$J$3","v":16264.310243709466},{"$f":"'E_Buses&HGVs'!$T$3","v":67685.071433703226},{"$f":"'E_Buses&HGVs'!$AD$3","v":82044.215930907667},{"$f":"'E_Buses&HGVs'!$G3","v":6406.5409015102487},-0.22232897388714531]
[null,null,null,null,null,null,"DFES 2023 - Leading The Way",3635.5669834125811,20912.988963931704,74155.640625332249,84316.432203060453,null,null,null,"DFES 2023 - Leading The Way",{"$f":"'E_Buses&HGVs'!$B4","v":673.71065672075372},{"$f":"'E_Buses&HGVs'!$E$4","v":3635.5669834125811},{"$f":"'E_Buses&HGVs'!$J$4","v":20912.988963931704},{"$f":"'E_Buses&HGVs'!$T$4","v":74155.640625332249},{"$f":"'E_Buses&HGVs'!$AD$4","v":84316.432203060453},{"$f":"'E_Buses&HGVs'!$G4","v":8238.1118575716864},0]
[null,null,null,null,null,null,"DFES 2023 - NPg Best View",{"$f":"Q562","v":3635.5669834125811},{"$f":"R562","v":20912.988963931704},{"$f":"S562","v":74155.640625332249},{"$f":"T562","v":84316.432203060453},null,null,null,"CCC 2020 - Balanced Net Zero",{"$f":"'E_Buses&HGVs'!$B5","v":0},{"$f":"'E_Buses&HGVs'!$E$5","v":0},{"$f":"'E_Buses&HGVs'!$J$5","v":0},{"$f":"'E_Buses&HGVs'!$T$5","v":0},{"$f":"'E_Buses&HGVs'!$AD$5","v":0},{"$f":"'E_Buses&HGVs'!$G5","v":0},-1]
[null,null,null,null,null,null,"DFES 2023 - Falling Short",{"$f":"Q564","v":2450.7088381662179},{"$f":"R564","v":13560.936904566275},{"$f":"S564","v":62214.208335929688},{"$f":"T564","v":84004.080492529727},null,null,null,"CT 2023 Policy Sensitivity",{"$f":"'E_Buses&HGVs'!$B6","v":0},{"$f":"'E_Buses&HGVs'!$E$6","v":0},{"$f":"'E_Buses&HGVs'!$J$6","v":0},{"$f":"'E_Buses&HGVs'!$T$6","v":0},{"$f":"'E_Buses&HGVs'!$AD$6","v":0},{"$f":"'E_Buses&HGVs'!$G6","v":0},-1]
[null,null,null,null,null,null,null,null,null,null,null,null,null,null,"BV 2023 Policy Sensitivity",{"$f":"'E_Buses&HGVs'!$B7","v":0},{"$f":"'E_Buses&HGVs'!$E$7","v":0},{"$f":"'E_Buses&HGVs'!$J$7","v":0},{"$f":"'E_Buses&HGVs'!$T$7","v":0},{"$f":"'E_Buses&HGVs'!$AD$7","v":0},{"$f":"'E_Buses&HGVs'!$G7","v":0},-1]
[null,null,null,null,null,null,null,null,null,null,null,null,null,null,"DFES 2023 - NPg Best View",{"$f":"'E_Buses&HGVs'!$B8","v":673.71065672075372},{"$f":"'E_Buses&HGVs'!$E$8","v":3635.5669834125811},{"$f":"'E_Buses&HGVs'!$J$8","v":20912.988963931704},{"$f":"'E_Buses&HGVs'!$T$8","v":74155.640625332249},{"$f":"'E_Buses&HGVs'!$AD$8","v":84316.432203060453},{"$f":"'E_Buses&HGVs'!$G8","v":8238.1118575716864},0]
[null,null,null,null,null,null,null,null,null,null,null,null,null,null,"NPg ED2 Planning Scenario - needs updating to old",{"$f":"'E_Buses&HGVs'!$B9","v":0},{"$f":"'E_Buses&HGVs'!$E$9","v":0},{"$f":"'E_Buses&HGVs'!$J$9","v":0},{"$f":"'E_Buses&HGVs'!$T$9","v":0},{"$f":"'E_Buses&HGVs'!$AD$9","v":0},{"$f":"'E_Buses&HGVs'!$G9","v":0},-1]
[null,null,null,null,null,null,null,null,null,null,null,null,null,null,"DFES 2023 - Falling Short",{"$f":"'E_Buses&HGVs'!$B10","v":673.71065672075372},{"$f":"'E_Buses&HGVs'!$E$10","v":2450.7088381662179},{"$f":"'E_Buses&HGVs'!$J$10","v":13560.936904566275},{"$f":"'E_Buses&HGVs'!$T$10","v":62214.208335929688},{"$f":"'E_Buses&HGVs'!$AD$10","v":84004.080492529727},{"$f":"'E_Buses&HGVs'!$G10","v":5285.5694725820122},-0.35840037572152883]
[]
[]
[]
[]
[]
[]
[]
[]
[]
[]
[]
[]
[]
[]
[]
[]
[]
[]
[null,null,null,null,null,null,{"$f":"O583","v":"E_Buses"},2025,2030,2040,2050,null,null,null,"E_Buses",2022,2025,2030,2040,2050,2027,"2027 % change to PS"]
[null,null,null,null,null,null,"DFES 2023 - Consumer Transformation",{"$f":"Q584","v":1302.4568065777821},4260.2402428946616,12391.189681846859,15210.629264218149,null,null,null,"DFES 2023 - Consumer Transformation",{"$f":"E_Buses!$B2","v":485.2382770070642},{"$f":"E_Buses!$E$2","v":1302.4568065777821},{"$f":"E_Buses!$J$2","v":4260.2402428946616},{"$f":"E_Buses!$T$2","v":12391.189681846859},{"$f":"E_Buses!$AD$2","v":15210.629264218149},{"$f":"E_Buses!$G2","v":2264.9680498706884},{"$f":"(U584-U$590)/U$590","v":-0.16716855172198813}]
[null,null,null,null,null,null,"DFES 2023 - System Transformation",1285.5416957925299,4010.1256571995132,11327.552643060322,13854.923512503967,null,null,null,"DFES 2023 - System Transformation",{"$f":"E_Buses!$B3","v":485.2382770070642},{"$f":"E_Buses!$E$3","v":1285.5416957925299},{"$f":"E_Buses!$J$3","v":4010.1256571995132},{"$f":"E_Buses!$T$3","v":11327.552643060322},{"$f":"E_Buses!$AD$3","v":13854.923512503967},{"$f":"E_Buses!$G3","v":2189.140218577721},-0.19505053555796684]
[null,null,null,null,null,null,"DFES 2023 - Leading The Way",1566.4847398845741,4995.292477624771,12668.728838714251,14591.853591372326,null,null,null,"DFES 2023 - Leading The Way",{"$f":"E_Buses!$B4","v":485.2382770070642},{"$f":"E_Buses!$E$4","v":1566.4847398845741},{"$f":"E_Buses!$J$4","v":4995.292477624771},{"$f":"E_Buses!$T$4","v":12668.728838714251},{"$f":"E_Buses!$AD$4","v":14591.853591372326},{"$f":"E_Buses!$G4","v":2719.599571502501},0]
[null,null,null,null,null,null,"DFES 2023 - NPg Best View",{"$f":"Q590","v":1566.4847398845741},{"$f":"R590","v":4995.292477624771},{"$f":"S590","v":12668.728838714251},{"$f":"T590","v":14591.853591372326},null,null,null,"CCC 2020 - Balanced Net Zero",{"$f":"E_Buses!$B5","v":0},{"$f":"E_Buses!$E$5","v":0},{"$f":"E_Buses!$J$5","v":0},{"$f":"E_Buses!$T$5","v":0},{"$f":"E_Buses!$AD$5","v":0},{"$f":"E_Buses!$G5","v":0},-1]
[null,null,null,null,null,null,"DFES 2023 - Falling Short",{"$f":"Q592","v":1071.3034674656913},{"$f":"R592","v":3443.0537713723734},{"$f":"S592","v":10940.603006188301},{"$f":"T592","v":14404.597868758981},null,null,null,"CT 2023 Policy Sensitivity",{"$f":"E_Buses!$B6","v":0},{"$f":"E_Buses!$E$6","v":0},{"$f":"E_Buses!$J$6","v":0},{"$f":"E_Buses!$T$6","v":0},{"$f":"E_Buses!$AD$6","v":0},{"$f":"E_Buses!$G6","v":0},-1]
[null,null,null,null,null,null,null,null,null,null,null,null,null,null,"BV 2023 Policy Sensitivity",{"$f":"E_Buses!$B7","v":0},{"$f":"E_Buses!$E$7","v":0},{"$f":"E_Buses!$J$7","v":0},{"$f":"E_Buses!$T$7","v":0},{"$f":"E_Buses!$AD$7","v":0},{"$f":"E_Buses!$G7","v":0},-1]
[null,null,null,null,null,null,null,null,null,null,null,null,null,null,"DFES 2023 - NPg Best View",{"$f":"E_Buses!$B8","v":485.2382770070642},{"$f":"E_Buses!$E$8","v":1566.4847398845741},{"$f":"E_Buses!$J$8","v":4995.292477624771},{"$f":"E_Buses!$T$8","v":12668.728838714251},{"$f":"E_Buses!$AD$8","v":14591.853591372326},{"$f":"E_Buses!$G8","v":2719.599571502501},0]
[null,null,null,null,null,null,null,null,null,null,null,null,null,null,"NPg ED2 Planning Scenario - needs updating to old",{"$f":"E_Buses!$B9","v":0},{"$f":"E_Buses!$E$9","v":0},{"$f":"E_Buses!$J$9","v":0},{"$f":"E_Buses!$T$9","v":0},{"$f":"E_Buses!$AD$9","v":0},{"$f":"E_Buses!$G9","v":0},-1]
[null,null,null,null,null,null,null,null,null,null,null,null,null,null,"DFES 2023 - Falling Short",{"$f":"E_Buses!$B10","v":485.2382770070642},{"$f":"E_Buses!$E$10","v":1071.3034674656913},{"$f":"E_Buses!$J$10","v":3443.0537713723734},{"$f":"E_Buses!$T$10","v":10940.603006188301},{"$f":"E_Buses!$AD$10","v":14404.597868758981},{"$f":"E_Buses!$G10","v":1817.3086427169219},-0.33177344865041625]
[]
[]
[]
[]
[]
[]
[]
[]
[]
[]
[]
[]
[]
[]
[]
[]
[]
[null,null,null,null,null,null,{"$f":"O610","v":"E_HGVs (No.)"},2025,2030,2040,2050,null,null,null,"E_HGVs (No.)",2022,2025,2030,2040,2050,2027,"2027 % change to PS"]
[null,null,null,null,null,null,"DFES 2023 - Consumer Transformation",{"$f":"Q611","v":1624.7820863369034},12276.289725859826,58469.897690120328,71227.787220873317,null,null,null,"DFES 2023 - Consumer Transformation",{"$f":"E_HGVs!$B2","v":188.47237971368949},{"$f":"E_HGVs!$E$2","v":1624.7820863369034},{"$f":"E_HGVs!$J$2","v":12276.289725859826},{"$f":"E_HGVs!$T$2","v":58469.897690120328},{"$f":"E_HGVs!$AD$2","v":71227.787220873317},{"$f":"E_HGVs!$G2","v":4217.4006829325281},{"$f":"(U611-U$617)/U$617","v":-0.23577216751354449}]
[null,null,null,null,null,null,"DFES 2023 - System Transformation",1624.7820863369034,12254.184586509953,56357.518790642906,68189.292418403697,null,null,null,"DFES 2023 - System Transformation",{"$f":"E_HGVs!$B3","v":188.47237971368949},{"$f":"E_HGVs!$E$3","v":1624.7820863369034},{"$f":"E_HGVs!$J$3","v":12254.184586509953},{"$f":"E_HGVs!$T$3","v":56357.518790642906},{"$f":"E_HGVs!$AD$3","v":68189.292418403697},{"$f":"E_HGVs!$G3","v":4217.4006829325281},-0.23577216751354449]
[null,null,null,null,null,null,"DFES 2023 - Leading The Way",2069.082243528007,15917.696486306933,61486.911786618002,69724.578611688121,null,null,null,"DFES 2023 - Leading The Way",{"$f":"E_HGVs!$B4","v":188.47237971368949},{"$f":"E_HGVs!$E$4","v":2069.082243528007},{"$f":"E_HGVs!$J$4","v":15917.696486306933},{"$f":"E_HGVs!$T$4","v":61486.911786618002},{"$f":"E_HGVs!$AD$4","v":69724.578611688121},{"$f":"E_HGVs!$G4","v":5518.5122860691854},0]
[null,null,null,null,null,null,"DFES 2023 - NPg Best View",{"$f":"Q617","v":2069.082243528007},{"$f":"R617","v":15917.696486306933},{"$f":"S617","v":61486.911786618002},{"$f":"T617","v":69724.578611688121},null,null,null,"CCC 2020 - Balanced Net Zero",{"$f":"E_HGVs!$B5","v":0},{"$f":"E_HGVs!$E$5","v":0},{"$f":"E_HGVs!$J$5","v":0},{"$f":"E_HGVs!$T$5","v":0},{"$f":"E_HGVs!$AD$5","v":0},{"$f":"E_HGVs!$G5","v":0},-1]
[null,null,null,null,null,null,"DFES 2023 - Falling Short",{"$f":"Q619","v":1379.4053707005264},{"$f":"R619","v":10117.883133193902},{"$f":"S619","v":51273.605329741389},{"$f":"T619","v":69599.482623770746},null,null,null,"CT 2023 Policy Sensitivity",{"$f":"E_HGVs!$B6","v":0},{"$f":"E_HGVs!$E$6","v":0},{"$f":"E_HGVs!$J$6","v":0},{"$f":"E_HGVs!$T$6","v":0},{"$f":"E_HGVs!$AD$6","v":0},{"$f":"E_HGVs!$G6","v":0},-1]
[null,null,null,null,null,null,null,null,null,null,null,null,null,null,"BV 2023 Policy Sensitivity",{"$f":"E_HGVs!$B7","v":0},{"$f":"E_HGVs!$E$7","v":0},{"$f":"E_HGVs!$J$7","v":0},{"$f":"E_HGVs!$T$7","v":0},{"$f":"E_HGVs!$AD$7","v":0},{"$f":"E_HGVs!$G7","v":0},-1]
[null,null,null,null,null,null,null,null,null,null,null,null,null,null,"DFES 2023 - NPg Best View",{"$f":"E_HGVs!$B8","v":188.47237971368949},{"$f":"E_HGVs!$E$8","v":2069.082243528007},{"$f":"E_HGVs!$J$8","v":15917.696486306933},{"$f":"E_HGVs!$T$8","v":61486.911786618002},{"$f":"E_HGVs!$AD$8","v":69724.578611688121},{"$f":"E_HGVs!$G8","v":5518.5122860691854},0]
[null,null,null,null,null,null,null,null,null,null,null,null,null,null,"NPg ED2 Planning Scenario - needs updating to old",{"$f":"E_HGVs!$B9","v":0},{"$f":"E_HGVs!$E$9","v":0},{"$f":"E_HGVs!$J$9","v":0},{"$f":"E_HGVs!$T$9","v":0},{"$f":"E_HGVs!$AD$9","v":0},{"$f":"E_HGVs!$G9","v":0},-1]
[null,null,null,null,null,null,null,null,null,null,null,null,null,null,"DFES 2023 - Falling Short",{"$f":"E_HGVs!$B10","v":188.47237971368949},{"$f":"E_HGVs!$E$10","v":1379.4053707005264},{"$f":"E_HGVs!$J$10","v":10117.883133193902},{"$f":"E_HGVs!$T$10","v":51273.605329741389},{"$f":"E_HGVs!$AD$10","v":69599.482623770746},{"$f":"E_HGVs!$G10","v":3468.2608298650898},-0.37152249554281264]
[]
[]
[]
[]
[]
[]
[]
[]
[]
[]
[]
[]
[]
[null,null,null,null,null,null,{"$f":"O633","v":"Total Generation Capacity (MW)"},2025,2030,2040,2050,null,null,null,"Total Generation Capacity (MW)",2022,2025,2030,2040,2050,"GB rough estimate by 2050 (not UK - no NI)"]
[null,null,null,null,null,null,"DFES 2023 - Consumer Transformation",{"$f":"Q634","v":6305.813113900208},7976.0551031329524,10821.884305763342,14173.552073336248,null,null,null,"DFES 2023 - Consumer Transformation",{"$f":"'Total Generation'!$B2","v":4670.3622212438304},{"$f":"'Total Generation'!$E$2","v":6305.813113900208},{"$f":"'Total Generation'!$J$2","v":7976.0551031329524},{"$f":"'Total Generation'!$T$2","v":10821.884305763342},{"$f":"'Total Generation'!$AD$2","v":14173.552073336248},{"$f":"T634*7","v":99214.864513353736}]
[null,null,null,null,null,null,"DFES 2023 - System Transformation",6255.6790639494466,7281.0804336098299,7837.6234917723723,9210.173616417389,null,null,null,"DFES 2023 - System Transformation",{"$f":"'Total Generation'!$B3","v":4670.3622212438304},{"$f":"'Total Generation'!$E$3","v":6255.6790639494466},{"$f":"'Total Generation'!$J$3","v":7281.0804336098299},{"$f":"'Total Generation'!$T$3","v":7837.6234917723723},{"$f":"'Total Generation'!$AD$3","v":9210.173616417389},64471.215314921719]
[null,null,null,null,null,null,"DFES 2023 - Leading The Way",6926.0904958738911,8590.1522567523789,11092.898433187964,14416.723226553786,null,null,null,"DFES 2023 - Leading The Way",{"$f":"'Total Generation'!$B4","v":4670.3622212438304},{"$f":"'Total Generation'!$E4","v":6926.0904958738911},{"$f":"'Total Generation'!$J4","v":8590.1522567523789},{"$f":"'Total Generation'!$T4","v":11092.898433187964},{"$f":"'Total Generation'!$AD4","v":14416.723226553786},100917.0625858765]
[null,null,null,null,null,null,"DFES 2023 - NPg Best View",{"$f":"Q640","v":6940.2954958738919},{"$f":"R640","v":8716.7250067523801},{"$f":"S640","v":11790.838183187963},{"$f":"T640","v":15394.473976553785},null,null,null,"CCC 2020 - Balanced Net Zero",{"$f":"'Total Generation'!$B5","v":5556.0925918435942},{"$f":"'Total Generation'!$E5","v":6557.3828630757444},{"$f":"'Total Generation'!$J5","v":8662.6387569205017},{"$f":"'Total Generation'!$T5","v":11793.407597284233},{"$f":"'Total Generation'!$AD5","v":14434.211195387532},101039.47836771273]
[null,null,null,null,null,null,"DFES 2023 - Falling Short",{"$f":"Q642","v":5886.1393587374623},{"$f":"R642","v":6904.9535561611738},{"$f":"S642","v":8110.8631070452375},{"$f":"T642","v":9274.7238232081218},null,null,null,"CT 2023 Policy Sensitivity",{"$f":"'Total Generation'!$B6","v":4670.3622212438304},{"$f":"'Total Generation'!$E6","v":6305.813113900208},{"$f":"'Total Generation'!$J6","v":7979.0638456582892},{"$f":"'Total Generation'!$T6","v":11480.812606934134},{"$f":"'Total Generation'!$AD6","v":15159.517108718919},106116.61976103243]
[null,null,null,null,null,null,null,null,null,null,null,null,null,null,"BV 2023 Policy Sensitivity",{"$f":"'Total Generation'!$B7","v":4670.3622212438304},{"$f":"'Total Generation'!$E7","v":6940.2954958738919},{"$f":"'Total Generation'!$J7","v":8716.7250067523801},{"$f":"'Total Generation'!$T7","v":12623.035824855751},{"$f":"'Total Generation'!$AD7","v":16355.320413624675},114487.24289537272]
[null,null,null,null,null,null,null,null,null,null,null,null,null,null,"DFES 2023 - NPg Best View",{"$f":"'Total Generation'!$B8","v":4670.3622212438304},{"$f":"'Total Generation'!$E8","v":6940.2954958738919},{"$f":"'Total Generation'!$J8","v":8716.7250067523801},{"$f":"'Total Generation'!$T8","v":11790.838183187963},{"$f":"'Total Generation'!$AD8","v":15394.473976553785},107761.3178358765]
[null,null,null,null,null,null,null,null,null,null,null,null,null,null,"NPg ED2 Planning Scenario - needs updating to old",{"$f":"'Total Generation'!$B9","v":4670.3622212438304},{"$f":"'Total Generation'!$E$9","v":6940.2954958738919},{"$f":"'Total Generation'!$J$9","v":8716.7250067523801},{"$f":"'Total Generation'!$T$9","v":11790.838183187963},{"$f":"'Total Generation'!$AD$9","v":15394.473976553785},107761.3178358765]
[null,null,null,null,null,null,null,null,null,null,null,null,null,null,"DFES 2023 - Falling Short",{"$f":"'Total Generation'!$B10","v":4670.3622212438304},{"$f":"'Total Generation'!$E$10","v":5886.1393587374623},{"$f":"'Total Generation'!$J$10","v":6904.9535561611738},{"$f":"'Total Generation'!$T$10","v":8110.8631070452375},{"$f":"'Total Generation'!$AD$10","v":9274.7238232081218},64923.066762456852]
[]
[]
[]
[]
[]
[]
[]
[]
[]
[]
[]
[]
[]
[]
[]
[]
[]
[]
[]
[]
[]
[]
[]
[null,null,null,null,null,null,null,null,null,null,null,null,null,null,"Generation MIX 2021","CT","ST","LTW","SP","PS","PS"]
[null,null,null,null,null,null,null,null,null,null,null,null,null,null,"PV",{"$f":"$P110","v":477.172998816252},{"$f":"$P111","v":477.172998816252},{"$f":"$P112","v":477.172998816252},{"$f":"$P118","v":477.172998816252},{"$f":"$P116","v":477.172998816252},{"$f":"$P116","v":477.172998816252}]
[null,null,null,null,null,null,null,null,null,null,null,null,null,null,"Large Solar",{"$f":"$P141","v":378.97451764963301},{"$f":"$P142","v":378.97451764963301},{"$f":"$P143","v":378.97451764963301},{"$f":"$P149","v":378.97451764963301},{"$f":"$P147","v":378.97451764963301},{"$f":"$P147","v":378.97451764963301}]
[null,null,null,null,null,null,null,null,null,null,null,null,null,null,"Wind",{"$f":"$P172","v":1297.6827047779452},{"$f":"$P173","v":1297.6827047779452},{"$f":"$P174","v":1297.6827047779452},{"$f":"$P180","v":1297.6827047779452},{"$f":"$P178","v":1297.6827047779452},{"$f":"$P178","v":1297.6827047779452}]
[null,null,null,null,null,null,null,null,null,null,null,null,null,null,"Other Renewable",{"$f":"P672-SUM(P667:P669)","v":863.27200000000039},{"$f":"Q672-SUM(Q667:Q669)","v":863.27200000000039},{"$f":"R672-SUM(R667:R669)","v":863.27200000000039},{"$f":"$P672-SUM($P667:$P669)","v":863.27200000000039},{"$f":"T672-SUM(T667:T669)","v":863.27200000000039},{"$f":"U672-SUM(U667:U669)","v":863.27200000000039}]
[null,null,null,null,null,null,null,null,null,null,null,null,null,null,"Non Renewable",{"$f":"$P277","v":1653.2599999999998},{"$f":"$P278","v":1653.2599999999998},{"$f":"$P279","v":1653.2599999999998},{"$f":"$P285","v":1653.2599999999998},{"$f":"$P283","v":1653.2599999999998},{"$f":"$P283","v":1653.2599999999998}]
[null,null,null,null,null,null,null,null,null,null,null,null,null,null,"Total Renewable for 'other' calculation",{"$f":"$P246","v":3017.1022212438306},{"$f":"$P247","v":3017.1022212438306},{"$f":"$P248","v":3017.1022212438306},{"$f":"$P254","v":3017.1022212438306},{"$f":"$P252","v":3017.1022212438306},{"$f":"$P252","v":3017.1022212438306}]
[null,null,null,null,null,null,null,null,null,null,null,null,null,null,"Total Generation",{"$f":"$P634","v":4670.3622212438304},{"$f":"$P635","v":4670.3622212438304},{"$f":"$P636","v":4670.3622212438304},{"$f":"$P642","v":4670.3622212438304},{"$f":"$P640","v":4670.3622212438304},{"$f":"$P640","v":4670.3622212438304}]
[null,null,null,null,null,null,null,null,null,null,null,null,null,null,"Total Generation Check",{"$f":"SUM(P667:P671)","v":4670.3622212438304},4670.3622212438304,4670.3622212438304,4670.3622212438304,4670.3622212438304,4670.3622212438304]
[]
[]
[]
[]
[]
[]
[]
[]
[]
[]
[null,null,null,null,null,null,null,null,null,null,null,null,null,null,"Generation MIX 2050","CT","ST","LTW","SP","PS","PS"]
[null,null,null,null,null,null,null,null,null,null,null,null,null,null,"PV",{"$f":"$T110","v":3498.0711091046596},{"$f":"$T111","v":1675.1538412137129},{"$f":"$T112","v":3498.0711091046596},{"$f":"$T118","v":1150.5715313109511},{"$f":"$T116","v":3498.0711091046596},{"$f":"$T116","v":3498.0711091046596}]
[null,null,null,null,null,null,null,null,null,null,null,null,null,null,"Large Solar",{"$f":"$T141","v":5298.0461484479729},{"$f":"$T142","v":4338.7261532034936},{"$f":"$T143","v":6398.4701804216584},{"$f":"$T149","v":3056.5696942679965},{"$f":"$T147","v":6398.4701804216584},{"$f":"$T147","v":6398.4701804216584}]
[null,null,null,null,null,null,null,null,null,null,null,null,null,null,"Wind",{"$f":"$T172","v":4776.9936047779447},{"$f":"$T173","v":2416.5288547779455},{"$f":"$T174","v":3799.2428547779464},{"$f":"$T180","v":1887.107104777946},{"$f":"$T178","v":4776.9936047779447},{"$f":"$T178","v":4776.9936047779447}]
[null,null,null,null,null,null,null,null,null,null,null,null,null,null,"Other Renewable",{"$f":"P691-SUM(P686:P688)","v":600.44121100567099},{"$f":"Q691-SUM(Q686:Q688)","v":779.76476722223742},{"$f":"R691-SUM(R686:R688)","v":720.93908224952247},{"$f":"$T691-SUM($T686:$T688)","v":720.93908224952247},{"$f":"T691-SUM(T686:T688)","v":720.93908224952247},{"$f":"U691-SUM(U686:U688)","v":720.93908224952247}]
[null,null,null,null,null,null,null,null,null,null,null,null,null,null,"Non Renewable",{"$f":"$T277","v":0},{"$f":"$T278","v":0},{"$f":"$T279","v":0},{"$f":"$T285","v":2231.3434928512274},{"$f":"$T283","v":0},{"$f":"$T283","v":0}]
[null,null,null,null,null,null,null,null,null,null,null,null,null,null,"Total Renewable for 'other' calculation",{"$f":"$T246","v":14173.552073336248},{"$f":"$T247","v":9210.173616417389},{"$f":"$T248","v":14416.723226553786},{"$f":"$T254","v":7043.3803303568939},{"$f":"$T252","v":15394.473976553785},{"$f":"$T252","v":15394.473976553785}]
[null,null,null,null,null,null,null,null,null,null,null,null,null,null,"Total Generation",{"$f":"$T634","v":14173.552073336248},{"$f":"$T635","v":9210.173616417389},{"$f":"$T636","v":14416.723226553786},{"$f":"$T642","v":9274.7238232081218},{"$f":"$T640","v":15394.473976553785},{"$f":"$T640","v":15394.473976553785}]
[null,null,null,null,null,null,null,null,null,null,null,null,null,null,"Total Generation Check",{"$f":"SUM(P686:P690)","v":14173.552073336248},9210.173616417389,14416.723226553786,9046.5309054576428,15394.473976553785,15394.473976553785]
[]
[]
[]
[]
[]
[]
[]
[]
[]
[]
[]
[]
[]
[]
[]
[]
[]
[]
[]
[]
[]
[]
[]
[]
[null,null,null,null,null,null,null,null,null,null,null,null,null,null,"Generation MIX by Decade - CT",2022,2025,2030,2040,2050]
[null,null,null,null,null,null,null,null,null,null,null,null,null,null,"PV",{"$f":"P110","v":477.172998816252},{"$f":"Q110","v":618.48255876889198},{"$f":"R110","v":991.95776661382206},{"$f":"S110","v":2105.5954126649335},{"$f":"T110","v":3498.0711091046596}]
[null,null,null,null,null,null,null,null,null,null,null,null,null,null,"Large Solar",{"$f":"P141","v":378.97451764963301},{"$f":"Q141","v":1715.6883203533712},{"$f":"R141","v":2369.1442033869289},{"$f":"S141","v":3846.9056271965601},{"$f":"T141","v":5298.0461484479729}]
[null,null,null,null,null,null,null,null,null,null,null,null,null,null,"Wind",{"$f":"P172","v":1297.6827047779452},{"$f":"Q172","v":1337.4567047779453},{"$f":"R172","v":1698.0656047779453},{"$f":"S172","v":3538.3306047779447},{"$f":"T172","v":4776.9936047779447}]
[null,null,null,null,null,null,null,null,null,null,null,null,null,null,"Other Renewable",{"$f":"P724-SUM(P719:P721)","v":863.27200000000039},{"$f":"Q724-SUM(Q719:Q721)","v":884.96439999999984},{"$f":"R724-SUM(R719:R721)","v":863.05857835425741},{"$f":"S724-SUM(S719:S721)","v":723.84112219683448},{"$f":"T724-SUM(T719:T721)","v":600.44121100567099}]
[null,null,null,null,null,null,null,null,null,null,null,null,null,null,"Non Renewable",{"$f":"P277","v":1653.2599999999998},{"$f":"Q277","v":1749.2211299999999},{"$f":"R277","v":2053.8289500000001},{"$f":"S277","v":607.21153892706991},{"$f":"T277","v":0}]
[null,null,null,null,null,null,null,null,null,null,null,null,null,null,"Total Renewable for 'other' calculation",{"$f":"P246","v":3017.1022212438306},4556.5919839002081,5922.2261531329532,{"$f":"S246","v":10214.672766836273},{"$f":"T246","v":14173.552073336248}]
[null,null,null,null,null,null,null,null,null,null,null,null,null,null,"Total Generation",{"$f":"P634","v":4670.3622212438304},6305.813113900208,7976.0551031329524,{"$f":"S634","v":10821.884305763342},{"$f":"T634","v":14173.552073336248}]
[null,null,null,null,null,null,null,null,null,null,null,null,null,null,"Total Generation Check",{"$f":"SUM(P719:P723)","v":4670.3622212438304},{"$f":"SUM(Q719:Q723)","v":6305.813113900208},{"$f":"SUM(R719:R723)","v":7976.0551031329533},{"$f":"SUM(S719:S723)","v":10821.884305763342},{"$f":"SUM(T719:T723)","v":14173.552073336248}]
[]
[]
[]
[]
[]
[]
[]
[]
[]
[]
[]
[]
[]
[]
[]
[]
[]
[]
[]
[]
[]
[]
[]
[null,null,null,null,null,null,null,null,null,null,null,null,null,null,"Generation MIX by Decade - PS",2022,2025,2030,2040,2050]
[null,null,null,null,null,null,null,null,null,null,null,null,null,null,"PV",{"$f":"P116","v":477.172998816252},{"$f":"Q116","v":618.48255876889198},{"$f":"R116","v":991.95776661382206},{"$f":"S116","v":2105.5954126649335},{"$f":"T116","v":3498.0711091046596}]
[null,null,null,null,null,null,null,null,null,null,null,null,null,null,"Large Solar",{"$f":"P147","v":378.97451764963301},{"$f":"Q147","v":2272.617352327055},{"$f":"R147","v":3251.6192353606129},{"$f":"S147","v":5105.3146591702443},{"$f":"T147","v":6398.4701804216584}]
[null,null,null,null,null,null,null,null,null,null,null,null,null,null,"Wind",{"$f":"P178","v":1297.6827047779452},{"$f":"Q178","v":1337.4567047779453},{"$f":"R178","v":1698.0656047779453},{"$f":"S178","v":3538.3306047779447},{"$f":"T178","v":4776.9936047779447}]
[null,null,null,null,null,null,null,null,null,null,null,null,null,null,"Other Renewable",{"$f":"P756-SUM(P751:P753)","v":863.27200000000039},{"$f":"Q756-SUM(Q751:Q753)","v":907.91340000000037},{"$f":"R756-SUM(R751:R753)","v":907.83999999999924},{"$f":"S756-SUM(S751:S753)","v":836.39795713325657},{"$f":"T756-SUM(T751:T753)","v":720.93908224952247}]
[null,null,null,null,null,null,null,null,null,null,null,null,null,null,"Non Renewable",{"$f":"P283","v":1653.2599999999998},{"$f":"Q283","v":1803.8254799999997},{"$f":"R283","v":1867.2423999999996},{"$f":"S283","v":205.19954944158479},{"$f":"T283","v":0}]
[null,null,null,null,null,null,null,null,null,null,null,null,null,null,"Total Renewable for 'other' calculation",{"$f":"P252","v":3017.1022212438306},{"$f":"Q252","v":5136.4700158738924},{"$f":"R252","v":6849.48260675238},{"$f":"S252","v":11585.638633746379},{"$f":"T252","v":15394.473976553785}]
[null,null,null,null,null,null,null,null,null,null,null,null,null,null,"Total Generation",{"$f":"P640","v":4670.3622212438304},{"$f":"Q640","v":6940.2954958738919},{"$f":"R640","v":8716.7250067523801},{"$f":"S640","v":11790.838183187963},{"$f":"T640","v":15394.473976553785}]
[null,null,null,null,null,null,null,null,null,null,null,null,null,null,"Total Generation Check",{"$f":"SUM(P751:P755)","v":4670.3622212438304},{"$f":"SUM(Q751:Q755)","v":6940.2954958738919},{"$f":"SUM(R751:R755)","v":8716.7250067523801},{"$f":"SUM(S751:S755)","v":11790.838183187963},{"$f":"SUM(T751:T755)","v":15394.473976553785}]

{"sheet":"Charts_Breakdown & Sensitivity","index":40,"n_rows":298,"n_cols":30,"rows_kept":298,"cut":false,"hidden":false,"merged":[]}
[]
[]
[]
[]
[]
[]
[]
[]
[]
[]
[]
[]
[]
[]
[]
[]
[]
[]
[]
[]
[]
[]
[]
[]
[]
[]
[]
[null,null,null,null,null,null,null,null,null,null,null,null,null,null,null,null,{"$f":"'Energy Consumed Breakdown GWh'!$A$5&'Energy Consumed Breakdown GWh'!$A$6","v":" Study: Contributions to Large load Energy Consumption GWh - NPg"},2022,2025,2030,2040,2050,null,null,{"$f":"'Gross Peak Demand Breakdown'!$A$5&'Gross Peak Demand Breakdown'!$A$6","v":"Changes highlighted (to I&C and total): Contributions to Peak Demand MW - NPg"},2022,2025,2030,2040,2050]
[null,null,null,null,null,null,null,null,null,null,null,null,null,null,null,null,{"$f":"Q56","v":"Domestic Underlying Underlying"},10512.64293985911,{"$f":"S56","v":10452.805320279083},10522.725613224289,10358.079216744243,9941.1156641830021,null,null,{"$f":"Y56","v":"Domestic Underlying Underlying"},1901.4494995496266,{"$f":"AA56","v":1896.809658482804},1932.3028969907746,1906.3740114487607,1830.2482777401676]
[null,null,null,null,null,null,null,null,null,null,null,null,null,null,null,null,"I & C Underlying Underlying",23205.226724456199,{"$f":"S57","v":23742.616234544686},23189.45599207325,22839.350879922749,22432.639874371009,null,null,"I & C Underlying Underlying",3946.7453195866537,{"$f":"AA57","v":4362.3009312654112},4356.9666707010792,4464.2732091641737,4394.8132515619527]
[null,null,null,null,null,null,null,null,null,null,null,null,null,null,null,null,"Heat pumps - domestic",174.01540757419963,{"$f":"S58","v":476.51149429954665},1260.9739359032531,5935.7044488745369,13445.201370402177,null,null,"Heat pumps - domestic",42.815293097175136,{"$f":"AA58","v":117.64561685807162},310.53544067535563,1470.5409186026416,3333.2635940453065]
[null,null,null,null,null,null,null,null,null,null,null,null,null,null,null,null,"Heat pumps - I & C",144.0505425267134,{"$f":"S59","v":186.94017774490561},346.44514629664934,1739.080172736735,3799.4534043528506,null,null,"Heat pumps - I & C",42.226158328480324,{"$f":"AA59","v":54.799120202888417},101.55886222084698,509.79576264622864,1113.7763930865383]
[null,null,null,null,null,null,null,null,null,null,null,null,null,null,null,null,"EV - cars & vans",275.78814262939073,{"$f":"S60","v":1281.5061879706798},4525.0339981029856,8818.9968313982863,9331.9136299509573,null,null,"EV - cars & vans",51.451315597857636,{"$f":"AA60","v":191.75436541364695},643.85806477557799,1242.4999956149536,1316.6249833012143]
[null,null,null,null,null,null,null,null,null,null,null,null,null,null,null,null,"Electric HGVs",7.3578745540348507,{"$f":"S61","v":128.47166735065466},1197.0355964517905,4802.4306356597144,5334.0681724064807,null,null,"Electric HGVs",0.58369612908002577,{"$f":"AA61","v":10.191586493943731},94.960173469763745,380.97417285712334,423.14868534627146]
[null,null,null,null,null,null,null,null,null,null,null,null,null,null,null,null,"Electric Buses",28.25670329452381,{"$f":"S62","v":87.378983750985938},266.66199899857298,632.03821886213348,688.29541024971468,null,null,"Electric Buses",0.89335483693506268,{"$f":"AA62","v":2.7625458273308818},8.4306999351306544,19.982316905940532,21.760926162463999]
[null,null,null,null,null,null,null,null,null,null,null,null,null,null,null,null,"Total energy consumption",{"$f":"SUM(R29:R35)","v":34347.338334894172},{"$f":"SUM(S29:S35)","v":36356.230065940537},{"$f":"SUM(T29:T35)","v":41308.332281050782},55125.6804041984,64972.687525916182,null,null,"Total peak Demand",{"$f":"SUM(Z29:Z35)","v":5986.1646371258084},{"$f":"SUM(AA29:AA35)","v":6636.2638245440976},{"$f":"SUM(AB29:AB35)","v":7448.6128087685292},9994.4403872398216,12433.636111243914]
[]
[]
[]
[]
[]
[]
[]
[]
[]
[null,null,null,null,null,null,null,null,null,null,null,null,null,null,null,null,null,null,null,null,null,null,null,null,"NPg ED2 Planning Scenario - needs updating to old Study: Additional contribution to Peak Demand MW - NPg",2022,2025,2030,2040,2050]
[null,null,null,null,null,null,null,null,null,null,null,null,null,null,null,null,null,null,null,null,null,null,null,null,{"$f":"Y61","v":"Electric HGVs"},0.58369612908002577,{"$f":"AA61","v":10.191586493943731},94.960173469763745,380.97417285712334,423.14868534627146]
[null,null,null,null,null,null,null,null,null,null,null,null,null,null,null,null,null,null,null,null,null,null,null,null,"Electric Buses",0.89335483693506268,{"$f":"AA62","v":2.7625458273308818},8.4306999351306544,19.982316905940532,21.760926162463999]
[null,null,null,null,null,null,null,null,null,null,null,null,null,null,null,null,null,null,null,null,null,null,null,null,"Electrolysers",0,{"$f":"AA63","v":86.290507379026835},411.82237734647492,664.72912473110307,1329.8516427149502]
[null,null,null,null,null,null,null,null,null,null,null,null,null,null,null,null,null,null,null,null,null,null,null,null,"Large industry Fuel Switching",28.969330424539919,{"$f":"AA64","v":72.423326061349812},196.5532181674867,435.03819897404429,624.97931370904644]
[null,null,null,null,null,null,null,null,null,null,null,null,null,null,null,null,null,null,null,null,null,null,null,null,"Total additional contribution",{"$f":"SUM(Z47:Z50)","v":30.446381390555008},{"$f":"SUM(AA47:AA50)","v":171.66796576165126},{"$f":"SUM(AB47:AB50)","v":711.76646891885594},1500.7238134682111,2399.7405679327321]
[]
[]
[]
[null,null,null,null,null,null,null,null,null,null,null,null,null,null,null,null,{"$f":"'Energy Consumed Breakdown GWh'!$A$5&'Energy Consumed Breakdown GWh'!$A$6","v":" Study: Contributions to Large load Energy Consumption GWh - NPg"},2022,{"$f":"'Energy Consumed Breakdown GWh'!$E9","v":2025},{"$f":"'Energy Consumed Breakdown GWh'!$J9","v":2030},{"$f":"'Energy Consumed Breakdown GWh'!$T9","v":2040},{"$f":"'Energy Consumed Breakdown GWh'!$AD9","v":2050},null,null,{"$f":"'Gross Peak Demand Breakdown'!$A$5&'Gross Peak Demand Breakdown'!$A$6","v":"Changes highlighted (to I&C and total): Contributions to Peak Demand MW - NPg"},2022,{"$f":"'Gross Peak Demand Breakdown'!$E9","v":2025},{"$f":"'Gross Peak Demand Breakdown'!$J9","v":2030},{"$f":"'Gross Peak Demand Breakdown'!$T9","v":2040},{"$f":"'Gross Peak Demand Breakdown'!$AD9","v":2050}]
[null,null,null,null,null,null,null,null,null,null,null,null,null,null,null,null,{"$f":"'Energy Consumed Breakdown GWh'!A10 & \" Underlying\"","v":"Domestic Underlying Underlying"},{"$f":"'Energy Consumed Breakdown GWh'!$B10","v":10512.64293985911},{"$f":"'Energy Consumed Breakdown GWh'!$E10","v":10452.805320279083},{"$f":"'Energy Consumed Breakdown GWh'!$J10","v":10522.725613224289},{"$f":"'Energy Consumed Breakdown GWh'!$T10","v":10358.079216744243},{"$f":"'Energy Consumed Breakdown GWh'!$AD10","v":9941.1156641830021},null,10,{"$f":"'Gross Peak Demand Breakdown'!A10 & \" Underlying\"","v":"Domestic Underlying Underlying"},{"$f":"'Gross Peak Demand Breakdown'!$B10","v":1901.4494995496266},{"$f":"'Gross Peak Demand Breakdown'!$E10","v":1896.809658482804},{"$f":"'Gross Peak Demand Breakdown'!$J10","v":1932.3028969907746},{"$f":"'Gross Peak Demand Breakdown'!$T10","v":1906.3740114487607},{"$f":"'Gross Peak Demand Breakdown'!$AD10","v":1830.2482777401676}]
[null,null,null,null,null,null,null,null,null,null,null,null,null,null,null,null,{"$f":"'Energy Consumed Breakdown GWh'!A11 & \" Underlying\"","v":"I & C Underlying Underlying"},{"$f":"'Energy Consumed Breakdown GWh'!$B11","v":23205.226724456199},{"$f":"'Energy Consumed Breakdown GWh'!$E11","v":23742.616234544686},{"$f":"'Energy Consumed Breakdown GWh'!$J11","v":23189.45599207325},{"$f":"'Energy Consumed Breakdown GWh'!$T11","v":22839.350879922749},{"$f":"'Energy Consumed Breakdown GWh'!$AD11","v":22432.639874371009},null,11,{"$f":"'Gross Peak Demand Breakdown'!A11 & \" Underlying\"","v":"I & C Underlying Underlying"},{"$f":"'Gross Peak Demand Breakdown'!$B11","v":3946.7453195866537},{"$f":"'Gross Peak Demand Breakdown'!$E11","v":4362.3009312654112},{"$f":"'Gross Peak Demand Breakdown'!$J11","v":4356.9666707010792},{"$f":"'Gross Peak Demand Breakdown'!$T11","v":4464.2732091641737},{"$f":"'Gross Peak Demand Breakdown'!$AD11","v":4394.8132515619527}]
[null,null,null,null,null,null,null,null,null,null,null,null,null,null,null,null,{"$f":"'Energy Consumed Breakdown GWh'!A12","v":"Heat pumps - domestic"},{"$f":"'Energy Consumed Breakdown GWh'!$B12","v":174.01540757419963},{"$f":"'Energy Consumed Breakdown GWh'!$E12","v":476.51149429954665},{"$f":"'Energy Consumed Breakdown GWh'!$J12","v":1260.9739359032531},{"$f":"'Energy Consumed Breakdown GWh'!$T12","v":5935.7044488745369},{"$f":"'Energy Consumed Breakdown GWh'!$AD12","v":13445.201370402177},null,12,{"$f":"'Gross Peak Demand Breakdown'!A12","v":"Heat pumps - domestic"},{"$f":"'Gross Peak Demand Breakdown'!$B12","v":42.815293097175136},{"$f":"'Gross Peak Demand Breakdown'!$E12","v":117.64561685807162},{"$f":"'Gross Peak Demand Breakdown'!$J12","v":310.53544067535563},{"$f":"'Gross Peak Demand Breakdown'!$T12","v":1470.5409186026416},{"$f":"'Gross Peak Demand Breakdown'!$AD12","v":3333.2635940453065}]
[null,null,null,null,null,null,null,null,null,null,null,null,null,null,null,null,{"$f":"'Energy Consumed Breakdown GWh'!A13","v":"Heat pumps - I & C"},{"$f":"'Energy Consumed Breakdown GWh'!$B13","v":144.0505425267134},{"$f":"'Energy Consumed Breakdown GWh'!$E13","v":186.94017774490561},{"$f":"'Energy Consumed Breakdown GWh'!$J13","v":346.44514629664934},{"$f":"'Energy Consumed Breakdown GWh'!$T13","v":1739.080172736735},{"$f":"'Energy Consumed Breakdown GWh'!$AD13","v":3799.4534043528506},null,13,{"$f":"'Gross Peak Demand Breakdown'!A13","v":"Heat pumps - I & C"},{"$f":"'Gross Peak Demand Breakdown'!$B13","v":42.226158328480324},{"$f":"'Gross Peak Demand Breakdown'!$E13","v":54.799120202888417},{"$f":"'Gross Peak Demand Breakdown'!$J13","v":101.55886222084698},{"$f":"'Gross Peak Demand Breakdown'!$T13","v":509.79576264622864},{"$f":"'Gross Peak Demand Breakdown'!$AD13","v":1113.7763930865383}]
[null,null,null,null,null,null,null,null,null,null,null,null,null,null,null,null,{"$f":"'Energy Consumed Breakdown GWh'!A14","v":"EV - cars & vans"},{"$f":"'Energy Consumed Breakdown GWh'!$B14","v":275.78814262939073},{"$f":"'Energy Consumed Breakdown GWh'!$E14","v":1281.5061879706798},{"$f":"'Energy Consumed Breakdown GWh'!$J14","v":4525.0339981029856},{"$f":"'Energy Consumed Breakdown GWh'!$T14","v":8818.9968313982863},{"$f":"'Energy Consumed Breakdown GWh'!$AD14","v":9331.9136299509573},null,14,{"$f":"'Gross Peak Demand Breakdown'!A14","v":"EV - cars & vans"},{"$f":"'Gross Peak Demand Breakdown'!$B14","v":51.451315597857636},{"$f":"'Gross Peak Demand Breakdown'!$E14","v":191.75436541364695},{"$f":"'Gross Peak Demand Breakdown'!$J14","v":643.85806477557799},{"$f":"'Gross Peak Demand Breakdown'!$T14","v":1242.4999956149536},{"$f":"'Gross Peak Demand Breakdown'!$AD14","v":1316.6249833012143}]
[null,null,null,null,null,null,null,null,null,null,null,null,null,null,null,null,{"$f":"'Energy Consumed Breakdown GWh'!A15","v":"Electric HGVs"},{"$f":"'Energy Consumed Breakdown GWh'!$B15","v":7.3578745540348507},{"$f":"'Energy Consumed Breakdown GWh'!$E15","v":128.47166735065466},{"$f":"'Energy Consumed Breakdown GWh'!$J15","v":1197.0355964517905},{"$f":"'Energy Consumed Breakdown GWh'!$T15","v":4802.4306356597144},{"$f":"'Energy Consumed Breakdown GWh'!$AD15","v":5334.0681724064807},null,15,{"$f":"'Gross Peak Demand Breakdown'!A15","v":"Electric HGVs"},{"$f":"'Gross Peak Demand Breakdown'!$B15","v":0.58369612908002577},{"$f":"'Gross Peak Demand Breakdown'!$E15","v":10.191586493943731},{"$f":"'Gross Peak Demand Breakdown'!$J15","v":94.960173469763745},{"$f":"'Gross Peak Demand Breakdown'!$T15","v":380.97417285712334},{"$f":"'Gross Peak Demand Breakdown'!$AD15","v":423.14868534627146}]
[null,null,null,null,null,null,null,null,null,null,null,null,null,null,null,null,{"$f":"'Energy Consumed Breakdown GWh'!A16","v":"Electric Buses"},{"$f":"'Energy Consumed Breakdown GWh'!$B16","v":28.25670329452381},{"$f":"'Energy Consumed Breakdown GWh'!$E16","v":87.378983750985938},{"$f":"'Energy Consumed Breakdown GWh'!$J16","v":266.66199899857298},{"$f":"'Energy Consumed Breakdown GWh'!$T16","v":632.03821886213348},{"$f":"'Energy Consumed Breakdown GWh'!$AD16","v":688.29541024971468},null,16,{"$f":"'Gross Peak Demand Breakdown'!A16","v":"Electric Buses"},{"$f":"'Gross Peak Demand Breakdown'!$B16","v":0.89335483693506268},{"$f":"'Gross Peak Demand Breakdown'!$E16","v":2.7625458273308818},{"$f":"'Gross Peak Demand Breakdown'!$J16","v":8.4306999351306544},{"$f":"'Gross Peak Demand Breakdown'!$T16","v":19.982316905940532},{"$f":"'Gross Peak Demand Breakdown'!$AD16","v":21.760926162463999}]
[null,null,null,null,null,null,null,null,null,null,null,null,null,null,null,null,{"$f":"'Energy Consumed Breakdown GWh'!A17","v":"Electrolysers"},{"$f":"'Energy Consumed Breakdown GWh'!$B17","v":0},{"$f":"'Energy Consumed Breakdown GWh'!$E17","v":755.90484464027497},{"$f":"'Energy Consumed Breakdown GWh'!$J17","v":3607.5640255551207},{"$f":"'Energy Consumed Breakdown GWh'!$T17","v":5823.0271326444636},{"$f":"'Energy Consumed Breakdown GWh'!$AD17","v":11649.500390182964},null,17,{"$f":"'Gross Peak Demand Breakdown'!A17","v":"Electrolysers"},{"$f":"'Gross Peak Demand Breakdown'!$B17","v":0},{"$f":"'Gross Peak Demand Breakdown'!$E17","v":86.290507379026835},{"$f":"'Gross Peak Demand Breakdown'!$J17","v":411.82237734647492},{"$f":"'Gross Peak Demand Breakdown'!$T17","v":664.72912473110307},{"$f":"'Gross Peak Demand Breakdown'!$AD17","v":1329.8516427149502}]
[null,null,null,null,null,null,null,null,null,null,null,null,null,null,null,null,{"$f":"'Energy Consumed Breakdown GWh'!A18","v":"Large industry Fuel Switching"},{"$f":"'Energy Consumed Breakdown GWh'!$B18","v":253.7713345189697},{"$f":"'Energy Consumed Breakdown GWh'!$E18","v":634.42833629742438},{"$f":"'Energy Consumed Breakdown GWh'!$J18","v":1721.8061911471834},{"$f":"'Energy Consumed Breakdown GWh'!$T18","v":3810.9346230126284},{"$f":"'Energy Consumed Breakdown GWh'!$AD18","v":5474.8187880912483},null,18,{"$f":"'Gross Peak Demand Breakdown'!A18","v":"Large industry Fuel Switching"},{"$f":"'Gross Peak Demand Breakdown'!$B18","v":28.969330424539919},{"$f":"'Gross Peak Demand Breakdown'!$E18","v":72.423326061349812},{"$f":"'Gross Peak Demand Breakdown'!$J18","v":196.5532181674867},{"$f":"'Gross Peak Demand Breakdown'!$T18","v":435.03819897404429},{"$f":"'Gross Peak Demand Breakdown'!$AD18","v":624.97931370904644}]
[null,null,null,null,null,null,null,null,null,null,null,null,null,null,null,null,{"$f":"'Energy Consumed Breakdown GWh'!A19","v":"Total demand"},{"$f":"'Energy Consumed Breakdown GWh'!$B19","v":34601.109669413134},{"$f":"'Energy Consumed Breakdown GWh'!$E19","v":37746.563246878242},{"$f":"'Energy Consumed Breakdown GWh'!$J19","v":46637.702497753089},{"$f":"'Energy Consumed Breakdown GWh'!$T19","v":64759.642159855481},{"$f":"'Energy Consumed Breakdown GWh'!$AD19","v":82097.006704190397},null,19,{"$f":"'Gross Peak Demand Breakdown'!A19","v":"Total demand"},{"$f":"'Gross Peak Demand Breakdown'!$B19","v":6015.1339675503486},{"$f":"'Gross Peak Demand Breakdown'!$E19","v":6794.9776579844747},{"$f":"'Gross Peak Demand Breakdown'!$J19","v":8056.9884042824915},{"$f":"'Gross Peak Demand Breakdown'!$T19","v":11094.207710944967},{"$f":"'Gross Peak Demand Breakdown'!$AD19","v":14388.467067667909}]
[null,null,null,null,null,null,null,null,null,null,null,null,null,null,null,null,null,null,null,null,null,null,null,20]
[null,null,null,null,null,null,null,null,null,null,null,null,null,null,null,null,null,null,null,null,null,null,null,21]
[null,null,null,null,null,null,null,null,null,null,null,null,null,null,null,null,"NPg ED2 Planning Scenario - needs updating to old Study: Additional contribution to Energy Consumption GWh - NPg",2022,2025,2030,2040,2050,null,22,{"$f":"'Gross Peak Demand Breakdown'!A22 & \" Underlying\"","v":"Consumer Transformation: Contributions to Peak Demand MW - NPg Underlying"},2022,{"$f":"'Gross Peak Demand Breakdown'!$E22","v":2025},{"$f":"'Gross Peak Demand Breakdown'!$J22","v":2030},{"$f":"'Gross Peak Demand Breakdown'!$T22","v":2040},{"$f":"'Gross Peak Demand Breakdown'!$AD22","v":2050}]
[null,null,null,null,null,null,null,null,null,null,null,null,null,null,null,null,{"$f":"Q61","v":"Electric HGVs"},7.3578745540348507,{"$f":"S61","v":128.47166735065466},1197.0355964517905,4802.4306356597144,5334.0681724064807,null,23,{"$f":"'Gross Peak Demand Breakdown'!A23 & \" Underlying\"","v":"Domestic Underlying Underlying"},{"$f":"'Gross Peak Demand Breakdown'!$V23","v":1857.8746771758913},{"$f":"'Gross Peak Demand Breakdown'!$E23","v":1888.7014810558699},{"$f":"'Gross Peak Demand Breakdown'!$J23","v":1902.0762928646559},{"$f":"'Gross Peak Demand Breakdown'!$T23","v":1873.4547591942369},{"$f":"'Gross Peak Demand Breakdown'!$AD23","v":1798.7405891349038}]
[null,null,null,null,null,null,null,null,null,null,null,null,null,null,null,null,{"$f":"Q62","v":"Electric Buses"},28.25670329452381,{"$f":"S62","v":87.378983750985938},266.66199899857298,632.03821886213348,688.29541024971468,null,24,{"$f":"'Gross Peak Demand Breakdown'!A24 & \" Underlying\"","v":"I & C Underlying Underlying"},{"$f":"'Gross Peak Demand Breakdown'!$V24","v":4511.0592473139404},{"$f":"'Gross Peak Demand Breakdown'!$E24","v":4399.7422271510441},{"$f":"'Gross Peak Demand Breakdown'!$J24","v":4420.0920488992979},{"$f":"'Gross Peak Demand Breakdown'!$T24","v":4527.8366491782326},{"$f":"'Gross Peak Demand Breakdown'!$AD24","v":4457.1606761716821}]
[null,null,null,null,null,null,null,null,null,null,null,null,null,null,null,null,{"$f":"Q63","v":"Electrolysers"},0,{"$f":"S63","v":755.90484464027497},3607.5640255551207,5823.0271326444636,11649.500390182964,null,null,{"$f":"'Gross Peak Demand Breakdown'!A25","v":"Heat pumps - domestic"},{"$f":"'Gross Peak Demand Breakdown'!$V25","v":1775.6106046689342},{"$f":"'Gross Peak Demand Breakdown'!$E25","v":117.64561685807162},{"$f":"'Gross Peak Demand Breakdown'!$J25","v":310.53544067535563},{"$f":"'Gross Peak Demand Breakdown'!$T25","v":1470.5409186026416},{"$f":"'Gross Peak Demand Breakdown'!$AD25","v":3333.2635940453065}]
[null,null,null,null,null,null,null,null,null,null,null,null,null,null,null,null,{"$f":"Q64","v":"Large industry Fuel Switching"},253.7713345189697,{"$f":"S64","v":634.42833629742438},1721.8061911471834,3810.9346230126284,5474.8187880912483,null,null,{"$f":"'Gross Peak Demand Breakdown'!A26","v":"Heat pumps - I & C"},{"$f":"'Gross Peak Demand Breakdown'!$V26","v":639.07734319156839},{"$f":"'Gross Peak Demand Breakdown'!$E26","v":54.799120202888417},{"$f":"'Gross Peak Demand Breakdown'!$J26","v":101.55886222084698},{"$f":"'Gross Peak Demand Breakdown'!$T26","v":509.79576264622864},{"$f":"'Gross Peak Demand Breakdown'!$AD26","v":1113.7763930865383}]
[null,null,null,null,null,null,null,null,null,null,null,null,null,null,null,null,"Total additional contribution",{"$f":"SUM(R69:R72)","v":289.38591236752836},{"$f":"SUM(S69:S72)","v":1606.1838320393399},{"$f":"SUM(T69:T72)","v":6793.0678121526671},15068.430610178941,23146.682760930405,null,null,{"$f":"'Gross Peak Demand Breakdown'!A27","v":"EV - cars & vans"},{"$f":"'Gross Peak Demand Breakdown'!$V27","v":1775.3624061785463},{"$f":"'Gross Peak Demand Breakdown'!$E27","v":241.45796901911331},{"$f":"'Gross Peak Demand Breakdown'!$J27","v":847.69005592536496},{"$f":"'Gross Peak Demand Breakdown'!$T27","v":1720.2539277524245},{"$f":"'Gross Peak Demand Breakdown'!$AD27","v":1858.9620086289119}]
[null,null,null,null,null,null,null,null,null,null,null,null,null,null,null,null,null,null,null,null,null,null,null,null,{"$f":"'Gross Peak Demand Breakdown'!A28","v":"Electric HGVs"},{"$f":"'Gross Peak Demand Breakdown'!$V28","v":397.42962472374865},{"$f":"'Gross Peak Demand Breakdown'!$E28","v":6.8518000616815788},{"$f":"'Gross Peak Demand Breakdown'!$J28","v":61.732821838523847},{"$f":"'Gross Peak Demand Breakdown'!$T28","v":361.012355898772},{"$f":"'Gross Peak Demand Breakdown'!$AD28","v":439.79763387309498}]
[null,null,null,null,null,null,null,null,null,null,null,null,null,null,null,null,null,null,null,null,null,null,null,null,{"$f":"'Gross Peak Demand Breakdown'!A29","v":"Electric Buses"},{"$f":"'Gross Peak Demand Breakdown'!$V29","v":20.666472496399233},{"$f":"'Gross Peak Demand Breakdown'!$E29","v":2.3278789741682604},{"$f":"'Gross Peak Demand Breakdown'!$J29","v":7.2251039433775599},{"$f":"'Gross Peak Demand Breakdown'!$T29","v":19.362605623780734},{"$f":"'Gross Peak Demand Breakdown'!$AD29","v":22.609915356645878}]
[null,null,null,null,null,null,null,null,null,null,null,null,null,null,null,null,null,null,null,null,null,null,null,null,{"$f":"'Gross Peak Demand Breakdown'!A30","v":"Electrolysers"},{"$f":"'Gross Peak Demand Breakdown'!$V30","v":441.77673374433948},{"$f":"'Gross Peak Demand Breakdown'!$E30","v":0.49333894642831083},{"$f":"'Gross Peak Demand Breakdown'!$J30","v":46.714339269198042},{"$f":"'Gross Peak Demand Breakdown'!$T30","v":301.17002446091595},{"$f":"'Gross Peak Demand Breakdown'!$AD30","v":471.463319830822}]
[null,null,null,null,null,null,null,null,null,null,null,null,null,null,null,null,null,null,null,null,null,null,null,null,{"$f":"'Gross Peak Demand Breakdown'!A31","v":"Large industry Fuel Switching"},{"$f":"'Gross Peak Demand Breakdown'!$V31","v":344.55506264271412},{"$f":"'Gross Peak Demand Breakdown'!$E31","v":33.994988350893735},{"$f":"'Gross Peak Demand Breakdown'!$J31","v":90.000073317306416},{"$f":"'Gross Peak Demand Breakdown'!$T31","v":262.98113915431162},{"$f":"'Gross Peak Demand Breakdown'!$AD31","v":802.57630905024371}]
[null,null,null,null,null,null,null,null,null,null,null,null,null,null,null,null,null,null,null,null,null,null,null,null,{"$f":"'Gross Peak Demand Breakdown'!A32","v":"Total demand"},{"$f":"'Gross Peak Demand Breakdown'!$V32","v":11763.412172136083},{"$f":"'Gross Peak Demand Breakdown'!$E32","v":6746.0144206201594},{"$f":"'Gross Peak Demand Breakdown'!$J32","v":7787.6250389539273},{"$f":"'Gross Peak Demand Breakdown'!$T32","v":11046.408142511547},{"$f":"'Gross Peak Demand Breakdown'!$AD32","v":14298.35043917815}]
[]
[]
[]
[]
[]
[]
[]
[]
[]
[]
[]
[]
[null,"Breakdown of Gross Peak Demand Core DFES Charts at NPg Level"]
[]
[null,"(See further down for Breakdown of energy consumption DFES Charts)"]
[]
[]
[]
[]
[]
[]
[]
[]
[]
[]
[]
[]
[]
[]
[]
[]
[]
[]
[]
[]
[]
[]
[]
[]
[]
[]
[]
[]
[]
[]
[]
[null,"Large Industry Additional Loads Study for Gross Peak Demand"]
[]
[]
[]
[]
[]
[]
[]
[]
[]
[]
[]
[]
[]
[]
[]
[]
[]
[]
[]
[]
[]
[]
[]
[]
[]
[]
[]
[]
[]
[]
[null,"ADDITIONS ONLY IN Large Industry Additional Loads Study for Gross Peak Demand"]
[]
[]
[]
[]
[]
[]
[]
[]
[]
[]
[]
[]
[]
[]
[]
[]
[]
[]
[]
[]
[]
[]
[]
[]
[]
[]
[]
[]
[]
[]
[]
[]
[]
[]
[]
[]
[]
[]
[]
[null,"Breakdown of Energy Demand Consumption Core DFES Charts"]
[]
[]
[]
[]
[]
[]
[]
[]
[]
[]
[]
[]
[]
[]
[]
[]
[]
[]
[]
[]
[]
[]
[]
[]
[]
[]
[]
[]
[]
[]
[]
[]
[]
[]
[]
[]
[null,"Large Industry Additional Loads Study for Energy CONSUMPTION GWh"]
[]
[]
[]
[]
[]
[]
[]
[]
[]
[]
[]
[]
[]
[]
[]
[]
[]
[]
[]
[]
[]
[]
[]
[]
[]
[]
[]
[]
[]
[]
[]
[]
[]
[]
[]
[]
[]
[]
[]
[]
[]
[]
[]
[]
[]
[]
[]
[]
[]
[]
[]
[]
[]
[]
[]
[]
[]
[]
[]
[]
[]
[]
[]
[]
[null,"Other DFES Charts Used Outside of DFES Doc in Explanations etc"]